libwww-perl v6.78 Perl 5 v5.40.2 darwin-2level

Status
Pass
From
Dagfinn Ilmari Mannsåker
Dist
libwww-perl v6.78
Platform
Perl 5 v5.40.2 darwin-2level
Date
2025-04-22 17:29:41
ID
5fd25cf2-1f9f-11f0-90fc-c70887c906c3
This distribution has been tested as part of the CPAN Testers
project, supporting the Perl programming language.  See
http://wiki.cpantesters.org/ for more information or email
questions to cpan-testers-discuss@perl.org


--
Dear OALDERS,

This is a computer-generated report for libwww-perl-6.78
on perl 5.40.2, created by App::cpanminus::reporter 0.22 (1.7048).

Thank you for uploading your work to CPAN.  Congratulations!
All tests were successful.

Sections of this report:

    * Tester comments
    * Program output
    * Prerequisites
    * Environment and other context

------------------------------
TESTER COMMENTS
------------------------------

Additional comments from tester:

none provided

------------------------------
PROGRAM OUTPUT
------------------------------

Output from '':

Building and testing libwww-perl-6.78
cp lib/LWP/MemberMixin.pm blib/lib/LWP/MemberMixin.pm
cp lib/LWP/Protocol/nogo.pm blib/lib/LWP/Protocol/nogo.pm
cp lib/LWP/RobotUA.pm blib/lib/LWP/RobotUA.pm
cp lib/LWP.pm blib/lib/LWP.pm
cp lib/LWP/Debug.pm blib/lib/LWP/Debug.pm
cp lwpcook.pod blib/lib/lwpcook.pod
cp lib/LWP/Authen/Basic.pm blib/lib/LWP/Authen/Basic.pm
cp lib/LWP/Protocol/data.pm blib/lib/LWP/Protocol/data.pm
cp lib/LWP/Protocol/gopher.pm blib/lib/LWP/Protocol/gopher.pm
cp lib/LWP/Protocol/cpan.pm blib/lib/LWP/Protocol/cpan.pm
cp lib/LWP/Protocol/nntp.pm blib/lib/LWP/Protocol/nntp.pm
cp lib/LWP/Authen/Digest.pm blib/lib/LWP/Authen/Digest.pm
cp lib/LWP/Debug/TraceHTTP.pm blib/lib/LWP/Debug/TraceHTTP.pm
cp lib/LWP/Protocol/loopback.pm blib/lib/LWP/Protocol/loopback.pm
cp lwptut.pod blib/lib/lwptut.pod
cp lib/LWP/UserAgent.pm blib/lib/LWP/UserAgent.pm
cp lib/LWP/Authen/Ntlm.pm blib/lib/LWP/Authen/Ntlm.pm
cp lib/LWP/DebugFile.pm blib/lib/LWP/DebugFile.pm
cp lib/LWP/ConnCache.pm blib/lib/LWP/ConnCache.pm
cp lib/LWP/Protocol/file.pm blib/lib/LWP/Protocol/file.pm
cp lib/LWP/Protocol/mailto.pm blib/lib/LWP/Protocol/mailto.pm
cp lib/LWP/Protocol/http.pm blib/lib/LWP/Protocol/http.pm
cp lib/LWP/Protocol/ftp.pm blib/lib/LWP/Protocol/ftp.pm
cp lib/LWP/Protocol.pm blib/lib/LWP/Protocol.pm
cp lib/LWP/Simple.pm blib/lib/LWP/Simple.pm
cp bin/lwp-download blib/script/lwp-download
"/Users/ilmari/perl5/perlbrew/perls/40.2/bin/perl" -MExtUtils::MY -e 'MY->fixin(shift)' -- blib/script/lwp-download
cp bin/lwp-dump blib/script/lwp-dump
"/Users/ilmari/perl5/perlbrew/perls/40.2/bin/perl" -MExtUtils::MY -e 'MY->fixin(shift)' -- blib/script/lwp-dump
cp bin/lwp-mirror blib/script/lwp-mirror
"/Users/ilmari/perl5/perlbrew/perls/40.2/bin/perl" -MExtUtils::MY -e 'MY->fixin(shift)' -- blib/script/lwp-mirror
cp bin/lwp-request blib/script/lwp-request
"/Users/ilmari/perl5/perlbrew/perls/40.2/bin/perl" -MExtUtils::MY -e 'MY->fixin(shift)' -- blib/script/lwp-request
PERL_DL_NONLAZY=1 "/Users/ilmari/perl5/perlbrew/perls/40.2/bin/perl" "-MExtUtils::Command::MM" "-MTest::Harness" "-e" "undef *Test::Harness::Switches; test_harness(0, 'blib/lib', 'blib/arch')" t/*.t t/base/*.t t/base/protocols/*.t t/leak/*.t t/local/*.t t/robot/*.t
# 
# Versions for all modules listed in MYMETA.json (including optional ones):
# 
# === Configure Requires ===
# 
#     Module              Want Have
#     ------------------- ---- ----
#     ExtUtils::MakeMaker  any 7.70
#     File::Copy           any 2.41
#     Getopt::Long         any 2.57
# 
# === Configure Suggests ===
# 
#     Module      Want Have
#     -------- ------- ----
#     JSON::PP 2.27300 4.16
# 
# === Build Requires ===
# 
#     Module              Want Have
#     ------------------- ---- ----
#     ExtUtils::MakeMaker  any 7.70
# 
# === Test Requires ===
# 
#     Module                 Want     Have
#     ---------------------- ---- --------
#     ExtUtils::MakeMaker     any     7.70
#     File::Spec              any     3.91
#     FindBin                 any     1.54
#     HTTP::CookieJar::LWP    any    0.014
#     HTTP::Daemon           6.12     6.16
#     Test::Fatal             any    0.017
#     Test::More             0.96 1.302199
#     Test::Needs             any 0.002010
#     Test::RequiresInternet  any     0.05
# 
# === Test Recommends ===
# 
#     Module              Want     Have
#     --------------- -------- --------
#     CPAN::Meta      2.120900 2.150010
#     Test::LeakTrace      any  missing
# 
# === Runtime Requires ===
# 
#     Module                    Want     Have
#     --------------------- -------- --------
#     Digest::MD5                any  2.58_01
#     Encode                    2.12     3.21
#     Encode::Locale             any     1.05
#     File::Copy                 any     2.41
#     File::Listing                6     6.16
#     File::Temp                 any   0.2311
#     Getopt::Long               any     2.57
#     HTML::Entities             any     3.83
#     HTML::HeadParser          3.71     3.83
#     HTTP::Cookies                6     6.11
#     HTTP::Date                   6     6.06
#     HTTP::Negotiate              6     6.01
#     HTTP::Request             6.18     7.00
#     HTTP::Request::Common     6.18     7.00
#     HTTP::Response            6.18     7.00
#     HTTP::Status              6.18     7.00
#     IO::Select                 any     1.55
#     IO::Socket                 any     1.55
#     LWP::MediaTypes              6     6.04
#     MIME::Base64               2.1  3.16_01
#     Module::Load               any     0.36
#     Net::FTP                  2.58     3.15
#     Net::HTTP                 6.18     6.23
#     Scalar::Util               any     1.63
#     Try::Tiny                  any     0.32
#     URI                       1.10     5.31
#     URI::Escape                any     5.31
#     WWW::RobotRules              6     6.02
#     parent                   0.217    0.241
#     perl                  5.008001 5.040002
#     strict                     any     1.13
#     warnings                   any     1.70
# 
# === Runtime Suggests ===
# 
#     Module               Want    Have
#     -------------------- ---- -------
#     Authen::NTLM         1.02 missing
#     Data::Dump           1.13 missing
#     IO::Socket::INET      any    1.55
#     LWP::Protocol::https 6.02 missing
# 
t/00-report-prereqs.t .......... ok
t/10-attrs.t ................... ok
t/base/default_content_type.t .. ok
t/base/protocols.t ............. ok
t/base/protocols/nntp.t ........ skipped: nntp.perl.org is unstable and Test::RequiresInternet is not catching it
t/base/proxy.t ................. ok
t/base/proxy_request.t ......... ok
t/base/simple.t ................ ok
t/base/ua.t .................... ok
t/base/ua_handlers.t ........... ok
t/leak/no_leak.t ............... skipped: Need Test::LeakTrace
t/local/autoload-get.t ......... ok
t/local/autoload.t ............. ok
t/local/cookie_jar.t ........... ok
t/local/download_to_fh.t ....... ok
t/local/get.t .................. ok
t/local/http.t ................. ok
t/local/httpsub.t .............. ok
t/local/protosub.t ............. ok
t/redirect.t ................... ok
t/robot/ua-get.t ............... ok
t/robot/ua.t ................... ok
All tests successful.
Files=22, Tests=316, 25 wallclock secs ( 0.03 usr  0.03 sys +  1.13 cusr  0.30 csys =  1.49 CPU)
Result: PASS

------------------------------
PREREQUISITES
------------------------------

Prerequisite modules loaded:

    No requirements found

------------------------------
ENVIRONMENT AND OTHER CONTEXT
------------------------------

Environment variables:

    LANG = en_GB.UTF-8
    LC_TERMINAL = iTerm2
    LC_TERMINAL_VERSION = 3.5.13
    PATH = /Users/ilmari/.perlbrew/libs/40.2@std/bin:/Users/ilmari/perl5/perlbrew/bin:/Users/ilmari/perl5/perlbrew/perls/40.2/bin:/Users/ilmari/.volta/bin:/Users/ilmari/.rd/bin:/Users/ilmari/.bun/bin:/Users/ilmari/.volta/bin:/Users/ilmari/.rd/bin:/Users/ilmari/.cargo/bin:/Users/ilmari/.pyenv/shims:/Users/ilmari/.local/bin:/Users/ilmari/go/bin:/opt/homebrew/opt/coreutils/libexec/gnubin:/opt/homebrew/opt/unzip/bin:/opt/homebrew/bin:/opt/homebrew/sbin:/usr/local/bin:/System/Cryptexes/App/usr/bin:/usr/bin:/bin:/usr/sbin:/sbin:/var/run/com.apple.security.cryptexd/codex.system/bootstrap/usr/local/bin:/var/run/com.apple.security.cryptexd/codex.system/bootstrap/usr/bin:/var/run/com.apple.security.cryptexd/codex.system/bootstrap/usr/appleinternal/bin:/usr/local/sbin:/Applications/iTerm.app/Contents/Resources/utilities
    PERL5LIB = /Users/ilmari/.perlbrew/libs/40.2@std/lib/perl5
    PERLBREW_HOME = /Users/ilmari/.perlbrew
    PERLBREW_LIB = std
    PERLBREW_MANPATH = /Users/ilmari/.perlbrew/libs/40.2@std/man:/Users/ilmari/perl5/perlbrew/perls/40.2/man
    PERLBREW_PATH = /Users/ilmari/.perlbrew/libs/40.2@std/bin:/Users/ilmari/perl5/perlbrew/bin:/Users/ilmari/perl5/perlbrew/perls/40.2/bin
    PERLBREW_PERL = 40.2
    PERLBREW_ROOT = /Users/ilmari/perl5/perlbrew
    PERLBREW_SHELLRC_VERSION = 1.00
    PERLBREW_VERSION = 1.00
    PERL_LOCAL_LIB_ROOT = /Users/ilmari/.perlbrew/libs/40.2@std
    PERL_MB_OPT = --install_base /Users/ilmari/.perlbrew/libs/40.2@std
    PERL_MM_OPT = INSTALL_BASE=/Users/ilmari/.perlbrew/libs/40.2@std
    SHELL = /opt/homebrew/bin/bash
    TERM = xterm-256color
    TMPDIR = /var/folders/s3/rjxz_y393b10cp8hdzrtwkdw0000gn/T/

Perl special variables (and OS-specific diagnostics, for MSWin32):

    EGID = 20 20 12 61 79 80 81 98 702 33 100 204 250 395 398 399 400
    EUID = 501
    EXECUTABLE_NAME = /Users/ilmari/perl5/perlbrew/perls/40.2/bin/perl
    GID = 20 20 12 61 79 80 81 98 702 33 100 204 250 395 398 399 400
    UID = 501

Perl module toolchain versions installed:

    Module              Have    
    ------------------- --------
    CPAN                2.36    
    CPAN::Meta          2.150010
    Cwd                 3.91    
    ExtUtils::CBuilder  0.280240
    ExtUtils::Command   7.70    
    ExtUtils::Install   2.22    
    ExtUtils::MakeMaker 7.70    
    ExtUtils::Manifest  1.75    
    ExtUtils::ParseXS   3.51    
    File::Spec          3.91    
    JSON                n/a     
    JSON::PP            4.16    
    Module::Build       0.4234  
    Module::Signature   n/a     
    Parse::CPAN::Meta   2.150010
    Test::Harness       3.48    
    Test::More          1.302199
    YAML                n/a     
    YAML::Syck          n/a     
    version             0.9930  


--

Summary of my perl5 (revision 5 version 40 subversion 2) configuration:
   
  Platform:
    osname=darwin
    osvers=24.4.0
    archname=darwin-2level
    uname='darwin hf-jhk6c61rw9 24.4.0 darwin kernel version 24.4.0: fri apr 11 18:33:47 pdt 2025; root:xnu-11417.101.15~117release_arm64_t6030 arm64 arm darwin '
    config_args='-de -Dprefix=/Users/ilmari/perl5/perlbrew/perls/40.2 -Duseshrplib -Dman1dir=none -Dman3dir=none -Accflags=-DNO_LOCALE_COLLATE -Aeval:scriptdir=/Users/ilmari/perl5/perlbrew/perls/40.2/bin'
    hint=recommended
    useposix=true
    d_sigaction=define
    useithreads=undef
    usemultiplicity=undef
    use64bitint=define
    use64bitall=define
    uselongdouble=undef
    usemymalloc=n
    default_inc_excludes_dot=define
  Compiler:
    cc='cc'
    ccflags ='-fno-common -DPERL_DARWIN -mmacosx-version-min=15.4 -DNO_THREAD_SAFE_QUERYLOCALE -DNO_POSIX_2008_LOCALE -DNO_LOCALE_COLLATE -fno-strict-aliasing -pipe -fstack-protector-strong'
    optimize='-O3'
    cppflags='-fno-common -DPERL_DARWIN -mmacosx-version-min=15.4 -DNO_THREAD_SAFE_QUERYLOCALE -DNO_POSIX_2008_LOCALE -DNO_LOCALE_COLLATE -fno-strict-aliasing -pipe -fstack-protector-strong'
    ccversion=''
    gccversion='Apple LLVM 17.0.0 (clang-1700.0.13.3)'
    gccosandvers=''
    intsize=4
    longsize=8
    ptrsize=8
    doublesize=8
    byteorder=12345678
    doublekind=3
    d_longlong=define
    longlongsize=8
    d_longdbl=define
    longdblsize=8
    longdblkind=0
    ivtype='long'
    ivsize=8
    nvtype='double'
    nvsize=8
    Off_t='off_t'
    lseeksize=8
    alignbytes=8
    prototype=define
  Linker and Libraries:
    ld='cc'
    ldflags =' -mmacosx-version-min=15.4 -fstack-protector-strong'
    libpth=/Library/Developer/CommandLineTools/usr/lib/clang/17/lib /Library/Developer/CommandLineTools/SDKs/MacOSX15.4.sdk/usr/lib /Library/Developer/CommandLineTools/usr/lib /usr/lib
    libs= 
    perllibs=
    libc=
    so=dylib
    useshrplib=true
    libperl=libperl.dylib
    gnulibc_version=''
  Dynamic Linking:
    dlsrc=dl_dlopen.xs
    dlext=bundle
    d_dlsymun=undef
    ccdlflags=' '
    cccdlflags=' '
    lddlflags=' -mmacosx-version-min=15.4 -bundle -undefined dynamic_lookup -fstack-protector-strong'


Characteristics of this binary (from libperl): 
  Compile-time options:
    HAS_LONG_DOUBLE
    HAS_STRTOLD
    HAS_TIMES
    PERLIO_LAYERS
    PERL_COPY_ON_WRITE
    PERL_DONT_CREATE_GVSV
    PERL_HASH_FUNC_SIPHASH13
    PERL_HASH_USE_SBOX32
    PERL_MALLOC_WRAP
    PERL_OP_PARENT
    PERL_PRESERVE_IVUV
    PERL_USE_SAFE_PUTENV
    USE_64_BIT_ALL
    USE_64_BIT_INT
    USE_LARGE_FILES
    USE_LOCALE
    USE_LOCALE_CTYPE
    USE_LOCALE_NUMERIC
    USE_LOCALE_TIME
    USE_PERLIO
    USE_PERL_ATOF
  Built under darwin
  Compiled at Apr 22 2025 17:19:50
  %ENV:
    PERL5LIB="/Users/ilmari/.perlbrew/libs/40.2@std/lib/perl5"
    PERLBREW_HOME="/Users/ilmari/.perlbrew"
    PERLBREW_LIB="std"
    PERLBREW_MANPATH="/Users/ilmari/.perlbrew/libs/40.2@std/man:/Users/ilmari/perl5/perlbrew/perls/40.2/man"
    PERLBREW_PATH="/Users/ilmari/.perlbrew/libs/40.2@std/bin:/Users/ilmari/perl5/perlbrew/bin:/Users/ilmari/perl5/perlbrew/perls/40.2/bin"
    PERLBREW_PERL="40.2"
    PERLBREW_ROOT="/Users/ilmari/perl5/perlbrew"
    PERLBREW_SHELLRC_VERSION="1.00"
    PERLBREW_VERSION="1.00"
    PERL_LOCAL_LIB_ROOT="/Users/ilmari/.perlbrew/libs/40.2@std"
    PERL_MB_OPT="--install_base /Users/ilmari/.perlbrew/libs/40.2@std"
    PERL_MM_OPT="INSTALL_BASE=/Users/ilmari/.perlbrew/libs/40.2@std"
  @INC:
    /Users/ilmari/.perlbrew/libs/40.2@std/lib/perl5/darwin-2level
    /Users/ilmari/.perlbrew/libs/40.2@std/lib/perl5
    /Users/ilmari/perl5/perlbrew/perls/40.2/lib/site_perl/5.40.2/darwin-2level
    /Users/ilmari/perl5/perlbrew/perls/40.2/lib/site_perl/5.40.2
    /Users/ilmari/perl5/perlbrew/perls/40.2/lib/5.40.2/darwin-2level
    /Users/ilmari/perl5/perlbrew/perls/40.2/lib/5.40.2