Report for Class-Method-Modifiers-2.07

Back
From: metabase:user:259e1362-c848-11e1-acfa-89c38cc6bf43
Subject: PASS Class-Method-Modifiers-2.07 v5.16.3 GNU/Linux
Date: 2013-09-25T15:30:14Z

This distribution has been tested as part of the CPAN Testers
project, supporting the Perl programming language.  See
http://wiki.cpantesters.org/ for more information or email
questions to cpan-testers-discuss@perl.org


--
Dear Karen Etheridge,

This is a computer-generated report for Class-Method-Modifiers-2.07
on perl 5.16.3, created by CPAN-Reporter-1.2010.

Thank you for uploading your work to CPAN.  Congratulations!
All tests were successful.

Sections of this report:

    * Tester comments
    * Program output
    * Prerequisites
    * Environment and other context

------------------------------
TESTER COMMENTS
------------------------------

Additional comments from tester:

none provided

------------------------------
PROGRAM OUTPUT
------------------------------

Output from '/usr/bin/make test':

PERL_DL_NONLAZY=1 /pkg/perl/5.16.3-12/bin/perl "-MExtUtils::Command::MM" "-e" "test_harness(0, 'blib/lib', 'blib/arch')" t/*.t
t/00-check-deps.t ................... ok
t/00-compile.t ...................... ok
# Prerequisite Report:
#   Version Module               
#   ------- ---------------------
#      1.35 B                    
#      1.32 Carp                 
#      5.68 Exporter             
#      6.68 ExtUtils::MakeMaker  
#      3.40 File::Spec           
#      3.40 File::Spec::Functions
#      1.33 IO::Handle           
#      1.12 IPC::Open3           
#      1.27 List::Util           
#     0.027 Module::Build::Tiny  
#     0.007 Test::CheckDeps      
#     0.010 Test::Fatal          
#      0.98 Test::More           
#      2.18 base                 
#    0.0602 if                   
#      1.07 strict               
#      1.13 warnings             
t/00-report-prereqs.t ............... ok
t/000-load.t ........................ ok
t/001-error.t ....................... ok
t/002-cache.t ....................... ok
t/003-basic.t ....................... ok
t/004-around.t ...................... ok
t/005-return.t ...................... ok
t/010-before-args.t ................. ok
t/011-after-args.t .................. ok
t/012-around-args.t ................. ok
t/020-multiple-inheritance.t ........ ok
t/030-multiple-before.t ............. ok
t/031-multiple-after.t .............. ok
t/032-multiple-around.t ............. ok
t/034-multiple-everything.t ......... ok
t/035-multiple-everything-twice.t ... ok
t/040-twice-orig.t .................. ok
t/041-modify-parent.t ............... ok
t/051-undef-list-ctxt.t ............. ok
t/060-caller.t ...................... ok
t/070-modify-multiple-at-once.t ..... ok
t/080-multiple-modifiers.t .......... ok
t/081-sub-and-modifier.t ............ ok
t/090-diamond.t ..................... ok
t/100-class-mop-method-modifiers.t .. ok
t/110-namespace-clean.t ............. ok
t/120-fresh.t ....................... ok
t/130-clean-underscore.t ............ ok
t/140-lvalue.t ...................... ok
All tests successful.
Files=31, Tests=148,  2 wallclock secs ( 0.10 usr  0.03 sys +  1.22 cusr  0.03 csys =  1.38 CPU)
Result: PASS

------------------------------
PREREQUISITES
------------------------------

Prerequisite modules loaded:

requires:

    Module                Need  Have  
    --------------------- ----- ------
    B                     0     1.35  
    base                  0     2.18  
    Carp                  0     1.32  
    Exporter              0     5.68  
    strict                0     1.07  
    warnings              0     1.13  

build_requires:

    Module                Need  Have  
    --------------------- ----- ------
    ExtUtils::MakeMaker   0     6.68  
    File::Spec            0     3.40  
    File::Spec::Functions 0     3.40  
    if                    0     0.0602
    IO::Handle            0     1.33  
    IPC::Open3            0     1.12  
    List::Util            0     1.27  
    Test::CheckDeps       0.007 0.007 
    Test::Fatal           0     0.010 
    Test::More            0.94  0.98  

configure_requires:

    Module                Need  Have  
    --------------------- ----- ------
    ExtUtils::MakeMaker   6.30  6.68  
    Module::Build::Tiny   0.027 0.027 


------------------------------
ENVIRONMENT AND OTHER CONTEXT
------------------------------

Environment variables:

    LANG = en_GB.UTF-8
    LC_COLLATE = C
    PATH = /root/bin:/root/bin:/usr/bin:/bin:/usr/sbin:/sbin:/usr/games
    PERL5LIB = 
    PERL5OPT = 
    PERL5_CPANPLUS_IS_RUNNING = 6411
    PERL5_CPAN_IS_RUNNING = 6411
    SHELL = /bin/bash
    TERM = xterm-color

Perl special variables (and OS-specific diagnostics, for MSWin32):

    $^X = /pkg/perl/5.16.3-12/bin/perl
    $UID/$EUID = 0 / 0
    $GID = 0 0 1 2 3 4 6 10 11 16 25 73
    $EGID = 0 0 1 2 3 4 6 10 11 16 25 73

Perl module toolchain versions installed:

    Module              Have    
    ------------------- --------
    CPAN                2.00    
    CPAN::Meta          2.132661
    Cwd                 3.40    
    ExtUtils::CBuilder  0.280206
    ExtUtils::Command   1.17    
    ExtUtils::Install   1.58    
    ExtUtils::MakeMaker 6.68    
    ExtUtils::Manifest  1.61    
    ExtUtils::ParseXS   3.18    
    File::Spec          3.40    
    JSON                2.59    
    JSON::PP            2.27202 
    Module::Build       0.4005  
    Module::Signature   0.73    
    Parse::CPAN::Meta   1.4404  
    Test::Harness       3.28    
    Test::More          0.98    
    YAML                0.84    
    YAML::Syck          1.27    
    version             0.9902  


--

Summary of my perl5 (revision 5 version 16 subversion 3) configuration:
  Local Commit: 870e6f456cd49afa5894d97296caf943d4686d04
  Ancestor: 183b001cb82ee238a3921a55ece023fd3b1ffd2c
  Platform:
    osname=linux, osvers=3.8.3-dirty, archname=x86_64-linux-thread-multi
    uname='linux spindle 3.8.3-dirty #1 smp sun mar 17 14:16:46 gmt 2013 x86_64 gnulinux '
    config_args='-d -e -D privlib=/usr/lib/perl5/5.16 -D sitelib=/usr/lib/perl5/site_perl/5.16 -D optimize=-Wstrict-overflow=1 -gdwarf-4 -feliminate-dwarf2-dups -feliminate-unused-debug-types -fvar-tracking-assignments -O2 -D__NO_STRING_INLINES -D__NO_MATH_INLINES'
    hint=recommended, useposix=true, d_sigaction=define
    useithreads=define, usemultiplicity=define
    useperlio=define, d_sfio=undef, uselargefiles=define, usesocks=undef
    use64bitint=define, use64bitall=define, uselongdouble=undef
    usemymalloc=n, bincompat5005=undef
  Compiler:
    cc='gcc', ccflags ='-D_REENTRANT -D_GNU_SOURCE -D_REENTRANT -D_GNU_SOURCE -g -fno-strict-aliasing -D_LARGEFILE_SOURCE -D_FILE_OFFSET_BITS=64 -pipe -fstack-protector -D_LARGEFILE_SOURCE -D_FILE_OFFSET_BITS=64',
    optimize='-Wstrict-overflow=1 -gdwarf-4 -feliminate-dwarf2-dups -feliminate-unused-debug-types -fvar-tracking-assignments -O2 -D__NO_STRING_INLINES -D__NO_MATH_INLINES',
    cppflags='-D_REENTRANT -D_GNU_SOURCE -D_REENTRANT -D_GNU_SOURCE -g -fno-strict-aliasing -D_LARGEFILE_SOURCE -D_FILE_OFFSET_BITS=64 -pipe -fstack-protector'
    ccversion='', gccversion='4.7.3 20130310 (prerelease)', gccosandvers=''
    intsize=4, longsize=8, ptrsize=8, doublesize=8, byteorder=12345678
    d_longlong=define, longlongsize=8, d_longdbl=define, longdblsize=16
    ivtype='long', ivsize=8, nvtype='double', nvsize=8, Off_t='off_t', lseeksize=8
    alignbytes=8, prototype=define
  Linker and Libraries:
    ld='gcc', ldflags =' -fstack-protector -L/usr/local/lib'
    libpth=/usr/local/lib /lib/64 /usr/lib/64 /lib /usr/lib /lib64 /usr/lib64
    libs=-lgdbm -ldb -ldl -lm -lcrypt -lutil -lpthread -lc -lgdbm_compat
    perllibs=-ldl -lm -lcrypt -lutil -lpthread -lc
    libc=/lib/libc-2.17.so, so=so, useshrplib=true, libperl=libperl.so
    gnulibc_version='2.17'
  Dynamic Linking:
    dlsrc=dl_dlopen.xs, dlext=so, d_dlsymun=undef, ccdlflags='-Wl,-E -Wl,-rpath,/usr/lib/perl5/5.16/x86_64-linux-thread-multi/CORE'
    cccdlflags='-fPIC', lddlflags='-shared -Wstrict-overflow=1 -gdwarf-4 -feliminate-dwarf2-dups -feliminate-unused-debug-types -fvar-tracking-assignments -O2 -D__NO_STRING_INLINES -D__NO_MATH_INLINES -L/usr/local/lib -fstack-protector'


Characteristics of this binary (from libperl): 
  Compile-time options: HAS_TIMES MULTIPLICITY PERLIO_LAYERS
                        PERL_DONT_CREATE_GVSV PERL_IMPLICIT_CONTEXT
                        PERL_MALLOC_WRAP PERL_PRESERVE_IVUV USE_64_BIT_ALL
                        USE_64_BIT_INT USE_ITHREADS USE_LARGE_FILES
                        USE_LOCALE USE_LOCALE_COLLATE USE_LOCALE_CTYPE
                        USE_LOCALE_NUMERIC USE_PERLIO USE_PERL_ATOF
                        USE_REENTRANT_API
  Locally applied patches:
	89a55046356a104a63e590fb060123158e86be04
	5534801b45914ad702a65931467cc2b6d2dbd3e5
	d6cee3c7d3ce0be9a9f3c6309f6edbe16b473aaf
	8861d3c8c12e3a56f010ab09e64950ba09a1a14d
	c1abe3372e0576a86eb20594ec48e3be9dea15ca
  Built under linux
  Compiled at Mar 18 2013 11:24:42
  %ENV:
    PERL5LIB=""
    PERL5OPT=""
    PERL5_CPANPLUS_IS_RUNNING="6411"
    PERL5_CPAN_IS_RUNNING="6411"
  @INC:
    /usr/lib/perl5/site_perl/5.16/x86_64-linux-thread-multi
    /usr/lib/perl5/site_perl/5.16
    /usr/lib/perl5/5.16/x86_64-linux-thread-multi
    /usr/lib/perl5/5.16
    .