Back
From: metabase:user:5f77f54e-6c0d-1014-966e-55cac1b3e646
Subject: PASS HTML-FillInForm-2.11 v5.16.2
Date: 2013-06-04T16:14:32Z
This distribution has been tested as part of the CPAN Testers
project, supporting the Perl programming language. See
http://wiki.cpantesters.org/ for more information or email
questions to cpan-testers-discuss@perl.org
--
Dear Mark Stosberg,
This is a computer-generated report for HTML-FillInForm-2.11
on perl 5.16.2, created by CPAN-Reporter-1.2010.
Thank you for uploading your work to CPAN. Congratulations!
All tests were successful.
Sections of this report:
* Tester comments
* Program output
* Prerequisites
* Environment and other context
------------------------------
TESTER COMMENTS
------------------------------
Additional comments from tester:
none provided
------------------------------
PROGRAM OUTPUT
------------------------------
Output from 'C:\VS10\VC\bin\nmake.exe test':
Microsoft (R) Program Maintenance Utility Version 10.00.30319.01
Copyright (C) Microsoft Corporation. All rights reserved.
C:\PERL\BIN\perl.EXE "-MExtUtils::Command::MM" "-e" "test_harness(0, 'blib\lib', 'blib\arch')" t/*.t
t/00_base.t ...................... ok
t/01_form.t ...................... ok
t/02_hidden.t .................... ok
t/03_checkbox.t .................. ok
t/04_select.t .................... ok
t/05_textarea.t .................. ok
t/06_radio.t ..................... ok
t/07_reuse.t ..................... ok
t/08_multiple_objects.t .......... ok
t/09_default_type.t .............. ok
t/10_escape.t .................... ok
t/11_target.t .................... ok
t/12_mult.t ...................... ok
t/13_warning.t ................... ok
t/14_password.t .................. ok
t/15_multiple_fields.t ........... ok
t/16_ignore_fields.t ............. ok
t/17_xhtml.t ..................... ok
t/18_ignore_fdat.t ............... ok
t/19_extra.t ..................... ok
t/20_scalarref.t ................. ok
t/21_disable_fields.t ............ ok
t/22_undef.t ..................... ok
t/23_absent_checkbox.t ........... ok
t/24_radio_absent_checkboxes.t ... ok
t/25_select_absent_checkboxes.t .. ok
t/26_invalid_fields.t ............ ok
All tests successful.
Files=27, Tests=134, 6 wallclock secs ( 0.19 usr + 0.34 sys = 0.53 CPU)
Result: PASS
------------------------------
PREREQUISITES
------------------------------
Prerequisite modules loaded:
requires:
Module Need Have
------------------- ---- ----
HTML::Parser 3.26 3.71
HTML::TokeParser 3.26 3.69
warnings 0 1.13
build_requires:
Module Need Have
------------------- ---- ----
ExtUtils::MakeMaker 0 6.66
configure_requires:
Module Need Have
------------------- ---- ----
ExtUtils::MakeMaker 0 6.66
------------------------------
ENVIRONMENT AND OTHER CONTEXT
------------------------------
Environment variables:
COMSPEC = C:\TCMD\TCC.EXE
INCLUDE = c:\openssl\include;c:\VS10\VC\INCLUDE;c:\VS10\VC\ATLMFC\INCLUDE;C:\Program Files (x86)\Microsoft SDKs\Windows\v7.0A\include;c:\tcl\include
LIB = c:\openssl\lib;c:\VS10\VC\LIB;c:\VS10\VC\ATLMFC\LIB;C:\Program Files (x86)\Microsoft SDKs\Windows\v7.0A\lib;c:\tcl\lib
NUMBER_OF_PROCESSORS = 4
PATH = C:\Program Files (x86)\RSA SecurID Token Common;C:\Program Files (x86)\ImageMagick-6.8.2-Q16;C:\ORACLE\PRODUCT\11.2.0\CLIENT\BIN;C:\TCL\BIN;C:\PROGRAM FILES (X86)\ACTIVESTATE KOMODO IDE 7\;C:\TCMD;C:\UTILS;C:\OPENSSL\BIN;C:\GNUPG;C:\PYTHON\;C:\PYTHON\SCRIPTS;C:\PERL\PDK\BIN\;C:\PERL\SITE\BIN;C:\PERL\BIN;C:\VS10\VC\BIN;C:\Windows\SYSTEM32;C:\Windows;C:\Windows\SYSTEM32\WBEM;C:\PROGRAM FILES (X86)\STELLENT\IBPM\;C:\PROGRAM FILES (X86)\NMAP;C:\Windows\IDMU\COMMON;C:\PROGRAM FILES (X86)\MICROSOFT F#\V4.0\;C:\VS10\VSTSDB\DEPLOY;C:\VS10\COMMON7\IDE\;C:\VS10\COMMON7\TOOLS;C:\WINDOWS\MICROSOFT.NET\FRAMEWORK\V4.0.30319;C:\WINDOWS\MICROSOFT.NET\FRAMEWORK\V3.5;C:\VS10\VC\VCPACKAGES;C:\PROGRAM FILES (X86)\MICROSOFT SDKS\WINDOWS\V7.0A\BIN\NETFX 4.0 TOOLS;C:\PROGRAM FILES (X86)\MICROSOFT SDKS\WINDOWS\V7.0A\BIN;C:\EXPAT\BIN;C:\Program Files (x86)\Graphviz 2.28\bin;C:\Windows\SYSTEM32\WINDOWSPOWERSHELL\V1.0\;C:\PROGRAM FILES\INTEL\WIFI\BIN\;C:\PROGRAM FILES\COMMON FILES\INTEL\WIRELESSCOMMON\;C:\Program Files\VanDyke Software\Clients\;c:\Apache24\bin;C:\Windows\System32\WindowsPowerShell\v1.0\;C:\Program Files (x86)\WinSCP\;C:\Program Files\MySQL\MySQL Server 5.6\bin;C:\Program Files (x86)\QuickTime\QTSystem\;.;;.;
PERL5LIB =
PERL5OPT =
PERL5_CPANPLUS_IS_RUNNING = 6352
PERL5_CPAN_IS_RUNNING = 6352
PROCESSOR_IDENTIFIER = Intel64 Family 6 Model 42 Stepping 7, GenuineIntel
TEMP = C:\Users\a00772a\AppData\Local\Temp
TERM = dumb
Perl special variables (and OS-specific diagnostics, for MSWin32):
$^X = C:\PERL\BIN\perl.EXE
$UID/$EUID = 0 / 0
$GID = 0
$EGID = 0
Win32::GetOSName = Win7
Win32::GetOSVersion = Service Pack 1, 6, 1, 7601, 2, 1, 0, 256, 1
Win32::FsType = NTFS
Win32::IsAdminUser = 1
Perl module toolchain versions installed:
Module Have
------------------- --------
CPAN 2.00
CPAN::Meta 2.131490
Cwd 3.40
ExtUtils::CBuilder 0.280206
ExtUtils::Command 1.17
ExtUtils::Install 1.54
ExtUtils::MakeMaker 6.66
ExtUtils::Manifest 1.61
ExtUtils::ParseXS 3.18
File::Spec 3.40
JSON 2.58
JSON::PP 2.27202
Module::Build 0.4005
Module::Signature 0.70
Parse::CPAN::Meta 1.4404
Test::Harness 3.28
Test::More 0.98
YAML 0.84
YAML::Syck 1.25
version 0.9902
--
Summary of my perl5 (revision 5 version 16 subversion 2) configuration:
Platform:
osname=MSWin32, osvers=5.2, archname=MSWin32-x86-multi-thread
uname=''
config_args='undef'
hint=recommended, useposix=true, d_sigaction=undef
useithreads=define, usemultiplicity=define
useperlio=define, d_sfio=undef, uselargefiles=define, usesocks=undef
use64bitint=undef, use64bitall=undef, uselongdouble=undef
usemymalloc=n, bincompat5005=undef
Compiler:
cc='cl', ccflags ='-nologo -GF -W3 -MD -Zi -DNDEBUG -O1 -DWIN32 -D_CONSOLE -DNO_STRICT -DPERL_TEXTMODE_SCRIPTS -DUSE_SITECUSTOMIZE -DPERL_IMPLICIT_CONTEXT -DPERL_IMPLICIT_SYS -DUSE_PERLIO -D_USE_32BIT_TIME_T',
optimize='-MD -Zi -DNDEBUG -O1',
cppflags='-DWIN32'
ccversion='16.0.40219', gccversion='', gccosandvers=''
intsize=4, longsize=4, ptrsize=4, doublesize=8, byteorder=1234
d_longlong=undef, longlongsize=8, d_longdbl=define, longdblsize=8
ivtype='long', ivsize=4, nvtype='double', nvsize=8, Off_t='__int64', lseeksize=8
alignbytes=8, prototype=define
Linker and Libraries:
ld='link', ldflags ='-nologo -nodefaultlib -debug -opt:ref,icf -libpath:"C:\Perl\lib\CORE" -machine:x86'
libpth=\lib
libs=oldnames.lib kernel32.lib user32.lib gdi32.lib winspool.lib comdlg32.lib advapi32.lib shell32.lib ole32.lib oleaut32.lib netapi32.lib uuid.lib ws2_32.lib mpr.lib winmm.lib version.lib odbc32.lib odbccp32.lib comctl32.lib msvcrt.lib
perllibs=oldnames.lib kernel32.lib user32.lib gdi32.lib winspool.lib comdlg32.lib advapi32.lib shell32.lib ole32.lib oleaut32.lib netapi32.lib uuid.lib ws2_32.lib mpr.lib winmm.lib version.lib odbc32.lib odbccp32.lib comctl32.lib msvcrt.lib
libc=msvcrt.lib, so=dll, useshrplib=true, libperl=perl516.lib
gnulibc_version=''
Dynamic Linking:
dlsrc=dl_win32.xs, dlext=dll, d_dlsymun=undef, ccdlflags=' '
cccdlflags=' ', lddlflags='-dll -nologo -nodefaultlib -debug -opt:ref,icf -libpath:"C:\Perl\lib\CORE" -machine:x86'
Characteristics of this binary (from libperl):
Compile-time options: HAS_TIMES HAVE_INTERP_INTERN MULTIPLICITY
PERLIO_LAYERS PERL_DONT_CREATE_GVSV
PERL_IMPLICIT_CONTEXT PERL_IMPLICIT_SYS
PERL_MALLOC_WRAP PERL_PRESERVE_IVUV PL_OP_SLAB_ALLOC
USE_ITHREADS USE_LARGE_FILES USE_LOCALE
USE_LOCALE_COLLATE USE_LOCALE_CTYPE
USE_LOCALE_NUMERIC USE_PERLIO USE_PERL_ATOF
USE_SITECUSTOMIZE
Locally applied patches:
ActivePerl Build 1602 [296513]
Built under MSWin32
Compiled at Dec 19 2012 12:35:59
%ENV:
PERL5_CPANPLUS_IS_RUNNING="6352"
PERL5_CPAN_IS_RUNNING="6352"
@INC:
C:/Perl/site/lib
C:/Perl/lib
.