Yahoo-Marketing v7.03 Perl 5 v5.37.3 x86_64-linux-ld

Status
Pass
From
Andreas J. König (ANDK)
Dist
Yahoo-Marketing v7.03
Platform
Perl 5 v5.37.3 x86_64-linux-ld
Date
2022-08-28 18:00:59
ID
5f7e70f0-26fb-11ed-ac5c-c72885c53a74
This distribution has been tested as part of the CPAN Testers
project, supporting the Perl programming language.  See
http://wiki.cpantesters.org/ for more information or email
questions to cpan-testers-discuss@perl.org


--
Dear Johnny Shen,

This is a computer-generated report for Yahoo-Marketing-7.03
on perl 5.37.3, created by CPAN-Reporter-1.2018.

Thank you for uploading your work to CPAN.  Congratulations!
All tests were successful.

Sections of this report:

    * Tester comments
    * Program output
    * Prerequisites
    * Environment and other context

------------------------------
TESTER COMMENTS
------------------------------

Additional comments from tester:

this report is from an automated smoke testing program
and was not reviewed by a human for accuracy

------------------------------
PROGRAM OUTPUT
------------------------------

Output from '/usr/bin/make test':

PERL_DL_NONLAZY=1 "/tmp/basesmoker-reloperl-9LIh/bin/perl" "-MExtUtils::Command::MM" "-MTest::Harness" "-e" "undef *Test::Harness::Switches; test_harness(0, 'blib/lib', 'blib/arch')" t/*.t
Possible precedence issue with control flow operator at /tmp/loop_over_bdir-2030152-0K_PDD/Yahoo-Marketing-7.03-0/blib/lib/Yahoo/Marketing/Service.pm line 615.
# Testing Yahoo::Marketing 7.03, Perl 5.037003, /tmp/basesmoker-reloperl-9LIh/bin/perl
t/00-load.t .................................... ok
Possible precedence issue with control flow operator at /tmp/loop_over_bdir-2030152-0K_PDD/Yahoo-Marketing-7.03-0/blib/lib/Yahoo/Marketing/Service.pm line 615.
t/01-instantiate_services.t .................... ok
Possible precedence issue with control flow operator at /tmp/loop_over_bdir-2030152-0K_PDD/Yahoo-Marketing-7.03-0/blib/lib/Yahoo/Marketing/Service.pm line 615.
t/02-cache.t ................................... ok
t/account.t .................................... ok
t/account_aggregate.t .......................... ok
t/account_balance.t ............................ ok
t/account_carrier_config.t ..................... ok
t/account_carrier_setting.t .................... ok
Possible precedence issue with control flow operator at /tmp/loop_over_bdir-2030152-0K_PDD/Yahoo-Marketing-7.03-0/blib/lib/Yahoo/Marketing/Service.pm line 615.
t/account_service.t ............................ ok
t/ad.t ......................................... ok
t/ad_carrier_config.t .......................... ok
t/ad_carrier_editorial_reason_info.t ........... ok
t/ad_carrier_editorial_reasons.t ............... ok
t/ad_carrier_setting.t ......................... ok
t/ad_editorial_reasons.t ....................... ok
t/ad_group.t ................................... ok
t/ad_group_carrier_config.t .................... ok
t/ad_group_carrier_setting.t ................... ok
t/ad_group_forecast_request_data.t ............. ok
t/ad_group_optimization_guidelines.t ........... ok
t/ad_group_optimization_guidelines_response.t .. ok
t/ad_group_response.t .......................... ok
Possible precedence issue with control flow operator at /tmp/loop_over_bdir-2030152-0K_PDD/Yahoo-Marketing-7.03-0/blib/lib/Yahoo/Marketing/Service.pm line 615.
t/ad_group_service.t ........................... ok
t/ad_response.t ................................ ok
Possible precedence issue with control flow operator at /tmp/loop_over_bdir-2030152-0K_PDD/Yahoo-Marketing-7.03-0/blib/lib/Yahoo/Marketing/Service.pm line 615.
t/ad_service.t ................................. ok
t/address.t .................................... ok
t/age_range.t .................................. ok
t/age_target.t ................................. ok
t/ambiguous_geo_match.t ........................ ok
t/api_fault.t .................................. ok
t/authorization.t .............................. ok
t/basic_report_request.t ....................... ok
Possible precedence issue with control flow operator at /tmp/loop_over_bdir-2030152-0K_PDD/Yahoo-Marketing-7.03-0/blib/lib/Yahoo/Marketing/Service.pm line 615.
t/basic_report_service.t ....................... ok
t/basic_response.t ............................. ok
t/bid_information.t ............................ ok
t/bid_information_request.t .................... ok
Possible precedence issue with control flow operator at /tmp/loop_over_bdir-2030152-0K_PDD/Yahoo-Marketing-7.03-0/blib/lib/Yahoo/Marketing/Service.pm line 615.
t/bid_information_service.t .................... ok
t/bid_update_info.t ............................ ok
t/billing_user.t ............................... ok
t/boilerplate.t ................................ ok
t/bucket_type.t ................................ ok
Possible precedence issue with control flow operator at /tmp/loop_over_bdir-2030152-0K_PDD/Yahoo-Marketing-7.03-0/blib/lib/Yahoo/Marketing/Service.pm line 615.
t/budgeting_service.t .......................... ok
t/bulk_download_status_info.t .................. ok
t/bulk_download_status_response.t .............. ok
Possible precedence issue with control flow operator at /tmp/loop_over_bdir-2030152-0K_PDD/Yahoo-Marketing-7.03-0/blib/lib/Yahoo/Marketing/Service.pm line 615.
t/bulk_service.t ............................... ok
t/bulk_upload_status_response.t ................ ok
t/bulk_upload_token_url_response.t ............. ok
t/campaign.t ................................... ok
t/campaign_carrier_config.t .................... ok
t/campaign_carrier_setting.t ................... ok
t/campaign_optimization_guidelines.t ........... ok
t/campaign_optimization_guidelines_response.t .. ok
t/campaign_response.t .......................... ok
Possible precedence issue with control flow operator at /tmp/loop_over_bdir-2030152-0K_PDD/Yahoo-Marketing-7.03-0/blib/lib/Yahoo/Marketing/Service.pm line 615.
t/campaign_service.t ........................... ok
t/capability.t ................................. ok
t/carrier.t .................................... ok
t/carrier_bid_information.t .................... ok
t/carrier_bid_information_request.t ............ ok
t/combined_account_status.t .................... ok
t/company.t .................................... ok
Possible precedence issue with control flow operator at /tmp/loop_over_bdir-2030152-0K_PDD/Yahoo-Marketing-7.03-0/blib/lib/Yahoo/Marketing/Service.pm line 615.
t/company_service.t ............................ ok
t/credit_card_info.t ........................... ok
t/day_part.t ................................... ok
t/day_parting_target.t ......................... ok
t/day_parting_targeting.t ...................... ok
t/demographic_targeting.t ...................... ok
t/download_file.t .............................. ok
t/error.t ...................................... ok
t/error_type.t ................................. ok
Possible precedence issue with control flow operator at /tmp/loop_over_bdir-2030152-0K_PDD/Yahoo-Marketing-7.03-0/blib/lib/Yahoo/Marketing/Service.pm line 615.
t/example.t .................................... ok
t/excluded_word.t .............................. ok
t/excluded_word_response.t ..................... ok
Possible precedence issue with control flow operator at /tmp/loop_over_bdir-2030152-0K_PDD/Yahoo-Marketing-7.03-0/blib/lib/Yahoo/Marketing/Service.pm line 615.
t/excluded_words_service.t ..................... ok
t/file_output_format.t ......................... ok
t/forecast_click_data.t ........................ ok
t/forecast_creative.t .......................... ok
t/forecast_impression_data.t ................... ok
t/forecast_keyword.t ........................... ok
t/forecast_keyword_batch.t ..................... ok
t/forecast_keyword_batch_response.t ............ ok
t/forecast_keyword_batch_response_data.t ....... ok
t/forecast_keyword_response.t .................. ok
t/forecast_request_data.t ...................... ok
t/forecast_response.t .......................... ok
t/forecast_response_data.t ..................... ok
Possible precedence issue with control flow operator at /tmp/loop_over_bdir-2030152-0K_PDD/Yahoo-Marketing-7.03-0/blib/lib/Yahoo/Marketing/Service.pm line 615.
t/forecast_service.t ........................... ok
t/gender_target.t .............................. ok
t/geo_location.t ............................... ok
t/geo_location_probability.t ................... ok
t/geo_location_probability_set.t ............... ok
t/geo_target.t ................................. ok
Possible precedence issue with control flow operator at /tmp/loop_over_bdir-2030152-0K_PDD/Yahoo-Marketing-7.03-0/blib/lib/Yahoo/Marketing/Service.pm line 615.
t/geographical_dictionary_service.t ............ ok
t/historical_keyword.t ......................... ok
t/historical_keyword_response.t ................ ok
t/historical_keyword_response_data.t ........... ok
t/historical_request_data.t .................... ok
t/historical_response_data.t ................... ok
t/keyword.t .................................... ok
t/keyword_carrier_config.t ..................... ok
t/keyword_carrier_editorial_reason_info.t ...... ok
t/keyword_carrier_editorial_reasons.t .......... ok
t/keyword_carrier_setting.t .................... ok
t/keyword_editorial_reasons.t .................. ok
t/keyword_forecast_request_data.t .............. ok
t/keyword_info_request_type.t .................. ok
t/keyword_info_response_type.t ................. ok
t/keyword_info_type.t .......................... ok
t/keyword_optimization_guidelines.t ............ ok
t/keyword_optimization_guidelines_response.t ... ok
t/keyword_participation_status.t ............... ok
t/keyword_rejection_reasons.t .................. ok
Possible precedence issue with control flow operator at /tmp/loop_over_bdir-2030152-0K_PDD/Yahoo-Marketing-7.03-0/blib/lib/Yahoo/Marketing/Service.pm line 615.
t/keyword_research_service.t ................... ok
t/keyword_response.t ........................... ok
Possible precedence issue with control flow operator at /tmp/loop_over_bdir-2030152-0K_PDD/Yahoo-Marketing-7.03-0/blib/lib/Yahoo/Marketing/Service.pm line 615.
t/keyword_service.t ............................ ok
t/master_account.t ............................. ok
Possible precedence issue with control flow operator at /tmp/loop_over_bdir-2030152-0K_PDD/Yahoo-Marketing-7.03-0/blib/lib/Yahoo/Marketing/Service.pm line 615.
t/master_account_service.t ..................... ok
Possible precedence issue with control flow operator at /tmp/loop_over_bdir-2030152-0K_PDD/Yahoo-Marketing-7.03-0/blib/lib/Yahoo/Marketing/Service.pm line 615.
t/mobile_dictionary_service.t .................. ok
t/network.t .................................... ok
t/network_distribution.t ....................... ok
t/network_target.t ............................. ok
t/opt_in_ad_group_response.t ................... ok
t/opt_in_campaign_response.t ................... ok
t/opt_in_status.t .............................. ok
t/page_related_keyword_request_type.t .......... ok
t/payment_info.t ............................... ok
t/payment_method_info.t ........................ ok
Possible precedence issue with control flow operator at /tmp/loop_over_bdir-2030152-0K_PDD/Yahoo-Marketing-7.03-0/blib/lib/Yahoo/Marketing/Service.pm line 615.
t/pod-coverage.t ............................... ok
t/pod.t ........................................ ok
t/preferences.t ................................ ok
t/process_status.t ............................. ok
t/range_definition_request_type.t .............. ok
t/range_definition_response_type.t ............. ok
t/range_definition_type.t ...................... ok
t/range_value_type.t ........................... ok
t/related_keyword_request_type.t ............... ok
t/related_keyword_response_type.t .............. ok
t/related_keyword_type.t ....................... ok
t/report_download_info.t ....................... ok
t/report_info.t ................................ ok
t/response.t ................................... ok
t/response_status_type.t ....................... ok
t/role.t ....................................... ok
Possible precedence issue with control flow operator at /tmp/loop_over_bdir-2030152-0K_PDD/Yahoo-Marketing-7.03-0/blib/lib/Yahoo/Marketing/Service.pm line 615.
t/service.t .................................... ok
t/set_geographic_location_response.t ........... ok
t/spend_limit.t ................................ ok
t/sponsored_search_min_bid_request.t ........... ok
t/sub_phrase_keyword_request_type.t ............ ok
t/summary.t .................................... ok
t/tactic_spend_cap.t ........................... ok
t/targeting_attribute.t ........................ ok
t/targeting_attribute_descriptor.t ............. ok
Possible precedence issue with control flow operator at /tmp/loop_over_bdir-2030152-0K_PDD/Yahoo-Marketing-7.03-0/blib/lib/Yahoo/Marketing/Service.pm line 615.
t/targeting_converter_service.t ................ ok
Possible precedence issue with control flow operator at /tmp/loop_over_bdir-2030152-0K_PDD/Yahoo-Marketing-7.03-0/blib/lib/Yahoo/Marketing/Service.pm line 615.
t/targeting_dictionary_service.t ............... ok
t/targeting_premium.t .......................... ok
t/targeting_profile.t .......................... ok
Possible precedence issue with control flow operator at /tmp/loop_over_bdir-2030152-0K_PDD/Yahoo-Marketing-7.03-0/blib/lib/Yahoo/Marketing/Service.pm line 615.
t/targeting_service.t .......................... ok
t/targeting_type.t ............................. ok
t/token.t ...................................... ok
t/update_for_ad.t .............................. ok
t/update_for_ad_carrier_config.t ............... ok
t/update_for_ad_carrier_setting.t .............. ok
t/update_for_keyword.t ......................... ok
t/update_for_keyword_carrier_config.t .......... ok
t/update_for_keyword_carrier_setting.t ......... ok
t/user.t ....................................... ok
t/user_authorization.t ......................... ok
Possible precedence issue with control flow operator at /tmp/loop_over_bdir-2030152-0K_PDD/Yahoo-Marketing-7.03-0/blib/lib/Yahoo/Marketing/Service.pm line 615.
t/user_management_service.t .................... ok
Possible precedence issue with control flow operator at /tmp/loop_over_bdir-2030152-0K_PDD/Yahoo-Marketing-7.03-0/blib/lib/Yahoo/Marketing/Service.pm line 615.
t/vault_service.t .............................. ok
t/warning.t .................................... ok
Possible precedence issue with control flow operator at /tmp/loop_over_bdir-2030152-0K_PDD/Yahoo-Marketing-7.03-0/blib/lib/Yahoo/Marketing/Service.pm line 615.
t/z_cleanup.t .................................. ok
All tests successful.
Files=170, Tests=1364, 76 wallclock secs ( 0.56 usr  1.64 sys + 63.04 cusr 10.64 csys = 75.88 CPU)
Result: PASS

------------------------------
PREREQUISITES
------------------------------

Prerequisite modules loaded:

requires:

    Module                    Need Have    
    ------------------------- ---- --------
    Cache::Cache              1.01 1.08    
    Class::Accessor::Chained  0.01 0.01    
  ! Crypt::SSLeay             0.40 n/a     
    DateTime::Format::ISO8601 0    0.16    
    DateTime::Format::W3CDTF  0    0.08    
    Error                     0.15 0.17029 
    Module::Build             0.26 0.4231  
    Scalar::Util              1.01 1.63    
    SOAP::Lite                0.66 1.27    
    Test::Class               0.10 0.52    
    Test::More                0    1.302191
    Test::Simple              0.60 1.302191
    XML::XPath                1.10 1.48    
    YAML                      0.01 1.30    

build_requires:

    Module                    Need Have    
    ------------------------- ---- --------
    ExtUtils::MakeMaker       0    7.64    


------------------------------
ENVIRONMENT AND OTHER CONTEXT
------------------------------

Environment variables:

    AUTOMATED_TESTING = 1
    LANG = en_US.UTF-8
    LC_ADDRESS = de_DE.UTF-8
    LC_IDENTIFICATION = de_DE.UTF-8
    LC_MEASUREMENT = de_DE.UTF-8
    LC_MONETARY = de_DE.UTF-8
    LC_NAME = de_DE.UTF-8
    LC_NUMERIC = de_DE.UTF-8
    LC_PAPER = de_DE.UTF-8
    LC_TELEPHONE = de_DE.UTF-8
    LC_TIME = de_DE.UTF-8
    PATH = /home/sand/bin:/usr/local/bin:/usr/local/sbin:/usr/sbin:/usr/bin:/sbin:/bin:/usr/games:/usr/local/games:/snap/bin:/usr/local/perl/bin:/usr/X11/bin
    PERL5LIB = /tmp/loop_over_bdir-2030152-0K_PDD/DBIx-Migration-Directories-0.12-0/blib/arch:/tmp/loop_over_bdir-2030152-0K_PDD/DBIx-Migration-Directories-0.12-0/blib/lib:/tmp/loop_over_bdir-2030152-0K_PDD/triceps-2.1.0-0/blib/arch:/tmp/loop_over_bdir-2030152-0K_PDD/triceps-2.1.0-0/blib/lib:/tmp/loop_over_bdir-2030152-0K_PDD/Devel-Required-0.16-0/blib/arch:/tmp/loop_over_bdir-2030152-0K_PDD/Devel-Required-0.16-0/blib/lib:/tmp/loop_over_bdir-2030152-0K_PDD/Dpkg-1.21.9-0/blib/arch:/tmp/loop_over_bdir-2030152-0K_PDD/Dpkg-1.21.9-0/blib/lib
    PERL5OPT = 
    PERL5_CPANPLUS_IS_RUNNING = 2030160
    PERL5_CPAN_IS_RUNNING = 2030160
    PERL_CANARY_STABILITY_NOPROMPT = 1
    PERL_MM_USE_DEFAULT = 1
    PERL_USE_UNSAFE_INC = 1
    SHELL = /usr/bin/zsh
    TERM = screen

Perl special variables (and OS-specific diagnostics, for MSWin32):

    $^X = /tmp/basesmoker-reloperl-9LIh/bin/perl
    $UID/$EUID = 1005 / 1005
    $GID = 1005 1005
    $EGID = 1005 1005

Perl module toolchain versions installed:

    Module              Have    
    ------------------- --------
    CPAN                2.34    
    CPAN::Meta          2.150010
    Cwd                 3.86    
    ExtUtils::CBuilder  0.280237
    ExtUtils::Command   7.64    
    ExtUtils::Install   2.20    
    ExtUtils::MakeMaker 7.64    
    ExtUtils::Manifest  1.73    
    ExtUtils::ParseXS   3.45    
    File::Spec          3.86    
    JSON                4.09    
    JSON::PP            4.11    
    Module::Build       0.4231  
    Module::Signature   0.88    
    Parse::CPAN::Meta   2.150010
    Test::Harness       3.44    
    Test::More          1.302191
    YAML                1.30    
    YAML::Syck          1.34    
    version             0.9929  


--

Summary of my perl5 (revision 5 version 37 subversion 3) configuration:
  Commit id: 29b290ccaa79f40de7d941c9a79810119f5c6363
  Platform:
    osname=linux
    osvers=5.15.0-41-generic
    archname=x86_64-linux-ld
    uname='linux k93jammy 5.15.0-41-generic #44-ubuntu smp wed jun 22 14:20:53 utc 2022 x86_64 x86_64 x86_64 gnulinux '
    config_args='-Dprefix=/home/sand/src/perl/repoperls/installed-perls/host/k93jammy/v5.37.2-224-g29b290ccaa/5674 -Dmyhostname=k93jammy -Dinstallusrbinperl=n -Uversiononly -Dusedevel -des -Ui_db -Dlibswanted=cl pthread socket inet nsl gdbm dbm malloc dl ld sun m crypt sec util c cposix posix ucb BSD gdbm_compat -Uuseithreads -Duselongdouble -DEBUGGING=-g'
    hint=recommended
    useposix=true
    d_sigaction=define
    useithreads=undef
    usemultiplicity=undef
    use64bitint=define
    use64bitall=define
    uselongdouble=define
    usemymalloc=n
    default_inc_excludes_dot=define
  Compiler:
    cc='cc'
    ccflags ='-fwrapv -fno-strict-aliasing -pipe -fstack-protector-strong -I/usr/local/include -D_LARGEFILE_SOURCE -D_FILE_OFFSET_BITS=64'
    optimize='-O2 -g'
    cppflags='-fwrapv -fno-strict-aliasing -pipe -fstack-protector-strong -I/usr/local/include'
    ccversion=''
    gccversion='11.2.0'
    gccosandvers=''
    intsize=4
    longsize=8
    ptrsize=8
    doublesize=8
    byteorder=12345678
    doublekind=3
    d_longlong=define
    longlongsize=8
    d_longdbl=define
    longdblsize=16
    longdblkind=3
    ivtype='long'
    ivsize=8
    nvtype='long double'
    nvsize=16
    Off_t='off_t'
    lseeksize=8
    alignbytes=16
    prototype=define
  Linker and Libraries:
    ld='cc'
    ldflags =' -fstack-protector-strong -L/usr/local/lib'
    libpth=/usr/local/lib /usr/lib/x86_64-linux-gnu /usr/lib /usr/lib64
    libs=-lpthread -lnsl -ldl -lm -lcrypt -lutil -lc
    perllibs=-lpthread -lnsl -ldl -lm -lcrypt -lutil -lc
    libc=/lib/x86_64-linux-gnu/libc.so.6
    so=so
    useshrplib=false
    libperl=libperl.a
    gnulibc_version='2.35'
  Dynamic Linking:
    dlsrc=dl_dlopen.xs
    dlext=so
    d_dlsymun=undef
    ccdlflags='-Wl,-E'
    cccdlflags='-fPIC'
    lddlflags='-shared -O2 -g -L/usr/local/lib -fstack-protector-strong'


Characteristics of this binary (from libperl): 
  Compile-time options:
    HAS_TIMES
    PERLIO_LAYERS
    PERL_COPY_ON_WRITE
    PERL_DONT_CREATE_GVSV
    PERL_HASH_FUNC_SIPHASH13
    PERL_HASH_USE_SBOX32
    PERL_MALLOC_WRAP
    PERL_OP_PARENT
    PERL_PRESERVE_IVUV
    PERL_USE_DEVEL
    PERL_USE_SAFE_PUTENV
    USE_64_BIT_ALL
    USE_64_BIT_INT
    USE_LARGE_FILES
    USE_LOCALE
    USE_LOCALE_COLLATE
    USE_LOCALE_CTYPE
    USE_LOCALE_NUMERIC
    USE_LOCALE_TIME
    USE_LONG_DOUBLE
    USE_PERLIO
    USE_PERL_ATOF
  Built under linux
  Compiled at Aug 20 2022 22:34:09
  %ENV:
    PERL5LIB="/tmp/loop_over_bdir-2030152-0K_PDD/DBIx-Migration-Directories-0.12-0/blib/arch:/tmp/loop_over_bdir-2030152-0K_PDD/DBIx-Migration-Directories-0.12-0/blib/lib:/tmp/loop_over_bdir-2030152-0K_PDD/triceps-2.1.0-0/blib/arch:/tmp/loop_over_bdir-2030152-0K_PDD/triceps-2.1.0-0/blib/lib:/tmp/loop_over_bdir-2030152-0K_PDD/Devel-Required-0.16-0/blib/arch:/tmp/loop_over_bdir-2030152-0K_PDD/Devel-Required-0.16-0/blib/lib:/tmp/loop_over_bdir-2030152-0K_PDD/Dpkg-1.21.9-0/blib/arch:/tmp/loop_over_bdir-2030152-0K_PDD/Dpkg-1.21.9-0/blib/lib"
    PERL5OPT=""
    PERL5_CPANPLUS_IS_RUNNING="2030160"
    PERL5_CPAN_IS_RUNNING="2030160"
    PERL_CANARY_STABILITY_NOPROMPT="1"
    PERL_MM_USE_DEFAULT="1"
    PERL_USE_UNSAFE_INC="1"
  @INC:
    /tmp/loop_over_bdir-2030152-0K_PDD/DBIx-Migration-Directories-0.12-0/blib/arch
    /tmp/loop_over_bdir-2030152-0K_PDD/DBIx-Migration-Directories-0.12-0/blib/lib
    /tmp/loop_over_bdir-2030152-0K_PDD/triceps-2.1.0-0/blib/arch
    /tmp/loop_over_bdir-2030152-0K_PDD/triceps-2.1.0-0/blib/lib
    /tmp/loop_over_bdir-2030152-0K_PDD/Devel-Required-0.16-0/blib/arch
    /tmp/loop_over_bdir-2030152-0K_PDD/Devel-Required-0.16-0/blib/lib
    /tmp/loop_over_bdir-2030152-0K_PDD/Dpkg-1.21.9-0/blib/arch
    /tmp/loop_over_bdir-2030152-0K_PDD/Dpkg-1.21.9-0/blib/lib
    /home/sand/src/perl/repoperls/installed-perls/host/k93jammy/v5.37.2-224-g29b290ccaa/5674/lib/site_perl/5.37.3/x86_64-linux-ld
    /home/sand/src/perl/repoperls/installed-perls/host/k93jammy/v5.37.2-224-g29b290ccaa/5674/lib/site_perl/5.37.3
    /home/sand/src/perl/repoperls/installed-perls/host/k93jammy/v5.37.2-224-g29b290ccaa/5674/lib/5.37.3/x86_64-linux-ld
    /home/sand/src/perl/repoperls/installed-perls/host/k93jammy/v5.37.2-224-g29b290ccaa/5674/lib/5.37.3
    .