Report for CGI-Uploader-2.18

Back
From: metabase:user:9820532a-708b-1014-9a05-b18a96298da1
Subject: PASS CGI-Uploader-2.18 v5.14.2 GNU/Linux
Date: 2011-12-21T12:43:24Z

This distribution has been tested as part of the CPAN Testers
project, supporting the Perl programming language.  See
http://wiki.cpantesters.org/ for more information or email
questions to cpan-testers-discuss@perl.org


--
Dear Mark Stosberg,

This is a computer-generated report for CGI-Uploader-2.18
on perl 5.14.2, created by CPAN-Reporter-1.2003.

Thank you for uploading your work to CPAN.  Congratulations!
All tests were successful.

Sections of this report:

    * Tester comments
    * Program output
    * Prerequisites
    * Environment and other context

------------------------------
TESTER COMMENTS
------------------------------

Additional comments from tester:

this report is from an automated smoke testing program
and was not reviewed by a human for accuracy

------------------------------
PROGRAM OUTPUT
------------------------------

Output from '/usr/bin/make test':

PERL_DL_NONLAZY=1 /home/test/perl5/perlbrew/perls/perl-5.14.2-th-ld/bin/perl "-MExtUtils::Command::MM" "-e" "test_harness(0, 'inc', 'blib/lib', 'blib/arch')" t/*.t
t/basic.t ......... ok
t/build_loc.t ..... ok
t/cgi-simple.t .... skipped: CGI::Simple should work, but having these tests for it work is
t/gen_thumb.t ..... skipped: No graphics module found for image resizing. Install Graphics::Magick or Image::Magick: Can't locate Graphics/Magick.pm in @INC (@INC contains: t/lib /home/test/.cpan/build/CGI-Uploader-2.18-9AKp38/inc /home/test/.cpan/build/CGI-Uploader-2.18-9AKp38/blib/lib /home/test/.cpan/build/CGI-Uploader-2.18-9AKp38/blib/arch /home/test/perl5/perlbrew/perls/perl-5.14.2-th-ld/lib/site_perl/5.14.2/x86_64-linux-thread-multi-ld /home/test/perl5/perlbrew/perls/perl-5.14.2-th-ld/lib/site_perl/5.14.2 /home/test/perl5/perlbrew/perls/perl-5.14.2-th-ld/lib/5.14.2/x86_64-linux-thread-multi-ld /home/test/perl5/perlbrew/perls/perl-5.14.2-th-ld/lib/5.14.2 .) at t/gen_thumb.t line 18.
t/meta.t .......... ok
t/pod.t ........... ok
t/up_table_map.t .. ok
All tests successful.
Files=7, Tests=67,  5 wallclock secs ( 0.06 usr  0.01 sys +  1.12 cusr  0.28 csys =  1.47 CPU)
Result: PASS

------------------------------
PREREQUISITES
------------------------------

Prerequisite modules loaded:

requires:

    Module                Need Have   
    --------------------- ---- -------
    Carp::Assert          0    0.20   
    CGI                   0    3.58   
    CGI::Carp             0    3.51   
    DBD::SQLite           1.1  1.35   
    DBI                   0    1.616  
    Digest::MD5           0    2.51   
    File::Copy            0    2.21   
    File::MMagic          1.22 1.27   
    File::Path            0    2.08_01
    File::Spec            0    3.39_01
    File::Temp            0.15 0.22   
    HTTP::BrowserDetect   0.98 1.39   
    HTTP::Request::Common 0    6.00   
    Image::Size           0    3.230  
    MIME::Type            0    1.32   
    MIME::Types           0    1.32   
    Params::Validate      0.77 1.00   
    Scalar::Util          0    1.23   
    SQL::Abstract         0    1.72   
    Test::DatabaseRow     0    2.02   

build_requires:

    Module                Need Have   
    --------------------- ---- -------
    ExtUtils::MakeMaker   0    6.63_02


------------------------------
ENVIRONMENT AND OTHER CONTEXT
------------------------------

Environment variables:

    AUTOMATED_TESTING = 1
    LANG = C
    LC_ALL = C
    PATH = /home/test/perl5/perlbrew/bin:/home/test/perl5/perlbrew/perls/perl-5.14.2-th-ld/bin:/home/test/bin:~/bin:/usr/bin:/bin
    PATH_WITHOUT_PERLBREW = /home/test/bin:~/bin:/usr/bin:/bin
    PERL5LIB = 
    PERL5OPT = 
    PERL5_CPANPLUS_IS_RUNNING = 31601
    PERL5_CPAN_IS_RUNNING = 31601
    PERL5_CPAN_IS_RUNNING_IN_RECURSION = 3245,31601
    PERLBREW_BASHRC_VERSION = 0.33
    PERLBREW_HOME = /home/test/.perlbrew
    PERLBREW_MANPATH = /home/test/perl5/perlbrew/perls/perl-5.14.2-th-ld/man
    PERLBREW_PATH = /home/test/perl5/perlbrew/bin:/home/test/perl5/perlbrew/perls/perl-5.14.2-th-ld/bin
    PERLBREW_PERL = perl-5.14.2-th-ld
    PERLBREW_ROOT = /home/test/perl5/perlbrew
    PERLBREW_VERSION = 0.36
    PERL_CPANM_OPT = --prompt --mirror file:///mirrors/cpan/
    PERL_CR_SMOKER_CURRENT = CGI-Uploader-2.18
    PERL_EXTUTILS_AUTOINSTALL = --defaultdeps
    PERL_MM_USE_DEFAULT = 1
    SHELL = /bin/bash
    TERM = linux

Perl special variables (and OS-specific diagnostics, for MSWin32):

    $^X = /home/test/perl5/perlbrew/perls/perl-5.14.2-th-ld/bin/perl
    $UID/$EUID = 1001 / 1001
    $GID = 1001 1001
    $EGID = 1001 1001

Perl module toolchain versions installed:

    Module              Have    
    ------------------- --------
    CPAN                1.9800  
    CPAN::Meta          2.112621
    Cwd                 3.39_01 
    ExtUtils::CBuilder  0.280203
    ExtUtils::Command   1.17    
    ExtUtils::Install   1.56    
    ExtUtils::MakeMaker 6.63_02 
    ExtUtils::Manifest  1.60    
    ExtUtils::ParseXS   3.08    
    File::Spec          3.39_01 
    JSON                2.53    
    JSON::PP            2.27200 
    Module::Build       0.3800  
    Module::Signature   n/a     
    Parse::CPAN::Meta   1.4401  
    Test::Harness       3.23    
    Test::More          0.98    
    YAML                0.73    
    YAML::Syck          1.19    
    version             0.95    


--

Summary of my perl5 (revision 5 version 14 subversion 2) configuration:
   
  Platform:
    osname=linux, osvers=2.6.35-28-generic, archname=x86_64-linux-thread-multi-ld
    uname='linux zippy 2.6.35-28-generic #50-ubuntu smp fri mar 18 18:42:20 utc 2011 x86_64 gnulinux '
    config_args='-de -Dprefix=/home/test/perl5/perlbrew/perls/perl-5.14.2-th-ld -Dusethreads -Duselongdouble'
    hint=recommended, useposix=true, d_sigaction=define
    useithreads=define, usemultiplicity=define
    useperlio=define, d_sfio=undef, uselargefiles=define, usesocks=undef
    use64bitint=define, use64bitall=define, uselongdouble=define
    usemymalloc=n, bincompat5005=undef
  Compiler:
    cc='cc', ccflags ='-D_REENTRANT -D_GNU_SOURCE -fno-strict-aliasing -pipe -fstack-protector -I/usr/local/include -D_LARGEFILE_SOURCE -D_FILE_OFFSET_BITS=64',
    optimize='-O2',
    cppflags='-D_REENTRANT -D_GNU_SOURCE -fno-strict-aliasing -pipe -fstack-protector -I/usr/local/include'
    ccversion='', gccversion='4.4.5', gccosandvers=''
    intsize=4, longsize=8, ptrsize=8, doublesize=8, byteorder=12345678
    d_longlong=define, longlongsize=8, d_longdbl=define, longdblsize=16
    ivtype='long', ivsize=8, nvtype='long double', nvsize=16, Off_t='off_t', lseeksize=8
    alignbytes=16, prototype=define
  Linker and Libraries:
    ld='cc', ldflags =' -fstack-protector -L/usr/local/lib'
    libpth=/usr/local/lib /lib/../lib /usr/lib/../lib /lib /usr/lib /usr/lib/x86_64-linux-gnu /lib64 /usr/lib64
    libs=-lnsl -ldl -lm -lcrypt -lutil -lpthread -lc
    perllibs=-lnsl -ldl -lm -lcrypt -lutil -lpthread -lc
    libc=/lib/libc-2.12.1.so, so=so, useshrplib=false, libperl=libperl.a
    gnulibc_version='2.12.1'
  Dynamic Linking:
    dlsrc=dl_dlopen.xs, dlext=so, d_dlsymun=undef, ccdlflags='-Wl,-E'
    cccdlflags='-fPIC', lddlflags='-shared -O2 -L/usr/local/lib -fstack-protector'


Characteristics of this binary (from libperl): 
  Compile-time options: MULTIPLICITY PERL_DONT_CREATE_GVSV
                        PERL_IMPLICIT_CONTEXT PERL_MALLOC_WRAP
                        PERL_PRESERVE_IVUV USE_64_BIT_ALL USE_64_BIT_INT
                        USE_ITHREADS USE_LARGE_FILES USE_LONG_DOUBLE
                        USE_PERLIO USE_PERL_ATOF USE_REENTRANT_API
  Built under linux
  Compiled at Dec 19 2011 13:00:38
  %ENV:
    PERL5LIB=""
    PERL5OPT=""
    PERL5_CPANPLUS_IS_RUNNING="31601"
    PERL5_CPAN_IS_RUNNING="31601"
    PERL5_CPAN_IS_RUNNING_IN_RECURSION="3245,31601"
    PERLBREW_BASHRC_VERSION="0.33"
    PERLBREW_HOME="/home/test/.perlbrew"
    PERLBREW_MANPATH="/home/test/perl5/perlbrew/perls/perl-5.14.2-th-ld/man"
    PERLBREW_PATH="/home/test/perl5/perlbrew/bin:/home/test/perl5/perlbrew/perls/perl-5.14.2-th-ld/bin"
    PERLBREW_PERL="perl-5.14.2-th-ld"
    PERLBREW_ROOT="/home/test/perl5/perlbrew"
    PERLBREW_VERSION="0.36"
    PERL_CPANM_OPT="--prompt --mirror file:///mirrors/cpan/"
    PERL_CR_SMOKER_CURRENT="CGI-Uploader-2.18"
    PERL_EXTUTILS_AUTOINSTALL="--defaultdeps"
    PERL_MM_USE_DEFAULT="1"
  @INC:
    /home/test/perl5/perlbrew/perls/perl-5.14.2-th-ld/lib/site_perl/5.14.2/x86_64-linux-thread-multi-ld
    /home/test/perl5/perlbrew/perls/perl-5.14.2-th-ld/lib/site_perl/5.14.2
    /home/test/perl5/perlbrew/perls/perl-5.14.2-th-ld/lib/5.14.2/x86_64-linux-thread-multi-ld
    /home/test/perl5/perlbrew/perls/perl-5.14.2-th-ld/lib/5.14.2
    .