Catalyst-View-Reproxy v0.05 Perl 5 v5.41.9 x86_64-linux

Status
Pass
From
Andreas J. König (ANDK)
Dist
Catalyst-View-Reproxy v0.05
Platform
Perl 5 v5.41.9 x86_64-linux
Date
2025-03-04 12:58:30
ID
5f2e423e-f8f8-11ef-ada1-fed12d39f2c4
This distribution has been tested as part of the CPAN Testers
project, supporting the Perl programming language.  See
http://wiki.cpantesters.org/ for more information or email
questions to cpan-testers-discuss@perl.org


--
Dear Toru Yamaguchi,

This is a computer-generated report for Catalyst-View-Reproxy-0.05
on perl 5.41.9, created by CPAN-Reporter-1.2020.

Thank you for uploading your work to CPAN.  Congratulations!
All tests were successful.

Sections of this report:

    * Tester comments
    * Program output
    * Prerequisites
    * Environment and other context

------------------------------
TESTER COMMENTS
------------------------------

Additional comments from tester:

this report is from an automated smoke testing program
and was not reviewed by a human for accuracy

------------------------------
PROGRAM OUTPUT
------------------------------

Output from '/usr/bin/make test':

PERL_DL_NONLAZY=1 TEST_HTTPD_PORT="3500" "/tmp/basesmoker-reloperl-wELa/bin/perl" "-MExtUtils::Command::MM" "-MTest::Harness" "-e" "undef *Test::Harness::Switches; test_harness(0, 'inc', 'blib/lib', 'blib/arch')" t/00-load.t t/01-http-server-static.t t/02-perlbal-stash.t t/03-perlbal-forward.t t/04-perlbal-view.t t/05-lighttpd-stash.t t/06-lighttpd-forward.t t/07-lighttpd-view.t t/08-debug-stash.t t/09-debug-forward.t t/10-debug-view.t t/boilerplate.t t/pod-coverage.t t/pod.t
Attempt to call undefined import method with arguments ("use Catalyst::View::Reproxy") via package "Catalyst::View::Reproxy" (Perhaps you forgot to load the package?) at (eval 3) line 2.
Attempt to call undefined import method with arguments ("use Catalyst::Helper::View::Reproxy") via package "Catalyst::Helper::View::Reproxy" (Perhaps you forgot to load the package?) at (eval 184) line 2.
t/00-load.t ................ ok
Insecure directory in $ENV{PATH} while running with -T switch at /home/sand/src/perl/repoperls/installed-perls/host/k93focal/v5.41.9/b254/lib/site_perl/5.41.9/HTTP/Server/Simple.pm line 374.
t/01-http-server-static.t .. ok
Attempt to call undefined import method with arguments ("5.70") via package "Catalyst::Runtime" (Perhaps you forgot to load the package?) at t/lib/TestApp.pm line 7.
Catalyst::Plugin::ConfigLoader uses NEXT, which is deprecated. Please see the Class::C3::Adopt::NEXT documentation for details. NEXT used  at inc/Catalyst/Plugin/ConfigLoader.pm line 72.
Catalyst::View::Reproxy uses NEXT, which is deprecated. Please see the Class::C3::Adopt::NEXT documentation for details. NEXT used  at /tmp/loop_over_bdir-287296-9l_app/Catalyst-View-Reproxy-0.05-0/blib/lib/Catalyst/View/Reproxy.pm line 104.
[debug] TestApp::View::ReproxyFile config parameters
t/02-perlbal-stash.t ....... ok
Attempt to call undefined import method with arguments ("5.70") via package "Catalyst::Runtime" (Perhaps you forgot to load the package?) at t/lib/TestApp.pm line 7.
Catalyst::Plugin::ConfigLoader uses NEXT, which is deprecated. Please see the Class::C3::Adopt::NEXT documentation for details. NEXT used  at inc/Catalyst/Plugin/ConfigLoader.pm line 72.
Catalyst::View::Reproxy uses NEXT, which is deprecated. Please see the Class::C3::Adopt::NEXT documentation for details. NEXT used  at /tmp/loop_over_bdir-287296-9l_app/Catalyst-View-Reproxy-0.05-0/blib/lib/Catalyst/View/Reproxy.pm line 104.
[debug] TestApp::View::ReproxyFile config parameters
t/03-perlbal-forward.t ..... ok
Attempt to call undefined import method with arguments ("5.70") via package "Catalyst::Runtime" (Perhaps you forgot to load the package?) at t/lib/TestApp.pm line 7.
Catalyst::Plugin::ConfigLoader uses NEXT, which is deprecated. Please see the Class::C3::Adopt::NEXT documentation for details. NEXT used  at inc/Catalyst/Plugin/ConfigLoader.pm line 72.
Catalyst::View::Reproxy uses NEXT, which is deprecated. Please see the Class::C3::Adopt::NEXT documentation for details. NEXT used  at /tmp/loop_over_bdir-287296-9l_app/Catalyst-View-Reproxy-0.05-0/blib/lib/Catalyst/View/Reproxy.pm line 104.
[debug] TestApp::View::ReproxyFile config parameters
t/04-perlbal-view.t ........ ok
Attempt to call undefined import method with arguments ("5.70") via package "Catalyst::Runtime" (Perhaps you forgot to load the package?) at t/lib/TestApp.pm line 7.
Catalyst::Plugin::ConfigLoader uses NEXT, which is deprecated. Please see the Class::C3::Adopt::NEXT documentation for details. NEXT used  at inc/Catalyst/Plugin/ConfigLoader.pm line 72.
Catalyst::View::Reproxy uses NEXT, which is deprecated. Please see the Class::C3::Adopt::NEXT documentation for details. NEXT used  at /tmp/loop_over_bdir-287296-9l_app/Catalyst-View-Reproxy-0.05-0/blib/lib/Catalyst/View/Reproxy.pm line 104.
[debug] TestApp::View::ReproxyFile config parameters
Insecure $ENV{PATH} while running with -T switch at /home/sand/src/perl/repoperls/installed-perls/host/k93focal/v5.41.9/b254/lib/site_perl/5.41.9/HTTP/Server/Simple.pm line 374.
t/05-lighttpd-stash.t ...... ok
Attempt to call undefined import method with arguments ("5.70") via package "Catalyst::Runtime" (Perhaps you forgot to load the package?) at t/lib/TestApp.pm line 7.
Catalyst::Plugin::ConfigLoader uses NEXT, which is deprecated. Please see the Class::C3::Adopt::NEXT documentation for details. NEXT used  at inc/Catalyst/Plugin/ConfigLoader.pm line 72.
Catalyst::View::Reproxy uses NEXT, which is deprecated. Please see the Class::C3::Adopt::NEXT documentation for details. NEXT used  at /tmp/loop_over_bdir-287296-9l_app/Catalyst-View-Reproxy-0.05-0/blib/lib/Catalyst/View/Reproxy.pm line 104.
[debug] TestApp::View::ReproxyFile config parameters
Insecure directory in $ENV{PATH} while running with -T switch at /home/sand/src/perl/repoperls/installed-perls/host/k93focal/v5.41.9/b254/lib/site_perl/5.41.9/HTTP/Server/Simple.pm line 374.
t/06-lighttpd-forward.t .... ok
Attempt to call undefined import method with arguments ("5.70") via package "Catalyst::Runtime" (Perhaps you forgot to load the package?) at t/lib/TestApp.pm line 7.
Catalyst::Plugin::ConfigLoader uses NEXT, which is deprecated. Please see the Class::C3::Adopt::NEXT documentation for details. NEXT used  at inc/Catalyst/Plugin/ConfigLoader.pm line 72.
Catalyst::View::Reproxy uses NEXT, which is deprecated. Please see the Class::C3::Adopt::NEXT documentation for details. NEXT used  at /tmp/loop_over_bdir-287296-9l_app/Catalyst-View-Reproxy-0.05-0/blib/lib/Catalyst/View/Reproxy.pm line 104.
[debug] TestApp::View::ReproxyFile config parameters
Insecure directory in $ENV{PATH} while running with -T switch at /home/sand/src/perl/repoperls/installed-perls/host/k93focal/v5.41.9/b254/lib/site_perl/5.41.9/HTTP/Server/Simple.pm line 374.
t/07-lighttpd-view.t ....... ok
Attempt to call undefined import method with arguments ("5.70") via package "Catalyst::Runtime" (Perhaps you forgot to load the package?) at t/lib/TestApp.pm line 7.
Catalyst::Plugin::ConfigLoader uses NEXT, which is deprecated. Please see the Class::C3::Adopt::NEXT documentation for details. NEXT used  at inc/Catalyst/Plugin/ConfigLoader.pm line 72.
Catalyst::View::Reproxy uses NEXT, which is deprecated. Please see the Class::C3::Adopt::NEXT documentation for details. NEXT used  at /tmp/loop_over_bdir-287296-9l_app/Catalyst-View-Reproxy-0.05-0/blib/lib/Catalyst/View/Reproxy.pm line 104.
[debug] TestApp::View::ReproxyFile config parameters
lstat() on filehandle SENDFILE at /home/sand/src/perl/repoperls/installed-perls/host/k93focal/v5.41.9/b254/lib/site_perl/5.41.9/File/MimeInfo.pm line 43.
lstat() on filehandle SENDFILE at /home/sand/src/perl/repoperls/installed-perls/host/k93focal/v5.41.9/b254/lib/site_perl/5.41.9/File/MimeInfo.pm line 43.
Insecure directory in $ENV{PATH} while running with -T switch at /home/sand/src/perl/repoperls/installed-perls/host/k93focal/v5.41.9/b254/lib/site_perl/5.41.9/HTTP/Server/Simple.pm line 374.
t/08-debug-stash.t ......... ok
Attempt to call undefined import method with arguments ("5.70") via package "Catalyst::Runtime" (Perhaps you forgot to load the package?) at t/lib/TestApp.pm line 7.
Catalyst::Plugin::ConfigLoader uses NEXT, which is deprecated. Please see the Class::C3::Adopt::NEXT documentation for details. NEXT used  at inc/Catalyst/Plugin/ConfigLoader.pm line 72.
Catalyst::View::Reproxy uses NEXT, which is deprecated. Please see the Class::C3::Adopt::NEXT documentation for details. NEXT used  at /tmp/loop_over_bdir-287296-9l_app/Catalyst-View-Reproxy-0.05-0/blib/lib/Catalyst/View/Reproxy.pm line 104.
[debug] TestApp::View::ReproxyFile config parameters
lstat() on filehandle SENDFILE at /home/sand/src/perl/repoperls/installed-perls/host/k93focal/v5.41.9/b254/lib/site_perl/5.41.9/File/MimeInfo.pm line 43.
lstat() on filehandle SENDFILE at /home/sand/src/perl/repoperls/installed-perls/host/k93focal/v5.41.9/b254/lib/site_perl/5.41.9/File/MimeInfo.pm line 43.
Insecure directory in $ENV{PATH} while running with -T switch at /home/sand/src/perl/repoperls/installed-perls/host/k93focal/v5.41.9/b254/lib/site_perl/5.41.9/HTTP/Server/Simple.pm line 374.
t/09-debug-forward.t ....... ok
Attempt to call undefined import method with arguments ("5.70") via package "Catalyst::Runtime" (Perhaps you forgot to load the package?) at t/lib/TestApp.pm line 7.
Catalyst::Plugin::ConfigLoader uses NEXT, which is deprecated. Please see the Class::C3::Adopt::NEXT documentation for details. NEXT used  at inc/Catalyst/Plugin/ConfigLoader.pm line 72.
Catalyst::View::Reproxy uses NEXT, which is deprecated. Please see the Class::C3::Adopt::NEXT documentation for details. NEXT used  at /tmp/loop_over_bdir-287296-9l_app/Catalyst-View-Reproxy-0.05-0/blib/lib/Catalyst/View/Reproxy.pm line 104.
[debug] TestApp::View::ReproxyFile config parameters
lstat() on filehandle SENDFILE at /home/sand/src/perl/repoperls/installed-perls/host/k93focal/v5.41.9/b254/lib/site_perl/5.41.9/File/MimeInfo.pm line 43.
lstat() on filehandle SENDFILE at /home/sand/src/perl/repoperls/installed-perls/host/k93focal/v5.41.9/b254/lib/site_perl/5.41.9/File/MimeInfo.pm line 43.
Insecure directory in $ENV{PATH} while running with -T switch at /home/sand/src/perl/repoperls/installed-perls/host/k93focal/v5.41.9/b254/lib/site_perl/5.41.9/HTTP/Server/Simple.pm line 374.
t/10-debug-view.t .......... ok
t/boilerplate.t ............ ok
t/pod-coverage.t ........... ok
t/pod.t .................... ok
All tests successful.
Files=14, Tests=80, 16 wallclock secs ( 0.05 usr  0.02 sys +  8.29 cusr  0.81 csys =  9.17 CPU)
Result: PASS

------------------------------
PREREQUISITES
------------------------------

Prerequisite modules loaded:

requires:

    Module                         Need Have   
    ------------------------------ ---- -------
    Catalyst                       0    5.90132
    Catalyst::Plugin::ConfigLoader 0    0.35   
    Catalyst::View                 0    0      
    Class::Accessor::Fast          0    0.51   
    Fcntl                          0    1.19   
    File::MimeInfo                 0    0.35   
    File::MMagic                   0    1.30   
    FindBin                        0    1.54   
    HTTP::Request                  0    7.00   
    HTTP::Response                 0    7.00   
    HTTP::Server::Simple::CGI      0    0      
    HTTP::Server::Simple::Static   0    0.14   
    LWP::Simple                    0    6.78   
    LWP::UserAgent                 0    6.78   
    NEXT                           0    0.69   
    Test::Pod                      0    1.52   
    Test::Pod::Coverage            0    1.10   
    Test::WWW::Mechanize::Catalyst 0    0.62   

build_requires:

    Module                         Need Have   
    ------------------------------ ---- -------
    ExtUtils::MakeMaker            0    7.70   


------------------------------
ENVIRONMENT AND OTHER CONTEXT
------------------------------

Environment variables:

    AUTOMATED_TESTING = 1
    LANG = en_US.UTF-8
    PATH = /home/sand/bin:/usr/local/bin:/usr/local/sbin:/usr/sbin:/usr/bin:/sbin:/bin:/usr/games:/usr/local/games:/snap/bin:/usr/local/perl/bin:/usr/X11/bin
    PERL = /tmp/basesmoker-reloperl-wELa/bin/perl
    PERL5LIB = /tmp/loop_over_bdir-287296-9l_app/MP3-PodcastFetch-1.05-0/blib/arch:/tmp/loop_over_bdir-287296-9l_app/MP3-PodcastFetch-1.05-0/blib/lib
    PERL5OPT = 
    PERL5_CPANPLUS_IS_RUNNING = 287309
    PERL5_CPAN_IS_RUNNING = 287309
    PERL_CANARY_STABILITY_NOPROMPT = 1
    PERL_MM_USE_DEFAULT = 1
    PERL_USE_UNSAFE_INC = 1
    SHELL = /usr/bin/zsh
    TERM = screen

Perl special variables (and OS-specific diagnostics, for MSWin32):

    $^X = /tmp/basesmoker-reloperl-wELa/bin/perl
    $UID/$EUID = 1005 / 1005
    $GID = 1005 1005
    $EGID = 1005 1005

Perl module toolchain versions installed:

    Module              Have    
    ------------------- --------
    CPAN                2.38    
    CPAN::Meta          2.150010
    Cwd                 3.92    
    ExtUtils::CBuilder  0.280240
    ExtUtils::Command   7.70    
    ExtUtils::Install   2.22    
    ExtUtils::MakeMaker 7.70    
    ExtUtils::Manifest  1.75    
    ExtUtils::ParseXS   3.57    
    File::Spec          3.93    
    JSON                4.10    
    JSON::PP            4.16    
    Module::Build       0.4234  
    Module::Signature   0.89    
    Parse::CPAN::Meta   2.150010
    Test2               1.302209
    Test::Harness       3.50    
    Test::More          1.302209
    YAML                1.31    
    YAML::Syck          1.34    
    version             0.9933  


--

Summary of my perl5 (revision 5 version 41 subversion 9) configuration:
  Commit id: b6969eb9f23724dcbb888d791d31c4708dabc85c
  Platform:
    osname=linux
    osvers=5.4.0-204-generic
    archname=x86_64-linux
    uname='linux k93focal 5.4.0-204-generic #224-ubuntu smp thu dec 5 13:38:28 utc 2024 x86_64 x86_64 x86_64 gnulinux '
    config_args='-Dprefix=/home/sand/src/perl/repoperls/installed-perls/host/k93focal/v5.41.9/b254 -Dmyhostname=k93focal -Dinstallusrbinperl=n -Uversiononly -Dusedevel -des -Ui_db -Dlibswanted=cl pthread socket inet nsl gdbm dbm malloc dl ld sun m crypt sec util c cposix posix ucb BSD gdbm_compat -Uuseithreads -Uuselongdouble -DEBUGGING=both'
    hint=recommended
    useposix=true
    d_sigaction=define
    useithreads=undef
    usemultiplicity=undef
    use64bitint=define
    use64bitall=define
    uselongdouble=undef
    usemymalloc=n
    default_inc_excludes_dot=define
  Compiler:
    cc='cc'
    ccflags ='-fwrapv -DDEBUGGING -fno-strict-aliasing -pipe -fstack-protector-strong -I/usr/local/include -D_LARGEFILE_SOURCE -D_FILE_OFFSET_BITS=64'
    optimize='-O2 -g'
    cppflags='-fwrapv -DDEBUGGING -fno-strict-aliasing -pipe -fstack-protector-strong -I/usr/local/include'
    ccversion=''
    gccversion='9.4.0'
    gccosandvers=''
    intsize=4
    longsize=8
    ptrsize=8
    doublesize=8
    byteorder=12345678
    doublekind=3
    d_longlong=define
    longlongsize=8
    d_longdbl=define
    longdblsize=16
    longdblkind=3
    ivtype='long'
    ivsize=8
    nvtype='double'
    nvsize=8
    Off_t='off_t'
    lseeksize=8
    alignbytes=8
    prototype=define
  Linker and Libraries:
    ld='cc'
    ldflags =' -fstack-protector-strong -L/usr/local/lib'
    libpth=/usr/local/lib /usr/lib/x86_64-linux-gnu /usr/lib /usr/lib64
    libs=-lpthread -lnsl -ldl -lm -lcrypt -lutil -lc
    perllibs=-lpthread -lnsl -ldl -lm -lcrypt -lutil -lc
    libc=libc-2.31.so
    so=so
    useshrplib=false
    libperl=libperl.a
    gnulibc_version='2.31'
  Dynamic Linking:
    dlsrc=dl_dlopen.xs
    dlext=so
    d_dlsymun=undef
    ccdlflags='-Wl,-E'
    cccdlflags='-fPIC'
    lddlflags='-shared -O2 -g -L/usr/local/lib -fstack-protector-strong'


Characteristics of this binary (from libperl): 
  Compile-time options:
    DEBUGGING
    HAS_LONG_DOUBLE
    HAS_STRTOLD
    HAS_TIMES
    PERLIO_LAYERS
    PERL_COPY_ON_WRITE
    PERL_DONT_CREATE_GVSV
    PERL_HASH_FUNC_SIPHASH13
    PERL_HASH_USE_SBOX32
    PERL_MALLOC_WRAP
    PERL_OP_PARENT
    PERL_PRESERVE_IVUV
    PERL_USE_DEVEL
    PERL_USE_SAFE_PUTENV
    USE_64_BIT_ALL
    USE_64_BIT_INT
    USE_LARGE_FILES
    USE_LOCALE
    USE_LOCALE_COLLATE
    USE_LOCALE_CTYPE
    USE_LOCALE_NUMERIC
    USE_LOCALE_TIME
    USE_PERLIO
    USE_PERL_ATOF
  Built under linux
  Compiled at Feb 24 2025 11:24:21
  %ENV:
    PERL="/tmp/basesmoker-reloperl-wELa/bin/perl"
    PERL5LIB="/tmp/loop_over_bdir-287296-9l_app/MP3-PodcastFetch-1.05-0/blib/arch:/tmp/loop_over_bdir-287296-9l_app/MP3-PodcastFetch-1.05-0/blib/lib"
    PERL5OPT=""
    PERL5_CPANPLUS_IS_RUNNING="287309"
    PERL5_CPAN_IS_RUNNING="287309"
    PERL_CANARY_STABILITY_NOPROMPT="1"
    PERL_MM_USE_DEFAULT="1"
    PERL_USE_UNSAFE_INC="1"
  @INC:
    /tmp/loop_over_bdir-287296-9l_app/MP3-PodcastFetch-1.05-0/blib/arch
    /tmp/loop_over_bdir-287296-9l_app/MP3-PodcastFetch-1.05-0/blib/lib
    /home/sand/src/perl/repoperls/installed-perls/host/k93focal/v5.41.9/b254/lib/site_perl/5.41.9/x86_64-linux
    /home/sand/src/perl/repoperls/installed-perls/host/k93focal/v5.41.9/b254/lib/site_perl/5.41.9
    /home/sand/src/perl/repoperls/installed-perls/host/k93focal/v5.41.9/b254/lib/5.41.9/x86_64-linux
    /home/sand/src/perl/repoperls/installed-perls/host/k93focal/v5.41.9/b254/lib/5.41.9
    .