Report for Net-FileMaker-0.064

Back
From: metabase:user:320bfe00-2aae-11df-837a-5e0a49663a4f
Subject: PASS Net-FileMaker-0.064 v5.19.5 GNU/Linux
Date: 2013-09-24T05:37:16Z

This distribution has been tested as part of the CPAN Testers
project, supporting the Perl programming language.  See
http://wiki.cpantesters.org/ for more information or email
questions to cpan-testers-discuss@perl.org


--
Dear Squeeks,

This is a computer-generated report for Net-FileMaker-0.064
on perl 5.19.5, created by CPAN-Reporter-1.2010.

Thank you for uploading your work to CPAN.  Congratulations!
All tests were successful.

Sections of this report:

    * Tester comments
    * Program output
    * Prerequisites
    * Environment and other context

------------------------------
TESTER COMMENTS
------------------------------

Additional comments from tester:

this report is from an automated smoke testing program
and was not reviewed by a human for accuracy

------------------------------
PROGRAM OUTPUT
------------------------------

Output from '/usr/bin/make test':

PERL_DL_NONLAZY=1 /tmp/basesmoker-reloperl-rZKV/bin/perl "-MExtUtils::Command::MM" "-e" "test_harness(0, 'blib/lib', 'blib/arch')" t/*.t t/00_load/*.t t/01_xml/*.t t/02_error/*.t t/03_resultset/*.t t/04_field_definition/*.t t/05_row/*.t
# Testing Net::FileMaker 0.064, Perl 5.019005, /tmp/basesmoker-reloperl-rZKV/bin/perl
t/00_load/00-net-filemaker.t ....... ok
t/00_load/01-perlcritic.t .......... skipped: Perl::Critic false flagging issues with package declarations, skipping...
t/00_load/02-pod.t ................. ok
#  
# To prevent skipping the following tests, set the following environment varibles:
# FMS_HOST - Your accessible FileMaker Server. Must be a valid formatted URI.
# FMS_USER - Valid Username.
# FMS_PASS - Password.
# If you do not set these vars, the tests will just skip where necessary and you will not get complete coverage.
# It is recommended to use a test or development server for this suite, just in case.
t/01_xml/00-load.t ................. ok
t/01_xml/01-dbnames.t .............. skipped: FileMaker Server not declared
t/01_xml/02-layoutnames.t .......... skipped: FileMaker Server and authentication not declared
t/01_xml/03-scriptnames.t .......... skipped: FileMaker Server and authentication not declared
t/01_xml/04-findall.t .............. skipped: FileMaker Server and authentication not declared
t/01_xml/05-findany.t .............. skipped: FileMaker Server and authentication not declared
t/02_error/00-load.t ............... ok
t/02_error/01-en.t ................. ok
t/02_error/02-ja.t ................. ok
t/02_error/03-it.t ................. ok
t/03_resultset/00-load.t ........... ok
t/03_resultset/01-instantiation.t .. skipped: FileMaker Server and authentication not declared
t/03_resultset/02-rows.t ........... skipped: FileMaker Server and authentication not declared
t/04_field_definition/00-load.t .... ok
t/04_field_definition/01-fields.t .. skipped: FileMaker Server and authentication not declared
t/05_row/00-load.t ................. ok
t/05_row/01-inflated.t ............. skipped: FileMaker Server and authentication not declared
t/manifest.t ....................... skipped: Author tests not required for installation
t/pod.t ............................ ok
All tests successful.
Files=22, Tests=58,  1 wallclock secs ( 0.06 usr  0.02 sys +  0.66 cusr  0.04 csys =  0.78 CPU)
Result: PASS

------------------------------
PREREQUISITES
------------------------------

Prerequisite modules loaded:

requires:

    Module                 Need Have   
    ---------------------- ---- -------
    DateTime::Format::CLDR 0    1.15   
    LWP                    0    6.05   
    URI                    0    1.60   
    XML::Twig              3.33 3.44   

build_requires:

    Module                 Need Have   
    ---------------------- ---- -------
    Test::More             0    0.98_06

configure_requires:

    Module                 Need Have   
    ---------------------- ---- -------
    ExtUtils::MakeMaker    6.30 6.76   


------------------------------
ENVIRONMENT AND OTHER CONTEXT
------------------------------

Environment variables:

    AUTOMATED_TESTING = 1
    LANG = en_US.UTF-8
    LANGUAGE = en_US:en
    PATH = /usr/lib/ccache:/home/sand/bin:/usr/local/bin:/usr/bin:/bin:/usr/bin/X11:/usr/games:/usr/local/perl/bin:/usr/X11/bin:/sbin:/usr/sbin
    PERL5LIB = /tmp/loop_over_bdir-18520-rvS24f/FusionInventory-Agent-2.3.2-Gwtrmf/blib/arch:/tmp/loop_over_bdir-18520-rvS24f/FusionInventory-Agent-2.3.2-Gwtrmf/blib/lib
    PERL5OPT = 
    PERL5_CPANPLUS_IS_RUNNING = 10501
    PERL5_CPAN_IS_RUNNING = 10501
    PERL_MM_USE_DEFAULT = 1
    SHELL = /usr/bin/zsh
    TERM = screen

Perl special variables (and OS-specific diagnostics, for MSWin32):

    $^X = /tmp/basesmoker-reloperl-rZKV/bin/perl
    $UID/$EUID = 1005 / 1005
    $GID = 1005 1005
    $EGID = 1005 1005

Perl module toolchain versions installed:

    Module              Have      
    ------------------- ----------
    CPAN                2.00      
    CPAN::Meta          2.132661  
    Cwd                 3.45      
    ExtUtils::CBuilder  0.280212  
    ExtUtils::Command   1.18      
    ExtUtils::Install   1.60      
    ExtUtils::MakeMaker 6.76      
    ExtUtils::Manifest  1.63      
    ExtUtils::ParseXS   3.23      
    File::Spec          3.45      
    JSON                2.59      
    JSON::PP            2.27202_01
    Module::Build       0.4007    
    Module::Signature   0.73      
    Parse::CPAN::Meta   1.4407    
    Test::Harness       3.28      
    Test::More          0.98_06   
    YAML                0.84      
    YAML::Syck          1.27      
    version             0.9904    


--

Summary of my perl5 (revision 5 version 19 subversion 5) configuration:
  Commit id: b7c730ff445e2e63dd1c823dd7b851e2ffc9075d
  Platform:
    osname=linux, osvers=3.10-2-amd64, archname=x86_64-linux-thread-multi
    uname='linux k83 3.10-2-amd64 #1 smp debian 3.10.7-1 (2013-08-17) x86_64 gnulinux '
    config_args='-Dprefix=/home/sand/src/perl/repoperls/installed-perls/perl/v5.19.4-45-gb7c730f/9980 -Dmyhostname=k83 -Dinstallusrbinperl=n -Uversiononly -Dusedevel -des -Ui_db -Duseithreads -Uuselongdouble -DDEBUGGING=-g'
    hint=recommended, useposix=true, d_sigaction=define
    useithreads=define, usemultiplicity=define
    useperlio=define, d_sfio=undef, uselargefiles=define, usesocks=undef
    use64bitint=define, use64bitall=define, uselongdouble=undef
    usemymalloc=n, bincompat5005=undef
  Compiler:
    cc='cc', ccflags ='-D_REENTRANT -D_GNU_SOURCE -fno-strict-aliasing -pipe -fstack-protector -I/usr/local/include -D_LARGEFILE_SOURCE -D_FILE_OFFSET_BITS=64',
    optimize='-O2 -g',
    cppflags='-D_REENTRANT -D_GNU_SOURCE -fno-strict-aliasing -pipe -fstack-protector -I/usr/local/include'
    ccversion='', gccversion='4.8.1', gccosandvers=''
    intsize=4, longsize=8, ptrsize=8, doublesize=8, byteorder=12345678
    d_longlong=define, longlongsize=8, d_longdbl=define, longdblsize=16
    ivtype='long', ivsize=8, nvtype='double', nvsize=8, Off_t='off_t', lseeksize=8
    alignbytes=8, prototype=define
  Linker and Libraries:
    ld='cc', ldflags =' -fstack-protector -L/usr/local/lib'
    libpth=/usr/local/lib /lib/x86_64-linux-gnu /lib/../lib /usr/lib/x86_64-linux-gnu /usr/lib/../lib /lib /usr/lib
    libs=-lnsl -lgdbm -ldb -ldl -lm -lcrypt -lutil -lpthread -lc -lgdbm_compat
    perllibs=-lnsl -ldl -lm -lcrypt -lutil -lpthread -lc
    libc=, so=so, useshrplib=false, libperl=libperl.a
    gnulibc_version='2.17'
  Dynamic Linking:
    dlsrc=dl_dlopen.xs, dlext=so, d_dlsymun=undef, ccdlflags='-Wl,-E'
    cccdlflags='-fPIC', lddlflags='-shared -O2 -g -L/usr/local/lib -fstack-protector'


Characteristics of this binary (from libperl): 
  Compile-time options: HAS_TIMES MULTIPLICITY PERLIO_LAYERS
                        PERL_DONT_CREATE_GVSV
                        PERL_HASH_FUNC_ONE_AT_A_TIME_HARD
                        PERL_IMPLICIT_CONTEXT PERL_MALLOC_WRAP
                        PERL_NEW_COPY_ON_WRITE PERL_PRESERVE_IVUV
                        PERL_USE_DEVEL USE_64_BIT_ALL USE_64_BIT_INT
                        USE_ITHREADS USE_LARGE_FILES USE_LOCALE
                        USE_LOCALE_COLLATE USE_LOCALE_CTYPE
                        USE_LOCALE_NUMERIC USE_PERLIO USE_PERL_ATOF
                        USE_REENTRANT_API
  Built under linux
  Compiled at Sep 23 2013 10:33:34
  %ENV:
    PERL5LIB="/tmp/loop_over_bdir-18520-rvS24f/FusionInventory-Agent-2.3.2-Gwtrmf/blib/arch:/tmp/loop_over_bdir-18520-rvS24f/FusionInventory-Agent-2.3.2-Gwtrmf/blib/lib"
    PERL5OPT=""
    PERL5_CPANPLUS_IS_RUNNING="10501"
    PERL5_CPAN_IS_RUNNING="10501"
    PERL_MM_USE_DEFAULT="1"
  @INC:
    /tmp/loop_over_bdir-18520-rvS24f/FusionInventory-Agent-2.3.2-Gwtrmf/blib/arch
    /tmp/loop_over_bdir-18520-rvS24f/FusionInventory-Agent-2.3.2-Gwtrmf/blib/lib
    /home/sand/src/perl/repoperls/installed-perls/perl/v5.19.4-45-gb7c730f/9980/lib/site_perl/5.19.5/x86_64-linux-thread-multi
    /home/sand/src/perl/repoperls/installed-perls/perl/v5.19.4-45-gb7c730f/9980/lib/site_perl/5.19.5
    /home/sand/src/perl/repoperls/installed-perls/perl/v5.19.4-45-gb7c730f/9980/lib/5.19.5/x86_64-linux-thread-multi
    /home/sand/src/perl/repoperls/installed-perls/perl/v5.19.4-45-gb7c730f/9980/lib/5.19.5
    .