Module-Faker v0.022 Perl 5 v5.28.1 x86_64-linux-thread-multi
- Status
- Pass
- From
- David Cantrell (DCANTRELL)
- Dist
-
Module-Faker v0.022
- Platform
- Perl 5 v5.28.1 x86_64-linux-thread-multi
- Date
- 2019-05-01 09:34:52
- ID
- 5ef6a064-6bf4-11e9-8c06-2ce8c862b317
This distribution has been tested as part of the CPAN Testers
project, supporting the Perl programming language. See
http://wiki.cpantesters.org/ for more information or email
questions to cpan-testers-discuss@perl.org
--
Dear Ricardo SIGNES,
This is a computer-generated report for Module-Faker-0.022
on perl 5.28.1, created by CPAN-Reporter-1.2018.
Thank you for uploading your work to CPAN. Congratulations!
All tests were successful.
Sections of this report:
* Tester comments
* Program output
* Prerequisites
* Environment and other context
------------------------------
TESTER COMMENTS
------------------------------
Additional comments from tester:
this report is from an automated smoke testing program
and was not reviewed by a human for accuracy
------------------------------
PROGRAM OUTPUT
------------------------------
Output from '/usr/bin/make test':
PERL_DL_NONLAZY=1 "/home/david/cpantesting/perl-5.28.1/bin/perl" "-MExtUtils::Command::MM" "-MTest::Harness" "-e" "undef *Test::Harness::Switches; test_harness(0, 'blib/lib', 'blib/arch')" t/*.t
#
# Versions for all modules listed in MYMETA.json (including optional ones):
#
# === Configure Requires ===
#
# Module Want Have
# ------------------- ---- ----
# ExtUtils::MakeMaker any 7.34
#
# === Build Requires ===
#
# Module Want Have
# ------------------- ---- ----
# ExtUtils::MakeMaker any 7.34
#
# === Test Requires ===
#
# Module Want Have
# ------------------- ---- --------
# Cwd any 3.74
# ExtUtils::MakeMaker any 7.34
# File::Spec any 3.74
# JSON::PP any 2.97001
# Path::Class 0.06 0.37
# Test::More 0.96 1.302164
#
# === Test Recommends ===
#
# Module Want Have
# ---------- -------- --------
# CPAN::Meta 2.120900 2.150010
#
# === Runtime Requires ===
#
# Module Want Have
# ---------------------------- -------- --------
# Archive::Any::Create any 0.03
# CPAN::DistnameInfo any 0.12
# CPAN::Meta 2.130880 2.150010
# CPAN::Meta::Converter any 2.150010
# CPAN::Meta::Merge any 2.150010
# CPAN::Meta::Requirements any 2.140
# Carp any 1.50
# Data::OptList any 0.110
# Encode any 2.97
# File::Next any 1.16
# File::Path any 2.15
# File::Temp any 0.2304
# Getopt::Long::Descriptive any 0.104
# Moose 0.33 2.2011
# Moose::Role any 2.2011
# Moose::Util::TypeConstraints any 2.2011
# Parse::CPAN::Meta 1.4401 2.150010
# Path::Class 0.06 0.37
# Storable any 3.08
# Text::Template any 1.55
# strict any 1.11
# warnings any 1.42
#
t/00-report-prereqs.t .. ok
t/append-utf8.t ........ ok
t/append.t ............. ok
t/basic.t .............. ok
t/makefile-pl.t ........ ok
t/meta-files.t ......... ok
t/omit-file.t .......... ok
t/provide-order.t ...... ok
t/requires.t ........... ok
All tests successful.
Files=9, Tests=33, 17 wallclock secs ( 0.03 usr 0.02 sys + 3.21 cusr 0.29 csys = 3.55 CPU)
Result: PASS
------------------------------
PREREQUISITES
------------------------------
Prerequisite modules loaded:
requires:
Module Need Have
---------------------------- -------- --------
Archive::Any::Create 0 0.03
Carp 0 1.50
CPAN::DistnameInfo 0 0.12
CPAN::Meta 2.130880 2.150010
CPAN::Meta::Converter 0 2.150010
CPAN::Meta::Merge 0 2.150010
CPAN::Meta::Requirements 0 2.140
Data::OptList 0 0.110
Encode 0 2.97
File::Next 0 1.16
File::Path 0 2.15
File::Temp 0 0.2304
Getopt::Long::Descriptive 0 0.104
Moose 0.33 2.2011
Moose::Role 0 2.2011
Moose::Util::TypeConstraints 0 2.2011
Parse::CPAN::Meta 1.4401 2.150010
Path::Class 0.06 0.37
perl 5.014000 5.028001
Storable 0 3.08
strict 0 1.11
Text::Template 0 1.55
warnings 0 1.42
build_requires:
Module Need Have
---------------------------- -------- --------
Cwd 0 3.74
ExtUtils::MakeMaker 0 7.34
File::Spec 0 3.74
JSON::PP 0 2.97001
Path::Class 0.06 0.37
Test::More 0.96 1.302164
configure_requires:
Module Need Have
---------------------------- -------- --------
ExtUtils::MakeMaker 0 7.34
------------------------------
ENVIRONMENT AND OTHER CONTEXT
------------------------------
Environment variables:
AUTOMATED_TESTING = 1
LANG = en_US.UTF-8
NONINTERACTIVE_TESTING = 1
PATH = /usr/local/bin:/usr/bin:/bin:/usr/local/games:/usr/games
PERL = 5.28.1
PERL5LIB =
PERL5OPT =
PERL5_CPANPLUS_IS_RUNNING = 20642
PERL5_CPAN_IS_RUNNING = 20642
PERLVER = 5.28.1
PERL_INLINE_DIRECTORY = /home/david/.Inline-5.28.1
PERL_MM_USE_DEFAULT = 1
PERL_USE_UNSAFE_INC = 0
SHELL = /bin/bash
TERM = screen
Perl special variables (and OS-specific diagnostics, for MSWin32):
$^X = /home/david/cpantesting/perl-5.28.1/bin/perl
$UID/$EUID = 1000 / 1000
$GID = 1000 27 1000
$EGID = 1000 27 1000
Perl module toolchain versions installed:
Module Have
------------------- --------
CPAN 2.20
CPAN::Meta 2.150010
Cwd 3.74
ExtUtils::CBuilder 0.280230
ExtUtils::Command 7.34
ExtUtils::Install 2.14
ExtUtils::MakeMaker 7.34
ExtUtils::Manifest 1.70
ExtUtils::ParseXS 3.39
File::Spec 3.74
JSON 4.02
JSON::PP 2.97001
Module::Build 0.4229
Module::Signature n/a
Parse::CPAN::Meta 2.150010
Test::Harness 3.42
Test::More 1.302164
YAML 1.28
YAML::Syck n/a
version 0.9923
--
Summary of my perl5 (revision 5 version 28 subversion 1) configuration:
Platform:
osname=linux
osvers=4.9.0-8-amd64
archname=x86_64-linux-thread-multi
uname='linux pigsty 4.9.0-8-amd64 #1 smp debian 4.9.144-3 (2019-02-02) x86_64 gnulinux '
config_args='-de -Duse64bitall -Dusethreads -Dprefix=/home/david/cpantesting/perl-5.28.1'
hint=recommended
useposix=true
d_sigaction=define
useithreads=define
usemultiplicity=define
use64bitint=define
use64bitall=define
uselongdouble=undef
usemymalloc=n
default_inc_excludes_dot=define
bincompat5005=undef
Compiler:
cc='cc'
ccflags ='-D_REENTRANT -D_GNU_SOURCE -fwrapv -fno-strict-aliasing -pipe -fstack-protector-strong -I/usr/local/include -D_LARGEFILE_SOURCE -D_FILE_OFFSET_BITS=64 -D_FORTIFY_SOURCE=2'
optimize='-O2'
cppflags='-D_REENTRANT -D_GNU_SOURCE -fwrapv -fno-strict-aliasing -pipe -fstack-protector-strong -I/usr/local/include'
ccversion=''
gccversion='6.3.0 20170516'
gccosandvers=''
intsize=4
longsize=8
ptrsize=8
doublesize=8
byteorder=12345678
doublekind=3
d_longlong=define
longlongsize=8
d_longdbl=define
longdblsize=16
longdblkind=3
ivtype='long'
ivsize=8
nvtype='double'
nvsize=8
Off_t='off_t'
lseeksize=8
alignbytes=8
prototype=define
Linker and Libraries:
ld='cc'
ldflags =' -fstack-protector-strong -L/usr/local/lib'
libpth=/usr/local/lib /usr/lib/gcc/x86_64-linux-gnu/6/include-fixed /usr/include/x86_64-linux-gnu /usr/lib /lib/x86_64-linux-gnu /lib/../lib /usr/lib/x86_64-linux-gnu /usr/lib/../lib /lib
libs=-lpthread -lnsl -ldb -ldl -lm -lcrypt -lutil -lc
perllibs=-lpthread -lnsl -ldl -lm -lcrypt -lutil -lc
libc=libc-2.24.so
so=so
useshrplib=false
libperl=libperl.a
gnulibc_version='2.24'
Dynamic Linking:
dlsrc=dl_dlopen.xs
dlext=so
d_dlsymun=undef
ccdlflags='-Wl,-E'
cccdlflags='-fPIC'
lddlflags='-shared -O2 -L/usr/local/lib -fstack-protector-strong'
Characteristics of this binary (from libperl):
Compile-time options:
HAS_TIMES
MULTIPLICITY
PERLIO_LAYERS
PERL_COPY_ON_WRITE
PERL_DONT_CREATE_GVSV
PERL_IMPLICIT_CONTEXT
PERL_MALLOC_WRAP
PERL_OP_PARENT
PERL_PRESERVE_IVUV
USE_64_BIT_ALL
USE_64_BIT_INT
USE_ITHREADS
USE_LARGE_FILES
USE_LOCALE
USE_LOCALE_COLLATE
USE_LOCALE_CTYPE
USE_LOCALE_NUMERIC
USE_LOCALE_TIME
USE_PERLIO
USE_PERL_ATOF
USE_REENTRANT_API
Built under linux
Compiled at Apr 25 2019 01:37:24
%ENV:
PERL="5.28.1"
PERL5LIB=""
PERL5OPT=""
PERL5_CPANPLUS_IS_RUNNING="20642"
PERL5_CPAN_IS_RUNNING="20642"
PERLVER="5.28.1"
PERL_INLINE_DIRECTORY="/home/david/.Inline-5.28.1"
PERL_MM_USE_DEFAULT="1"
PERL_USE_UNSAFE_INC="0"
@INC:
/home/david/cpantesting/perl-5.28.1/lib/site_perl/5.28.1/x86_64-linux-thread-multi
/home/david/cpantesting/perl-5.28.1/lib/site_perl/5.28.1
/home/david/cpantesting/perl-5.28.1/lib/5.28.1/x86_64-linux-thread-multi
/home/david/cpantesting/perl-5.28.1/lib/5.28.1