DateTime v1.66 Perl 5 v5.16.2 x86_64-linux

Status
Pass
From
Chris Williams (BINGOS)
Dist
DateTime v1.66
Platform
Perl 5 v5.16.2 x86_64-linux
Date
2025-09-02 20:35:31
ID
5ee29f90-883c-11f0-a3bc-a055f9c4ba34
This distribution has been tested as part of the CPAN Testers
project, supporting the Perl programming language.  See
http://wiki.cpantesters.org/ for more information or email
questions to cpan-testers-discuss@perl.org


--

Dear Dave Rolsky,

This is a computer-generated error report created automatically by
CPANPLUS, version 0.9916. Testers personal comments may appear
at the end of this report.


Thank you for uploading your work to CPAN.  Congratulations!
All tests were successful.

TEST RESULTS:

Below is the error stack from stage 'make test':

"/home/cpan/pit/bare/perl-5.16.2/bin/perl" -MExtUtils::Command::MM -e 'cp_nonempty' -- DateTime.bs blib/arch/auto/DateTime/DateTime.bs 644
PERL_DL_NONLAZY=1 "/home/cpan/pit/bare/perl-5.16.2/bin/perl" "-MExtUtils::Command::MM" "-MTest::Harness" "-e" "undef *Test::Harness::Switches; test_harness(0, 'blib/lib', 'blib/arch')" t/*.t
# 
# Versions for all modules listed in MYMETA.json (including optional ones):
# 
# === Configure Requires ===
# 
#     Module               Want Have
#     -------------------- ---- ----
#     Dist::CheckConflicts 0.02 0.11
#     ExtUtils::MakeMaker   any 7.76
# 
# === Configure Suggests ===
# 
#     Module      Want Have
#     -------- ------- ----
#     JSON::PP 2.27300 4.16
# 
# === Build Requires ===
# 
#     Module              Want Have
#     ------------------- ---- ----
#     ExtUtils::MakeMaker  any 7.76
# 
# === Test Requires ===
# 
#     Module                    Want     Have
#     ------------------------ ----- --------
#     CPAN::Meta::Check        0.011    0.018
#     CPAN::Meta::Requirements   any    2.131
#     ExtUtils::MakeMaker        any     7.76
#     File::Spec                 any     3.75
#     Storable                   any     3.25
#     Term::ANSIColor            any     3.01
#     Test::Fatal                any    0.017
#     Test::More                0.96 1.302214
#     Test::Warnings           0.005    0.038
#     Test::Without::Module      any     0.23
#     utf8                       any     1.09
# 
# === Test Recommends ===
# 
#     Module         Want     Have
#     ---------- -------- --------
#     CPAN::Meta 2.120900 2.150010
# 
# === Runtime Requires ===
# 
#     Module                         Want     Have
#     -------------------------- -------- --------
#     Carp                            any     1.26
#     DateTime::Locale               1.06     1.45
#     DateTime::TimeZone             2.44     2.65
#     Dist::CheckConflicts           0.02     0.11
#     POSIX                           any     1.30
#     Params::ValidationCompiler     0.26     0.31
#     Scalar::Util                    any     1.70
#     Specio                         0.50     0.52
#     Specio::Declare                 any     0.52
#     Specio::Exporter                any     0.52
#     Specio::Library::Builtins       any     0.52
#     Specio::Library::Numeric        any     0.52
#     Specio::Library::String         any     0.52
#     Specio::Subs                    any     0.52
#     Try::Tiny                       any     0.32
#     XSLoader                        any     0.16
#     integer                         any     1.00
#     namespace::autoclean           0.19     0.31
#     overload                        any     1.18
#     parent                          any    0.225
#     perl                       5.008004 5.016002
#     strict                          any     1.07
#     warnings                        any     1.13
#     warnings::register              any     1.02
# 
t/00-report-prereqs.t .... ok
t/00load.t ............... ok
t/01sanity.t ............. ok
t/02last-day.t ........... ok
t/03components.t ......... ok
t/04epoch.t .............. ok
t/05set.t ................ ok
t/06add.t ................ ok
t/07compare.t ............ ok
t/09greg.t ............... ok
t/10subtract.t ........... ok
t/11duration.t ........... ok
t/12week.t ............... ok
t/13strftime.t ........... ok
t/14locale.t ............. ok
t/15jd.t ................. ok
t/16truncate.t ........... ok
t/17set-return.t ......... ok
t/18today.t .............. ok
t/19leap-second.t ........ ok
t/20infinite.t ........... ok
t/21bad-params.t ......... ok
t/22from-doy.t ........... ok
t/23storable.t ........... ok
t/24from-object.t ........ ok
t/25add-subtract.t ....... ok
t/26dt-leapsecond-pm.t ... ok
t/27delta.t .............. ok
t/28dow.t ................ ok
t/29overload.t ........... ok
t/30future-tz.t .......... ok
t/31formatter.t .......... ok
t/32leap-second2.t ....... ok
t/33seconds-offset.t ..... ok
t/34set-tz.t ............. ok
t/35rd-values.t .......... ok
t/36invalid-local.t ...... ok
t/37local-add.t .......... ok
t/38local-subtract.t ..... ok
t/39no-so.t .............. ok
t/40leap-years.t ......... ok
t/41cldr-format.t ........ ok
t/42duration-class.t ..... ok
t/43new-params.t ......... ok
t/44set-formatter.t ...... ok
t/45core-time.t .......... ok
t/46warnings.t ........... ok
t/47default-time-zone.t .. ok
t/48rt-115983.t .......... ok
t/49-without-sub-util.t .. ok
t/zzz-check-breaks.t ..... ok
All tests successful.
Files=51, Tests=3589, 18 wallclock secs ( 0.43 usr  0.07 sys + 16.15 cusr  1.57 csys = 18.22 CPU)
Result: PASS


PREREQUISITES:

Here is a list of prerequisites you specified and versions we
managed to load:

	  Module Name                        Have     Want
	  CPAN::Meta::Check                 0.018    0.011
	  CPAN::Meta::Requirements          2.131        0
	  Carp                               1.26        0
	  DateTime::Locale                   1.45     1.06
	  DateTime::TimeZone                 2.65     2.44
	  Dist::CheckConflicts               0.11     0.02
	  ExtUtils::MakeMaker                7.76        0
	  File::Spec                         3.75        0
	  POSIX                              1.30        0
	  Params::ValidationCompiler         0.31     0.26
	  Scalar::Util                       1.70        0
	  Specio                             0.52     0.50
	  Specio::Declare                    0.52        0
	  Specio::Exporter                   0.52        0
	  Specio::Library::Builtins          0.52        0
	  Specio::Library::Numeric           0.52        0
	  Specio::Library::String            0.52        0
	  Specio::Subs                       0.52        0
	  Storable                           3.25        0
	  Term::ANSIColor                    3.01        0
	  Test::Fatal                       0.017        0
	  Test::More                     1.302214     0.96
	  Test::Warnings                    0.038    0.005
	  Test::Without::Module              0.23        0
	  Try::Tiny                          0.32        0
	  XSLoader                           0.16        0
	  integer                            1.00        0
	  namespace::autoclean               0.31     0.19
	  overload                           1.18        0
	  parent                            0.225        0
	  strict                             1.07        0
	  utf8                               1.09        0
	  warnings                           1.13        0
	  warnings::register                 1.02        0

Perl module toolchain versions installed:
	Module Name                        Have
	CPANPLUS                         0.9916
	CPANPLUS::Dist::Build              0.90
	Cwd                                3.75
	ExtUtils::CBuilder             0.280236
	ExtUtils::Command                  7.76
	ExtUtils::Install                  2.22
	ExtUtils::MakeMaker                7.76
	ExtUtils::Manifest                 1.75
	ExtUtils::ParseXS                  3.58
	File::Spec                         3.75
	Module::Build                    0.4234
	Pod::Parser                        1.51
	Pod::Simple                        3.20
	Test2                          1.302214
	Test::Harness                      3.52
	Test::More                     1.302214
	version                          0.9933

******************************** NOTE ********************************
The comments above are created mechanically, possibly without manual
checking by the sender.  As there are many people performing automatic
tests on each upload to CPAN, it is likely that you will receive
identical messages about the same problem.

If you believe that the message is mistaken, please reply to the first
one with correction and/or additional informations, and do not take
it personally.  We appreciate your patience. :)
**********************************************************************

Additional comments:


This report was machine-generated by CPANPLUS::Dist::YACSmoke 1.08.
Powered by minismokebox version 0.68

CPANPLUS is prefering Build.PL

------------------------------
ENVIRONMENT AND OTHER CONTEXT
------------------------------

Environment variables:

    AUTOMATED_TESTING = 1
    LANG = C.UTF-8
    LC_COLLATE = C
    NONINTERACTIVE_TESTING = 1
    PATH = /usr/local/sbin:/usr/local/bin:/usr/sbin:/usr/bin:/sbin:/bin
    PERL5LIB = /home/cpan/pit/jail/9G7xROaxK6/lib/perl5:/home/cpan/pit/bare/conf/perl-5.16.2/.cpanplus/5.16.2/build/8Bx1_433Fz/DateTime-1.66/blib/lib:/home/cpan/pit/bare/conf/perl-5.16.2/.cpanplus/5.16.2/build/8Bx1_433Fz/DateTime-1.66/blib/arch
    PERL5_CPANPLUS_IS_RUNNING = 27098
    PERL5_CPANPLUS_IS_VERSION = 0.9916
    PERL5_MINISMOKEBOX = 0.68
    PERL5_YACSMOKE_BASE = /home/cpan/pit/bare/conf/perl-5.16.2
    PERL_EXTUTILS_AUTOINSTALL = --defaultdeps
    PERL_LOCAL_LIB_ROOT = /home/cpan/pit/jail/9G7xROaxK6
    PERL_MB_OPT = --install_base "/home/cpan/pit/jail/9G7xROaxK6"
    PERL_MM_OPT = INSTALL_BASE=/home/cpan/pit/jail/9G7xROaxK6
    PERL_MM_USE_DEFAULT = 1
    PERL_USE_UNSAFE_INC = 1
    SHELL = /bin/bash
    TERM = screen

Perl special variables (and OS-specific diagnostics, for MSWin32):

    Perl: $^X = /home/cpan/pit/bare/perl-5.16.2/bin/perl
    UID:  $<  = 1001
    EUID: $>  = 1001
    GID:  $(  = 1001 1001
    EGID: $)  = 1001 1001


-------------------------------


--

Summary of my perl5 (revision 5 version 16 subversion 2) configuration:
   
  Platform:
    osname=linux, osvers=6.12.41-0-lts, archname=x86_64-linux
    uname='linux agaric 6.12.41-0-lts #1-alpine smp preempt_dynamic 2025-08-07 06:15:54 x86_64 linux '
    config_args='-des -Dprefix=/home/cpan/pit/bare/perl-5.16.2'
    hint=recommended, useposix=true, d_sigaction=define
    useithreads=undef, usemultiplicity=undef
    useperlio=define, d_sfio=undef, uselargefiles=define, usesocks=undef
    use64bitint=define, use64bitall=define, uselongdouble=undef
    usemymalloc=n, bincompat5005=undef
  Compiler:
    cc='cc', ccflags ='-D_GNU_SOURCE -fwrapv -fno-strict-aliasing -pipe -fstack-protector -D_LARGEFILE_SOURCE -D_FILE_OFFSET_BITS=64',
    optimize='-O2',
    cppflags='-D_GNU_SOURCE -fwrapv -fno-strict-aliasing -pipe -fstack-protector'
    ccversion='', gccversion='14.2.0', gccosandvers=''
    intsize=4, longsize=8, ptrsize=8, doublesize=8, byteorder=12345678
    d_longlong=define, longlongsize=8, d_longdbl=define, longdblsize=16
    ivtype='long', ivsize=8, nvtype='double', nvsize=8, Off_t='off_t', lseeksize=8
    alignbytes=8, prototype=define
  Linker and Libraries:
    ld='cc', ldflags =' -fstack-protector -L/usr/local/lib'
    libpth=/usr/local/lib /lib/../lib /usr/lib/../lib /lib /usr/lib
    libs=-lgdbm -ldl -lm -lcrypt -lutil -lc -lgdbm_compat
    perllibs=-ldl -lm -lcrypt -lutil -lc
    libc=/usr/lib/libc.a, so=so, useshrplib=false, libperl=libperl.a
    gnulibc_version=''
  Dynamic Linking:
    dlsrc=dl_dlopen.xs, dlext=so, d_dlsymun=undef, ccdlflags='-Wl,-E'
    cccdlflags='-fPIC', lddlflags='-shared -O2 -L/usr/local/lib -fstack-protector'


Characteristics of this binary (from libperl): 
  Compile-time options: HAS_TIMES PERLIO_LAYERS PERL_DONT_CREATE_GVSV
                        PERL_MALLOC_WRAP PERL_PRESERVE_IVUV USE_64_BIT_ALL
                        USE_64_BIT_INT USE_LARGE_FILES USE_LOCALE
                        USE_LOCALE_COLLATE USE_LOCALE_CTYPE
                        USE_LOCALE_NUMERIC USE_PERLIO USE_PERL_ATOF
  Locally applied patches:
	Devel::PatchPerl 2.08
  Built under linux
  Compiled at Aug 18 2025 14:19:56
  %ENV:
    PERL5LIB="/home/cpan/pit/jail/9G7xROaxK6/lib/perl5:/home/cpan/pit/bare/conf/perl-5.16.2/.cpanplus/5.16.2/build/8Bx1_433Fz/DateTime-1.66/blib/lib:/home/cpan/pit/bare/conf/perl-5.16.2/.cpanplus/5.16.2/build/8Bx1_433Fz/DateTime-1.66/blib/arch"
    PERL5_CPANPLUS_IS_RUNNING="27098"
    PERL5_CPANPLUS_IS_VERSION="0.9916"
    PERL5_MINISMOKEBOX="0.68"
    PERL5_YACSMOKE_BASE="/home/cpan/pit/bare/conf/perl-5.16.2"
    PERL_EXTUTILS_AUTOINSTALL="--defaultdeps"
    PERL_LOCAL_LIB_ROOT="/home/cpan/pit/jail/9G7xROaxK6"
    PERL_MB_OPT="--install_base "/home/cpan/pit/jail/9G7xROaxK6""
    PERL_MM_OPT="INSTALL_BASE=/home/cpan/pit/jail/9G7xROaxK6"
    PERL_MM_USE_DEFAULT="1"
    PERL_USE_UNSAFE_INC="1"
  @INC:
    /home/cpan/pit/jail/9G7xROaxK6/lib/perl5/5.16.2/x86_64-linux
    /home/cpan/pit/jail/9G7xROaxK6/lib/perl5/5.16.2
    /home/cpan/pit/jail/9G7xROaxK6/lib/perl5/x86_64-linux
    /home/cpan/pit/jail/9G7xROaxK6/lib/perl5
    /home/cpan/pit/bare/conf/perl-5.16.2/.cpanplus/5.16.2/build/8Bx1_433Fz/DateTime-1.66/blib/lib
    /home/cpan/pit/bare/conf/perl-5.16.2/.cpanplus/5.16.2/build/8Bx1_433Fz/DateTime-1.66/blib/arch
    /home/cpan/pit/bare/perl-5.16.2/lib/site_perl/5.16.2/x86_64-linux
    /home/cpan/pit/bare/perl-5.16.2/lib/site_perl/5.16.2
    /home/cpan/pit/bare/perl-5.16.2/lib/5.16.2/x86_64-linux
    /home/cpan/pit/bare/perl-5.16.2/lib/5.16.2
    .