Report for JS-jQuery-Loader-0.02

Back
From: metabase:user:9820532a-708b-1014-9a05-b18a96298da1
Subject: PASS JS-jQuery-Loader-0.02 v5.15.2 GNU/Linux
Date: 2011-09-23T13:38:50Z

This distribution has been tested as part of the CPAN Testers
project, supporting the Perl programming language.  See
http://wiki.cpantesters.org/ for more information or email
questions to cpan-testers-discuss@perl.org


--
Dear Robert Krimen,

This is a computer-generated report for JS-jQuery-Loader-0.02
on perl 5.15.2, created by CPAN-Reporter-1.2002.

Thank you for uploading your work to CPAN.  Congratulations!
All tests were successful.

Sections of this report:

    * Tester comments
    * Program output
    * Prerequisites
    * Environment and other context

------------------------------
TESTER COMMENTS
------------------------------

Additional comments from tester:

this report is from an automated smoke testing program
and was not reviewed by a human for accuracy

------------------------------
PROGRAM OUTPUT
------------------------------

Output from '/usr/bin/make test':

PERL_DL_NONLAZY=1 /home/bri/perl5/perlbrew/perls/perl-5.15.2/bin/perl5.15.2 "-MExtUtils::Command::MM" "-e" "test_harness(0, 'inc', 'blib/lib', 'blib/arch')" t/00-load.t t/01-template.t t/02-location.t t/03-source.t t/04-cache.t t/05-loader.t t/06-html.t
# Testing JS::jQuery::Loader 0.02, Perl 5.015002, /home/bri/perl5/perlbrew/perls/perl-5.15.2/bin/perl5.15.2
t/00-load.t ...... ok
t/01-template.t .. ok
Use of qw(...) as parentheses is deprecated at /home/bri/.cpan/build/JS-jQuery-Loader-0.02-rnu1Wv/blib/lib/JS/jQuery/Loader/Location.pm line 67.
You are overwriting a locally defined function (file) with an accessor at /home/bri/perl5/perlbrew/perls/perl-5.15.2/lib/site_perl/5.15.2/i686-linux-thread-multi-ld/Moose/Meta/Attribute.pm line 1056
	Moose::Meta::Attribute::_process_accessors('Moose::Meta::Attribute=HASH(0x8ea2860)', 'accessor', 'file', undef) called at /home/bri/perl5/perlbrew/perls/perl-5.15.2/lib/site_perl/5.15.2/i686-linux-thread-multi-ld/Class/MOP/Attribute.pm line 424
	Class::MOP::Attribute::install_accessors('Moose::Meta::Attribute=HASH(0x8ea2860)') called at /home/bri/perl5/perlbrew/perls/perl-5.15.2/lib/site_perl/5.15.2/i686-linux-thread-multi-ld/Moose/Meta/Attribute.pm line 1004
	Moose::Meta::Attribute::install_accessors('Moose::Meta::Attribute=HASH(0x8ea2860)') called at /home/bri/perl5/perlbrew/perls/perl-5.15.2/lib/site_perl/5.15.2/i686-linux-thread-multi-ld/Class/MOP/Class.pm line 890
	Class::MOP::Class::__ANON__() called at /home/bri/perl5/perlbrew/perls/perl-5.15.2/lib/site_perl/5.15.2/Try/Tiny.pm line 76
	eval {...} called at /home/bri/perl5/perlbrew/perls/perl-5.15.2/lib/site_perl/5.15.2/Try/Tiny.pm line 67
	Try::Tiny::try('CODE(0x8e9ac30)', 'Try::Tiny::Catch=REF(0x8e9b6d0)') called at /home/bri/perl5/perlbrew/perls/perl-5.15.2/lib/site_perl/5.15.2/i686-linux-thread-multi-ld/Class/MOP/Class.pm line 895
	Class::MOP::Class::_post_add_attribute('Moose::Meta::Class=HASH(0x86465b8)', 'Moose::Meta::Attribute=HASH(0x8ea2860)') called at /home/bri/perl5/perlbrew/perls/perl-5.15.2/lib/site_perl/5.15.2/i686-linux-thread-multi-ld/Class/MOP/Mixin/HasAttributes.pm line 44
	Class::MOP::Mixin::HasAttributes::add_attribute('Moose::Meta::Class=HASH(0x86465b8)', 'Moose::Meta::Attribute=HASH(0x8ea2860)') called at /home/bri/perl5/perlbrew/perls/perl-5.15.2/lib/site_perl/5.15.2/i686-linux-thread-multi-ld/Moose/Meta/Class.pm line 570
	Moose::Meta::Class::add_attribute('Moose::Meta::Class=HASH(0x86465b8)', 'file', 'definition_context', 'HASH(0x8cd7968)', 'is', 'rw') called at /home/bri/perl5/perlbrew/perls/perl-5.15.2/lib/site_perl/5.15.2/i686-linux-thread-multi-ld/Moose.pm line 77
	Moose::has('Moose::Meta::Class=HASH(0x86465b8)', 'file', 'is', 'rw') called at /home/bri/perl5/perlbrew/perls/perl-5.15.2/lib/site_perl/5.15.2/i686-linux-thread-multi-ld/Moose/Exporter.pm line 356
	Moose::has('file', 'is', 'rw') called at /home/bri/.cpan/build/JS-jQuery-Loader-0.02-rnu1Wv/blib/lib/JS/jQuery/Loader/Location.pm line 18
	require JS/jQuery/Loader/Location.pm called at t/02-location.t line 8
	main::BEGIN() called at /home/bri/.cpan/build/JS-jQuery-Loader-0.02-rnu1Wv/blib/lib/JS/jQuery/Loader/Location.pm line 0
	eval {...} called at /home/bri/.cpan/build/JS-jQuery-Loader-0.02-rnu1Wv/blib/lib/JS/jQuery/Loader/Location.pm line 0
t/02-location.t .. ok
Use of qw(...) as parentheses is deprecated at /home/bri/.cpan/build/JS-jQuery-Loader-0.02-rnu1Wv/blib/lib/JS/jQuery/Loader/Location.pm line 67.
You are overwriting a locally defined function (file) with an accessor at /home/bri/perl5/perlbrew/perls/perl-5.15.2/lib/site_perl/5.15.2/i686-linux-thread-multi-ld/Moose/Meta/Attribute.pm line 1056
	Moose::Meta::Attribute::_process_accessors('Moose::Meta::Attribute=HASH(0x9a946b0)', 'accessor', 'file', undef) called at /home/bri/perl5/perlbrew/perls/perl-5.15.2/lib/site_perl/5.15.2/i686-linux-thread-multi-ld/Class/MOP/Attribute.pm line 424
	Class::MOP::Attribute::install_accessors('Moose::Meta::Attribute=HASH(0x9a946b0)') called at /home/bri/perl5/perlbrew/perls/perl-5.15.2/lib/site_perl/5.15.2/i686-linux-thread-multi-ld/Moose/Meta/Attribute.pm line 1004
	Moose::Meta::Attribute::install_accessors('Moose::Meta::Attribute=HASH(0x9a946b0)') called at /home/bri/perl5/perlbrew/perls/perl-5.15.2/lib/site_perl/5.15.2/i686-linux-thread-multi-ld/Class/MOP/Class.pm line 890
	Class::MOP::Class::__ANON__() called at /home/bri/perl5/perlbrew/perls/perl-5.15.2/lib/site_perl/5.15.2/Try/Tiny.pm line 76
	eval {...} called at /home/bri/perl5/perlbrew/perls/perl-5.15.2/lib/site_perl/5.15.2/Try/Tiny.pm line 67
	Try::Tiny::try('CODE(0x9a8e218)', 'Try::Tiny::Catch=REF(0x9a93f00)') called at /home/bri/perl5/perlbrew/perls/perl-5.15.2/lib/site_perl/5.15.2/i686-linux-thread-multi-ld/Class/MOP/Class.pm line 895
	Class::MOP::Class::_post_add_attribute('Moose::Meta::Class=HASH(0x98ee580)', 'Moose::Meta::Attribute=HASH(0x9a946b0)') called at /home/bri/perl5/perlbrew/perls/perl-5.15.2/lib/site_perl/5.15.2/i686-linux-thread-multi-ld/Class/MOP/Mixin/HasAttributes.pm line 44
	Class::MOP::Mixin::HasAttributes::add_attribute('Moose::Meta::Class=HASH(0x98ee580)', 'Moose::Meta::Attribute=HASH(0x9a946b0)') called at /home/bri/perl5/perlbrew/perls/perl-5.15.2/lib/site_perl/5.15.2/i686-linux-thread-multi-ld/Moose/Meta/Class.pm line 570
	Moose::Meta::Class::add_attribute('Moose::Meta::Class=HASH(0x98ee580)', 'file', 'definition_context', 'HASH(0x98e0d58)', 'is', 'rw') called at /home/bri/perl5/perlbrew/perls/perl-5.15.2/lib/site_perl/5.15.2/i686-linux-thread-multi-ld/Moose.pm line 77
	Moose::has('Moose::Meta::Class=HASH(0x98ee580)', 'file', 'is', 'rw') called at /home/bri/perl5/perlbrew/perls/perl-5.15.2/lib/site_perl/5.15.2/i686-linux-thread-multi-ld/Moose/Exporter.pm line 356
	Moose::has('file', 'is', 'rw') called at /home/bri/.cpan/build/JS-jQuery-Loader-0.02-rnu1Wv/blib/lib/JS/jQuery/Loader/Location.pm line 18
	require JS/jQuery/Loader/Location.pm called at /home/bri/.cpan/build/JS-jQuery-Loader-0.02-rnu1Wv/blib/lib/JS/jQuery/Loader/Source/URI.pm line 7
	JS::jQuery::Loader::Source::URI::BEGIN() called at /home/bri/.cpan/build/JS-jQuery-Loader-0.02-rnu1Wv/blib/lib/JS/jQuery/Loader/Location.pm line 0
	eval {...} called at /home/bri/.cpan/build/JS-jQuery-Loader-0.02-rnu1Wv/blib/lib/JS/jQuery/Loader/Location.pm line 0
	require JS/jQuery/Loader/Source/URI.pm called at t/03-source.t line 9
	main::BEGIN() called at /home/bri/.cpan/build/JS-jQuery-Loader-0.02-rnu1Wv/blib/lib/JS/jQuery/Loader/Location.pm line 0
	eval {...} called at /home/bri/.cpan/build/JS-jQuery-Loader-0.02-rnu1Wv/blib/lib/JS/jQuery/Loader/Location.pm line 0
t/03-source.t .... ok
Use of qw(...) as parentheses is deprecated at /home/bri/.cpan/build/JS-jQuery-Loader-0.02-rnu1Wv/blib/lib/JS/jQuery/Loader/Location.pm line 67.
You are overwriting a locally defined function (file) with an accessor at /home/bri/perl5/perlbrew/perls/perl-5.15.2/lib/site_perl/5.15.2/i686-linux-thread-multi-ld/Moose/Meta/Attribute.pm line 1056
	Moose::Meta::Attribute::_process_accessors('Moose::Meta::Attribute=HASH(0x8f9df98)', 'accessor', 'file', undef) called at /home/bri/perl5/perlbrew/perls/perl-5.15.2/lib/site_perl/5.15.2/i686-linux-thread-multi-ld/Class/MOP/Attribute.pm line 424
	Class::MOP::Attribute::install_accessors('Moose::Meta::Attribute=HASH(0x8f9df98)') called at /home/bri/perl5/perlbrew/perls/perl-5.15.2/lib/site_perl/5.15.2/i686-linux-thread-multi-ld/Moose/Meta/Attribute.pm line 1004
	Moose::Meta::Attribute::install_accessors('Moose::Meta::Attribute=HASH(0x8f9df98)') called at /home/bri/perl5/perlbrew/perls/perl-5.15.2/lib/site_perl/5.15.2/i686-linux-thread-multi-ld/Class/MOP/Class.pm line 890
	Class::MOP::Class::__ANON__() called at /home/bri/perl5/perlbrew/perls/perl-5.15.2/lib/site_perl/5.15.2/Try/Tiny.pm line 76
	eval {...} called at /home/bri/perl5/perlbrew/perls/perl-5.15.2/lib/site_perl/5.15.2/Try/Tiny.pm line 67
	Try::Tiny::try('CODE(0x8f98e58)', 'Try::Tiny::Catch=REF(0x8f9d7e8)') called at /home/bri/perl5/perlbrew/perls/perl-5.15.2/lib/site_perl/5.15.2/i686-linux-thread-multi-ld/Class/MOP/Class.pm line 895
	Class::MOP::Class::_post_add_attribute('Moose::Meta::Class=HASH(0x8f54028)', 'Moose::Meta::Attribute=HASH(0x8f9df98)') called at /home/bri/perl5/perlbrew/perls/perl-5.15.2/lib/site_perl/5.15.2/i686-linux-thread-multi-ld/Class/MOP/Mixin/HasAttributes.pm line 44
	Class::MOP::Mixin::HasAttributes::add_attribute('Moose::Meta::Class=HASH(0x8f54028)', 'Moose::Meta::Attribute=HASH(0x8f9df98)') called at /home/bri/perl5/perlbrew/perls/perl-5.15.2/lib/site_perl/5.15.2/i686-linux-thread-multi-ld/Moose/Meta/Class.pm line 570
	Moose::Meta::Class::add_attribute('Moose::Meta::Class=HASH(0x8f54028)', 'file', 'definition_context', 'HASH(0x8f46c80)', 'is', 'rw') called at /home/bri/perl5/perlbrew/perls/perl-5.15.2/lib/site_perl/5.15.2/i686-linux-thread-multi-ld/Moose.pm line 77
	Moose::has('Moose::Meta::Class=HASH(0x8f54028)', 'file', 'is', 'rw') called at /home/bri/perl5/perlbrew/perls/perl-5.15.2/lib/site_perl/5.15.2/i686-linux-thread-multi-ld/Moose/Exporter.pm line 356
	Moose::has('file', 'is', 'rw') called at /home/bri/.cpan/build/JS-jQuery-Loader-0.02-rnu1Wv/blib/lib/JS/jQuery/Loader/Location.pm line 18
	require JS/jQuery/Loader/Location.pm called at /home/bri/.cpan/build/JS-jQuery-Loader-0.02-rnu1Wv/blib/lib/JS/jQuery/Loader/Source/URI.pm line 7
	JS::jQuery::Loader::Source::URI::BEGIN() called at /home/bri/.cpan/build/JS-jQuery-Loader-0.02-rnu1Wv/blib/lib/JS/jQuery/Loader/Location.pm line 0
	eval {...} called at /home/bri/.cpan/build/JS-jQuery-Loader-0.02-rnu1Wv/blib/lib/JS/jQuery/Loader/Location.pm line 0
	require JS/jQuery/Loader/Source/URI.pm called at t/04-cache.t line 12
	main::BEGIN() called at /home/bri/.cpan/build/JS-jQuery-Loader-0.02-rnu1Wv/blib/lib/JS/jQuery/Loader/Location.pm line 0
	eval {...} called at /home/bri/.cpan/build/JS-jQuery-Loader-0.02-rnu1Wv/blib/lib/JS/jQuery/Loader/Location.pm line 0
t/04-cache.t ..... ok
Use of qw(...) as parentheses is deprecated at /home/bri/.cpan/build/JS-jQuery-Loader-0.02-rnu1Wv/blib/lib/JS/jQuery/Loader/Location.pm line 67.
You are overwriting a locally defined function (file) with an accessor at /home/bri/perl5/perlbrew/perls/perl-5.15.2/lib/site_perl/5.15.2/i686-linux-thread-multi-ld/Moose/Meta/Attribute.pm line 1056
	Moose::Meta::Attribute::_process_accessors('Moose::Meta::Attribute=HASH(0xa9a85d0)', 'accessor', 'file', undef) called at /home/bri/perl5/perlbrew/perls/perl-5.15.2/lib/site_perl/5.15.2/i686-linux-thread-multi-ld/Class/MOP/Attribute.pm line 424
	Class::MOP::Attribute::install_accessors('Moose::Meta::Attribute=HASH(0xa9a85d0)') called at /home/bri/perl5/perlbrew/perls/perl-5.15.2/lib/site_perl/5.15.2/i686-linux-thread-multi-ld/Moose/Meta/Attribute.pm line 1004
	Moose::Meta::Attribute::install_accessors('Moose::Meta::Attribute=HASH(0xa9a85d0)') called at /home/bri/perl5/perlbrew/perls/perl-5.15.2/lib/site_perl/5.15.2/i686-linux-thread-multi-ld/Class/MOP/Class.pm line 890
	Class::MOP::Class::__ANON__() called at /home/bri/perl5/perlbrew/perls/perl-5.15.2/lib/site_perl/5.15.2/Try/Tiny.pm line 76
	eval {...} called at /home/bri/perl5/perlbrew/perls/perl-5.15.2/lib/site_perl/5.15.2/Try/Tiny.pm line 67
	Try::Tiny::try('CODE(0xa9a2d80)', 'Try::Tiny::Catch=REF(0xa9a7e20)') called at /home/bri/perl5/perlbrew/perls/perl-5.15.2/lib/site_perl/5.15.2/i686-linux-thread-multi-ld/Class/MOP/Class.pm line 895
	Class::MOP::Class::_post_add_attribute('Moose::Meta::Class=HASH(0xa965668)', 'Moose::Meta::Attribute=HASH(0xa9a85d0)') called at /home/bri/perl5/perlbrew/perls/perl-5.15.2/lib/site_perl/5.15.2/i686-linux-thread-multi-ld/Class/MOP/Mixin/HasAttributes.pm line 44
	Class::MOP::Mixin::HasAttributes::add_attribute('Moose::Meta::Class=HASH(0xa965668)', 'Moose::Meta::Attribute=HASH(0xa9a85d0)') called at /home/bri/perl5/perlbrew/perls/perl-5.15.2/lib/site_perl/5.15.2/i686-linux-thread-multi-ld/Moose/Meta/Class.pm line 570
	Moose::Meta::Class::add_attribute('Moose::Meta::Class=HASH(0xa965668)', 'file', 'definition_context', 'HASH(0xa967c30)', 'is', 'rw') called at /home/bri/perl5/perlbrew/perls/perl-5.15.2/lib/site_perl/5.15.2/i686-linux-thread-multi-ld/Moose.pm line 77
	Moose::has('Moose::Meta::Class=HASH(0xa965668)', 'file', 'is', 'rw') called at /home/bri/perl5/perlbrew/perls/perl-5.15.2/lib/site_perl/5.15.2/i686-linux-thread-multi-ld/Moose/Exporter.pm line 356
	Moose::has('file', 'is', 'rw') called at /home/bri/.cpan/build/JS-jQuery-Loader-0.02-rnu1Wv/blib/lib/JS/jQuery/Loader/Location.pm line 18
	require JS/jQuery/Loader/Location.pm called at /home/bri/.cpan/build/JS-jQuery-Loader-0.02-rnu1Wv/blib/lib/JS/jQuery/Loader/Source/URI.pm line 7
	JS::jQuery::Loader::Source::URI::BEGIN() called at /home/bri/.cpan/build/JS-jQuery-Loader-0.02-rnu1Wv/blib/lib/JS/jQuery/Loader/Location.pm line 0
	eval {...} called at /home/bri/.cpan/build/JS-jQuery-Loader-0.02-rnu1Wv/blib/lib/JS/jQuery/Loader/Location.pm line 0
	require JS/jQuery/Loader/Source/URI.pm called at /home/bri/.cpan/build/JS-jQuery-Loader-0.02-rnu1Wv/blib/lib/JS/jQuery/Loader/Source/Internet.pm line 4
	JS::jQuery::Loader::Source::Internet::BEGIN() called at /home/bri/.cpan/build/JS-jQuery-Loader-0.02-rnu1Wv/blib/lib/JS/jQuery/Loader/Location.pm line 0
	eval {...} called at /home/bri/.cpan/build/JS-jQuery-Loader-0.02-rnu1Wv/blib/lib/JS/jQuery/Loader/Location.pm line 0
	require JS/jQuery/Loader/Source/Internet.pm called at /home/bri/.cpan/build/JS-jQuery-Loader-0.02-rnu1Wv/blib/lib/JS/jQuery/Loader.pm line 111
	JS::jQuery::Loader::new_from_internet('JS::jQuery::Loader', 'cache', 'Path::Class::Dir=HASH(0xa03d908)') called at t/05-loader.t line 14
t/05-loader.t .... ok
Use of qw(...) as parentheses is deprecated at /home/bri/.cpan/build/JS-jQuery-Loader-0.02-rnu1Wv/blib/lib/JS/jQuery/Loader/Location.pm line 67.
You are overwriting a locally defined function (file) with an accessor at /home/bri/perl5/perlbrew/perls/perl-5.15.2/lib/site_perl/5.15.2/i686-linux-thread-multi-ld/Moose/Meta/Attribute.pm line 1056
	Moose::Meta::Attribute::_process_accessors('Moose::Meta::Attribute=HASH(0x9de8170)', 'accessor', 'file', undef) called at /home/bri/perl5/perlbrew/perls/perl-5.15.2/lib/site_perl/5.15.2/i686-linux-thread-multi-ld/Class/MOP/Attribute.pm line 424
	Class::MOP::Attribute::install_accessors('Moose::Meta::Attribute=HASH(0x9de8170)') called at /home/bri/perl5/perlbrew/perls/perl-5.15.2/lib/site_perl/5.15.2/i686-linux-thread-multi-ld/Moose/Meta/Attribute.pm line 1004
	Moose::Meta::Attribute::install_accessors('Moose::Meta::Attribute=HASH(0x9de8170)') called at /home/bri/perl5/perlbrew/perls/perl-5.15.2/lib/site_perl/5.15.2/i686-linux-thread-multi-ld/Class/MOP/Class.pm line 890
	Class::MOP::Class::__ANON__() called at /home/bri/perl5/perlbrew/perls/perl-5.15.2/lib/site_perl/5.15.2/Try/Tiny.pm line 76
	eval {...} called at /home/bri/perl5/perlbrew/perls/perl-5.15.2/lib/site_perl/5.15.2/Try/Tiny.pm line 67
	Try::Tiny::try('CODE(0x9de2f20)', 'Try::Tiny::Catch=REF(0x9de79c0)') called at /home/bri/perl5/perlbrew/perls/perl-5.15.2/lib/site_perl/5.15.2/i686-linux-thread-multi-ld/Class/MOP/Class.pm line 895
	Class::MOP::Class::_post_add_attribute('Moose::Meta::Class=HASH(0x9da5830)', 'Moose::Meta::Attribute=HASH(0x9de8170)') called at /home/bri/perl5/perlbrew/perls/perl-5.15.2/lib/site_perl/5.15.2/i686-linux-thread-multi-ld/Class/MOP/Mixin/HasAttributes.pm line 44
	Class::MOP::Mixin::HasAttributes::add_attribute('Moose::Meta::Class=HASH(0x9da5830)', 'Moose::Meta::Attribute=HASH(0x9de8170)') called at /home/bri/perl5/perlbrew/perls/perl-5.15.2/lib/site_perl/5.15.2/i686-linux-thread-multi-ld/Moose/Meta/Class.pm line 570
	Moose::Meta::Class::add_attribute('Moose::Meta::Class=HASH(0x9da5830)', 'file', 'definition_context', 'HASH(0x9da7dd0)', 'is', 'rw') called at /home/bri/perl5/perlbrew/perls/perl-5.15.2/lib/site_perl/5.15.2/i686-linux-thread-multi-ld/Moose.pm line 77
	Moose::has('Moose::Meta::Class=HASH(0x9da5830)', 'file', 'is', 'rw') called at /home/bri/perl5/perlbrew/perls/perl-5.15.2/lib/site_perl/5.15.2/i686-linux-thread-multi-ld/Moose/Exporter.pm line 356
	Moose::has('file', 'is', 'rw') called at /home/bri/.cpan/build/JS-jQuery-Loader-0.02-rnu1Wv/blib/lib/JS/jQuery/Loader/Location.pm line 18
	require JS/jQuery/Loader/Location.pm called at /home/bri/.cpan/build/JS-jQuery-Loader-0.02-rnu1Wv/blib/lib/JS/jQuery/Loader/Source/URI.pm line 7
	JS::jQuery::Loader::Source::URI::BEGIN() called at /home/bri/.cpan/build/JS-jQuery-Loader-0.02-rnu1Wv/blib/lib/JS/jQuery/Loader/Location.pm line 0
	eval {...} called at /home/bri/.cpan/build/JS-jQuery-Loader-0.02-rnu1Wv/blib/lib/JS/jQuery/Loader/Location.pm line 0
	require JS/jQuery/Loader/Source/URI.pm called at /home/bri/.cpan/build/JS-jQuery-Loader-0.02-rnu1Wv/blib/lib/JS/jQuery/Loader/Source/Internet.pm line 4
	JS::jQuery::Loader::Source::Internet::BEGIN() called at /home/bri/.cpan/build/JS-jQuery-Loader-0.02-rnu1Wv/blib/lib/JS/jQuery/Loader/Location.pm line 0
	eval {...} called at /home/bri/.cpan/build/JS-jQuery-Loader-0.02-rnu1Wv/blib/lib/JS/jQuery/Loader/Location.pm line 0
	require JS/jQuery/Loader/Source/Internet.pm called at /home/bri/.cpan/build/JS-jQuery-Loader-0.02-rnu1Wv/blib/lib/JS/jQuery/Loader.pm line 111
	JS::jQuery::Loader::new_from_internet('JS::jQuery::Loader') called at t/06-html.t line 14
t/06-html.t ...... ok
All tests successful.
Files=7, Tests=28,  3 wallclock secs ( 0.05 usr  0.01 sys +  2.76 cusr  0.14 csys =  2.96 CPU)
Result: PASS

------------------------------
PREREQUISITES
------------------------------

Prerequisite modules loaded:

requires:

    Module              Need Have  
    ------------------- ---- ------
    Carp::Clan::Share   0    0.013 
    Directory::Scratch  0    0.14  
    ExtUtils::MakeMaker 6.59 6.59  
    File::Copy          0    2.21  
    HTML::Declare       0    2.4   
    LWP::UserAgent      0    6.02  
    Moose               0    2.0205
    Path::Abstract      0    0.096 
    Path::Class         0    0.24  
    Test::More          0    0.98  
    URI                 0    1.59  

build_requires:

    Module              Need Have  
    ------------------- ---- ------
    ExtUtils::MakeMaker 0    6.59  


------------------------------
ENVIRONMENT AND OTHER CONTEXT
------------------------------

Environment variables:

    AUTOMATED_TESTING = 1
    LANG = C
    LANGUAGE = en_GB:en
    LC_ALL = C
    PATH = /home/bri/bin:/home/bri/perl5/perlbrew/bin:/home/bri/perl5/perlbrew/perls/perl-5.15.2/bin:~/bin:/usr/local/sbin:/usr/local/bin:/usr/sbin:/usr/bin:/sbin:/bin:/usr/games
    PATH_WITHOUT_PERLBREW = ~/bin:/usr/local/sbin:/usr/local/bin:/usr/sbin:/usr/bin:/sbin:/bin:/usr/games
    PERL5LIB = 
    PERL5OPT = 
    PERL5_CPANPLUS_IS_RUNNING = 31149
    PERL5_CPAN_IS_RUNNING = 31149
    PERL5_CPAN_IS_RUNNING_IN_RECURSION = 1017,31149
    PERLBREW_HOME = /home/bri/.perlbrew
    PERLBREW_PATH = /home/bri/perl5/perlbrew/bin:/home/bri/perl5/perlbrew/perls/perl-5.15.2/bin
    PERLBREW_PERL = perl-5.15.2
    PERLBREW_ROOT = /home/bri/perl5/perlbrew
    PERLBREW_VERSION = 0.29
    PERL_CPANM_OPT = --prompt --mirror http://172.16.1.3/cpan/
    PERL_CR_SMOKER_CURRENT = JS-jQuery-Loader-0.02
    PERL_EXTUTILS_AUTOINSTALL = --defaultdeps
    PERL_MM_USE_DEFAULT = 1
    SHELL = /bin/bash
    TERM = linux

Perl special variables (and OS-specific diagnostics, for MSWin32):

    $^X = /home/bri/perl5/perlbrew/perls/perl-5.15.2/bin/perl5.15.2
    $UID/$EUID = 1000 / 1000
    $GID = 1000 4 20 24 46 112 120 122 1000
    $EGID = 1000 4 20 24 46 112 120 122 1000

Perl module toolchain versions installed:

    Module              Have    
    ------------------- --------
    CPAN                1.9800  
    CPAN::Meta          2.112580
    Cwd                 3.37    
    ExtUtils::CBuilder  0.280204
    ExtUtils::Command   1.17    
    ExtUtils::Install   1.52    
    ExtUtils::MakeMaker 6.59    
    ExtUtils::Manifest  1.60    
    ExtUtils::ParseXS   3.04    
    File::Spec          3.34    
    JSON                2.53    
    JSON::PP            2.27200 
    Module::Build       0.39_01 
    Module::Signature   n/a     
    Parse::CPAN::Meta   1.4401  
    Test::Harness       3.23    
    Test::More          0.98    
    YAML                0.73    
    YAML::Syck          n/a     
    version             0.94    


--

Summary of my perl5 (revision 5 version 15 subversion 2) configuration:
   
  Platform:
    osname=linux, osvers=2.6.38-11-generic, archname=i686-linux-thread-multi-ld
    uname='linux lappy 2.6.38-11-generic #48-ubuntu smp fri jul 29 19:05:14 utc 2011 i686 i686 i386 gnulinux '
    config_args='-de -Dprefix=/home/bri/perl5/perlbrew/perls/perl-5.15.2 -Duselongdouble -Dusethreads -Dusedevel'
    hint=recommended, useposix=true, d_sigaction=define
    useithreads=define, usemultiplicity=define
    useperlio=define, d_sfio=undef, uselargefiles=define, usesocks=undef
    use64bitint=undef, use64bitall=undef, uselongdouble=define
    usemymalloc=n, bincompat5005=undef
  Compiler:
    cc='cc', ccflags ='-D_REENTRANT -D_GNU_SOURCE -fno-strict-aliasing -pipe -fstack-protector -I/usr/local/include -D_LARGEFILE_SOURCE -D_FILE_OFFSET_BITS=64',
    optimize='-O2',
    cppflags='-D_REENTRANT -D_GNU_SOURCE -fno-strict-aliasing -pipe -fstack-protector -I/usr/local/include'
    ccversion='', gccversion='4.5.2', gccosandvers=''
    intsize=4, longsize=4, ptrsize=4, doublesize=8, byteorder=1234
    d_longlong=define, longlongsize=8, d_longdbl=define, longdblsize=12
    ivtype='long', ivsize=4, nvtype='long double', nvsize=12, Off_t='off_t', lseeksize=8
    alignbytes=4, prototype=define
  Linker and Libraries:
    ld='cc', ldflags =' -fstack-protector -L/usr/local/lib'
    libpth=/usr/local/lib /lib /usr/lib /usr/lib/i386-linux-gnu /usr/lib64
    libs=-lnsl -ldl -lm -lcrypt -lutil -lpthread -lc
    perllibs=-lnsl -ldl -lm -lcrypt -lutil -lpthread -lc
    libc=, so=so, useshrplib=false, libperl=libperl.a
    gnulibc_version='2.13'
  Dynamic Linking:
    dlsrc=dl_dlopen.xs, dlext=so, d_dlsymun=undef, ccdlflags='-Wl,-E'
    cccdlflags='-fPIC', lddlflags='-shared -O2 -L/usr/local/lib -fstack-protector'


Characteristics of this binary (from libperl): 
  Compile-time options: HAS_TIMES MULTIPLICITY PERLIO_LAYERS
                        PERL_DONT_CREATE_GVSV PERL_IMPLICIT_CONTEXT
                        PERL_MALLOC_WRAP PERL_PRESERVE_IVUV PERL_USE_DEVEL
                        USE_ITHREADS USE_LARGE_FILES USE_LOCALE
                        USE_LOCALE_COLLATE USE_LOCALE_CTYPE
                        USE_LOCALE_NUMERIC USE_LONG_DOUBLE USE_PERLIO
                        USE_PERL_ATOF USE_REENTRANT_API
  Built under linux
  Compiled at Sep 18 2011 12:00:58
  %ENV:
    PERL5LIB=""
    PERL5OPT=""
    PERL5_CPANPLUS_IS_RUNNING="31149"
    PERL5_CPAN_IS_RUNNING="31149"
    PERL5_CPAN_IS_RUNNING_IN_RECURSION="1017,31149"
    PERLBREW_HOME="/home/bri/.perlbrew"
    PERLBREW_PATH="/home/bri/perl5/perlbrew/bin:/home/bri/perl5/perlbrew/perls/perl-5.15.2/bin"
    PERLBREW_PERL="perl-5.15.2"
    PERLBREW_ROOT="/home/bri/perl5/perlbrew"
    PERLBREW_VERSION="0.29"
    PERL_CPANM_OPT="--prompt --mirror http://172.16.1.3/cpan/"
    PERL_CR_SMOKER_CURRENT="JS-jQuery-Loader-0.02"
    PERL_EXTUTILS_AUTOINSTALL="--defaultdeps"
    PERL_MM_USE_DEFAULT="1"
  @INC:
    /home/bri/perl5/perlbrew/perls/perl-5.15.2/lib/site_perl/5.15.2/i686-linux-thread-multi-ld
    /home/bri/perl5/perlbrew/perls/perl-5.15.2/lib/site_perl/5.15.2
    /home/bri/perl5/perlbrew/perls/perl-5.15.2/lib/5.15.2/i686-linux-thread-multi-ld
    /home/bri/perl5/perlbrew/perls/perl-5.15.2/lib/5.15.2
    .