App-Sysadmin-Log-Simple v0.009 Perl 5 v5.30.0 RC1 x86_64-linux

Status
Pass
From
Andreas J. König (ANDK)
Dist
App-Sysadmin-Log-Simple v0.009
Platform
Perl 5 v5.30.0 RC1 x86_64-linux
Date
2019-05-14 03:28:41
ID
5eb12d1e-75f8-11e9-a664-f26c0dad7b7c
This distribution has been tested as part of the CPAN Testers
project, supporting the Perl programming language.  See
http://wiki.cpantesters.org/ for more information or email
questions to cpan-testers-discuss@perl.org


--
Dear Mike Doherty,

This is a computer-generated report for App-Sysadmin-Log-Simple-0.009
on perl 5.30.0, created by CPAN-Reporter-1.2018.

Thank you for uploading your work to CPAN.  Congratulations!
All tests were successful.

Sections of this report:

    * Tester comments
    * Program output
    * Prerequisites
    * Environment and other context

------------------------------
TESTER COMMENTS
------------------------------

Additional comments from tester:

this report is from an automated smoke testing program
and was not reviewed by a human for accuracy

------------------------------
PROGRAM OUTPUT
------------------------------

Output from './Build test':

t/00-compile.t .. ok
t/01-load.t ..... ok
t/02-view.t ..... ok
t/03-log.t ...... ok
t/04-index.t .... ok
t/05-twitter.t .. ok
t/06-http.t ..... ok
All tests successful.
Files=7, Tests=32,  3 wallclock secs ( 0.03 usr  0.06 sys +  1.67 cusr  0.51 csys =  2.27 CPU)
Result: PASS

------------------------------
PREREQUISITES
------------------------------

Prerequisite modules loaded:

requires:

    Module                          Need    Have    
    ------------------------------- ------- --------
    autodie                         0       2.29    
    Carp                            0       1.50    
    Config::General                 0       2.63    
    DateTime                        0       1.51    
    DateTime::TimeZone              0       2.35    
    File::Find::Rule                0       0.34    
    File::HomeDir                   0       1.004   
    Getopt::Long                    0       2.5     
    HTTP::Tiny                      0       0.076   
    IO::Pager                       0       0.4     
    IO::Socket::INET                0       1.40    
    Module::Pluggable               0       5.2     
    Net::Twitter::Lite::WithAPIv1_1 0       0.12008 
    Path::Tiny                      0       0.108   
    perl                            v5.10.1 5.030000
    Pod::Usage                      0       1.69    
    strict                          0       1.11    
    Try::Tiny                       0       0.30    
    URI::Escape                     0       3.31    
    warnings                        0       1.44    

build_requires:

    Module                          Need    Have    
    ------------------------------- ------- --------
    File::Spec                      0       3.78    
    IO::Handle                      0       1.40    
    IO::Scalar                      0       2.111   
    IPC::Open3                      0       1.20    
    Module::Build                   0.3601  0.4229  
    Path::Tiny                      0.015   0.108   
    Test::More                      0.96    1.302164
    Test::Output                    0       1.031   
    Test::Requires                  0       0.10    
    Test::Script                    1.05    1.25    

configure_requires:

    Module                          Need    Have    
    ------------------------------- ------- --------
    Module::Build                   0.3601  0.4229  


------------------------------
ENVIRONMENT AND OTHER CONTEXT
------------------------------

Environment variables:

    AUTOMATED_TESTING = 1
    LANG = en_US.UTF-8
    PATH = /home/sand/bin:/usr/local/bin:/usr/bin:/bin:/usr/games:/usr/local/perl/bin:/usr/X11/bin:/sbin:/usr/sbin
    PERL5LIB = /tmp/loop_over_bdir-18939-EG76ry/Test-Perinci-CmdLine-1.47-0/blib/arch:/tmp/loop_over_bdir-18939-EG76ry/Test-Perinci-CmdLine-1.47-0/blib/lib:/tmp/loop_over_bdir-18939-EG76ry/Perinci-Examples-0.812-0/blib/arch:/tmp/loop_over_bdir-18939-EG76ry/Perinci-Examples-0.812-0/blib/lib:/tmp/loop_over_bdir-18939-EG76ry/Perinci-Sub-Property-arg-cmdline-0.02-0/blib/arch:/tmp/loop_over_bdir-18939-EG76ry/Perinci-Sub-Property-arg-cmdline-0.02-0/blib/lib:/tmp/loop_over_bdir-18939-EG76ry/Canary-Stability-2013-0/blib/arch:/tmp/loop_over_bdir-18939-EG76ry/Canary-Stability-2013-0/blib/lib:/tmp/loop_over_bdir-18939-EG76ry/Data-Validate-0.09-0/blib/arch:/tmp/loop_over_bdir-18939-EG76ry/Data-Validate-0.09-0/blib/lib
    PERL5OPT = 
    PERL5_CPANPLUS_IS_RUNNING = 19690
    PERL5_CPAN_IS_RUNNING = 19690
    PERL_CANARY_STABILITY_NOPROMPT = 1
    PERL_MM_USE_DEFAULT = 1
    PERL_USE_UNSAFE_INC = 1
    SHELL = /usr/bin/zsh
    TERM = screen

Perl special variables (and OS-specific diagnostics, for MSWin32):

    $^X = /tmp/basesmoker-reloperl-eok7/bin/perl
    $UID/$EUID = 1005 / 1005
    $GID = 1005 1005
    $EGID = 1005 1005

Perl module toolchain versions installed:

    Module              Have    
    ------------------- --------
    CPAN                2.26    
    CPAN::Meta          2.150010
    Cwd                 3.78    
    ExtUtils::CBuilder  0.280231
    ExtUtils::Command   7.36    
    ExtUtils::Install   2.14    
    ExtUtils::MakeMaker 7.36    
    ExtUtils::Manifest  1.72    
    ExtUtils::ParseXS   3.40    
    File::Spec          3.78    
    JSON                4.02    
    JSON::PP            4.02    
    Module::Build       0.4229  
    Module::Signature   0.83    
    Parse::CPAN::Meta   2.150010
    Test::Harness       3.42    
    Test::More          1.302164
    YAML                1.29    
    YAML::Syck          1.31    
    version             0.9924  


--

Summary of my perl5 (revision 5 version 30 subversion 0) configuration:
  Derived from: b36ed338f883ef7a53ac300c82b019f7ce851a8a
  Platform:
    osname=linux
    osvers=4.18.0-2-amd64
    archname=x86_64-linux
    uname='linux k93msid 4.18.0-2-amd64 #1 smp debian 4.18.10-2 (2018-10-07) x86_64 gnulinux '
    config_args='-Dprefix=/home/sand/src/perl/repoperls/installed-perls/host/k93msid/v5.30.0-RC1/da1c -Dmyhostname=k93msid -Dinstallusrbinperl=n -Uversiononly -Dusedevel -des -Ui_db -Dlibswanted=cl pthread socket inet nsl gdbm dbm malloc dl ld sun m crypt sec util c cposix posix ucb BSD gdbm_compat -Uuseithreads -Uuselongdouble -DEBUGGING=-g'
    hint=recommended
    useposix=true
    d_sigaction=define
    useithreads=undef
    usemultiplicity=undef
    use64bitint=define
    use64bitall=define
    uselongdouble=undef
    usemymalloc=n
    default_inc_excludes_dot=define
    bincompat5005=undef
  Compiler:
    cc='cc'
    ccflags ='-fwrapv -fno-strict-aliasing -pipe -fstack-protector-strong -I/usr/local/include -D_LARGEFILE_SOURCE -D_FILE_OFFSET_BITS=64 -D_FORTIFY_SOURCE=2'
    optimize='-O2 -g'
    cppflags='-fwrapv -fno-strict-aliasing -pipe -fstack-protector-strong -I/usr/local/include'
    ccversion=''
    gccversion='8.2.0'
    gccosandvers=''
    intsize=4
    longsize=8
    ptrsize=8
    doublesize=8
    byteorder=12345678
    doublekind=3
    d_longlong=define
    longlongsize=8
    d_longdbl=define
    longdblsize=16
    longdblkind=3
    ivtype='long'
    ivsize=8
    nvtype='double'
    nvsize=8
    Off_t='off_t'
    lseeksize=8
    alignbytes=8
    prototype=define
  Linker and Libraries:
    ld='cc'
    ldflags =' -fstack-protector-strong -L/usr/local/lib'
    libpth=/usr/local/lib /usr/lib/gcc/x86_64-linux-gnu/8/include-fixed /usr/include/x86_64-linux-gnu /usr/lib /lib/x86_64-linux-gnu /lib/../lib /usr/lib/x86_64-linux-gnu /usr/lib/../lib /lib
    libs=-lpthread -lnsl -ldl -lm -lcrypt -lutil -lc
    perllibs=-lpthread -lnsl -ldl -lm -lcrypt -lutil -lc
    libc=libc-2.27.so
    so=so
    useshrplib=false
    libperl=libperl.a
    gnulibc_version='2.27'
  Dynamic Linking:
    dlsrc=dl_dlopen.xs
    dlext=so
    d_dlsymun=undef
    ccdlflags='-Wl,-E'
    cccdlflags='-fPIC'
    lddlflags='-shared -O2 -g -L/usr/local/lib -fstack-protector-strong'


Characteristics of this binary (from libperl): 
  Compile-time options:
    HAS_TIMES
    PERLIO_LAYERS
    PERL_COPY_ON_WRITE
    PERL_DONT_CREATE_GVSV
    PERL_MALLOC_WRAP
    PERL_OP_PARENT
    PERL_PRESERVE_IVUV
    PERL_USE_DEVEL
    USE_64_BIT_ALL
    USE_64_BIT_INT
    USE_LARGE_FILES
    USE_LOCALE
    USE_LOCALE_COLLATE
    USE_LOCALE_CTYPE
    USE_LOCALE_NUMERIC
    USE_LOCALE_TIME
    USE_PERLIO
    USE_PERL_ATOF
  Locally applied patches:
    RC1
    uncommitted-changes
  Built under linux
  Compiled at May 12 2019 07:07:43
  %ENV:
    PERL5LIB="/tmp/loop_over_bdir-18939-EG76ry/Test-Perinci-CmdLine-1.47-0/blib/arch:/tmp/loop_over_bdir-18939-EG76ry/Test-Perinci-CmdLine-1.47-0/blib/lib:/tmp/loop_over_bdir-18939-EG76ry/Perinci-Examples-0.812-0/blib/arch:/tmp/loop_over_bdir-18939-EG76ry/Perinci-Examples-0.812-0/blib/lib:/tmp/loop_over_bdir-18939-EG76ry/Perinci-Sub-Property-arg-cmdline-0.02-0/blib/arch:/tmp/loop_over_bdir-18939-EG76ry/Perinci-Sub-Property-arg-cmdline-0.02-0/blib/lib:/tmp/loop_over_bdir-18939-EG76ry/Canary-Stability-2013-0/blib/arch:/tmp/loop_over_bdir-18939-EG76ry/Canary-Stability-2013-0/blib/lib:/tmp/loop_over_bdir-18939-EG76ry/Data-Validate-0.09-0/blib/arch:/tmp/loop_over_bdir-18939-EG76ry/Data-Validate-0.09-0/blib/lib"
    PERL5OPT=""
    PERL5_CPANPLUS_IS_RUNNING="19690"
    PERL5_CPAN_IS_RUNNING="19690"
    PERL_CANARY_STABILITY_NOPROMPT="1"
    PERL_MM_USE_DEFAULT="1"
    PERL_USE_UNSAFE_INC="1"
  @INC:
    /tmp/loop_over_bdir-18939-EG76ry/Test-Perinci-CmdLine-1.47-0/blib/arch
    /tmp/loop_over_bdir-18939-EG76ry/Test-Perinci-CmdLine-1.47-0/blib/lib
    /tmp/loop_over_bdir-18939-EG76ry/Perinci-Examples-0.812-0/blib/arch
    /tmp/loop_over_bdir-18939-EG76ry/Perinci-Examples-0.812-0/blib/lib
    /tmp/loop_over_bdir-18939-EG76ry/Perinci-Sub-Property-arg-cmdline-0.02-0/blib/arch
    /tmp/loop_over_bdir-18939-EG76ry/Perinci-Sub-Property-arg-cmdline-0.02-0/blib/lib
    /tmp/loop_over_bdir-18939-EG76ry/Canary-Stability-2013-0/blib/arch
    /tmp/loop_over_bdir-18939-EG76ry/Canary-Stability-2013-0/blib/lib
    /tmp/loop_over_bdir-18939-EG76ry/Data-Validate-0.09-0/blib/arch
    /tmp/loop_over_bdir-18939-EG76ry/Data-Validate-0.09-0/blib/lib
    /home/sand/src/perl/repoperls/installed-perls/host/k93msid/v5.30.0-RC1/da1c/lib/site_perl/5.30.0/x86_64-linux
    /home/sand/src/perl/repoperls/installed-perls/host/k93msid/v5.30.0-RC1/da1c/lib/site_perl/5.30.0
    /home/sand/src/perl/repoperls/installed-perls/host/k93msid/v5.30.0-RC1/da1c/lib/5.30.0/x86_64-linux
    /home/sand/src/perl/repoperls/installed-perls/host/k93msid/v5.30.0-RC1/da1c/lib/5.30.0
    .