Report for IO-Iron-0.11

Back
From: metabase:user:a0e144f2-373b-11e6-8edd-c6848980b093
Subject: PASS IO-Iron-0.11 v5.24.1 RC4 GNU/Linux
Date: 2016-10-17T11:46:41Z

This distribution has been tested as part of the CPAN Testers
project, supporting the Perl programming language.  See
http://wiki.cpantesters.org/ for more information or email
questions to cpan-testers-discuss@perl.org


--
Dear Mikko Koivunalho,

This is a computer-generated report for IO-Iron-0.11
on perl 5.24.1, created by CPAN-Reporter-1.2018.

Thank you for uploading your work to CPAN.  Congratulations!
All tests were successful.

Sections of this report:

    * Tester comments
    * Program output
    * Prerequisites
    * Environment and other context

------------------------------
TESTER COMMENTS
------------------------------

Additional comments from tester:

this report is from an automated smoke testing program
and was not reviewed by a human for accuracy

------------------------------
PROGRAM OUTPUT
------------------------------

Output from '/usr/bin/make test':

PERL_DL_NONLAZY=1 "/home/cpan4/install/bin/perl" "-MExtUtils::Command::MM" "-MTest::Harness" "-e" "undef *Test::Harness::Switches; test_harness(0, 'blib/lib', 'blib/arch')" t/Iron/*.t t/IronCache/*.t t/IronMQ/*.t t/IronWorker/*.t
# Testing IO::Iron::IronMQ 0.11, Perl 5.024001, /home/cpan4/install/bin/perl
# test ReadIronMQConfig
# Current dir config filename: ./iron.json
# Extra config filename: t/.IronMQTestConfig.json
# Testing IO::Iron::IronCache::Client with policies, Perl 5.024001, /home/cpan4/install/bin/perl
t/Iron/client_readconfig.t ... ok
# Testing IO::Iron::IronCache, Perl 5.024001, /home/cpan4/install/bin/perl
t/IronCache/load.t ........... ok
# Testing IO::Iron 0.11, Perl 5.024001, /home/cpan4/install/bin/perl
t/Iron/load.t ................ ok
t/IronCache/cache_policy.t ... ok
# Testing IO::Iron::IronCache::Client with policies, Perl 5.024001, /home/cpan4/install/bin/perl
# Testing IO::Iron::IronMQ 0.11, Perl 5.024001, /home/cpan4/install/bin/perl
t/IronMQ/load.t .............. ok
# Testing IO::Iron::IronWorker 0.11, Perl 5.024001, /home/cpan4/install/bin/perl
t/IronWorker/load.t .......... ok
t/IronCache/cache_policy2.t .. ok
All tests successful.
Files=7, Tests=92,  1 wallclock secs ( 0.06 usr  0.01 sys +  1.84 cusr  0.08 csys =  1.99 CPU)
Result: PASS

------------------------------
PREREQUISITES
------------------------------

Prerequisite modules loaded:

requires:

    Module             Need Have    
    ------------------ ---- --------
    Carp               0    1.38    
    Carp::Assert       0    0.21    
    Carp::Assert::More 0    1.14    
    constant           0    1.33    
    Data::Dumper       0    2.161   
    Data::UUID         0    1.221   
    English            0    1.10    
    Exception::Class   0    1.40    
    Exporter           0    5.72    
    File::HomeDir      0    1.00    
    File::Slurp        0    9999.19 
    File::Spec         0    3.62    
    Hash::Util         0.06 0.19    
    JSON::MaybeXS      0    1.003008
    Log::Any           0    1.042   
    Params::Validate   0    1.26    
    parent             0    0.236   
    REST::Client       0    273     
    Scalar::Util       0    1.46    
    strict             0    1.11    
    Try::Tiny          0    0.27    
    URI::Escape        0    3.31    
    warnings           0    1.36    

build_requires:

    Module             Need Have    
    ------------------ ---- --------
    File::Copy         0    2.31    
    File::Remove       0    1.57    
    lib                0    0.63    
    Log::Any::Test     0    1.042   
    Test::Exception    0    0.43    
    Test::More         0    1.302061


------------------------------
ENVIRONMENT AND OTHER CONTEXT
------------------------------

Environment variables:

    AUTOMATED_TESTING = 1
    HARNESS_OPTIONS = j5
    LANG = en_US.UTF-8
    PATH = /usr/local/bin:/usr/bin:/bin:/usr/local/games:/usr/games
    PERL5LIB = 
    PERL5OPT = 
    PERL5_CPANPLUS_IS_RUNNING = 11703
    PERL5_CPAN_IS_RUNNING = 11703
    PERL5_CPAN_IS_RUNNING_IN_RECURSION = 31291,11703
    PERLBREW_BASHRC_VERSION = 0.76
    PERLBREW_HOME = /home/dcollins/.perlbrew
    PERLBREW_ROOT = /home/dcollins/toolchain/perl5
    PERL_CR_SMOKER_CURRENT = IO-Iron-0.11
    PERL_CR_SMOKER_RUNONCE = 1
    PERL_EXTUTILS_AUTOINSTALL = --defaultdeps
    PERL_MM_USE_DEFAULT = 1
    SHELL = /bin/bash
    TERM = putty

Perl special variables (and OS-specific diagnostics, for MSWin32):

    $^X = /home/cpan4/install/bin/perl
    $UID/$EUID = 1005 / 1005
    $GID = 1005 1005
    $EGID = 1005 1005

Perl module toolchain versions installed:

    Module              Have    
    ------------------- --------
    CPAN                2.14    
    CPAN::Meta          2.150010
    Cwd                 3.62    
    ExtUtils::CBuilder  0.280224
    ExtUtils::Command   7.24    
    ExtUtils::Install   2.04    
    ExtUtils::MakeMaker 7.24    
    ExtUtils::Manifest  1.70    
    ExtUtils::ParseXS   3.30    
    File::Spec          3.62    
    JSON                2.90    
    JSON::PP            2.27400 
    Module::Build       0.4220  
    Module::Signature   0.81    
    Parse::CPAN::Meta   2.150010
    Test::Harness       3.36_01 
    Test::More          1.302061
    YAML                1.18    
    YAML::Syck          1.29    
    version             0.9917  


--

Summary of my perl5 (revision 5 version 24 subversion 1) configuration:
   
  Platform:
    osname=linux, osvers=3.16.0-4-amd64, archname=x86_64-linux-thread-multi
    uname='linux digitalis 3.16.0-4-amd64 #1 smp debian 3.16.36-1+deb8u1 (2016-09-03) x86_64 gnulinux '
    config_args='-Dusedevel -DDEBUGGING -Dusethreads -Dprefix=/home/cpan4/install -Uversiononly -des'
    hint=recommended, useposix=true, d_sigaction=define
    useithreads=define, usemultiplicity=define
    use64bitint=define, use64bitall=define, uselongdouble=undef
    usemymalloc=n, bincompat5005=undef
  Compiler:
    cc='cc', ccflags ='-D_REENTRANT -D_GNU_SOURCE -fwrapv -DDEBUGGING -fno-strict-aliasing -pipe -fstack-protector-strong -I/usr/local/include -D_LARGEFILE_SOURCE -D_FILE_OFFSET_BITS=64 -D_FORTIFY_SOURCE=2',
    optimize='-O2 -g',
    cppflags='-D_REENTRANT -D_GNU_SOURCE -fwrapv -DDEBUGGING -fno-strict-aliasing -pipe -fstack-protector-strong -I/usr/local/include'
    ccversion='', gccversion='4.9.2', gccosandvers=''
    intsize=4, longsize=8, ptrsize=8, doublesize=8, byteorder=12345678, doublekind=3
    d_longlong=define, longlongsize=8, d_longdbl=define, longdblsize=16, longdblkind=3
    ivtype='long', ivsize=8, nvtype='double', nvsize=8, Off_t='off_t', lseeksize=8
    alignbytes=8, prototype=define
  Linker and Libraries:
    ld='cc', ldflags =' -fstack-protector-strong -L/usr/local/lib'
    libpth=/usr/local/lib /usr/lib/gcc/x86_64-linux-gnu/4.9/include-fixed /usr/include/x86_64-linux-gnu /usr/lib /lib/x86_64-linux-gnu /lib/../lib /usr/lib/x86_64-linux-gnu /usr/lib/../lib /lib
    libs=-lpthread -lnsl -ldl -lm -lcrypt -lutil -lc
    perllibs=-lpthread -lnsl -ldl -lm -lcrypt -lutil -lc
    libc=libc-2.19.so, so=so, useshrplib=false, libperl=libperl.a
    gnulibc_version='2.19'
  Dynamic Linking:
    dlsrc=dl_dlopen.xs, dlext=so, d_dlsymun=undef, ccdlflags='-Wl,-E'
    cccdlflags='-fPIC', lddlflags='-shared -O2 -g -L/usr/local/lib -fstack-protector-strong'


Characteristics of this binary (from libperl): 
  Compile-time options: DEBUGGING HAS_TIMES MULTIPLICITY PERLIO_LAYERS
                        PERL_COPY_ON_WRITE PERL_DONT_CREATE_GVSV
                        PERL_HASH_FUNC_ONE_AT_A_TIME_HARD
                        PERL_IMPLICIT_CONTEXT PERL_MALLOC_WRAP
                        PERL_PRESERVE_IVUV PERL_TRACK_MEMPOOL PERL_USE_DEVEL
                        USE_64_BIT_ALL USE_64_BIT_INT USE_ITHREADS
                        USE_LARGE_FILES USE_LOCALE USE_LOCALE_COLLATE
                        USE_LOCALE_CTYPE USE_LOCALE_NUMERIC USE_LOCALE_TIME
                        USE_PERLIO USE_PERL_ATOF USE_REENTRANT_API
  Locally applied patches:
	RC4
  Built under linux
  Compiled at Oct 12 2016 18:25:36
  %ENV:
    PERL5LIB=""
    PERL5OPT=""
    PERL5_CPANPLUS_IS_RUNNING="11703"
    PERL5_CPAN_IS_RUNNING="11703"
    PERL5_CPAN_IS_RUNNING_IN_RECURSION="31291,11703"
    PERLBREW_BASHRC_VERSION="0.76"
    PERLBREW_HOME="/home/dcollins/.perlbrew"
    PERLBREW_ROOT="/home/dcollins/toolchain/perl5"
    PERL_CR_SMOKER_CURRENT="IO-Iron-0.11"
    PERL_CR_SMOKER_RUNONCE="1"
    PERL_EXTUTILS_AUTOINSTALL="--defaultdeps"
    PERL_MM_USE_DEFAULT="1"
  @INC:
    /home/cpan4/install/lib/perl5/site_perl/5.24.1/x86_64-linux-thread-multi
    /home/cpan4/install/lib/perl5/site_perl/5.24.1
    /home/cpan4/install/lib/perl5/5.24.1/x86_64-linux-thread-multi
    /home/cpan4/install/lib/perl5/5.24.1
    .