Sniffer-HTTP v0.26 Perl 5 v5.20.3 x86_64-linux-thread-multi

Status
Pass
From
Andreas J. König (ANDK)
Dist
Sniffer-HTTP v0.26
Platform
Perl 5 v5.20.3 x86_64-linux-thread-multi
Date
2022-10-18 09:15:11
ID
5e744670-4ec5-11ed-b99c-1c595070184c
This distribution has been tested as part of the CPAN Testers
project, supporting the Perl programming language.  See
http://wiki.cpantesters.org/ for more information or email
questions to cpan-testers-discuss@perl.org


--
Dear Max Maischein,

This is a computer-generated report for Sniffer-HTTP-0.26
on perl 5.20.3, created by CPAN-Reporter-1.2018.

Thank you for uploading your work to CPAN.  Congratulations!
All tests were successful.

Sections of this report:

    * Tester comments
    * Program output
    * Prerequisites
    * Environment and other context

------------------------------
TESTER COMMENTS
------------------------------

Additional comments from tester:

this report is from an automated smoke testing program
and was not reviewed by a human for accuracy

------------------------------
PROGRAM OUTPUT
------------------------------

Output from '/usr/bin/make test':

PERL_DL_NONLAZY=1 "/home/sand/src/perl/repoperls/installed-perls/host/k93msid/v5.20.3/29fb/bin/perl" "-MExtUtils::Command::MM" "-MTest::Harness" "-e" "undef *Test::Harness::Switches; test_harness(0, 'blib/lib', 'blib/arch')" t/*.t
# Pcap lib_version is libpcap version 1.10.1 (with TPACKET_V3)
# You're not running the tests as root - they might fail
Can't exec "netstat": No such file or directory at /tmp/loop_over_bdir-1524166-sbjgCy/Sniffer-HTTP-0.26-0/blib/lib/Net/Pcap/FindDevice.pm line 105.
Use of uninitialized value $device_ip in exists at /tmp/loop_over_bdir-1524166-sbjgCy/Sniffer-HTTP-0.26-0/blib/lib/Net/Pcap/FindDevice.pm line 120.
Use of uninitialized value $ip in split at /tmp/loop_over_bdir-1524166-sbjgCy/Sniffer-HTTP-0.26-0/blib/lib/Net/Pcap/FindDevice.pm line 159.
Can't exec "netstat": No such file or directory at /tmp/loop_over_bdir-1524166-sbjgCy/Sniffer-HTTP-0.26-0/blib/lib/Net/Pcap/FindDevice.pm line 105.
Use of uninitialized value $device_ip in exists at /tmp/loop_over_bdir-1524166-sbjgCy/Sniffer-HTTP-0.26-0/blib/lib/Net/Pcap/FindDevice.pm line 120.
Use of uninitialized value $ip in split at /tmp/loop_over_bdir-1524166-sbjgCy/Sniffer-HTTP-0.26-0/blib/lib/Net/Pcap/FindDevice.pm line 159.
Can't exec "netstat": No such file or directory at /tmp/loop_over_bdir-1524166-sbjgCy/Sniffer-HTTP-0.26-0/blib/lib/Net/Pcap/FindDevice.pm line 105.
Use of uninitialized value $device_ip in exists at /tmp/loop_over_bdir-1524166-sbjgCy/Sniffer-HTTP-0.26-0/blib/lib/Net/Pcap/FindDevice.pm line 120.
Use of uninitialized value $ip in split at /tmp/loop_over_bdir-1524166-sbjgCy/Sniffer-HTTP-0.26-0/blib/lib/Net/Pcap/FindDevice.pm line 159.
Can't exec "netstat": No such file or directory at /tmp/loop_over_bdir-1524166-sbjgCy/Sniffer-HTTP-0.26-0/blib/lib/Net/Pcap/FindDevice.pm line 105.
Use of uninitialized value $device_ip in exists at /tmp/loop_over_bdir-1524166-sbjgCy/Sniffer-HTTP-0.26-0/blib/lib/Net/Pcap/FindDevice.pm line 120.
Use of uninitialized value $ip in split at /tmp/loop_over_bdir-1524166-sbjgCy/Sniffer-HTTP-0.26-0/blib/lib/Net/Pcap/FindDevice.pm line 159.
Use of uninitialized value in subroutine entry at t/01-find_device.t line 46.
Use of uninitialized value $name in concatenation (.) or string at t/01-find_device.t line 46.
Use of uninitialized value $address in pack at t/01-find_device.t line 47.
Use of uninitialized value $name in concatenation (.) or string at t/01-find_device.t line 48.
t/01-find_device.t ...... ok
t/01-use.t .............. ok
# You're not running the tests as root - they might fail
Can't exec "netstat": No such file or directory at /tmp/loop_over_bdir-1524166-sbjgCy/Sniffer-HTTP-0.26-0/blib/lib/Net/Pcap/FindDevice.pm line 105.
Use of uninitialized value $device_ip in exists at /tmp/loop_over_bdir-1524166-sbjgCy/Sniffer-HTTP-0.26-0/blib/lib/Net/Pcap/FindDevice.pm line 120.
Use of uninitialized value $ip in split at /tmp/loop_over_bdir-1524166-sbjgCy/Sniffer-HTTP-0.26-0/blib/lib/Net/Pcap/FindDevice.pm line 159.
# Creating connection 2537:80, sequence start at 779081851
# Got header
# Request header and content are ready (0 bytes)
# Got chunksize 0, reporting response
# Removing 2537:80
t/02-chunked.t .......... ok
# You're not running the tests as root - they might fail
Can't exec "netstat": No such file or directory at /tmp/loop_over_bdir-1524166-sbjgCy/Sniffer-HTTP-0.26-0/blib/lib/Net/Pcap/FindDevice.pm line 105.
Use of uninitialized value $device_ip in exists at /tmp/loop_over_bdir-1524166-sbjgCy/Sniffer-HTTP-0.26-0/blib/lib/Net/Pcap/FindDevice.pm line 120.
Use of uninitialized value $ip in split at /tmp/loop_over_bdir-1524166-sbjgCy/Sniffer-HTTP-0.26-0/blib/lib/Net/Pcap/FindDevice.pm line 159.
# Creating connection 2929:80, sequence start at 4158002222
# Got header
# Request header and content are ready (0 bytes)
# Got chunksize 0, reporting response
# Got header
# Request header and content are ready (0 bytes)
# Got chunksize 0, reporting response
t/03-libpcap_dump.t ..... ok
# You're not running the tests as root - they might fail
Can't exec "netstat": No such file or directory at /tmp/loop_over_bdir-1524166-sbjgCy/Sniffer-HTTP-0.26-0/blib/lib/Net/Pcap/FindDevice.pm line 105.
Use of uninitialized value $device_ip in exists at /tmp/loop_over_bdir-1524166-sbjgCy/Sniffer-HTTP-0.26-0/blib/lib/Net/Pcap/FindDevice.pm line 120.
Use of uninitialized value $ip in split at /tmp/loop_over_bdir-1524166-sbjgCy/Sniffer-HTTP-0.26-0/blib/lib/Net/Pcap/FindDevice.pm line 159.
# Creating connection 4345:8888, sequence start at 2872133876
# Got header
# Request header and content are ready (0 bytes)
# Got chunksize 0, reporting response
# Got header
# Request header and content are ready (0 bytes)
# Got chunksize 0, reporting response
t/04-other_port.t ....... ok
# Using libpcap version 1.10.1 (with TPACKET_V3)
# We are not root. find_device() might be unreliable and tests might fail.
Can't exec "netstat": No such file or directory at /tmp/loop_over_bdir-1524166-sbjgCy/Sniffer-HTTP-0.26-0/blib/lib/Net/Pcap/FindDevice.pm line 105.
Use of uninitialized value $device_ip in exists at /tmp/loop_over_bdir-1524166-sbjgCy/Sniffer-HTTP-0.26-0/blib/lib/Net/Pcap/FindDevice.pm line 120.
Use of uninitialized value $ip in split at /tmp/loop_over_bdir-1524166-sbjgCy/Sniffer-HTTP-0.26-0/blib/lib/Net/Pcap/FindDevice.pm line 159.
# *** Doing live capture of an LWP request to http://www.cpan.org/
# *** If that is blocked or you live behind a proxy, this test will fail.
# *** The dump-to-file feature is untested then.
Can't exec "netstat": No such file or directory at /tmp/loop_over_bdir-1524166-sbjgCy/Sniffer-HTTP-0.26-0/blib/lib/Net/Pcap/FindDevice.pm line 105.
Use of uninitialized value $device_ip in exists at /tmp/loop_over_bdir-1524166-sbjgCy/Sniffer-HTTP-0.26-0/blib/lib/Net/Pcap/FindDevice.pm line 120.
Use of uninitialized value $ip in split at /tmp/loop_over_bdir-1524166-sbjgCy/Sniffer-HTTP-0.26-0/blib/lib/Net/Pcap/FindDevice.pm line 159.
Use of uninitialized value $dev in concatenation (.) or string at t/05-capture_to_file.t line 75.
# Using device ''
# Launching request to 'http://www.cpan.org/'
Can't exec "netstat": No such file or directory at /tmp/loop_over_bdir-1524166-sbjgCy/Sniffer-HTTP-0.26-0/blib/lib/Net/Pcap/FindDevice.pm line 105.
Use of uninitialized value $device_ip in exists at /tmp/loop_over_bdir-1524166-sbjgCy/Sniffer-HTTP-0.26-0/blib/lib/Net/Pcap/FindDevice.pm line 120.
Use of uninitialized value $ip in split at /tmp/loop_over_bdir-1524166-sbjgCy/Sniffer-HTTP-0.26-0/blib/lib/Net/Pcap/FindDevice.pm line 159.
Use of uninitialized value in subroutine entry at /tmp/loop_over_bdir-1524166-sbjgCy/Sniffer-HTTP-0.26-0/blib/lib/Sniffer/HTTP.pm line 413.
# Couldn't sniff: Unable to look up device information for '<user specified device>': SIOCGIFADDR: : No such device at /tmp/loop_over_bdir-1524166-sbjgCy/Sniffer-HTTP-0.26-0/blib/lib/Sniffer/HTTP.pm line 414.
# Are you sure you have the proper permissions?
# Maybe you need to be root to get the proper permissions. Your user id is 1005
# Child done.
t/05-capture_to_file.t .. ok
All tests successful.

Test Summary Report
-------------------
t/01-find_device.t    (Wstat: 0 Tests: 11 Failed: 0)
  TODO passed:   3, 5-6, 9-11
Files=6, Tests=34,  4 wallclock secs ( 0.05 usr  0.06 sys +  0.75 cusr  0.52 csys =  1.38 CPU)
Result: PASS

------------------------------
PREREQUISITES
------------------------------

Prerequisite modules loaded:

requires:

    Module                   Need  Have    
    ------------------------ ----- --------
    Class::Accessor          0     0.51    
    Class::Data::Inheritable 0     0.09    
    Exporter                 5.5   5.74    
    HTTP::Request            6.14  6.37    
    HTTP::Response           6.14  6.37    
    LWP::Simple              0     6.66    
    Net::Pcap                0.09  0.20    
    NetPacket::TCP           0     1.7.2   
    parent                   0     0.228   
    perl                     5.006 5.020003

build_requires:

    Module                   Need  Have    
    ------------------------ ----- --------
    ExtUtils::MakeMaker      0     7.64    

configure_requires:

    Module                   Need  Have    
    ------------------------ ----- --------
    ExtUtils::MakeMaker      0     7.64    


------------------------------
ENVIRONMENT AND OTHER CONTEXT
------------------------------

Environment variables:

    AUTOMATED_TESTING = 1
    LANG = en_US.UTF-8
    LANGUAGE = en_US:en
    PATH = /home/sand/bin:/usr/local/bin:/usr/bin:/bin:/usr/games:/usr/local/perl/bin:/usr/X11/bin:/sbin:/usr/sbin
    PERL5LIB = 
    PERL5OPT = 
    PERL5_CPANPLUS_IS_RUNNING = 3144833
    PERL5_CPAN_IS_RUNNING = 3144833
    PERL_CANARY_STABILITY_NOPROMPT = 1
    PERL_MM_USE_DEFAULT = 1
    PERL_USE_UNSAFE_INC = 1
    SHELL = /usr/bin/zsh
    TERM = screen

Perl special variables (and OS-specific diagnostics, for MSWin32):

    $^X = /home/sand/src/perl/repoperls/installed-perls/host/k93msid/v5.20.3/29fb/bin/perl
    $UID/$EUID = 1005 / 1005
    $GID = 1005 1005
    $EGID = 1005 1005

Perl module toolchain versions installed:

    Module              Have    
    ------------------- --------
    CPAN                2.34    
    CPAN::Meta          2.150010
    Cwd                 3.75    
    ExtUtils::CBuilder  0.280236
    ExtUtils::Command   7.64    
    ExtUtils::Install   2.06    
    ExtUtils::MakeMaker 7.64    
    ExtUtils::Manifest  1.70    
    ExtUtils::ParseXS   3.44    
    File::Spec          3.75    
    JSON                4.10    
    JSON::PP            4.10    
    Module::Build       0.4231  
    Module::Signature   0.88    
    Parse::CPAN::Meta   2.150010
    Test::Harness       3.44    
    Test::More          1.302191
    YAML                1.30    
    YAML::Syck          1.34    
    version             0.9929  


--

Summary of my perl5 (revision 5 version 20 subversion 3) configuration:
  Derived from: b67331aafd6eff33e3fd904c45e811f69cbfb0b2
  Platform:
    osname=linux, osvers=5.3.0-2-amd64, archname=x86_64-linux-thread-multi
    uname='linux k93msid 5.3.0-2-amd64 #1 smp debian 5.3.9-3 (2019-11-19) x86_64 gnulinux '
    config_args='-Dprefix=/home/sand/src/perl/repoperls/installed-perls/host/k93msid/v5.20.3/29fb -Dmyhostname=k93msid -Dinstallusrbinperl=n -Uversiononly -Dusedevel -des -Ui_db -Dlibswanted=cl pthread socket inet nsl gdbm dbm malloc dl ld sun m crypt sec util c cposix posix ucb BSD gdbm_compat -Duseithreads -Uuselongdouble -DEBUGGING=both'
    hint=recommended, useposix=true, d_sigaction=define
    useithreads=define, usemultiplicity=define
    use64bitint=define, use64bitall=define, uselongdouble=undef
    usemymalloc=n, bincompat5005=undef
  Compiler:
    cc='cc', ccflags ='-D_REENTRANT -D_GNU_SOURCE -fwrapv -DDEBUGGING -fno-strict-aliasing -pipe -fstack-protector -I/usr/local/include -D_LARGEFILE_SOURCE -D_FILE_OFFSET_BITS=64',
    optimize='-O2 -g',
    cppflags='-D_REENTRANT -D_GNU_SOURCE -fwrapv -DDEBUGGING -fno-strict-aliasing -pipe -fstack-protector -I/usr/local/include'
    ccversion='', gccversion='9.2.1 20191109', gccosandvers=''
    intsize=4, longsize=8, ptrsize=8, doublesize=8, byteorder=12345678
    d_longlong=define, longlongsize=8, d_longdbl=define, longdblsize=16
    ivtype='long', ivsize=8, nvtype='double', nvsize=8, Off_t='off_t', lseeksize=8
    alignbytes=8, prototype=define
  Linker and Libraries:
    ld='cc', ldflags =' -fstack-protector -L/usr/local/lib'
    libpth=/usr/local/lib /usr/lib/gcc/x86_64-linux-gnu/9/include-fixed /usr/include/x86_64-linux-gnu /usr/lib /lib/x86_64-linux-gnu /lib/../lib /usr/lib/x86_64-linux-gnu /usr/lib/../lib /lib
    libs=-lpthread -lnsl -ldl -lm -lcrypt -lutil -lc
    perllibs=-lpthread -lnsl -ldl -lm -lcrypt -lutil -lc
    libc=libc-2.29.so, so=so, useshrplib=false, libperl=libperl.a
    gnulibc_version='2.29'
  Dynamic Linking:
    dlsrc=dl_dlopen.xs, dlext=so, d_dlsymun=undef, ccdlflags='-Wl,-E'
    cccdlflags='-fPIC', lddlflags='-shared -O2 -g -L/usr/local/lib -fstack-protector'


Characteristics of this binary (from libperl): 
  Compile-time options: DEBUGGING HAS_TIMES MULTIPLICITY PERLIO_LAYERS
                        PERL_DONT_CREATE_GVSV
                        PERL_HASH_FUNC_ONE_AT_A_TIME_HARD
                        PERL_IMPLICIT_CONTEXT PERL_MALLOC_WRAP
                        PERL_NEW_COPY_ON_WRITE PERL_PRESERVE_IVUV
                        PERL_TRACK_MEMPOOL PERL_USE_DEVEL USE_64_BIT_ALL
                        USE_64_BIT_INT USE_ITHREADS USE_LARGE_FILES
                        USE_LOCALE USE_LOCALE_COLLATE USE_LOCALE_CTYPE
                        USE_LOCALE_NUMERIC USE_PERLIO USE_PERL_ATOF
                        USE_REENTRANT_API
  Locally applied patches:
	uncommitted-changes
  Built under linux
  Compiled at May 15 2020 09:28:51
  %ENV:
    PERL5LIB=""
    PERL5OPT=""
    PERL5_CPANPLUS_IS_RUNNING="3144833"
    PERL5_CPAN_IS_RUNNING="3144833"
    PERL_CANARY_STABILITY_NOPROMPT="1"
    PERL_MM_USE_DEFAULT="1"
    PERL_USE_UNSAFE_INC="1"
  @INC:
    /home/sand/src/perl/repoperls/installed-perls/host/k93msid/v5.20.3/29fb/lib/site_perl/5.20.3/x86_64-linux-thread-multi
    /home/sand/src/perl/repoperls/installed-perls/host/k93msid/v5.20.3/29fb/lib/site_perl/5.20.3
    /home/sand/src/perl/repoperls/installed-perls/host/k93msid/v5.20.3/29fb/lib/5.20.3/x86_64-linux-thread-multi
    /home/sand/src/perl/repoperls/installed-perls/host/k93msid/v5.20.3/29fb/lib/5.20.3
    .