WebService-LogicMonitor v0.211560 Perl 5 v5.41.9 x86_64-linux
- Status
- Pass
- From
- Andreas J. König (ANDK)
- Dist
-
WebService-LogicMonitor v0.211560
- Platform
- Perl 5 v5.41.9 x86_64-linux
- Date
- 2025-03-05 19:52:28
- ID
- 5e2e6b1c-f9fb-11ef-9630-a0bdd41f314d
This distribution has been tested as part of the CPAN Testers
project, supporting the Perl programming language. See
http://wiki.cpantesters.org/ for more information or email
questions to cpan-testers-discuss@perl.org
--
Dear Ioan Rogers,
This is a computer-generated report for WebService-LogicMonitor-0.211560
on perl 5.41.9, created by CPAN-Reporter-1.2020.
Thank you for uploading your work to CPAN. Congratulations!
All tests were successful.
Sections of this report:
* Tester comments
* Program output
* Prerequisites
* Environment and other context
------------------------------
TESTER COMMENTS
------------------------------
Additional comments from tester:
this report is from an automated smoke testing program
and was not reviewed by a human for accuracy
------------------------------
PROGRAM OUTPUT
------------------------------
Output from './Build test':
t/00-compile.t ......... ok
t/accounts.t ........... skipped: LOGICMONITOR_USER, LOGICMONITOR_PASS and LOGICMONITOR_COMPANY environment variables must be set
t/alerts.t ............. skipped: LOGICMONITOR_USER, LOGICMONITOR_PASS and LOGICMONITOR_COMPANY environment variables must be set
t/data.t ............... skipped: LOGICMONITOR_USER, LOGICMONITOR_PASS and LOGICMONITOR_COMPANY environment variables must be set
t/escalation_chains.t .. skipped: LOGICMONITOR_USER, LOGICMONITOR_PASS and LOGICMONITOR_COMPANY environment variables must be set
t/groups.t ............. skipped: LOGICMONITOR_USER, LOGICMONITOR_PASS and LOGICMONITOR_COMPANY environment variables must be set
t/hosts.t .............. skipped: LOGICMONITOR_USER, LOGICMONITOR_PASS and LOGICMONITOR_COMPANY environment variables must be set
t/sdt.t ................ skipped: LOGICMONITOR_USER, LOGICMONITOR_PASS and LOGICMONITOR_COMPANY environment variables must be set
All tests successful.
Files=8, Tests=14, 2 wallclock secs ( 0.03 usr 0.01 sys + 2.21 cusr 0.31 csys = 2.56 CPU)
Result: PASS
------------------------------
PREREQUISITES
------------------------------
Prerequisite modules loaded:
requires:
Module Need Have
------------------------- ------- --------
autodie 0 2.37
Carp 0 1.54
DateTime 0 1.66
DateTime::Format::ISO8601 0 0.17
JSON 0 4.10
List::MoreUtils 0 0.430
List::Util 1.33 1.68_01
Log::Any 0 1.717
LWP::Protocol::https 0 6.14
LWP::UserAgent 0 6.78
Moo 0 2.005005
Moo::Role 0 2.005005
perl v5.16.3 5.041009
Role::Singleton::New 0 0.2
URI 0 5.31
URI::QueryParam 0 5.31
build_requires:
Module Need Have
------------------------- ------- --------
File::Spec 0 3.93
IO::Handle 0 1.55
IPC::Open3 0 1.24
lib 0 0.65
Log::Any::Adapter 0 1.717
strict 0 1.13
String::Random 0 0.32
Test::Deep 0 1.204
Test::Fatal 0 0.017
Test::More 0 1.302209
Test::Roo 0 1.004
Test::Roo::Role 0 1.004
warnings 0 1.73
------------------------------
ENVIRONMENT AND OTHER CONTEXT
------------------------------
Environment variables:
AUTOMATED_TESTING = 1
LANG = en_US.UTF-8
PATH = /home/sand/bin:/usr/local/bin:/usr/local/sbin:/usr/sbin:/usr/bin:/sbin:/bin:/usr/games:/usr/local/games:/snap/bin:/usr/local/perl/bin:/usr/X11/bin
PERL = /tmp/basesmoker-reloperl-wELa/bin/perl
PERL5LIB = /tmp/loop_over_bdir-287296-9l_app/Simulation-Automate-1.0.1-0/blib/arch:/tmp/loop_over_bdir-287296-9l_app/Simulation-Automate-1.0.1-0/blib/lib:/tmp/loop_over_bdir-287296-9l_app/Net-OpenVPN-DDNS-0.1-0/blib/arch:/tmp/loop_over_bdir-287296-9l_app/Net-OpenVPN-DDNS-0.1-0/blib/lib:/tmp/loop_over_bdir-287296-9l_app/dta-tokwrap-0.98-0/blib/arch:/tmp/loop_over_bdir-287296-9l_app/dta-tokwrap-0.98-0/blib/lib:/tmp/loop_over_bdir-287296-9l_app/MP3-PodcastFetch-1.05-0/blib/arch:/tmp/loop_over_bdir-287296-9l_app/MP3-PodcastFetch-1.05-0/blib/lib
PERL5OPT =
PERL5_CPANPLUS_IS_RUNNING = 287309
PERL5_CPAN_IS_RUNNING = 287309
PERL_CANARY_STABILITY_NOPROMPT = 1
PERL_MM_USE_DEFAULT = 1
PERL_USE_UNSAFE_INC = 1
SHELL = /usr/bin/zsh
TERM = screen
Perl special variables (and OS-specific diagnostics, for MSWin32):
$^X = /tmp/basesmoker-reloperl-wELa/bin/perl
$UID/$EUID = 1005 / 1005
$GID = 1005 1005
$EGID = 1005 1005
Perl module toolchain versions installed:
Module Have
------------------- --------
CPAN 2.38
CPAN::Meta 2.150010
Cwd 3.92
ExtUtils::CBuilder 0.280240
ExtUtils::Command 7.70
ExtUtils::Install 2.22
ExtUtils::MakeMaker 7.70
ExtUtils::Manifest 1.75
ExtUtils::ParseXS 3.57
File::Spec 3.93
JSON 4.10
JSON::PP 4.16
Module::Build 0.4234
Module::Signature 0.89
Parse::CPAN::Meta 2.150010
Test2 1.302209
Test::Harness 3.50
Test::More 1.302209
YAML 1.31
YAML::Syck 1.34
version 0.9933
--
Summary of my perl5 (revision 5 version 41 subversion 9) configuration:
Commit id: b6969eb9f23724dcbb888d791d31c4708dabc85c
Platform:
osname=linux
osvers=5.4.0-204-generic
archname=x86_64-linux
uname='linux k93focal 5.4.0-204-generic #224-ubuntu smp thu dec 5 13:38:28 utc 2024 x86_64 x86_64 x86_64 gnulinux '
config_args='-Dprefix=/home/sand/src/perl/repoperls/installed-perls/host/k93focal/v5.41.9/b254 -Dmyhostname=k93focal -Dinstallusrbinperl=n -Uversiononly -Dusedevel -des -Ui_db -Dlibswanted=cl pthread socket inet nsl gdbm dbm malloc dl ld sun m crypt sec util c cposix posix ucb BSD gdbm_compat -Uuseithreads -Uuselongdouble -DEBUGGING=both'
hint=recommended
useposix=true
d_sigaction=define
useithreads=undef
usemultiplicity=undef
use64bitint=define
use64bitall=define
uselongdouble=undef
usemymalloc=n
default_inc_excludes_dot=define
Compiler:
cc='cc'
ccflags ='-fwrapv -DDEBUGGING -fno-strict-aliasing -pipe -fstack-protector-strong -I/usr/local/include -D_LARGEFILE_SOURCE -D_FILE_OFFSET_BITS=64'
optimize='-O2 -g'
cppflags='-fwrapv -DDEBUGGING -fno-strict-aliasing -pipe -fstack-protector-strong -I/usr/local/include'
ccversion=''
gccversion='9.4.0'
gccosandvers=''
intsize=4
longsize=8
ptrsize=8
doublesize=8
byteorder=12345678
doublekind=3
d_longlong=define
longlongsize=8
d_longdbl=define
longdblsize=16
longdblkind=3
ivtype='long'
ivsize=8
nvtype='double'
nvsize=8
Off_t='off_t'
lseeksize=8
alignbytes=8
prototype=define
Linker and Libraries:
ld='cc'
ldflags =' -fstack-protector-strong -L/usr/local/lib'
libpth=/usr/local/lib /usr/lib/x86_64-linux-gnu /usr/lib /usr/lib64
libs=-lpthread -lnsl -ldl -lm -lcrypt -lutil -lc
perllibs=-lpthread -lnsl -ldl -lm -lcrypt -lutil -lc
libc=libc-2.31.so
so=so
useshrplib=false
libperl=libperl.a
gnulibc_version='2.31'
Dynamic Linking:
dlsrc=dl_dlopen.xs
dlext=so
d_dlsymun=undef
ccdlflags='-Wl,-E'
cccdlflags='-fPIC'
lddlflags='-shared -O2 -g -L/usr/local/lib -fstack-protector-strong'
Characteristics of this binary (from libperl):
Compile-time options:
DEBUGGING
HAS_LONG_DOUBLE
HAS_STRTOLD
HAS_TIMES
PERLIO_LAYERS
PERL_COPY_ON_WRITE
PERL_DONT_CREATE_GVSV
PERL_HASH_FUNC_SIPHASH13
PERL_HASH_USE_SBOX32
PERL_MALLOC_WRAP
PERL_OP_PARENT
PERL_PRESERVE_IVUV
PERL_USE_DEVEL
PERL_USE_SAFE_PUTENV
USE_64_BIT_ALL
USE_64_BIT_INT
USE_LARGE_FILES
USE_LOCALE
USE_LOCALE_COLLATE
USE_LOCALE_CTYPE
USE_LOCALE_NUMERIC
USE_LOCALE_TIME
USE_PERLIO
USE_PERL_ATOF
Built under linux
Compiled at Feb 24 2025 11:24:21
%ENV:
PERL="/tmp/basesmoker-reloperl-wELa/bin/perl"
PERL5LIB="/tmp/loop_over_bdir-287296-9l_app/Simulation-Automate-1.0.1-0/blib/arch:/tmp/loop_over_bdir-287296-9l_app/Simulation-Automate-1.0.1-0/blib/lib:/tmp/loop_over_bdir-287296-9l_app/Net-OpenVPN-DDNS-0.1-0/blib/arch:/tmp/loop_over_bdir-287296-9l_app/Net-OpenVPN-DDNS-0.1-0/blib/lib:/tmp/loop_over_bdir-287296-9l_app/dta-tokwrap-0.98-0/blib/arch:/tmp/loop_over_bdir-287296-9l_app/dta-tokwrap-0.98-0/blib/lib:/tmp/loop_over_bdir-287296-9l_app/MP3-PodcastFetch-1.05-0/blib/arch:/tmp/loop_over_bdir-287296-9l_app/MP3-PodcastFetch-1.05-0/blib/lib"
PERL5OPT=""
PERL5_CPANPLUS_IS_RUNNING="287309"
PERL5_CPAN_IS_RUNNING="287309"
PERL_CANARY_STABILITY_NOPROMPT="1"
PERL_MM_USE_DEFAULT="1"
PERL_USE_UNSAFE_INC="1"
@INC:
/tmp/loop_over_bdir-287296-9l_app/Simulation-Automate-1.0.1-0/blib/arch
/tmp/loop_over_bdir-287296-9l_app/Simulation-Automate-1.0.1-0/blib/lib
/tmp/loop_over_bdir-287296-9l_app/Net-OpenVPN-DDNS-0.1-0/blib/arch
/tmp/loop_over_bdir-287296-9l_app/Net-OpenVPN-DDNS-0.1-0/blib/lib
/tmp/loop_over_bdir-287296-9l_app/dta-tokwrap-0.98-0/blib/arch
/tmp/loop_over_bdir-287296-9l_app/dta-tokwrap-0.98-0/blib/lib
/tmp/loop_over_bdir-287296-9l_app/MP3-PodcastFetch-1.05-0/blib/arch
/tmp/loop_over_bdir-287296-9l_app/MP3-PodcastFetch-1.05-0/blib/lib
/home/sand/src/perl/repoperls/installed-perls/host/k93focal/v5.41.9/b254/lib/site_perl/5.41.9/x86_64-linux
/home/sand/src/perl/repoperls/installed-perls/host/k93focal/v5.41.9/b254/lib/site_perl/5.41.9
/home/sand/src/perl/repoperls/installed-perls/host/k93focal/v5.41.9/b254/lib/5.41.9/x86_64-linux
/home/sand/src/perl/repoperls/installed-perls/host/k93focal/v5.41.9/b254/lib/5.41.9
.