Report for Class-EHierarchy-0.93

Back
From: metabase:user:314402c4-2aae-11df-837a-5e0a49663a4f
Subject: PASS Class-EHierarchy-0.93 v5.24.0 GNU/Linux
Date: 2017-03-24T07:27:42Z

This distribution has been tested as part of the CPAN Testers
project, supporting the Perl programming language.  See
http://wiki.cpantesters.org/ for more information or email
questions to cpan-testers-discuss@perl.org


--
Dear Arthur Corliss,

This is a computer-generated report for Class-EHierarchy-0.93
on perl 5.24.0, created by CPAN-Reporter-1.2018.

Thank you for uploading your work to CPAN.  Congratulations!
All tests were successful.

Sections of this report:

    * Tester comments
    * Program output
    * Prerequisites
    * Environment and other context

------------------------------
TESTER COMMENTS
------------------------------

Additional comments from tester:

none provided

------------------------------
PROGRAM OUTPUT
------------------------------

Output from '/usr/bin/make test':

PERL_DL_NONLAZY=1 "/opt/perl-5.24.0t/bin/perl" "-MExtUtils::Command::MM" "-MTest::Harness" "-e" "undef *Test::Harness::Switches; test_harness(0, 'blib/lib', 'blib/arch')" t/*.t
t/01_ini.t ............ ok

CEH Objects: 4
CEH Obj #0: undef undef Class::EHierarchy ARRAY(0x2110d70) ARRAY(0x2110ea8) Class::EHierarchy0 HASH(0x2613ca0)
CEH Obj #1: undef undef Class::EHierarchy ARRAY(0x26b50d8) ARRAY(0x26b52e8) Class::EHierarchy1 HASH(0x261c018)
CEH Obj #2: undef Class::EHierarchy=SCALAR(0x2623068) Class::EHierarchy ARRAY(0x269a420) ARRAY(0x269a108) Class::EHierarchy2 HASH(0x2613ca0)
CEH Obj #3: undef undef Class::EHierarchy ARRAY(0x26ed8f0) ARRAY(0x26ed908) Class::EHierarchy0 HASH(0x26ed968)

CEH Objects: 5
CEH Obj #0: undef undef Class::EHierarchy ARRAY(0x26ed8c0) ARRAY(0x26ed878) Class::EHierarchy0 HASH(0x261c270)
CEH Obj #1: undef undef Class::EHierarchy ARRAY(0x2121090) ARRAY(0x2121198) Class::EHierarchy0 HASH(0x2699e80)
CEH Obj #2: undef undef Class::EHierarchy ARRAY(0x269a420) ARRAY(0x269a108) Class::EHierarchy2 HASH(0x261bac0)
CEH Obj #3: unused
CEH Obj #4: undef Class::EHierarchy=SCALAR(0x26ecf30) Bar ARRAY(0x261c468) ARRAY(0x261c378) Bar0 HASH(0x2699e80)

CEH Objects: 5
CEH Obj #0: undef undef Class::EHierarchy ARRAY(0x26ed8c0) ARRAY(0x26ed878) Class::EHierarchy0 HASH(0x261c270)
CEH Obj #1: undef undef Class::EHierarchy ARRAY(0x2121090) ARRAY(0x2121198) Class::EHierarchy0 HASH(0x2699e80)
CEH Obj #2: undef undef Class::EHierarchy ARRAY(0x269a420) ARRAY(0x269a108) Class::EHierarchy2 HASH(0x261bac0)
CEH Obj #3: undef undef Bar ARRAY(0x2110d40) ARRAY(0x2110d70) Class::EHierarchy0 HASH(0x26ed938)
CEH Obj #4: undef Class::EHierarchy=SCALAR(0x26ecf30) Bar ARRAY(0x261c468) ARRAY(0x261c378) Bar0 HASH(0x2699e80)
t/02_relationships.t .. ok
t/03_properties.t ..... ok
Argument "foo" isn't numeric in array or hash lookup at /home/cpansand/.cpan/build/2017032406/Class-EHierarchy-0.93-6/blib/lib/Class/EHierarchy.pm line 1234.
Argument "bar" isn't numeric in array or hash lookup at /home/cpansand/.cpan/build/2017032406/Class-EHierarchy-0.93-6/blib/lib/Class/EHierarchy.pm line 1234.
t/04_array_methods.t .. ok
t/05_hash_methods.t ... ok
t/06_methods.t ........ ok
t/07_loadProps.t ...... ok
t/08_loadMethods.t .... ok
t/09_aliases.t ........ ok
t/98_pod_coverage.t ... ok
t/99_pod.t ............ ok
All tests successful.
Files=11, Tests=353,  2 wallclock secs ( 0.10 usr  0.03 sys +  1.08 cusr  0.20 csys =  1.41 CPU)
Result: PASS

------------------------------
PREREQUISITES
------------------------------

Prerequisite modules loaded:

build_requires:

    Module              Need Have
    ------------------- ---- ----
    ExtUtils::MakeMaker 0    7.24

configure_requires:

    Module              Need Have
    ------------------- ---- ----
    ExtUtils::MakeMaker 0    7.24


------------------------------
ENVIRONMENT AND OTHER CONTEXT
------------------------------

Environment variables:

    LANG = en_US.UTF-8
    PATH = /usr/local/bin:/usr/bin:/bin:/usr/local/sbin:/usr/sbin:/sbin:/home/cpansand/bin/linux-gnu:/home/cpansand/bin/sh:/home/cpansand/bin:/usr/games:/home/cpansand/devel:/home/eserte/src/srezic-misc/scripts
    PERL5LIB = /home/cpansand/.cpan/build/2017032406/BerkeleyDB-0.55-1/blib/arch:/home/cpansand/.cpan/build/2017032406/BerkeleyDB-0.55-1/blib/lib:/home/cpansand/.cpan/build/2017032406/Class-EHierarchy-2.00-1/blib/arch:/home/cpansand/.cpan/build/2017032406/Class-EHierarchy-2.00-1/blib/lib:/home/cpansand/.cpan/build/2017032406/Paranoid-2.05-1/blib/arch:/home/cpansand/.cpan/build/2017032406/Paranoid-2.05-1/blib/lib:/home/cpansand/.cpan/build/2017032406/HTML-SocialMeta-0.71-1/blib/arch:/home/cpansand/.cpan/build/2017032406/HTML-SocialMeta-0.71-1/blib/lib:/home/cpansand/.cpan/build/2017032406/FFI-Platypus-0.47-1/blib/arch:/home/cpansand/.cpan/build/2017032406/FFI-Platypus-0.47-1/blib/lib:/home/cpansand/.cpan/build/2017032406/Alien-FFI-0.16-1/blib/arch:/home/cpansand/.cpan/build/2017032406/Alien-FFI-0.16-1/blib/lib:/home/cpansand/.cpan/build/2017032406/Alien-Build-0.28-1/blib/arch:/home/cpansand/.cpan/build/2017032406/Alien-Build-0.28-1/blib/lib:/home/cpansand/.cpan/build/2017032406/Test-Spec-0.51-1/blib/arch:/home/cpansand/.cpan/build/2017032406/Test-Spec-0.51-1/blib/lib
    PERL5OPT = 
    PERL5_CPANPLUS_IS_RUNNING = 1324
    PERL5_CPAN_IS_RUNNING = 1324
    PERL5_CPAN_IS_RUNNING_IN_RECURSION = 1270,1324
    PERLDOC = -MPod::Perldoc::ToTextOverstrike
    PERL_BATCH = yes
    PERL_CANARY_STABILITY_NOPROMPT = 1
    PERL_CPAN_REPORTER_CONFIG = /var/tmp/cpansmoker-1002/2017032406/cpanreporter_000_config.ini
    PERL_EXTUTILS_AUTOINSTALL = --defaultdeps
    SHELL = /bin/zsh
    TERM = screen
    TMPDIR = /var/tmp/cpansmoker-1002/2017032406

Perl special variables (and OS-specific diagnostics, for MSWin32):

    $^X = /opt/perl-5.24.0t/bin/perl
    $UID/$EUID = 1002 / 1002
    $GID = 1002 1002
    $EGID = 1002 1002

Perl module toolchain versions installed:

    Module              Have    
    ------------------- --------
    CPAN                2.16    
    CPAN::Meta          2.150005
    Cwd                 3.63    
    ExtUtils::CBuilder  0.280225
    ExtUtils::Command   7.24    
    ExtUtils::Install   2.04    
    ExtUtils::MakeMaker 7.24    
    ExtUtils::Manifest  1.70    
    ExtUtils::ParseXS   3.31    
    File::Spec          3.63    
    JSON                2.90    
    JSON::PP            2.27400 
    Module::Build       0.4220  
    Module::Signature   0.81    
    Parse::CPAN::Meta   1.4417  
    Test::Harness       3.36    
    Test::More          1.302075
    YAML                1.23    
    YAML::Syck          1.29    
    version             0.9916  


--

Summary of my perl5 (revision 5 version 24 subversion 0) configuration:
   
  Platform:
    osname=linux, osvers=3.10.0-514.6.2.el7.x86_64, archname=x86_64-linux-thread-multi
    uname='linux prod5 3.10.0-514.6.2.el7.x86_64 #1 smp thu feb 23 03:04:39 utc 2017 x86_64 x86_64 x86_64 gnulinux '
    config_args='-ds -e -Dprefix=/opt/perl-5.24.0t -Dusethreads -Dcf_email=srezic@cpan.org'
    hint=recommended, useposix=true, d_sigaction=define
    useithreads=define, usemultiplicity=define
    use64bitint=define, use64bitall=define, uselongdouble=undef
    usemymalloc=n, bincompat5005=undef
  Compiler:
    cc='cc', ccflags ='-D_REENTRANT -D_GNU_SOURCE -fwrapv -fno-strict-aliasing -pipe -fstack-protector-strong -I/usr/local/include -D_LARGEFILE_SOURCE -D_FILE_OFFSET_BITS=64 -D_FORTIFY_SOURCE=2',
    optimize='-O2',
    cppflags='-D_REENTRANT -D_GNU_SOURCE -fwrapv -fno-strict-aliasing -pipe -fstack-protector-strong -I/usr/local/include'
    ccversion='', gccversion='4.8.5 20150623 (Red Hat 4.8.5-11)', gccosandvers=''
    intsize=4, longsize=8, ptrsize=8, doublesize=8, byteorder=12345678, doublekind=3
    d_longlong=define, longlongsize=8, d_longdbl=define, longdblsize=16, longdblkind=3
    ivtype='long', ivsize=8, nvtype='double', nvsize=8, Off_t='off_t', lseeksize=8
    alignbytes=8, prototype=define
  Linker and Libraries:
    ld='cc', ldflags =' -fstack-protector-strong -L/usr/local/lib'
    libpth=/usr/local/lib /usr/lib /lib/../lib64 /usr/lib/../lib64 /lib /lib64 /usr/lib64 /usr/local/lib64
    libs=-lpthread -lnsl -lgdbm -ldb -ldl -lm -lcrypt -lutil -lc -lgdbm_compat
    perllibs=-lpthread -lnsl -ldl -lm -lcrypt -lutil -lc
    libc=libc-2.17.so, so=so, useshrplib=false, libperl=libperl.a
    gnulibc_version='2.17'
  Dynamic Linking:
    dlsrc=dl_dlopen.xs, dlext=so, d_dlsymun=undef, ccdlflags='-Wl,-E'
    cccdlflags='-fPIC', lddlflags='-shared -O2 -L/usr/local/lib -fstack-protector-strong'


Characteristics of this binary (from libperl): 
  Compile-time options: HAS_TIMES MULTIPLICITY PERLIO_LAYERS
                        PERL_COPY_ON_WRITE PERL_DONT_CREATE_GVSV
                        PERL_HASH_FUNC_ONE_AT_A_TIME_HARD
                        PERL_IMPLICIT_CONTEXT PERL_MALLOC_WRAP
                        PERL_PRESERVE_IVUV USE_64_BIT_ALL USE_64_BIT_INT
                        USE_ITHREADS USE_LARGE_FILES USE_LOCALE
                        USE_LOCALE_COLLATE USE_LOCALE_CTYPE
                        USE_LOCALE_NUMERIC USE_LOCALE_TIME USE_PERLIO
                        USE_PERL_ATOF USE_REENTRANT_API
  Built under linux
  Compiled at Feb 23 2017 20:32:11
  %ENV:
    PERL5LIB="/home/cpansand/.cpan/build/2017032406/BerkeleyDB-0.55-1/blib/arch:/home/cpansand/.cpan/build/2017032406/BerkeleyDB-0.55-1/blib/lib:/home/cpansand/.cpan/build/2017032406/Class-EHierarchy-2.00-1/blib/arch:/home/cpansand/.cpan/build/2017032406/Class-EHierarchy-2.00-1/blib/lib:/home/cpansand/.cpan/build/2017032406/Paranoid-2.05-1/blib/arch:/home/cpansand/.cpan/build/2017032406/Paranoid-2.05-1/blib/lib:/home/cpansand/.cpan/build/2017032406/HTML-SocialMeta-0.71-1/blib/arch:/home/cpansand/.cpan/build/2017032406/HTML-SocialMeta-0.71-1/blib/lib:/home/cpansand/.cpan/build/2017032406/FFI-Platypus-0.47-1/blib/arch:/home/cpansand/.cpan/build/2017032406/FFI-Platypus-0.47-1/blib/lib:/home/cpansand/.cpan/build/2017032406/Alien-FFI-0.16-1/blib/arch:/home/cpansand/.cpan/build/2017032406/Alien-FFI-0.16-1/blib/lib:/home/cpansand/.cpan/build/2017032406/Alien-Build-0.28-1/blib/arch:/home/cpansand/.cpan/build/2017032406/Alien-Build-0.28-1/blib/lib:/home/cpansand/.cpan/build/2017032406/Test-Spec-0.51-1/blib/arch:/home/cpansand/.cpan/build/2017032406/Test-Spec-0.51-1/blib/lib"
    PERL5OPT=""
    PERL5_CPANPLUS_IS_RUNNING="1324"
    PERL5_CPAN_IS_RUNNING="1324"
    PERL5_CPAN_IS_RUNNING_IN_RECURSION="1270,1324"
    PERLDOC="-MPod::Perldoc::ToTextOverstrike"
    PERL_BATCH="yes"
    PERL_CANARY_STABILITY_NOPROMPT="1"
    PERL_CPAN_REPORTER_CONFIG="/var/tmp/cpansmoker-1002/2017032406/cpanreporter_000_config.ini"
    PERL_EXTUTILS_AUTOINSTALL="--defaultdeps"
  @INC:
    /home/cpansand/.cpan/build/2017032406/BerkeleyDB-0.55-1/blib/arch
    /home/cpansand/.cpan/build/2017032406/BerkeleyDB-0.55-1/blib/lib
    /home/cpansand/.cpan/build/2017032406/Class-EHierarchy-2.00-1/blib/arch
    /home/cpansand/.cpan/build/2017032406/Class-EHierarchy-2.00-1/blib/lib
    /home/cpansand/.cpan/build/2017032406/Paranoid-2.05-1/blib/arch
    /home/cpansand/.cpan/build/2017032406/Paranoid-2.05-1/blib/lib
    /home/cpansand/.cpan/build/2017032406/HTML-SocialMeta-0.71-1/blib/arch
    /home/cpansand/.cpan/build/2017032406/HTML-SocialMeta-0.71-1/blib/lib
    /home/cpansand/.cpan/build/2017032406/FFI-Platypus-0.47-1/blib/arch
    /home/cpansand/.cpan/build/2017032406/FFI-Platypus-0.47-1/blib/lib
    /home/cpansand/.cpan/build/2017032406/Alien-FFI-0.16-1/blib/arch
    /home/cpansand/.cpan/build/2017032406/Alien-FFI-0.16-1/blib/lib
    /home/cpansand/.cpan/build/2017032406/Alien-Build-0.28-1/blib/arch
    /home/cpansand/.cpan/build/2017032406/Alien-Build-0.28-1/blib/lib
    /home/cpansand/.cpan/build/2017032406/Test-Spec-0.51-1/blib/arch
    /home/cpansand/.cpan/build/2017032406/Test-Spec-0.51-1/blib/lib
    /opt/perl-5.24.0t/lib/site_perl/5.24.0/x86_64-linux-thread-multi
    /opt/perl-5.24.0t/lib/site_perl/5.24.0
    /opt/perl-5.24.0t/lib/5.24.0/x86_64-linux-thread-multi
    /opt/perl-5.24.0t/lib/5.24.0
    .