Report for Search-Fulltext-1.03

Back
From: metabase:user:314402c4-2aae-11df-837a-5e0a49663a4f
Subject: PASS Search-Fulltext-1.03 v5.20.2 GNU/Linux
Date: 2016-11-25T07:11:20Z

This distribution has been tested as part of the CPAN Testers
project, supporting the Perl programming language.  See
http://wiki.cpantesters.org/ for more information or email
questions to cpan-testers-discuss@perl.org


--
Dear Sho Nakatani,

This is a computer-generated report for Search-Fulltext-1.03
on perl 5.20.2, created by CPAN-Reporter-1.2018.

Thank you for uploading your work to CPAN.  Congratulations!
All tests were successful.

Sections of this report:

    * Tester comments
    * Program output
    * Prerequisites
    * Environment and other context

------------------------------
TESTER COMMENTS
------------------------------

Additional comments from tester:

none provided

------------------------------
PROGRAM OUTPUT
------------------------------

Output from './Build test':

# Testing Search::Fulltext 1.03, Perl 5.020002, /bbbike/perl-5.20.2t/bin/perl
t/00-load.t .................. ok
t/01-usage.t ................. ok
DBD::SQLite::db do failed: unknown tokenizer: invalid_tokenizer at /tmpfs/.cpan-build-cpansand/2016112506/Search-Fulltext-1.03-mAOEou/blib/lib/Search/Fulltext/SQLite.pm line 49.
t/02-SQLite-new.t ............ ok
t/03-available-tokenizers.t .. ok
t/04-various-searches.t ...... ok
All tests successful.
Files=5, Tests=26,  0 wallclock secs ( 0.02 usr  0.02 sys +  0.18 cusr  0.05 csys =  0.27 CPU)
Result: PASS

------------------------------
PREREQUISITES
------------------------------

Prerequisite modules loaded:

requires:

    Module              Need    Have    
    ------------------- ------- --------
    Carp                0       1.3301  
    DBD::SQLite         1.30_01 1.52    
    DBI                 0       1.636   

build_requires:

    Module              Need    Have    
    ------------------- ------- --------
    ExtUtils::CBuilder  0       0.280217
    File::Temp          0       0.2304  
    Test::Exception     0       0.43    
    Test::More          0       1.001014

configure_requires:

    Module              Need    Have    
    ------------------- ------- --------
    CPAN::Meta          0       2.150010
    CPAN::Meta::Prereqs 0       2.150010
    Module::Build       0.38    0.4220  


------------------------------
ENVIRONMENT AND OTHER CONTEXT
------------------------------

Environment variables:

    LANG = C
    PATH = /usr/local/bin:/usr/bin:/bin:/usr/local/sbin:/usr/sbin:/sbin:/home/cpansand/bin/linux-gnu:/home/cpansand/bin/sh:/home/cpansand/bin:/usr/games:/home/cpansand/devel:/home/eserte/src/srezic-misc/scripts
    PERL5LIB = /home/cpansand/.cpan/build/2016112506/DBD-SQLite-1.52-PbYtEh/blib/arch:/home/cpansand/.cpan/build/2016112506/DBD-SQLite-1.52-PbYtEh/blib/lib:/home/cpansand/.cpan/build/2016112506/Test-Exception-0.43-iOKmzc/blib/arch:/home/cpansand/.cpan/build/2016112506/Test-Exception-0.43-iOKmzc/blib/lib:/home/cpansand/.cpan/build/2016112506/Sub-Uplevel-0.2600-9FeheF/blib/arch:/home/cpansand/.cpan/build/2016112506/Sub-Uplevel-0.2600-9FeheF/blib/lib:/home/cpansand/.cpan/build/2016112506/DBI-1.636-Wy5r52/blib/arch:/home/cpansand/.cpan/build/2016112506/DBI-1.636-Wy5r52/blib/lib:/home/cpansand/.cpan/build/2016112506/Module-Build-0.4220-TTkg_4/blib/arch:/home/cpansand/.cpan/build/2016112506/Module-Build-0.4220-TTkg_4/blib/lib:/home/cpansand/.cpan/build/2016112506/CPAN-Meta-2.150010-iCUQOp/blib/arch:/home/cpansand/.cpan/build/2016112506/CPAN-Meta-2.150010-iCUQOp/blib/lib
    PERL5OPT = 
    PERL5_CPANPLUS_IS_RUNNING = 21039
    PERL5_CPAN_IS_RUNNING = 21039
    PERL5_CPAN_IS_RUNNING_IN_RECURSION = 18401,21039
    PERLDOC = -MPod::Perldoc::ToTextOverstrike
    PERL_BATCH = yes
    PERL_CANARY_STABILITY_NOPROMPT = 1
    PERL_CPAN_REPORTER_CONFIG = /run/user/1023/cpansmoker/2016112506/cpanreporter_002_config.ini
    PERL_EXTUTILS_AUTOINSTALL = --defaultdeps
    PERL_USE_UNSAFE_INC = 1
    SHELL = /bin/zsh
    TERM = screen
    TMPDIR = /run/user/1023/cpansmoker/2016112506

Perl special variables (and OS-specific diagnostics, for MSWin32):

    $^X = /bbbike/perl-5.20.2t/bin/perl
    $UID/$EUID = 1023 / 1023
    $GID = 1023 1023
    $EGID = 1023 1023

Perl module toolchain versions installed:

    Module              Have    
    ------------------- --------
    CPAN                2.05    
    CPAN::Meta          2.150010
    Cwd                 3.48_01 
    ExtUtils::CBuilder  0.280217
    ExtUtils::Command   1.18    
    ExtUtils::Install   1.67    
    ExtUtils::MakeMaker 6.98    
    ExtUtils::Manifest  1.63    
    ExtUtils::ParseXS   3.24    
    File::Spec          3.48_01 
    JSON                n/a     
    JSON::PP            2.27400 
    Module::Build       0.4220  
    Module::Signature   n/a     
    Parse::CPAN::Meta   2.150010
    Test::Harness       3.30    
    Test::More          1.001014
    YAML                1.15    
    YAML::Syck          1.29    
    version             0.9909  


--

Summary of my perl5 (revision 5 version 20 subversion 2) configuration:
   
  Platform:
    osname=linux, osvers=3.16.0-4-amd64, archname=x86_64-linux-thread-multi
    uname='linux eserte 3.16.0-4-amd64 #1 smp debian 3.16.7-ckt25-2 (2016-04-08) x86_64 gnulinux '
    config_args='-ds -e -Dprefix=/opt/perl-5.20.2t -Dusethreads -Dcf_email=srezic@cpan.org'
    hint=recommended, useposix=true, d_sigaction=define
    useithreads=define, usemultiplicity=define
    use64bitint=define, use64bitall=define, uselongdouble=undef
    usemymalloc=n, bincompat5005=undef
  Compiler:
    cc='cc', ccflags ='-D_REENTRANT -D_GNU_SOURCE -fwrapv -fno-strict-aliasing -pipe -fstack-protector -I/usr/local/include -D_LARGEFILE_SOURCE -D_FILE_OFFSET_BITS=64',
    optimize='-O2',
    cppflags='-D_REENTRANT -D_GNU_SOURCE -fwrapv -fno-strict-aliasing -pipe -fstack-protector -I/usr/local/include'
    ccversion='', gccversion='4.9.2', gccosandvers=''
    intsize=4, longsize=8, ptrsize=8, doublesize=8, byteorder=12345678
    d_longlong=define, longlongsize=8, d_longdbl=define, longdblsize=16
    ivtype='long', ivsize=8, nvtype='double', nvsize=8, Off_t='off_t', lseeksize=8
    alignbytes=8, prototype=define
  Linker and Libraries:
    ld='cc', ldflags =' -fstack-protector -L/usr/local/lib'
    libpth=/usr/local/lib /usr/lib/gcc/x86_64-linux-gnu/4.9/include-fixed /usr/include/x86_64-linux-gnu /usr/lib /lib/x86_64-linux-gnu /lib/../lib /usr/lib/x86_64-linux-gnu /usr/lib/../lib /lib
    libs=-lnsl -lgdbm -ldb -ldl -lm -lcrypt -lutil -lpthread -lc -lgdbm_compat
    perllibs=-lnsl -ldl -lm -lcrypt -lutil -lpthread -lc
    libc=libc-2.19.so, so=so, useshrplib=false, libperl=libperl.a
    gnulibc_version='2.19'
  Dynamic Linking:
    dlsrc=dl_dlopen.xs, dlext=so, d_dlsymun=undef, ccdlflags='-Wl,-E'
    cccdlflags='-fPIC', lddlflags='-shared -O2 -L/usr/local/lib -fstack-protector'


Characteristics of this binary (from libperl): 
  Compile-time options: HAS_TIMES MULTIPLICITY PERLIO_LAYERS
                        PERL_DONT_CREATE_GVSV
                        PERL_HASH_FUNC_ONE_AT_A_TIME_HARD
                        PERL_IMPLICIT_CONTEXT PERL_MALLOC_WRAP
                        PERL_NEW_COPY_ON_WRITE PERL_PRESERVE_IVUV
                        USE_64_BIT_ALL USE_64_BIT_INT USE_ITHREADS
                        USE_LARGE_FILES USE_LOCALE USE_LOCALE_COLLATE
                        USE_LOCALE_CTYPE USE_LOCALE_NUMERIC USE_PERLIO
                        USE_PERL_ATOF USE_REENTRANT_API
  Built under linux
  Compiled at May  7 2016 17:52:22
  %ENV:
    PERL5LIB="/home/cpansand/.cpan/build/2016112506/DBD-SQLite-1.52-PbYtEh/blib/arch:/home/cpansand/.cpan/build/2016112506/DBD-SQLite-1.52-PbYtEh/blib/lib:/home/cpansand/.cpan/build/2016112506/Test-Exception-0.43-iOKmzc/blib/arch:/home/cpansand/.cpan/build/2016112506/Test-Exception-0.43-iOKmzc/blib/lib:/home/cpansand/.cpan/build/2016112506/Sub-Uplevel-0.2600-9FeheF/blib/arch:/home/cpansand/.cpan/build/2016112506/Sub-Uplevel-0.2600-9FeheF/blib/lib:/home/cpansand/.cpan/build/2016112506/DBI-1.636-Wy5r52/blib/arch:/home/cpansand/.cpan/build/2016112506/DBI-1.636-Wy5r52/blib/lib:/home/cpansand/.cpan/build/2016112506/Module-Build-0.4220-TTkg_4/blib/arch:/home/cpansand/.cpan/build/2016112506/Module-Build-0.4220-TTkg_4/blib/lib:/home/cpansand/.cpan/build/2016112506/CPAN-Meta-2.150010-iCUQOp/blib/arch:/home/cpansand/.cpan/build/2016112506/CPAN-Meta-2.150010-iCUQOp/blib/lib"
    PERL5OPT=""
    PERL5_CPANPLUS_IS_RUNNING="21039"
    PERL5_CPAN_IS_RUNNING="21039"
    PERL5_CPAN_IS_RUNNING_IN_RECURSION="18401,21039"
    PERLDOC="-MPod::Perldoc::ToTextOverstrike"
    PERL_BATCH="yes"
    PERL_CANARY_STABILITY_NOPROMPT="1"
    PERL_CPAN_REPORTER_CONFIG="/run/user/1023/cpansmoker/2016112506/cpanreporter_002_config.ini"
    PERL_EXTUTILS_AUTOINSTALL="--defaultdeps"
    PERL_USE_UNSAFE_INC="1"
  @INC:
    /home/cpansand/.cpan/build/2016112506/DBD-SQLite-1.52-PbYtEh/blib/arch
    /home/cpansand/.cpan/build/2016112506/DBD-SQLite-1.52-PbYtEh/blib/lib
    /home/cpansand/.cpan/build/2016112506/Test-Exception-0.43-iOKmzc/blib/arch
    /home/cpansand/.cpan/build/2016112506/Test-Exception-0.43-iOKmzc/blib/lib
    /home/cpansand/.cpan/build/2016112506/Sub-Uplevel-0.2600-9FeheF/blib/arch
    /home/cpansand/.cpan/build/2016112506/Sub-Uplevel-0.2600-9FeheF/blib/lib
    /home/cpansand/.cpan/build/2016112506/DBI-1.636-Wy5r52/blib/arch
    /home/cpansand/.cpan/build/2016112506/DBI-1.636-Wy5r52/blib/lib
    /home/cpansand/.cpan/build/2016112506/Module-Build-0.4220-TTkg_4/blib/arch
    /home/cpansand/.cpan/build/2016112506/Module-Build-0.4220-TTkg_4/blib/lib
    /home/cpansand/.cpan/build/2016112506/CPAN-Meta-2.150010-iCUQOp/blib/arch
    /home/cpansand/.cpan/build/2016112506/CPAN-Meta-2.150010-iCUQOp/blib/lib
    /opt/perl-5.20.2t/lib/site_perl/5.20.2/x86_64-linux-thread-multi
    /opt/perl-5.20.2t/lib/site_perl/5.20.2
    /opt/perl-5.20.2t/lib/5.20.2/x86_64-linux-thread-multi
    /opt/perl-5.20.2t/lib/5.20.2
    .