HTML-Formatter v2.16 Perl 5 v5.18.4 darwin-thread-multi-2level
- Status
- Pass
- From
- Nigel Horne
- Dist
-
HTML-Formatter v2.16
- Platform
- Perl 5 v5.18.4 darwin-thread-multi-2level
- Date
- 2017-10-30 04:54:09
- ID
- 5d9d51e8-bd2e-11e7-936e-ee27dc1c1d4b
This distribution has been tested as part of the CPAN Testers
project, supporting the Perl programming language. See
http://wiki.cpantesters.org/ for more information or email
questions to cpan-testers-discuss@perl.org
--
Dear Nigel Metheringham,
This is a computer-generated report for HTML-Formatter-2.16
on perl 5.18.4, created by CPAN-Reporter-1.2018.
Thank you for uploading your work to CPAN. Congratulations!
All tests were successful.
Sections of this report:
* Tester comments
* Program output
* Prerequisites
* Environment and other context
------------------------------
TESTER COMMENTS
------------------------------
Additional comments from tester:
this report is from an automated smoke testing program
and was not reviewed by a human for accuracy
------------------------------
PROGRAM OUTPUT
------------------------------
Output from '/sw/bin/make test':
PERL_DL_NONLAZY=1 "/Users/hornenj/perl5/perlbrew/perls/perl-5.18.4/bin/perl5.18.4" "-MExtUtils::Command::MM" "-MTest::Harness" "-e" "undef *Test::Harness::Switches; test_harness(0, 'blib/lib', 'blib/arch')" t/*.t
t/00-compile.t ............... ok
#
# Versions for all modules listed in MYMETA.json (including optional ones):
#
# === Configure Requires ===
#
# Module Want Have
# ------------------- ---- ----
# ExtUtils::MakeMaker any 7.30
#
# === Build Requires ===
#
# Module Want Have
# ------------------- ---- ----
# ExtUtils::MakeMaker any 7.30
#
# === Test Requires ===
#
# Module Want Have
# ------------------- ---- --------
# ExtUtils::MakeMaker any 7.30
# File::Slurper any 0.010
# File::Spec any 3.47
# FindBin any 1.51
# IO::Handle any 1.34
# IPC::Open3 any 1.13
# Test::More 0.96 1.302106
# Test::Warnings any 0.026
# blib 1.01 1.06
# bytes any 1.04
# lib any 0.63
#
# === Test Recommends ===
#
# Module Want Have
# ---------- -------- --------
# CPAN::Meta 2.120900 2.150001
#
# === Runtime Requires ===
#
# Module Want Have
# ----------------------------------- ---- -----
# Carp any 1.36
# Data::Dumper any 2.154
# Encode any 2.93
# Font::Metrics::Courier any undef
# Font::Metrics::CourierBold any undef
# Font::Metrics::CourierBoldOblique any undef
# Font::Metrics::CourierOblique any undef
# Font::Metrics::Helvetica any undef
# Font::Metrics::HelveticaBold any undef
# Font::Metrics::HelveticaBoldOblique any undef
# Font::Metrics::HelveticaOblique any undef
# Font::Metrics::TimesBold any undef
# Font::Metrics::TimesBoldItalic any undef
# Font::Metrics::TimesItalic any undef
# Font::Metrics::TimesRoman any undef
# HTML::Element 3.15 5.03
# HTML::TreeBuilder any 5.03
# IO::File any 1.16
# base any 2.18
# integer any 1.00
# parent any 0.233
# strict any 1.07
# utf8 any 1.10
# warnings any 1.18
#
t/00-report-prereqs.t ........ ok
t/01_ps.t .................... ok
t/02_rtf.t ................... ok
t/03_text.t .................. ok
t/04_md.t .................... ok
t/author-critic.t ............ skipped: these tests are for testing by the author
t/author-eol.t ............... skipped: these tests are for testing by the author
t/author-no-tabs.t ........... skipped: these tests are for testing by the author
t/author-pod-spell.t ......... skipped: these tests are for testing by the author
t/author-pod-syntax.t ........ skipped: these tests are for testing by the author
t/author-portability.t ....... skipped: these tests are for testing by the author
t/author-synopsis.t .......... skipped: these tests are for testing by the author
t/release-dist-manifest.t .... skipped: these tests are for release candidate testing
t/release-distmeta.t ......... skipped: these tests are for release candidate testing
t/release-has-version.t ...... skipped: these tests are for release candidate testing
t/release-minimum-version.t .. skipped: these tests are for release candidate testing
t/release-unused-vars.t ...... skipped: these tests are for release candidate testing
t/rt111783.t ................. ok
t/rt69426.t .................. ok
All tests successful.
Files=20, Tests=94, 1 wallclock secs ( 0.05 usr 0.04 sys + 0.74 cusr 0.20 csys = 1.03 CPU)
Result: PASS
------------------------------
PREREQUISITES
------------------------------
Prerequisite modules loaded:
requires:
Module Need Have
----------------------------------- ----- --------
base 0 2.18
Carp 0 1.36
Data::Dumper 0 2.154
Encode 0 2.93
Font::Metrics::Courier 0 0
Font::Metrics::CourierBold 0 0
Font::Metrics::CourierBoldOblique 0 0
Font::Metrics::CourierOblique 0 0
Font::Metrics::Helvetica 0 0
Font::Metrics::HelveticaBold 0 0
Font::Metrics::HelveticaBoldOblique 0 0
Font::Metrics::HelveticaOblique 0 0
Font::Metrics::TimesBold 0 0
Font::Metrics::TimesBoldItalic 0 0
Font::Metrics::TimesItalic 0 0
Font::Metrics::TimesRoman 0 0
HTML::Element 3.15 5.03
HTML::TreeBuilder 0 5.03
integer 0 1.00
IO::File 0 1.16
parent 0 0.233
perl 5.008 5.018004
strict 0 1.07
utf8 0 1.10
warnings 0 1.18
build_requires:
Module Need Have
----------------------------------- ----- --------
blib 1.01 1.06
bytes 0 1.04
ExtUtils::MakeMaker 0 7.30
File::Slurper 0 0.010
File::Spec 0 3.47
FindBin 0 1.51
IO::Handle 0 1.34
IPC::Open3 0 1.13
lib 0 0.63
Test::More 0.96 1.302106
Test::Warnings 0 0.026
configure_requires:
Module Need Have
----------------------------------- ----- --------
ExtUtils::MakeMaker 0 7.30
------------------------------
ENVIRONMENT AND OTHER CONTEXT
------------------------------
Environment variables:
AUTOMATED_TESTING = 1
LANG = en_US.UTF-8
LC_ALL = POSIX
PATH = /Users/hornenj/perl5/perlbrew/bin:/Users/hornenj/perl5/perlbrew/perls/perl-5.18.4/bin:/Users/hornenj/bin:/sw/bin:/Users/hornenj/perl5/perlbrew/bin:/usr/bin:/bin:/usr/X11R6/bin
PERL5LIB = /Users/hornenj/.cpan/build/Font-AFM-1.20-1/blib/arch:/Users/hornenj/.cpan/build/Font-AFM-1.20-1/blib/lib:/Users/hornenj/.cpan/build/File-Slurper-0.010-11/blib/arch:/Users/hornenj/.cpan/build/File-Slurper-0.010-11/blib/lib:/Users/hornenj/.cpan/build/Email-MIME-1.946-10/blib/arch:/Users/hornenj/.cpan/build/Email-MIME-1.946-10/blib/lib:/Users/hornenj/.cpan/build/Email-Simple-2.214-14/blib/arch:/Users/hornenj/.cpan/build/Email-Simple-2.214-14/blib/lib:/Users/hornenj/.cpan/build/Email-MessageID-1.406-10/blib/arch:/Users/hornenj/.cpan/build/Email-MessageID-1.406-10/blib/lib:/Users/hornenj/.cpan/build/Email-MIME-Encodings-1.315-10/blib/arch:/Users/hornenj/.cpan/build/Email-MIME-Encodings-1.315-10/blib/lib:/Users/hornenj/.cpan/build/Email-MIME-ContentType-1.022-10/blib/arch:/Users/hornenj/.cpan/build/Email-MIME-ContentType-1.022-10/blib/lib:/Users/hornenj/.cpan/build/Encode-2.93-16/blib/arch:/Users/hornenj/.cpan/build/Encode-2.93-16/blib/lib:/Users/hornenj/.cpan/build/Email-Address-XS-1.01-12/blib/arch:/Users/hornenj/.cpan/build/Email-Address-XS-1.01-12/blib/lib
PERL5OPT =
PERL5_CPANPLUS_IS_RUNNING = 65618
PERL5_CPAN_IS_RUNNING = 65618
PERL5_MINISMOKEBOX = 0.68
PERLBREW_BASHRC_VERSION = 0.80
PERLBREW_HOME = /Users/hornenj/.perlbrew
PERLBREW_LIB =
PERLBREW_MANPATH = /Users/hornenj/perl5/perlbrew/perls/perl-5.18.4/man
PERLBREW_PATH = /Users/hornenj/perl5/perlbrew/bin:/Users/hornenj/perl5/perlbrew/perls/perl-5.18.4/bin
PERLBREW_PERL = perl-5.18.4
PERLBREW_ROOT = /Users/hornenj/perl5/perlbrew
PERLBREW_VERSION = 0.80
PERL_EXTUTILS_AUTOINSTALL = --defaultdeps
PERL_LOCAL_LIB_ROOT =
PERL_MM_USE_DEFAULT = 1
SHELL = /bin/bash
TERM = xterm-256color
TMPDIR = /var/folders/pz/pd7y1qjs6s3cbk170cw50fjc000c61/T/
Perl special variables (and OS-specific diagnostics, for MSWin32):
$^X = /Users/hornenj/perl5/perlbrew/perls/perl-5.18.4/bin/perl5.18.4
$UID/$EUID = 12481 / 12481
$GID = 14 14 5344 37191 527 12 62 204 399 206 37223 241 223
$EGID = 14 14 5344 37191 527 12 62 204 399 206 37223 241 223
Perl module toolchain versions installed:
Module Have
------------------- --------
CPAN 2.16
CPAN::Meta 2.150001
Cwd 3.47
ExtUtils::CBuilder 0.280223
ExtUtils::Command 7.30
ExtUtils::Install 2.06
ExtUtils::MakeMaker 7.30
ExtUtils::Manifest 1.70
ExtUtils::ParseXS 3.30
File::Spec 3.47
JSON 2.93
JSON::PP 2.27400
Module::Build 0.4212
Module::Signature n/a
Parse::CPAN::Meta 1.4422
Test::Harness 3.36
Test::More 1.302106
YAML 1.23
YAML::Syck 1.30
version 0.9912
--
Summary of my perl5 (revision 5 version 18 subversion 4) configuration:
Platform:
osname=darwin, osvers=13.4.0, archname=darwin-thread-multi-2level
uname='darwin ncbimac2008.ncbi.nlm.nih.gov 13.4.0 darwin kernel version 13.4.0: sun aug 17 19:50:11 pdt 2014; root:xnu-2422.115.4~1release_x86_64 x86_64 '
config_args='-de -Dprefix=/Users/hornenj/perl5/perlbrew/perls/perl-5.18.4 -Duseithreads -Dusemultiplicity -Dusedevel -Accflags=-O2 -W -Wformat=2 -Wswitch -Wshadow -Wwrite-strings -Wuninitialized -Wall -pipe -mtune=native -march=native -fomit-frame-pointer -msse2 -msse -mmmx -pedantic -D_FORTIFY_SOURCE=2 -Wpointer-arith -Wstrict-prototypes -fstack-protector -Wstack-protector -Wextra -Wbad-function-cast -Wcast-align -Wcast-qual -Wdisabled-optimization -Wendif-labels -Wfloat-equal -Wformat-nonliteral -Winline -Wmissing-declarations -Wmissing-prototypes -Wnested-externs -Wpointer-arith -Wundef -Wformat-security -fassociative-math -Acc=cc -Aeval:scriptdir=/Users/hornenj/perl5/perlbrew/perls/perl-5.18.4/bin'
hint=recommended, useposix=true, d_sigaction=define
useithreads=define, usemultiplicity=define
useperlio=define, d_sfio=undef, uselargefiles=define, usesocks=undef
use64bitint=define, use64bitall=define, uselongdouble=undef
usemymalloc=n, bincompat5005=undef
Compiler:
cc=' cc', ccflags ='-fno-common -DPERL_DARWIN -O2 -W -Wformat=2 -Wswitch -Wshadow -Wwrite-strings -Wuninitialized -Wall -pipe -mtune=native -march=native -fomit-frame-pointer -msse2 -msse -mmmx -pedantic -D_FORTIFY_SOURCE=2 -Wpointer-arith -Wstrict-prototypes -fstack-protector -Wstack-protector -Wextra -Wbad-function-cast -Wcast-align -Wcast-qual -Wdisabled-optimization -Wendif-labels -Wfloat-equal -Wformat-nonliteral -Winline -Wmissing-declarations -Wmissing-prototypes -Wnested-externs -Wpointer-arith -Wundef -Wformat-security -fassociative-math -fno-strict-aliasing -I/usr/local/include',
optimize='-O3',
cppflags='-fno-common -DPERL_DARWIN -O2 -W -Wformat=2 -Wswitch -Wshadow -Wwrite-strings -Wuninitialized -Wall -pipe -mtune=native -march=native -fomit-frame-pointer -msse2 -msse -mmmx -pedantic -D_FORTIFY_SOURCE=2 -Wpointer-arith -Wstrict-prototypes -fstack-protector -Wstack-protector -Wextra -Wbad-function-cast -Wcast-align -Wcast-qual -Wdisabled-optimization -Wendif-labels -Wfloat-equal -Wformat-nonliteral -Winline -Wmissing-declarations -Wmissing-prototypes -Wnested-externs -Wpointer-arith -Wundef -Wformat-security -fassociative-math -fno-strict-aliasing -I/usr/local/include'
ccversion='', gccversion='4.2.1 Compatible Apple LLVM 6.0 (clang-600.0.51)', gccosandvers=''
intsize=4, longsize=8, ptrsize=8, doublesize=8, byteorder=12345678
d_longlong=define, longlongsize=8, d_longdbl=define, longdblsize=16
ivtype='long', ivsize=8, nvtype='double', nvsize=8, Off_t='off_t', lseeksize=8
alignbytes=8, prototype=define
Linker and Libraries:
ld='env MACOSX_DEPLOYMENT_TARGET=10.3 cc', ldflags =' -fstack-protector -L/usr/local/lib'
libpth=/usr/local/lib /usr/lib
libs=-ldbm -ldl -lm -lutil -lc
perllibs=-ldl -lm -lutil -lc
libc=, so=dylib, useshrplib=false, libperl=libperl.a
gnulibc_version=''
Dynamic Linking:
dlsrc=dl_dlopen.xs, dlext=bundle, d_dlsymun=undef, ccdlflags=' '
cccdlflags=' ', lddlflags=' -bundle -undefined dynamic_lookup -L/usr/local/lib -fstack-protector'
Characteristics of this binary (from libperl):
Compile-time options: HAS_TIMES MULTIPLICITY PERLIO_LAYERS
PERL_DONT_CREATE_GVSV
PERL_HASH_FUNC_ONE_AT_A_TIME_HARD
PERL_IMPLICIT_CONTEXT PERL_MALLOC_WRAP
PERL_PRESERVE_IVUV PERL_SAWAMPERSAND PERL_USE_DEVEL
USE_64_BIT_ALL USE_64_BIT_INT USE_ITHREADS
USE_LARGE_FILES USE_LOCALE USE_LOCALE_COLLATE
USE_LOCALE_CTYPE USE_LOCALE_NUMERIC USE_PERLIO
USE_PERL_ATOF USE_REENTRANT_API
Built under darwin
Compiled at Nov 12 2014 08:22:09
%ENV:
PERL5LIB="/Users/hornenj/.cpan/build/Font-AFM-1.20-1/blib/arch:/Users/hornenj/.cpan/build/Font-AFM-1.20-1/blib/lib:/Users/hornenj/.cpan/build/File-Slurper-0.010-11/blib/arch:/Users/hornenj/.cpan/build/File-Slurper-0.010-11/blib/lib:/Users/hornenj/.cpan/build/Email-MIME-1.946-10/blib/arch:/Users/hornenj/.cpan/build/Email-MIME-1.946-10/blib/lib:/Users/hornenj/.cpan/build/Email-Simple-2.214-14/blib/arch:/Users/hornenj/.cpan/build/Email-Simple-2.214-14/blib/lib:/Users/hornenj/.cpan/build/Email-MessageID-1.406-10/blib/arch:/Users/hornenj/.cpan/build/Email-MessageID-1.406-10/blib/lib:/Users/hornenj/.cpan/build/Email-MIME-Encodings-1.315-10/blib/arch:/Users/hornenj/.cpan/build/Email-MIME-Encodings-1.315-10/blib/lib:/Users/hornenj/.cpan/build/Email-MIME-ContentType-1.022-10/blib/arch:/Users/hornenj/.cpan/build/Email-MIME-ContentType-1.022-10/blib/lib:/Users/hornenj/.cpan/build/Encode-2.93-16/blib/arch:/Users/hornenj/.cpan/build/Encode-2.93-16/blib/lib:/Users/hornenj/.cpan/build/Email-Address-XS-1.01-12/blib/arch:/Users/hornenj/.cpan/build/Email-Address-XS-1.01-12/blib/lib"
PERL5OPT=""
PERL5_CPANPLUS_IS_RUNNING="65618"
PERL5_CPAN_IS_RUNNING="65618"
PERL5_MINISMOKEBOX="0.68"
PERLBREW_BASHRC_VERSION="0.80"
PERLBREW_HOME="/Users/hornenj/.perlbrew"
PERLBREW_LIB=""
PERLBREW_MANPATH="/Users/hornenj/perl5/perlbrew/perls/perl-5.18.4/man"
PERLBREW_PATH="/Users/hornenj/perl5/perlbrew/bin:/Users/hornenj/perl5/perlbrew/perls/perl-5.18.4/bin"
PERLBREW_PERL="perl-5.18.4"
PERLBREW_ROOT="/Users/hornenj/perl5/perlbrew"
PERLBREW_VERSION="0.80"
PERL_EXTUTILS_AUTOINSTALL="--defaultdeps"
PERL_LOCAL_LIB_ROOT=""
PERL_MM_USE_DEFAULT="1"
@INC:
/Users/hornenj/.cpan/build/Font-AFM-1.20-1/blib/arch
/Users/hornenj/.cpan/build/Font-AFM-1.20-1/blib/lib
/Users/hornenj/.cpan/build/File-Slurper-0.010-11/blib/arch
/Users/hornenj/.cpan/build/File-Slurper-0.010-11/blib/lib
/Users/hornenj/.cpan/build/Email-MIME-1.946-10/blib/arch
/Users/hornenj/.cpan/build/Email-MIME-1.946-10/blib/lib
/Users/hornenj/.cpan/build/Email-Simple-2.214-14/blib/arch
/Users/hornenj/.cpan/build/Email-Simple-2.214-14/blib/lib
/Users/hornenj/.cpan/build/Email-MessageID-1.406-10/blib/arch
/Users/hornenj/.cpan/build/Email-MessageID-1.406-10/blib/lib
/Users/hornenj/.cpan/build/Email-MIME-Encodings-1.315-10/blib/arch
/Users/hornenj/.cpan/build/Email-MIME-Encodings-1.315-10/blib/lib
/Users/hornenj/.cpan/build/Email-MIME-ContentType-1.022-10/blib/arch
/Users/hornenj/.cpan/build/Email-MIME-ContentType-1.022-10/blib/lib
/Users/hornenj/.cpan/build/Encode-2.93-16/blib/arch
/Users/hornenj/.cpan/build/Encode-2.93-16/blib/lib
/Users/hornenj/.cpan/build/Email-Address-XS-1.01-12/blib/arch
/Users/hornenj/.cpan/build/Email-Address-XS-1.01-12/blib/lib
/Users/hornenj/perl5/perlbrew/perls/perl-5.18.4/lib/site_perl/5.18.4/darwin-thread-multi-2level
/Users/hornenj/perl5/perlbrew/perls/perl-5.18.4/lib/site_perl/5.18.4
/Users/hornenj/perl5/perlbrew/perls/perl-5.18.4/lib/5.18.4/darwin-thread-multi-2level
/Users/hornenj/perl5/perlbrew/perls/perl-5.18.4/lib/5.18.4
.