Report for SQL-Exec-0.10

Back
From: metabase:user:0d96120c-29e2-11e5-b049-ede3035d37de
Subject: PASS SQL-Exec-0.10 v5.23.1 SunOS/Solaris
Date: 2015-08-10T12:28:54Z

This distribution has been tested as part of the CPAN Testers
project, supporting the Perl programming language.  See
http://wiki.cpantesters.org/ for more information or email
questions to cpan-testers-discuss@perl.org


--
Dear Mathias Kende,

This is a computer-generated report for SQL-Exec-0.10
on perl 5.23.1, created by CPAN-Reporter-1.2015.

Thank you for uploading your work to CPAN.  Congratulations!
All tests were successful.

Sections of this report:

    * Tester comments
    * Program output
    * Prerequisites
    * Environment and other context

------------------------------
TESTER COMMENTS
------------------------------

Additional comments from tester:

this report is from an automated smoke testing program
and was not reviewed by a human for accuracy

CPU            : Intel(r) Xeon(r) CPU E5-1650 v3 @ 3.50GHz
MEMORY         : 8.00 GB
ARCH           : i86pc
OS             : Solaris 5.11
KERNEL         : SunOS 5.11
VIRTUALIZATION : virtualbox

------------------------------
PROGRAM OUTPUT
------------------------------

Output from '/usr/bin/make test':

PERL_DL_NONLAZY=1 "/export/home/jmaslak/perl5/perlbrew/perls/perl-5.23.1-ld/bin/perl5.23.1" "-MExtUtils::Command::MM" "-MTest::Harness" "-e" "undef *Test::Harness::Switches; test_harness(0, 'blib/lib', 'blib/arch')" t/*.t
given is experimental at /export/home/jmaslak/.cpan/build/SQL-Exec-0.10-U1RGh7/blib/lib/SQL/Exec.pm line 1218.
when is experimental at /export/home/jmaslak/.cpan/build/SQL-Exec-0.10-U1RGh7/blib/lib/SQL/Exec.pm line 1219.
when is experimental at /export/home/jmaslak/.cpan/build/SQL-Exec-0.10-U1RGh7/blib/lib/SQL/Exec.pm line 1220.
when is experimental at /export/home/jmaslak/.cpan/build/SQL-Exec-0.10-U1RGh7/blib/lib/SQL/Exec.pm line 1221.
when is experimental at /export/home/jmaslak/.cpan/build/SQL-Exec-0.10-U1RGh7/blib/lib/SQL/Exec.pm line 1222.
when is experimental at /export/home/jmaslak/.cpan/build/SQL-Exec-0.10-U1RGh7/blib/lib/SQL/Exec.pm line 1227.
when is experimental at /export/home/jmaslak/.cpan/build/SQL-Exec-0.10-U1RGh7/blib/lib/SQL/Exec.pm line 1228.
when is experimental at /export/home/jmaslak/.cpan/build/SQL-Exec-0.10-U1RGh7/blib/lib/SQL/Exec.pm line 1233.
when is experimental at /export/home/jmaslak/.cpan/build/SQL-Exec-0.10-U1RGh7/blib/lib/SQL/Exec.pm line 1238.
when is experimental at /export/home/jmaslak/.cpan/build/SQL-Exec-0.10-U1RGh7/blib/lib/SQL/Exec.pm line 1239.
when is experimental at /export/home/jmaslak/.cpan/build/SQL-Exec-0.10-U1RGh7/blib/lib/SQL/Exec.pm line 1240.
when is experimental at /export/home/jmaslak/.cpan/build/SQL-Exec-0.10-U1RGh7/blib/lib/SQL/Exec.pm line 1241.
when is experimental at /export/home/jmaslak/.cpan/build/SQL-Exec-0.10-U1RGh7/blib/lib/SQL/Exec.pm line 1242.
when is experimental at /export/home/jmaslak/.cpan/build/SQL-Exec-0.10-U1RGh7/blib/lib/SQL/Exec.pm line 1243.
given is experimental at /export/home/jmaslak/.cpan/build/Test-Subs-0.08-iyX9bH/blib/lib/Test/Subs.pm line 324.
when is experimental at /export/home/jmaslak/.cpan/build/Test-Subs-0.08-iyX9bH/blib/lib/Test/Subs.pm line 325.
when is experimental at /export/home/jmaslak/.cpan/build/Test-Subs-0.08-iyX9bH/blib/lib/Test/Subs.pm line 329.
when is experimental at /export/home/jmaslak/.cpan/build/Test-Subs-0.08-iyX9bH/blib/lib/Test/Subs.pm line 333.
Smartmatch is experimental at t/bind_params.t line 45.
Smartmatch is experimental at t/bind_params.t line 49.
Smartmatch is experimental at t/bind_params.t line 57.
Redundant argument in sprintf at /export/home/jmaslak/.cpan/build/Test-Subs-0.08-iyX9bH/blib/lib/Test/Subs.pm line 275.
Redundant argument in sprintf at /export/home/jmaslak/.cpan/build/Test-Subs-0.08-iyX9bH/blib/lib/Test/Subs.pm line 275.
Redundant argument in sprintf at /export/home/jmaslak/.cpan/build/Test-Subs-0.08-iyX9bH/blib/lib/Test/Subs.pm line 275.
Redundant argument in sprintf at /export/home/jmaslak/.cpan/build/Test-Subs-0.08-iyX9bH/blib/lib/Test/Subs.pm line 275.
Redundant argument in sprintf at /export/home/jmaslak/.cpan/build/Test-Subs-0.08-iyX9bH/blib/lib/Test/Subs.pm line 275.
Redundant argument in sprintf at /export/home/jmaslak/.cpan/build/Test-Subs-0.08-iyX9bH/blib/lib/Test/Subs.pm line 275.
Redundant argument in sprintf at /export/home/jmaslak/.cpan/build/Test-Subs-0.08-iyX9bH/blib/lib/Test/Subs.pm line 275.
Redundant argument in sprintf at /export/home/jmaslak/.cpan/build/Test-Subs-0.08-iyX9bH/blib/lib/Test/Subs.pm line 275.
Redundant argument in sprintf at /export/home/jmaslak/.cpan/build/Test-Subs-0.08-iyX9bH/blib/lib/Test/Subs.pm line 275.
Redundant argument in sprintf at /export/home/jmaslak/.cpan/build/Test-Subs-0.08-iyX9bH/blib/lib/Test/Subs.pm line 275.
Redundant argument in sprintf at /export/home/jmaslak/.cpan/build/Test-Subs-0.08-iyX9bH/blib/lib/Test/Subs.pm line 275.
Redundant argument in sprintf at /export/home/jmaslak/.cpan/build/Test-Subs-0.08-iyX9bH/blib/lib/Test/Subs.pm line 275.
Redundant argument in sprintf at /export/home/jmaslak/.cpan/build/Test-Subs-0.08-iyX9bH/blib/lib/Test/Subs.pm line 275.
Redundant argument in sprintf at /export/home/jmaslak/.cpan/build/Test-Subs-0.08-iyX9bH/blib/lib/Test/Subs.pm line 275.
Redundant argument in sprintf at /export/home/jmaslak/.cpan/build/Test-Subs-0.08-iyX9bH/blib/lib/Test/Subs.pm line 275.
t/bind_params.t ........ ok
given is experimental at /export/home/jmaslak/.cpan/build/SQL-Exec-0.10-U1RGh7/blib/lib/SQL/Exec.pm line 1218.
when is experimental at /export/home/jmaslak/.cpan/build/SQL-Exec-0.10-U1RGh7/blib/lib/SQL/Exec.pm line 1219.
when is experimental at /export/home/jmaslak/.cpan/build/SQL-Exec-0.10-U1RGh7/blib/lib/SQL/Exec.pm line 1220.
when is experimental at /export/home/jmaslak/.cpan/build/SQL-Exec-0.10-U1RGh7/blib/lib/SQL/Exec.pm line 1221.
when is experimental at /export/home/jmaslak/.cpan/build/SQL-Exec-0.10-U1RGh7/blib/lib/SQL/Exec.pm line 1222.
when is experimental at /export/home/jmaslak/.cpan/build/SQL-Exec-0.10-U1RGh7/blib/lib/SQL/Exec.pm line 1227.
when is experimental at /export/home/jmaslak/.cpan/build/SQL-Exec-0.10-U1RGh7/blib/lib/SQL/Exec.pm line 1228.
when is experimental at /export/home/jmaslak/.cpan/build/SQL-Exec-0.10-U1RGh7/blib/lib/SQL/Exec.pm line 1233.
when is experimental at /export/home/jmaslak/.cpan/build/SQL-Exec-0.10-U1RGh7/blib/lib/SQL/Exec.pm line 1238.
when is experimental at /export/home/jmaslak/.cpan/build/SQL-Exec-0.10-U1RGh7/blib/lib/SQL/Exec.pm line 1239.
when is experimental at /export/home/jmaslak/.cpan/build/SQL-Exec-0.10-U1RGh7/blib/lib/SQL/Exec.pm line 1240.
when is experimental at /export/home/jmaslak/.cpan/build/SQL-Exec-0.10-U1RGh7/blib/lib/SQL/Exec.pm line 1241.
when is experimental at /export/home/jmaslak/.cpan/build/SQL-Exec-0.10-U1RGh7/blib/lib/SQL/Exec.pm line 1242.
when is experimental at /export/home/jmaslak/.cpan/build/SQL-Exec-0.10-U1RGh7/blib/lib/SQL/Exec.pm line 1243.
given is experimental at /export/home/jmaslak/.cpan/build/Test-Subs-0.08-iyX9bH/blib/lib/Test/Subs.pm line 324.
when is experimental at /export/home/jmaslak/.cpan/build/Test-Subs-0.08-iyX9bH/blib/lib/Test/Subs.pm line 325.
when is experimental at /export/home/jmaslak/.cpan/build/Test-Subs-0.08-iyX9bH/blib/lib/Test/Subs.pm line 329.
when is experimental at /export/home/jmaslak/.cpan/build/Test-Subs-0.08-iyX9bH/blib/lib/Test/Subs.pm line 333.
Redundant argument in sprintf at /export/home/jmaslak/.cpan/build/Test-Subs-0.08-iyX9bH/blib/lib/Test/Subs.pm line 275.
Redundant argument in sprintf at /export/home/jmaslak/.cpan/build/Test-Subs-0.08-iyX9bH/blib/lib/Test/Subs.pm line 275.
Redundant argument in sprintf at /export/home/jmaslak/.cpan/build/Test-Subs-0.08-iyX9bH/blib/lib/Test/Subs.pm line 275.
t/count.t .............. ok
given is experimental at /export/home/jmaslak/.cpan/build/SQL-Exec-0.10-U1RGh7/blib/lib/SQL/Exec.pm line 1218.
when is experimental at /export/home/jmaslak/.cpan/build/SQL-Exec-0.10-U1RGh7/blib/lib/SQL/Exec.pm line 1219.
when is experimental at /export/home/jmaslak/.cpan/build/SQL-Exec-0.10-U1RGh7/blib/lib/SQL/Exec.pm line 1220.
when is experimental at /export/home/jmaslak/.cpan/build/SQL-Exec-0.10-U1RGh7/blib/lib/SQL/Exec.pm line 1221.
when is experimental at /export/home/jmaslak/.cpan/build/SQL-Exec-0.10-U1RGh7/blib/lib/SQL/Exec.pm line 1222.
when is experimental at /export/home/jmaslak/.cpan/build/SQL-Exec-0.10-U1RGh7/blib/lib/SQL/Exec.pm line 1227.
when is experimental at /export/home/jmaslak/.cpan/build/SQL-Exec-0.10-U1RGh7/blib/lib/SQL/Exec.pm line 1228.
when is experimental at /export/home/jmaslak/.cpan/build/SQL-Exec-0.10-U1RGh7/blib/lib/SQL/Exec.pm line 1233.
when is experimental at /export/home/jmaslak/.cpan/build/SQL-Exec-0.10-U1RGh7/blib/lib/SQL/Exec.pm line 1238.
when is experimental at /export/home/jmaslak/.cpan/build/SQL-Exec-0.10-U1RGh7/blib/lib/SQL/Exec.pm line 1239.
when is experimental at /export/home/jmaslak/.cpan/build/SQL-Exec-0.10-U1RGh7/blib/lib/SQL/Exec.pm line 1240.
when is experimental at /export/home/jmaslak/.cpan/build/SQL-Exec-0.10-U1RGh7/blib/lib/SQL/Exec.pm line 1241.
when is experimental at /export/home/jmaslak/.cpan/build/SQL-Exec-0.10-U1RGh7/blib/lib/SQL/Exec.pm line 1242.
when is experimental at /export/home/jmaslak/.cpan/build/SQL-Exec-0.10-U1RGh7/blib/lib/SQL/Exec.pm line 1243.
given is experimental at /export/home/jmaslak/.cpan/build/Test-Subs-0.08-iyX9bH/blib/lib/Test/Subs.pm line 324.
when is experimental at /export/home/jmaslak/.cpan/build/Test-Subs-0.08-iyX9bH/blib/lib/Test/Subs.pm line 325.
when is experimental at /export/home/jmaslak/.cpan/build/Test-Subs-0.08-iyX9bH/blib/lib/Test/Subs.pm line 329.
when is experimental at /export/home/jmaslak/.cpan/build/Test-Subs-0.08-iyX9bH/blib/lib/Test/Subs.pm line 333.
Smartmatch is experimental at t/execute_multiple.t line 22.
Smartmatch is experimental at t/execute_multiple.t line 38.
Smartmatch is experimental at t/execute_multiple.t line 46.
Smartmatch is experimental at t/execute_multiple.t line 54.
Redundant argument in sprintf at /export/home/jmaslak/.cpan/build/Test-Subs-0.08-iyX9bH/blib/lib/Test/Subs.pm line 275.
Redundant argument in sprintf at /export/home/jmaslak/.cpan/build/Test-Subs-0.08-iyX9bH/blib/lib/Test/Subs.pm line 275.
Redundant argument in sprintf at /export/home/jmaslak/.cpan/build/Test-Subs-0.08-iyX9bH/blib/lib/Test/Subs.pm line 275.
Redundant argument in sprintf at /export/home/jmaslak/.cpan/build/Test-Subs-0.08-iyX9bH/blib/lib/Test/Subs.pm line 275.
Redundant argument in sprintf at /export/home/jmaslak/.cpan/build/Test-Subs-0.08-iyX9bH/blib/lib/Test/Subs.pm line 275.
Redundant argument in sprintf at /export/home/jmaslak/.cpan/build/Test-Subs-0.08-iyX9bH/blib/lib/Test/Subs.pm line 275.
Redundant argument in sprintf at /export/home/jmaslak/.cpan/build/Test-Subs-0.08-iyX9bH/blib/lib/Test/Subs.pm line 275.
Redundant argument in sprintf at /export/home/jmaslak/.cpan/build/Test-Subs-0.08-iyX9bH/blib/lib/Test/Subs.pm line 275.
Redundant argument in sprintf at /export/home/jmaslak/.cpan/build/Test-Subs-0.08-iyX9bH/blib/lib/Test/Subs.pm line 275.
Redundant argument in sprintf at /export/home/jmaslak/.cpan/build/Test-Subs-0.08-iyX9bH/blib/lib/Test/Subs.pm line 275.
Redundant argument in sprintf at /export/home/jmaslak/.cpan/build/Test-Subs-0.08-iyX9bH/blib/lib/Test/Subs.pm line 275.
t/execute_multiple.t ... ok
given is experimental at /export/home/jmaslak/.cpan/build/SQL-Exec-0.10-U1RGh7/blib/lib/SQL/Exec.pm line 1218.
when is experimental at /export/home/jmaslak/.cpan/build/SQL-Exec-0.10-U1RGh7/blib/lib/SQL/Exec.pm line 1219.
when is experimental at /export/home/jmaslak/.cpan/build/SQL-Exec-0.10-U1RGh7/blib/lib/SQL/Exec.pm line 1220.
when is experimental at /export/home/jmaslak/.cpan/build/SQL-Exec-0.10-U1RGh7/blib/lib/SQL/Exec.pm line 1221.
when is experimental at /export/home/jmaslak/.cpan/build/SQL-Exec-0.10-U1RGh7/blib/lib/SQL/Exec.pm line 1222.
when is experimental at /export/home/jmaslak/.cpan/build/SQL-Exec-0.10-U1RGh7/blib/lib/SQL/Exec.pm line 1227.
when is experimental at /export/home/jmaslak/.cpan/build/SQL-Exec-0.10-U1RGh7/blib/lib/SQL/Exec.pm line 1228.
when is experimental at /export/home/jmaslak/.cpan/build/SQL-Exec-0.10-U1RGh7/blib/lib/SQL/Exec.pm line 1233.
when is experimental at /export/home/jmaslak/.cpan/build/SQL-Exec-0.10-U1RGh7/blib/lib/SQL/Exec.pm line 1238.
when is experimental at /export/home/jmaslak/.cpan/build/SQL-Exec-0.10-U1RGh7/blib/lib/SQL/Exec.pm line 1239.
when is experimental at /export/home/jmaslak/.cpan/build/SQL-Exec-0.10-U1RGh7/blib/lib/SQL/Exec.pm line 1240.
when is experimental at /export/home/jmaslak/.cpan/build/SQL-Exec-0.10-U1RGh7/blib/lib/SQL/Exec.pm line 1241.
when is experimental at /export/home/jmaslak/.cpan/build/SQL-Exec-0.10-U1RGh7/blib/lib/SQL/Exec.pm line 1242.
when is experimental at /export/home/jmaslak/.cpan/build/SQL-Exec-0.10-U1RGh7/blib/lib/SQL/Exec.pm line 1243.
given is experimental at /export/home/jmaslak/.cpan/build/Test-Subs-0.08-iyX9bH/blib/lib/Test/Subs.pm line 324.
when is experimental at /export/home/jmaslak/.cpan/build/Test-Subs-0.08-iyX9bH/blib/lib/Test/Subs.pm line 325.
when is experimental at /export/home/jmaslak/.cpan/build/Test-Subs-0.08-iyX9bH/blib/lib/Test/Subs.pm line 329.
when is experimental at /export/home/jmaslak/.cpan/build/Test-Subs-0.08-iyX9bH/blib/lib/Test/Subs.pm line 333.
Smartmatch is experimental at t/execute_split.t line 17.
Redundant argument in sprintf at /export/home/jmaslak/.cpan/build/Test-Subs-0.08-iyX9bH/blib/lib/Test/Subs.pm line 275.
Redundant argument in sprintf at /export/home/jmaslak/.cpan/build/Test-Subs-0.08-iyX9bH/blib/lib/Test/Subs.pm line 275.
Redundant argument in sprintf at /export/home/jmaslak/.cpan/build/Test-Subs-0.08-iyX9bH/blib/lib/Test/Subs.pm line 275.
t/execute_split.t ...... ok
given is experimental at /export/home/jmaslak/.cpan/build/SQL-Exec-0.10-U1RGh7/blib/lib/SQL/Exec.pm line 1218.
when is experimental at /export/home/jmaslak/.cpan/build/SQL-Exec-0.10-U1RGh7/blib/lib/SQL/Exec.pm line 1219.
when is experimental at /export/home/jmaslak/.cpan/build/SQL-Exec-0.10-U1RGh7/blib/lib/SQL/Exec.pm line 1220.
when is experimental at /export/home/jmaslak/.cpan/build/SQL-Exec-0.10-U1RGh7/blib/lib/SQL/Exec.pm line 1221.
when is experimental at /export/home/jmaslak/.cpan/build/SQL-Exec-0.10-U1RGh7/blib/lib/SQL/Exec.pm line 1222.
when is experimental at /export/home/jmaslak/.cpan/build/SQL-Exec-0.10-U1RGh7/blib/lib/SQL/Exec.pm line 1227.
when is experimental at /export/home/jmaslak/.cpan/build/SQL-Exec-0.10-U1RGh7/blib/lib/SQL/Exec.pm line 1228.
when is experimental at /export/home/jmaslak/.cpan/build/SQL-Exec-0.10-U1RGh7/blib/lib/SQL/Exec.pm line 1233.
when is experimental at /export/home/jmaslak/.cpan/build/SQL-Exec-0.10-U1RGh7/blib/lib/SQL/Exec.pm line 1238.
when is experimental at /export/home/jmaslak/.cpan/build/SQL-Exec-0.10-U1RGh7/blib/lib/SQL/Exec.pm line 1239.
when is experimental at /export/home/jmaslak/.cpan/build/SQL-Exec-0.10-U1RGh7/blib/lib/SQL/Exec.pm line 1240.
when is experimental at /export/home/jmaslak/.cpan/build/SQL-Exec-0.10-U1RGh7/blib/lib/SQL/Exec.pm line 1241.
when is experimental at /export/home/jmaslak/.cpan/build/SQL-Exec-0.10-U1RGh7/blib/lib/SQL/Exec.pm line 1242.
when is experimental at /export/home/jmaslak/.cpan/build/SQL-Exec-0.10-U1RGh7/blib/lib/SQL/Exec.pm line 1243.
given is experimental at /export/home/jmaslak/.cpan/build/Test-Subs-0.08-iyX9bH/blib/lib/Test/Subs.pm line 324.
when is experimental at /export/home/jmaslak/.cpan/build/Test-Subs-0.08-iyX9bH/blib/lib/Test/Subs.pm line 325.
when is experimental at /export/home/jmaslak/.cpan/build/Test-Subs-0.08-iyX9bH/blib/lib/Test/Subs.pm line 329.
when is experimental at /export/home/jmaslak/.cpan/build/Test-Subs-0.08-iyX9bH/blib/lib/Test/Subs.pm line 333.
Smartmatch is experimental at t/export.t line 19.
Smartmatch is experimental at t/export.t line 23.
Redundant argument in sprintf at /export/home/jmaslak/.cpan/build/Test-Subs-0.08-iyX9bH/blib/lib/Test/Subs.pm line 275.
Redundant argument in sprintf at /export/home/jmaslak/.cpan/build/Test-Subs-0.08-iyX9bH/blib/lib/Test/Subs.pm line 275.
Redundant argument in sprintf at /export/home/jmaslak/.cpan/build/Test-Subs-0.08-iyX9bH/blib/lib/Test/Subs.pm line 275.
Redundant argument in sprintf at /export/home/jmaslak/.cpan/build/Test-Subs-0.08-iyX9bH/blib/lib/Test/Subs.pm line 275.
Redundant argument in sprintf at /export/home/jmaslak/.cpan/build/Test-Subs-0.08-iyX9bH/blib/lib/Test/Subs.pm line 275.
Redundant argument in sprintf at /export/home/jmaslak/.cpan/build/Test-Subs-0.08-iyX9bH/blib/lib/Test/Subs.pm line 275.
t/export.t ............. ok
given is experimental at /export/home/jmaslak/.cpan/build/SQL-Exec-0.10-U1RGh7/blib/lib/SQL/Exec.pm line 1218.
when is experimental at /export/home/jmaslak/.cpan/build/SQL-Exec-0.10-U1RGh7/blib/lib/SQL/Exec.pm line 1219.
when is experimental at /export/home/jmaslak/.cpan/build/SQL-Exec-0.10-U1RGh7/blib/lib/SQL/Exec.pm line 1220.
when is experimental at /export/home/jmaslak/.cpan/build/SQL-Exec-0.10-U1RGh7/blib/lib/SQL/Exec.pm line 1221.
when is experimental at /export/home/jmaslak/.cpan/build/SQL-Exec-0.10-U1RGh7/blib/lib/SQL/Exec.pm line 1222.
when is experimental at /export/home/jmaslak/.cpan/build/SQL-Exec-0.10-U1RGh7/blib/lib/SQL/Exec.pm line 1227.
when is experimental at /export/home/jmaslak/.cpan/build/SQL-Exec-0.10-U1RGh7/blib/lib/SQL/Exec.pm line 1228.
when is experimental at /export/home/jmaslak/.cpan/build/SQL-Exec-0.10-U1RGh7/blib/lib/SQL/Exec.pm line 1233.
when is experimental at /export/home/jmaslak/.cpan/build/SQL-Exec-0.10-U1RGh7/blib/lib/SQL/Exec.pm line 1238.
when is experimental at /export/home/jmaslak/.cpan/build/SQL-Exec-0.10-U1RGh7/blib/lib/SQL/Exec.pm line 1239.
when is experimental at /export/home/jmaslak/.cpan/build/SQL-Exec-0.10-U1RGh7/blib/lib/SQL/Exec.pm line 1240.
when is experimental at /export/home/jmaslak/.cpan/build/SQL-Exec-0.10-U1RGh7/blib/lib/SQL/Exec.pm line 1241.
when is experimental at /export/home/jmaslak/.cpan/build/SQL-Exec-0.10-U1RGh7/blib/lib/SQL/Exec.pm line 1242.
when is experimental at /export/home/jmaslak/.cpan/build/SQL-Exec-0.10-U1RGh7/blib/lib/SQL/Exec.pm line 1243.
given is experimental at /export/home/jmaslak/.cpan/build/Test-Subs-0.08-iyX9bH/blib/lib/Test/Subs.pm line 324.
when is experimental at /export/home/jmaslak/.cpan/build/Test-Subs-0.08-iyX9bH/blib/lib/Test/Subs.pm line 325.
when is experimental at /export/home/jmaslak/.cpan/build/Test-Subs-0.08-iyX9bH/blib/lib/Test/Subs.pm line 329.
when is experimental at /export/home/jmaslak/.cpan/build/Test-Subs-0.08-iyX9bH/blib/lib/Test/Subs.pm line 333.
Smartmatch is experimental at t/file.t line 28.
Redundant argument in sprintf at /export/home/jmaslak/.cpan/build/Test-Subs-0.08-iyX9bH/blib/lib/Test/Subs.pm line 275.
Redundant argument in sprintf at /export/home/jmaslak/.cpan/build/Test-Subs-0.08-iyX9bH/blib/lib/Test/Subs.pm line 275.
Redundant argument in sprintf at /export/home/jmaslak/.cpan/build/Test-Subs-0.08-iyX9bH/blib/lib/Test/Subs.pm line 275.
t/file.t ............... ok
given is experimental at /export/home/jmaslak/.cpan/build/SQL-Exec-0.10-U1RGh7/blib/lib/SQL/Exec.pm line 1218.
when is experimental at /export/home/jmaslak/.cpan/build/SQL-Exec-0.10-U1RGh7/blib/lib/SQL/Exec.pm line 1219.
when is experimental at /export/home/jmaslak/.cpan/build/SQL-Exec-0.10-U1RGh7/blib/lib/SQL/Exec.pm line 1220.
when is experimental at /export/home/jmaslak/.cpan/build/SQL-Exec-0.10-U1RGh7/blib/lib/SQL/Exec.pm line 1221.
when is experimental at /export/home/jmaslak/.cpan/build/SQL-Exec-0.10-U1RGh7/blib/lib/SQL/Exec.pm line 1222.
when is experimental at /export/home/jmaslak/.cpan/build/SQL-Exec-0.10-U1RGh7/blib/lib/SQL/Exec.pm line 1227.
when is experimental at /export/home/jmaslak/.cpan/build/SQL-Exec-0.10-U1RGh7/blib/lib/SQL/Exec.pm line 1228.
when is experimental at /export/home/jmaslak/.cpan/build/SQL-Exec-0.10-U1RGh7/blib/lib/SQL/Exec.pm line 1233.
when is experimental at /export/home/jmaslak/.cpan/build/SQL-Exec-0.10-U1RGh7/blib/lib/SQL/Exec.pm line 1238.
when is experimental at /export/home/jmaslak/.cpan/build/SQL-Exec-0.10-U1RGh7/blib/lib/SQL/Exec.pm line 1239.
when is experimental at /export/home/jmaslak/.cpan/build/SQL-Exec-0.10-U1RGh7/blib/lib/SQL/Exec.pm line 1240.
when is experimental at /export/home/jmaslak/.cpan/build/SQL-Exec-0.10-U1RGh7/blib/lib/SQL/Exec.pm line 1241.
when is experimental at /export/home/jmaslak/.cpan/build/SQL-Exec-0.10-U1RGh7/blib/lib/SQL/Exec.pm line 1242.
when is experimental at /export/home/jmaslak/.cpan/build/SQL-Exec-0.10-U1RGh7/blib/lib/SQL/Exec.pm line 1243.
given is experimental at /export/home/jmaslak/.cpan/build/Test-Subs-0.08-iyX9bH/blib/lib/Test/Subs.pm line 324.
when is experimental at /export/home/jmaslak/.cpan/build/Test-Subs-0.08-iyX9bH/blib/lib/Test/Subs.pm line 325.
when is experimental at /export/home/jmaslak/.cpan/build/Test-Subs-0.08-iyX9bH/blib/lib/Test/Subs.pm line 329.
when is experimental at /export/home/jmaslak/.cpan/build/Test-Subs-0.08-iyX9bH/blib/lib/Test/Subs.pm line 333.
Smartmatch is experimental at t/get_columns.t line 16.
Smartmatch is experimental at t/get_columns.t line 20.
Smartmatch is experimental at t/get_columns.t line 24.
Smartmatch is experimental at t/get_columns.t line 28.
Smartmatch is experimental at t/get_columns.t line 32.
Smartmatch is experimental at t/get_columns.t line 36.
Smartmatch is experimental at t/get_columns.t line 48.
Smartmatch is experimental at t/get_columns.t line 52.
Smartmatch is experimental at t/get_columns.t line 56.
Smartmatch is experimental at t/get_columns.t line 60.
Smartmatch is experimental at t/get_columns.t line 64.
Smartmatch is experimental at t/get_columns.t line 68.
Redundant argument in sprintf at /export/home/jmaslak/.cpan/build/Test-Subs-0.08-iyX9bH/blib/lib/Test/Subs.pm line 275.
Redundant argument in sprintf at /export/home/jmaslak/.cpan/build/Test-Subs-0.08-iyX9bH/blib/lib/Test/Subs.pm line 275.
Redundant argument in sprintf at /export/home/jmaslak/.cpan/build/Test-Subs-0.08-iyX9bH/blib/lib/Test/Subs.pm line 275.
Redundant argument in sprintf at /export/home/jmaslak/.cpan/build/Test-Subs-0.08-iyX9bH/blib/lib/Test/Subs.pm line 275.
Redundant argument in sprintf at /export/home/jmaslak/.cpan/build/Test-Subs-0.08-iyX9bH/blib/lib/Test/Subs.pm line 275.
Redundant argument in sprintf at /export/home/jmaslak/.cpan/build/Test-Subs-0.08-iyX9bH/blib/lib/Test/Subs.pm line 275.
Redundant argument in sprintf at /export/home/jmaslak/.cpan/build/Test-Subs-0.08-iyX9bH/blib/lib/Test/Subs.pm line 275.
Redundant argument in sprintf at /export/home/jmaslak/.cpan/build/Test-Subs-0.08-iyX9bH/blib/lib/Test/Subs.pm line 275.
Redundant argument in sprintf at /export/home/jmaslak/.cpan/build/Test-Subs-0.08-iyX9bH/blib/lib/Test/Subs.pm line 275.
Redundant argument in sprintf at /export/home/jmaslak/.cpan/build/Test-Subs-0.08-iyX9bH/blib/lib/Test/Subs.pm line 275.
Redundant argument in sprintf at /export/home/jmaslak/.cpan/build/Test-Subs-0.08-iyX9bH/blib/lib/Test/Subs.pm line 275.
Redundant argument in sprintf at /export/home/jmaslak/.cpan/build/Test-Subs-0.08-iyX9bH/blib/lib/Test/Subs.pm line 275.
Redundant argument in sprintf at /export/home/jmaslak/.cpan/build/Test-Subs-0.08-iyX9bH/blib/lib/Test/Subs.pm line 275.
Redundant argument in sprintf at /export/home/jmaslak/.cpan/build/Test-Subs-0.08-iyX9bH/blib/lib/Test/Subs.pm line 275.
t/get_columns.t ........ ok
given is experimental at /export/home/jmaslak/.cpan/build/SQL-Exec-0.10-U1RGh7/blib/lib/SQL/Exec.pm line 1218.
when is experimental at /export/home/jmaslak/.cpan/build/SQL-Exec-0.10-U1RGh7/blib/lib/SQL/Exec.pm line 1219.
when is experimental at /export/home/jmaslak/.cpan/build/SQL-Exec-0.10-U1RGh7/blib/lib/SQL/Exec.pm line 1220.
when is experimental at /export/home/jmaslak/.cpan/build/SQL-Exec-0.10-U1RGh7/blib/lib/SQL/Exec.pm line 1221.
when is experimental at /export/home/jmaslak/.cpan/build/SQL-Exec-0.10-U1RGh7/blib/lib/SQL/Exec.pm line 1222.
when is experimental at /export/home/jmaslak/.cpan/build/SQL-Exec-0.10-U1RGh7/blib/lib/SQL/Exec.pm line 1227.
when is experimental at /export/home/jmaslak/.cpan/build/SQL-Exec-0.10-U1RGh7/blib/lib/SQL/Exec.pm line 1228.
when is experimental at /export/home/jmaslak/.cpan/build/SQL-Exec-0.10-U1RGh7/blib/lib/SQL/Exec.pm line 1233.
when is experimental at /export/home/jmaslak/.cpan/build/SQL-Exec-0.10-U1RGh7/blib/lib/SQL/Exec.pm line 1238.
when is experimental at /export/home/jmaslak/.cpan/build/SQL-Exec-0.10-U1RGh7/blib/lib/SQL/Exec.pm line 1239.
when is experimental at /export/home/jmaslak/.cpan/build/SQL-Exec-0.10-U1RGh7/blib/lib/SQL/Exec.pm line 1240.
when is experimental at /export/home/jmaslak/.cpan/build/SQL-Exec-0.10-U1RGh7/blib/lib/SQL/Exec.pm line 1241.
when is experimental at /export/home/jmaslak/.cpan/build/SQL-Exec-0.10-U1RGh7/blib/lib/SQL/Exec.pm line 1242.
when is experimental at /export/home/jmaslak/.cpan/build/SQL-Exec-0.10-U1RGh7/blib/lib/SQL/Exec.pm line 1243.
given is experimental at /export/home/jmaslak/.cpan/build/Test-Subs-0.08-iyX9bH/blib/lib/Test/Subs.pm line 324.
when is experimental at /export/home/jmaslak/.cpan/build/Test-Subs-0.08-iyX9bH/blib/lib/Test/Subs.pm line 325.
when is experimental at /export/home/jmaslak/.cpan/build/Test-Subs-0.08-iyX9bH/blib/lib/Test/Subs.pm line 329.
when is experimental at /export/home/jmaslak/.cpan/build/Test-Subs-0.08-iyX9bH/blib/lib/Test/Subs.pm line 333.
Redundant argument in sprintf at /export/home/jmaslak/.cpan/build/Test-Subs-0.08-iyX9bH/blib/lib/Test/Subs.pm line 275.
Redundant argument in sprintf at /export/home/jmaslak/.cpan/build/Test-Subs-0.08-iyX9bH/blib/lib/Test/Subs.pm line 275.
Redundant argument in sprintf at /export/home/jmaslak/.cpan/build/Test-Subs-0.08-iyX9bH/blib/lib/Test/Subs.pm line 275.
Redundant argument in sprintf at /export/home/jmaslak/.cpan/build/Test-Subs-0.08-iyX9bH/blib/lib/Test/Subs.pm line 275.
t/multi_handle.t ....... ok
given is experimental at /export/home/jmaslak/.cpan/build/SQL-Exec-0.10-U1RGh7/blib/lib/SQL/Exec.pm line 1218.
when is experimental at /export/home/jmaslak/.cpan/build/SQL-Exec-0.10-U1RGh7/blib/lib/SQL/Exec.pm line 1219.
when is experimental at /export/home/jmaslak/.cpan/build/SQL-Exec-0.10-U1RGh7/blib/lib/SQL/Exec.pm line 1220.
when is experimental at /export/home/jmaslak/.cpan/build/SQL-Exec-0.10-U1RGh7/blib/lib/SQL/Exec.pm line 1221.
when is experimental at /export/home/jmaslak/.cpan/build/SQL-Exec-0.10-U1RGh7/blib/lib/SQL/Exec.pm line 1222.
when is experimental at /export/home/jmaslak/.cpan/build/SQL-Exec-0.10-U1RGh7/blib/lib/SQL/Exec.pm line 1227.
when is experimental at /export/home/jmaslak/.cpan/build/SQL-Exec-0.10-U1RGh7/blib/lib/SQL/Exec.pm line 1228.
when is experimental at /export/home/jmaslak/.cpan/build/SQL-Exec-0.10-U1RGh7/blib/lib/SQL/Exec.pm line 1233.
when is experimental at /export/home/jmaslak/.cpan/build/SQL-Exec-0.10-U1RGh7/blib/lib/SQL/Exec.pm line 1238.
when is experimental at /export/home/jmaslak/.cpan/build/SQL-Exec-0.10-U1RGh7/blib/lib/SQL/Exec.pm line 1239.
when is experimental at /export/home/jmaslak/.cpan/build/SQL-Exec-0.10-U1RGh7/blib/lib/SQL/Exec.pm line 1240.
when is experimental at /export/home/jmaslak/.cpan/build/SQL-Exec-0.10-U1RGh7/blib/lib/SQL/Exec.pm line 1241.
when is experimental at /export/home/jmaslak/.cpan/build/SQL-Exec-0.10-U1RGh7/blib/lib/SQL/Exec.pm line 1242.
when is experimental at /export/home/jmaslak/.cpan/build/SQL-Exec-0.10-U1RGh7/blib/lib/SQL/Exec.pm line 1243.
given is experimental at /export/home/jmaslak/.cpan/build/Test-Subs-0.08-iyX9bH/blib/lib/Test/Subs.pm line 324.
when is experimental at /export/home/jmaslak/.cpan/build/Test-Subs-0.08-iyX9bH/blib/lib/Test/Subs.pm line 325.
when is experimental at /export/home/jmaslak/.cpan/build/Test-Subs-0.08-iyX9bH/blib/lib/Test/Subs.pm line 329.
when is experimental at /export/home/jmaslak/.cpan/build/Test-Subs-0.08-iyX9bH/blib/lib/Test/Subs.pm line 333.
Redundant argument in sprintf at /export/home/jmaslak/.cpan/build/Test-Subs-0.08-iyX9bH/blib/lib/Test/Subs.pm line 275.
Redundant argument in sprintf at /export/home/jmaslak/.cpan/build/Test-Subs-0.08-iyX9bH/blib/lib/Test/Subs.pm line 275.
Redundant argument in sprintf at /export/home/jmaslak/.cpan/build/Test-Subs-0.08-iyX9bH/blib/lib/Test/Subs.pm line 275.
Redundant argument in sprintf at /export/home/jmaslak/.cpan/build/Test-Subs-0.08-iyX9bH/blib/lib/Test/Subs.pm line 275.
Redundant argument in sprintf at /export/home/jmaslak/.cpan/build/Test-Subs-0.08-iyX9bH/blib/lib/Test/Subs.pm line 275.
Redundant argument in sprintf at /export/home/jmaslak/.cpan/build/Test-Subs-0.08-iyX9bH/blib/lib/Test/Subs.pm line 275.
Redundant argument in sprintf at /export/home/jmaslak/.cpan/build/Test-Subs-0.08-iyX9bH/blib/lib/Test/Subs.pm line 275.
t/query_hashes.t ....... ok
given is experimental at /export/home/jmaslak/.cpan/build/SQL-Exec-0.10-U1RGh7/blib/lib/SQL/Exec.pm line 1218.
when is experimental at /export/home/jmaslak/.cpan/build/SQL-Exec-0.10-U1RGh7/blib/lib/SQL/Exec.pm line 1219.
when is experimental at /export/home/jmaslak/.cpan/build/SQL-Exec-0.10-U1RGh7/blib/lib/SQL/Exec.pm line 1220.
when is experimental at /export/home/jmaslak/.cpan/build/SQL-Exec-0.10-U1RGh7/blib/lib/SQL/Exec.pm line 1221.
when is experimental at /export/home/jmaslak/.cpan/build/SQL-Exec-0.10-U1RGh7/blib/lib/SQL/Exec.pm line 1222.
when is experimental at /export/home/jmaslak/.cpan/build/SQL-Exec-0.10-U1RGh7/blib/lib/SQL/Exec.pm line 1227.
when is experimental at /export/home/jmaslak/.cpan/build/SQL-Exec-0.10-U1RGh7/blib/lib/SQL/Exec.pm line 1228.
when is experimental at /export/home/jmaslak/.cpan/build/SQL-Exec-0.10-U1RGh7/blib/lib/SQL/Exec.pm line 1233.
when is experimental at /export/home/jmaslak/.cpan/build/SQL-Exec-0.10-U1RGh7/blib/lib/SQL/Exec.pm line 1238.
when is experimental at /export/home/jmaslak/.cpan/build/SQL-Exec-0.10-U1RGh7/blib/lib/SQL/Exec.pm line 1239.
when is experimental at /export/home/jmaslak/.cpan/build/SQL-Exec-0.10-U1RGh7/blib/lib/SQL/Exec.pm line 1240.
when is experimental at /export/home/jmaslak/.cpan/build/SQL-Exec-0.10-U1RGh7/blib/lib/SQL/Exec.pm line 1241.
when is experimental at /export/home/jmaslak/.cpan/build/SQL-Exec-0.10-U1RGh7/blib/lib/SQL/Exec.pm line 1242.
when is experimental at /export/home/jmaslak/.cpan/build/SQL-Exec-0.10-U1RGh7/blib/lib/SQL/Exec.pm line 1243.
given is experimental at /export/home/jmaslak/.cpan/build/Test-Subs-0.08-iyX9bH/blib/lib/Test/Subs.pm line 324.
when is experimental at /export/home/jmaslak/.cpan/build/Test-Subs-0.08-iyX9bH/blib/lib/Test/Subs.pm line 325.
when is experimental at /export/home/jmaslak/.cpan/build/Test-Subs-0.08-iyX9bH/blib/lib/Test/Subs.pm line 329.
when is experimental at /export/home/jmaslak/.cpan/build/Test-Subs-0.08-iyX9bH/blib/lib/Test/Subs.pm line 333.
Smartmatch is experimental at t/query_info.t line 14.
Smartmatch is experimental at t/query_info.t line 37.
Smartmatch is experimental at t/query_info.t line 41.
Redundant argument in sprintf at /export/home/jmaslak/.cpan/build/Test-Subs-0.08-iyX9bH/blib/lib/Test/Subs.pm line 275.
Redundant argument in sprintf at /export/home/jmaslak/.cpan/build/Test-Subs-0.08-iyX9bH/blib/lib/Test/Subs.pm line 275.
Redundant argument in sprintf at /export/home/jmaslak/.cpan/build/Test-Subs-0.08-iyX9bH/blib/lib/Test/Subs.pm line 275.
Redundant argument in sprintf at /export/home/jmaslak/.cpan/build/Test-Subs-0.08-iyX9bH/blib/lib/Test/Subs.pm line 275.
Redundant argument in sprintf at /export/home/jmaslak/.cpan/build/Test-Subs-0.08-iyX9bH/blib/lib/Test/Subs.pm line 275.
Redundant argument in sprintf at /export/home/jmaslak/.cpan/build/Test-Subs-0.08-iyX9bH/blib/lib/Test/Subs.pm line 275.
Redundant argument in sprintf at /export/home/jmaslak/.cpan/build/Test-Subs-0.08-iyX9bH/blib/lib/Test/Subs.pm line 275.
Redundant argument in sprintf at /export/home/jmaslak/.cpan/build/Test-Subs-0.08-iyX9bH/blib/lib/Test/Subs.pm line 275.
t/query_info.t ......... ok
given is experimental at /export/home/jmaslak/.cpan/build/SQL-Exec-0.10-U1RGh7/blib/lib/SQL/Exec.pm line 1218.
when is experimental at /export/home/jmaslak/.cpan/build/SQL-Exec-0.10-U1RGh7/blib/lib/SQL/Exec.pm line 1219.
when is experimental at /export/home/jmaslak/.cpan/build/SQL-Exec-0.10-U1RGh7/blib/lib/SQL/Exec.pm line 1220.
when is experimental at /export/home/jmaslak/.cpan/build/SQL-Exec-0.10-U1RGh7/blib/lib/SQL/Exec.pm line 1221.
when is experimental at /export/home/jmaslak/.cpan/build/SQL-Exec-0.10-U1RGh7/blib/lib/SQL/Exec.pm line 1222.
when is experimental at /export/home/jmaslak/.cpan/build/SQL-Exec-0.10-U1RGh7/blib/lib/SQL/Exec.pm line 1227.
when is experimental at /export/home/jmaslak/.cpan/build/SQL-Exec-0.10-U1RGh7/blib/lib/SQL/Exec.pm line 1228.
when is experimental at /export/home/jmaslak/.cpan/build/SQL-Exec-0.10-U1RGh7/blib/lib/SQL/Exec.pm line 1233.
when is experimental at /export/home/jmaslak/.cpan/build/SQL-Exec-0.10-U1RGh7/blib/lib/SQL/Exec.pm line 1238.
when is experimental at /export/home/jmaslak/.cpan/build/SQL-Exec-0.10-U1RGh7/blib/lib/SQL/Exec.pm line 1239.
when is experimental at /export/home/jmaslak/.cpan/build/SQL-Exec-0.10-U1RGh7/blib/lib/SQL/Exec.pm line 1240.
when is experimental at /export/home/jmaslak/.cpan/build/SQL-Exec-0.10-U1RGh7/blib/lib/SQL/Exec.pm line 1241.
when is experimental at /export/home/jmaslak/.cpan/build/SQL-Exec-0.10-U1RGh7/blib/lib/SQL/Exec.pm line 1242.
when is experimental at /export/home/jmaslak/.cpan/build/SQL-Exec-0.10-U1RGh7/blib/lib/SQL/Exec.pm line 1243.
given is experimental at /export/home/jmaslak/.cpan/build/Test-Subs-0.08-iyX9bH/blib/lib/Test/Subs.pm line 324.
when is experimental at /export/home/jmaslak/.cpan/build/Test-Subs-0.08-iyX9bH/blib/lib/Test/Subs.pm line 325.
when is experimental at /export/home/jmaslak/.cpan/build/Test-Subs-0.08-iyX9bH/blib/lib/Test/Subs.pm line 329.
when is experimental at /export/home/jmaslak/.cpan/build/Test-Subs-0.08-iyX9bH/blib/lib/Test/Subs.pm line 333.
Redundant argument in sprintf at /export/home/jmaslak/.cpan/build/Test-Subs-0.08-iyX9bH/blib/lib/Test/Subs.pm line 275.
Redundant argument in sprintf at /export/home/jmaslak/.cpan/build/Test-Subs-0.08-iyX9bH/blib/lib/Test/Subs.pm line 275.
Redundant argument in sprintf at /export/home/jmaslak/.cpan/build/Test-Subs-0.08-iyX9bH/blib/lib/Test/Subs.pm line 275.
Redundant argument in sprintf at /export/home/jmaslak/.cpan/build/Test-Subs-0.08-iyX9bH/blib/lib/Test/Subs.pm line 275.
Redundant argument in sprintf at /export/home/jmaslak/.cpan/build/Test-Subs-0.08-iyX9bH/blib/lib/Test/Subs.pm line 275.
Redundant argument in sprintf at /export/home/jmaslak/.cpan/build/Test-Subs-0.08-iyX9bH/blib/lib/Test/Subs.pm line 275.
Redundant argument in sprintf at /export/home/jmaslak/.cpan/build/Test-Subs-0.08-iyX9bH/blib/lib/Test/Subs.pm line 275.
t/replace.t ............ ok
given is experimental at /export/home/jmaslak/.cpan/build/SQL-Exec-0.10-U1RGh7/blib/lib/SQL/Exec.pm line 1218.
when is experimental at /export/home/jmaslak/.cpan/build/SQL-Exec-0.10-U1RGh7/blib/lib/SQL/Exec.pm line 1219.
when is experimental at /export/home/jmaslak/.cpan/build/SQL-Exec-0.10-U1RGh7/blib/lib/SQL/Exec.pm line 1220.
when is experimental at /export/home/jmaslak/.cpan/build/SQL-Exec-0.10-U1RGh7/blib/lib/SQL/Exec.pm line 1221.
when is experimental at /export/home/jmaslak/.cpan/build/SQL-Exec-0.10-U1RGh7/blib/lib/SQL/Exec.pm line 1222.
when is experimental at /export/home/jmaslak/.cpan/build/SQL-Exec-0.10-U1RGh7/blib/lib/SQL/Exec.pm line 1227.
when is experimental at /export/home/jmaslak/.cpan/build/SQL-Exec-0.10-U1RGh7/blib/lib/SQL/Exec.pm line 1228.
when is experimental at /export/home/jmaslak/.cpan/build/SQL-Exec-0.10-U1RGh7/blib/lib/SQL/Exec.pm line 1233.
when is experimental at /export/home/jmaslak/.cpan/build/SQL-Exec-0.10-U1RGh7/blib/lib/SQL/Exec.pm line 1238.
when is experimental at /export/home/jmaslak/.cpan/build/SQL-Exec-0.10-U1RGh7/blib/lib/SQL/Exec.pm line 1239.
when is experimental at /export/home/jmaslak/.cpan/build/SQL-Exec-0.10-U1RGh7/blib/lib/SQL/Exec.pm line 1240.
when is experimental at /export/home/jmaslak/.cpan/build/SQL-Exec-0.10-U1RGh7/blib/lib/SQL/Exec.pm line 1241.
when is experimental at /export/home/jmaslak/.cpan/build/SQL-Exec-0.10-U1RGh7/blib/lib/SQL/Exec.pm line 1242.
when is experimental at /export/home/jmaslak/.cpan/build/SQL-Exec-0.10-U1RGh7/blib/lib/SQL/Exec.pm line 1243.
given is experimental at /export/home/jmaslak/.cpan/build/Test-Subs-0.08-iyX9bH/blib/lib/Test/Subs.pm line 324.
when is experimental at /export/home/jmaslak/.cpan/build/Test-Subs-0.08-iyX9bH/blib/lib/Test/Subs.pm line 325.
when is experimental at /export/home/jmaslak/.cpan/build/Test-Subs-0.08-iyX9bH/blib/lib/Test/Subs.pm line 329.
when is experimental at /export/home/jmaslak/.cpan/build/Test-Subs-0.08-iyX9bH/blib/lib/Test/Subs.pm line 333.
Smartmatch is experimental at t/simple.t line 19.
Smartmatch is experimental at t/simple.t line 23.
Redundant argument in sprintf at /export/home/jmaslak/.cpan/build/Test-Subs-0.08-iyX9bH/blib/lib/Test/Subs.pm line 275.
Redundant argument in sprintf at /export/home/jmaslak/.cpan/build/Test-Subs-0.08-iyX9bH/blib/lib/Test/Subs.pm line 275.
Redundant argument in sprintf at /export/home/jmaslak/.cpan/build/Test-Subs-0.08-iyX9bH/blib/lib/Test/Subs.pm line 275.
Redundant argument in sprintf at /export/home/jmaslak/.cpan/build/Test-Subs-0.08-iyX9bH/blib/lib/Test/Subs.pm line 275.
Redundant argument in sprintf at /export/home/jmaslak/.cpan/build/Test-Subs-0.08-iyX9bH/blib/lib/Test/Subs.pm line 275.
Redundant argument in sprintf at /export/home/jmaslak/.cpan/build/Test-Subs-0.08-iyX9bH/blib/lib/Test/Subs.pm line 275.
Redundant argument in sprintf at /export/home/jmaslak/.cpan/build/Test-Subs-0.08-iyX9bH/blib/lib/Test/Subs.pm line 275.
Redundant argument in sprintf at /export/home/jmaslak/.cpan/build/Test-Subs-0.08-iyX9bH/blib/lib/Test/Subs.pm line 275.
t/simple.t ............. ok
given is experimental at /export/home/jmaslak/.cpan/build/SQL-Exec-0.10-U1RGh7/blib/lib/SQL/Exec.pm line 1218.
when is experimental at /export/home/jmaslak/.cpan/build/SQL-Exec-0.10-U1RGh7/blib/lib/SQL/Exec.pm line 1219.
when is experimental at /export/home/jmaslak/.cpan/build/SQL-Exec-0.10-U1RGh7/blib/lib/SQL/Exec.pm line 1220.
when is experimental at /export/home/jmaslak/.cpan/build/SQL-Exec-0.10-U1RGh7/blib/lib/SQL/Exec.pm line 1221.
when is experimental at /export/home/jmaslak/.cpan/build/SQL-Exec-0.10-U1RGh7/blib/lib/SQL/Exec.pm line 1222.
when is experimental at /export/home/jmaslak/.cpan/build/SQL-Exec-0.10-U1RGh7/blib/lib/SQL/Exec.pm line 1227.
when is experimental at /export/home/jmaslak/.cpan/build/SQL-Exec-0.10-U1RGh7/blib/lib/SQL/Exec.pm line 1228.
when is experimental at /export/home/jmaslak/.cpan/build/SQL-Exec-0.10-U1RGh7/blib/lib/SQL/Exec.pm line 1233.
when is experimental at /export/home/jmaslak/.cpan/build/SQL-Exec-0.10-U1RGh7/blib/lib/SQL/Exec.pm line 1238.
when is experimental at /export/home/jmaslak/.cpan/build/SQL-Exec-0.10-U1RGh7/blib/lib/SQL/Exec.pm line 1239.
when is experimental at /export/home/jmaslak/.cpan/build/SQL-Exec-0.10-U1RGh7/blib/lib/SQL/Exec.pm line 1240.
when is experimental at /export/home/jmaslak/.cpan/build/SQL-Exec-0.10-U1RGh7/blib/lib/SQL/Exec.pm line 1241.
when is experimental at /export/home/jmaslak/.cpan/build/SQL-Exec-0.10-U1RGh7/blib/lib/SQL/Exec.pm line 1242.
when is experimental at /export/home/jmaslak/.cpan/build/SQL-Exec-0.10-U1RGh7/blib/lib/SQL/Exec.pm line 1243.
given is experimental at /export/home/jmaslak/.cpan/build/Test-Subs-0.08-iyX9bH/blib/lib/Test/Subs.pm line 324.
when is experimental at /export/home/jmaslak/.cpan/build/Test-Subs-0.08-iyX9bH/blib/lib/Test/Subs.pm line 325.
when is experimental at /export/home/jmaslak/.cpan/build/Test-Subs-0.08-iyX9bH/blib/lib/Test/Subs.pm line 329.
when is experimental at /export/home/jmaslak/.cpan/build/Test-Subs-0.08-iyX9bH/blib/lib/Test/Subs.pm line 333.
Redundant argument in sprintf at /export/home/jmaslak/.cpan/build/Test-Subs-0.08-iyX9bH/blib/lib/Test/Subs.pm line 275.
Redundant argument in sprintf at /export/home/jmaslak/.cpan/build/Test-Subs-0.08-iyX9bH/blib/lib/Test/Subs.pm line 275.
Redundant argument in sprintf at /export/home/jmaslak/.cpan/build/Test-Subs-0.08-iyX9bH/blib/lib/Test/Subs.pm line 275.
Redundant argument in sprintf at /export/home/jmaslak/.cpan/build/Test-Subs-0.08-iyX9bH/blib/lib/Test/Subs.pm line 275.
Redundant argument in sprintf at /export/home/jmaslak/.cpan/build/Test-Subs-0.08-iyX9bH/blib/lib/Test/Subs.pm line 275.
t/sqlite.t ............. ok
given is experimental at /export/home/jmaslak/.cpan/build/SQL-Exec-0.10-U1RGh7/blib/lib/SQL/Exec.pm line 1218.
when is experimental at /export/home/jmaslak/.cpan/build/SQL-Exec-0.10-U1RGh7/blib/lib/SQL/Exec.pm line 1219.
when is experimental at /export/home/jmaslak/.cpan/build/SQL-Exec-0.10-U1RGh7/blib/lib/SQL/Exec.pm line 1220.
when is experimental at /export/home/jmaslak/.cpan/build/SQL-Exec-0.10-U1RGh7/blib/lib/SQL/Exec.pm line 1221.
when is experimental at /export/home/jmaslak/.cpan/build/SQL-Exec-0.10-U1RGh7/blib/lib/SQL/Exec.pm line 1222.
when is experimental at /export/home/jmaslak/.cpan/build/SQL-Exec-0.10-U1RGh7/blib/lib/SQL/Exec.pm line 1227.
when is experimental at /export/home/jmaslak/.cpan/build/SQL-Exec-0.10-U1RGh7/blib/lib/SQL/Exec.pm line 1228.
when is experimental at /export/home/jmaslak/.cpan/build/SQL-Exec-0.10-U1RGh7/blib/lib/SQL/Exec.pm line 1233.
when is experimental at /export/home/jmaslak/.cpan/build/SQL-Exec-0.10-U1RGh7/blib/lib/SQL/Exec.pm line 1238.
when is experimental at /export/home/jmaslak/.cpan/build/SQL-Exec-0.10-U1RGh7/blib/lib/SQL/Exec.pm line 1239.
when is experimental at /export/home/jmaslak/.cpan/build/SQL-Exec-0.10-U1RGh7/blib/lib/SQL/Exec.pm line 1240.
when is experimental at /export/home/jmaslak/.cpan/build/SQL-Exec-0.10-U1RGh7/blib/lib/SQL/Exec.pm line 1241.
when is experimental at /export/home/jmaslak/.cpan/build/SQL-Exec-0.10-U1RGh7/blib/lib/SQL/Exec.pm line 1242.
when is experimental at /export/home/jmaslak/.cpan/build/SQL-Exec-0.10-U1RGh7/blib/lib/SQL/Exec.pm line 1243.
given is experimental at /export/home/jmaslak/.cpan/build/Test-Subs-0.08-iyX9bH/blib/lib/Test/Subs.pm line 324.
when is experimental at /export/home/jmaslak/.cpan/build/Test-Subs-0.08-iyX9bH/blib/lib/Test/Subs.pm line 325.
when is experimental at /export/home/jmaslak/.cpan/build/Test-Subs-0.08-iyX9bH/blib/lib/Test/Subs.pm line 329.
when is experimental at /export/home/jmaslak/.cpan/build/Test-Subs-0.08-iyX9bH/blib/lib/Test/Subs.pm line 333.
Redundant argument in sprintf at /export/home/jmaslak/.cpan/build/Test-Subs-0.08-iyX9bH/blib/lib/Test/Subs.pm line 275.
Redundant argument in sprintf at /export/home/jmaslak/.cpan/build/Test-Subs-0.08-iyX9bH/blib/lib/Test/Subs.pm line 275.
Redundant argument in sprintf at /export/home/jmaslak/.cpan/build/Test-Subs-0.08-iyX9bH/blib/lib/Test/Subs.pm line 275.
Redundant argument in sprintf at /export/home/jmaslak/.cpan/build/Test-Subs-0.08-iyX9bH/blib/lib/Test/Subs.pm line 275.
Redundant argument in sprintf at /export/home/jmaslak/.cpan/build/Test-Subs-0.08-iyX9bH/blib/lib/Test/Subs.pm line 275.
Redundant argument in sprintf at /export/home/jmaslak/.cpan/build/Test-Subs-0.08-iyX9bH/blib/lib/Test/Subs.pm line 275.
Redundant argument in sprintf at /export/home/jmaslak/.cpan/build/Test-Subs-0.08-iyX9bH/blib/lib/Test/Subs.pm line 275.
Redundant argument in sprintf at /export/home/jmaslak/.cpan/build/Test-Subs-0.08-iyX9bH/blib/lib/Test/Subs.pm line 275.
t/statements_simple.t .. ok
given is experimental at /export/home/jmaslak/.cpan/build/SQL-Exec-0.10-U1RGh7/blib/lib/SQL/Exec.pm line 1218.
when is experimental at /export/home/jmaslak/.cpan/build/SQL-Exec-0.10-U1RGh7/blib/lib/SQL/Exec.pm line 1219.
when is experimental at /export/home/jmaslak/.cpan/build/SQL-Exec-0.10-U1RGh7/blib/lib/SQL/Exec.pm line 1220.
when is experimental at /export/home/jmaslak/.cpan/build/SQL-Exec-0.10-U1RGh7/blib/lib/SQL/Exec.pm line 1221.
when is experimental at /export/home/jmaslak/.cpan/build/SQL-Exec-0.10-U1RGh7/blib/lib/SQL/Exec.pm line 1222.
when is experimental at /export/home/jmaslak/.cpan/build/SQL-Exec-0.10-U1RGh7/blib/lib/SQL/Exec.pm line 1227.
when is experimental at /export/home/jmaslak/.cpan/build/SQL-Exec-0.10-U1RGh7/blib/lib/SQL/Exec.pm line 1228.
when is experimental at /export/home/jmaslak/.cpan/build/SQL-Exec-0.10-U1RGh7/blib/lib/SQL/Exec.pm line 1233.
when is experimental at /export/home/jmaslak/.cpan/build/SQL-Exec-0.10-U1RGh7/blib/lib/SQL/Exec.pm line 1238.
when is experimental at /export/home/jmaslak/.cpan/build/SQL-Exec-0.10-U1RGh7/blib/lib/SQL/Exec.pm line 1239.
when is experimental at /export/home/jmaslak/.cpan/build/SQL-Exec-0.10-U1RGh7/blib/lib/SQL/Exec.pm line 1240.
when is experimental at /export/home/jmaslak/.cpan/build/SQL-Exec-0.10-U1RGh7/blib/lib/SQL/Exec.pm line 1241.
when is experimental at /export/home/jmaslak/.cpan/build/SQL-Exec-0.10-U1RGh7/blib/lib/SQL/Exec.pm line 1242.
when is experimental at /export/home/jmaslak/.cpan/build/SQL-Exec-0.10-U1RGh7/blib/lib/SQL/Exec.pm line 1243.
given is experimental at /export/home/jmaslak/.cpan/build/Test-Subs-0.08-iyX9bH/blib/lib/Test/Subs.pm line 324.
when is experimental at /export/home/jmaslak/.cpan/build/Test-Subs-0.08-iyX9bH/blib/lib/Test/Subs.pm line 325.
when is experimental at /export/home/jmaslak/.cpan/build/Test-Subs-0.08-iyX9bH/blib/lib/Test/Subs.pm line 329.
when is experimental at /export/home/jmaslak/.cpan/build/Test-Subs-0.08-iyX9bH/blib/lib/Test/Subs.pm line 333.
Smartmatch is experimental at t/table_exists.t line 134.
Smartmatch is experimental at t/table_exists.t line 139.
Smartmatch is experimental at t/table_exists.t line 144.
Redundant argument in sprintf at /export/home/jmaslak/.cpan/build/Test-Subs-0.08-iyX9bH/blib/lib/Test/Subs.pm line 275.
Redundant argument in sprintf at /export/home/jmaslak/.cpan/build/Test-Subs-0.08-iyX9bH/blib/lib/Test/Subs.pm line 275.
Redundant argument in sprintf at /export/home/jmaslak/.cpan/build/Test-Subs-0.08-iyX9bH/blib/lib/Test/Subs.pm line 275.
Redundant argument in sprintf at /export/home/jmaslak/.cpan/build/Test-Subs-0.08-iyX9bH/blib/lib/Test/Subs.pm line 275.
Redundant argument in sprintf at /export/home/jmaslak/.cpan/build/Test-Subs-0.08-iyX9bH/blib/lib/Test/Subs.pm line 275.
Redundant argument in sprintf at /export/home/jmaslak/.cpan/build/Test-Subs-0.08-iyX9bH/blib/lib/Test/Subs.pm line 275.
Redundant argument in sprintf at /export/home/jmaslak/.cpan/build/Test-Subs-0.08-iyX9bH/blib/lib/Test/Subs.pm line 275.
Redundant argument in sprintf at /export/home/jmaslak/.cpan/build/Test-Subs-0.08-iyX9bH/blib/lib/Test/Subs.pm line 275.
Redundant argument in sprintf at /export/home/jmaslak/.cpan/build/Test-Subs-0.08-iyX9bH/blib/lib/Test/Subs.pm line 275.
Redundant argument in sprintf at /export/home/jmaslak/.cpan/build/Test-Subs-0.08-iyX9bH/blib/lib/Test/Subs.pm line 275.
Redundant argument in sprintf at /export/home/jmaslak/.cpan/build/Test-Subs-0.08-iyX9bH/blib/lib/Test/Subs.pm line 275.
Redundant argument in sprintf at /export/home/jmaslak/.cpan/build/Test-Subs-0.08-iyX9bH/blib/lib/Test/Subs.pm line 275.
Redundant argument in sprintf at /export/home/jmaslak/.cpan/build/Test-Subs-0.08-iyX9bH/blib/lib/Test/Subs.pm line 275.
Redundant argument in sprintf at /export/home/jmaslak/.cpan/build/Test-Subs-0.08-iyX9bH/blib/lib/Test/Subs.pm line 275.
Redundant argument in sprintf at /export/home/jmaslak/.cpan/build/Test-Subs-0.08-iyX9bH/blib/lib/Test/Subs.pm line 275.
Redundant argument in sprintf at /export/home/jmaslak/.cpan/build/Test-Subs-0.08-iyX9bH/blib/lib/Test/Subs.pm line 275.
Redundant argument in sprintf at /export/home/jmaslak/.cpan/build/Test-Subs-0.08-iyX9bH/blib/lib/Test/Subs.pm line 275.
Redundant argument in sprintf at /export/home/jmaslak/.cpan/build/Test-Subs-0.08-iyX9bH/blib/lib/Test/Subs.pm line 275.
Redundant argument in sprintf at /export/home/jmaslak/.cpan/build/Test-Subs-0.08-iyX9bH/blib/lib/Test/Subs.pm line 275.
Redundant argument in sprintf at /export/home/jmaslak/.cpan/build/Test-Subs-0.08-iyX9bH/blib/lib/Test/Subs.pm line 275.
Redundant argument in sprintf at /export/home/jmaslak/.cpan/build/Test-Subs-0.08-iyX9bH/blib/lib/Test/Subs.pm line 275.
Redundant argument in sprintf at /export/home/jmaslak/.cpan/build/Test-Subs-0.08-iyX9bH/blib/lib/Test/Subs.pm line 275.
Redundant argument in sprintf at /export/home/jmaslak/.cpan/build/Test-Subs-0.08-iyX9bH/blib/lib/Test/Subs.pm line 275.
Redundant argument in sprintf at /export/home/jmaslak/.cpan/build/Test-Subs-0.08-iyX9bH/blib/lib/Test/Subs.pm line 275.
Redundant argument in sprintf at /export/home/jmaslak/.cpan/build/Test-Subs-0.08-iyX9bH/blib/lib/Test/Subs.pm line 275.
Redundant argument in sprintf at /export/home/jmaslak/.cpan/build/Test-Subs-0.08-iyX9bH/blib/lib/Test/Subs.pm line 275.
Redundant argument in sprintf at /export/home/jmaslak/.cpan/build/Test-Subs-0.08-iyX9bH/blib/lib/Test/Subs.pm line 275.
Redundant argument in sprintf at /export/home/jmaslak/.cpan/build/Test-Subs-0.08-iyX9bH/blib/lib/Test/Subs.pm line 275.
Redundant argument in sprintf at /export/home/jmaslak/.cpan/build/Test-Subs-0.08-iyX9bH/blib/lib/Test/Subs.pm line 275.
Redundant argument in sprintf at /export/home/jmaslak/.cpan/build/Test-Subs-0.08-iyX9bH/blib/lib/Test/Subs.pm line 275.
Redundant argument in sprintf at /export/home/jmaslak/.cpan/build/Test-Subs-0.08-iyX9bH/blib/lib/Test/Subs.pm line 275.
Redundant argument in sprintf at /export/home/jmaslak/.cpan/build/Test-Subs-0.08-iyX9bH/blib/lib/Test/Subs.pm line 275.
t/table_exists.t ....... ok
given is experimental at /export/home/jmaslak/.cpan/build/SQL-Exec-0.10-U1RGh7/blib/lib/SQL/Exec.pm line 1218.
when is experimental at /export/home/jmaslak/.cpan/build/SQL-Exec-0.10-U1RGh7/blib/lib/SQL/Exec.pm line 1219.
when is experimental at /export/home/jmaslak/.cpan/build/SQL-Exec-0.10-U1RGh7/blib/lib/SQL/Exec.pm line 1220.
when is experimental at /export/home/jmaslak/.cpan/build/SQL-Exec-0.10-U1RGh7/blib/lib/SQL/Exec.pm line 1221.
when is experimental at /export/home/jmaslak/.cpan/build/SQL-Exec-0.10-U1RGh7/blib/lib/SQL/Exec.pm line 1222.
when is experimental at /export/home/jmaslak/.cpan/build/SQL-Exec-0.10-U1RGh7/blib/lib/SQL/Exec.pm line 1227.
when is experimental at /export/home/jmaslak/.cpan/build/SQL-Exec-0.10-U1RGh7/blib/lib/SQL/Exec.pm line 1228.
when is experimental at /export/home/jmaslak/.cpan/build/SQL-Exec-0.10-U1RGh7/blib/lib/SQL/Exec.pm line 1233.
when is experimental at /export/home/jmaslak/.cpan/build/SQL-Exec-0.10-U1RGh7/blib/lib/SQL/Exec.pm line 1238.
when is experimental at /export/home/jmaslak/.cpan/build/SQL-Exec-0.10-U1RGh7/blib/lib/SQL/Exec.pm line 1239.
when is experimental at /export/home/jmaslak/.cpan/build/SQL-Exec-0.10-U1RGh7/blib/lib/SQL/Exec.pm line 1240.
when is experimental at /export/home/jmaslak/.cpan/build/SQL-Exec-0.10-U1RGh7/blib/lib/SQL/Exec.pm line 1241.
when is experimental at /export/home/jmaslak/.cpan/build/SQL-Exec-0.10-U1RGh7/blib/lib/SQL/Exec.pm line 1242.
when is experimental at /export/home/jmaslak/.cpan/build/SQL-Exec-0.10-U1RGh7/blib/lib/SQL/Exec.pm line 1243.
given is experimental at /export/home/jmaslak/.cpan/build/Test-Subs-0.08-iyX9bH/blib/lib/Test/Subs.pm line 324.
when is experimental at /export/home/jmaslak/.cpan/build/Test-Subs-0.08-iyX9bH/blib/lib/Test/Subs.pm line 325.
when is experimental at /export/home/jmaslak/.cpan/build/Test-Subs-0.08-iyX9bH/blib/lib/Test/Subs.pm line 329.
when is experimental at /export/home/jmaslak/.cpan/build/Test-Subs-0.08-iyX9bH/blib/lib/Test/Subs.pm line 333.
Redundant argument in sprintf at /export/home/jmaslak/.cpan/build/Test-Subs-0.08-iyX9bH/blib/lib/Test/Subs.pm line 275.
Redundant argument in sprintf at /export/home/jmaslak/.cpan/build/Test-Subs-0.08-iyX9bH/blib/lib/Test/Subs.pm line 275.
Redundant argument in sprintf at /export/home/jmaslak/.cpan/build/Test-Subs-0.08-iyX9bH/blib/lib/Test/Subs.pm line 275.
Redundant argument in sprintf at /export/home/jmaslak/.cpan/build/Test-Subs-0.08-iyX9bH/blib/lib/Test/Subs.pm line 275.
Redundant argument in sprintf at /export/home/jmaslak/.cpan/build/Test-Subs-0.08-iyX9bH/blib/lib/Test/Subs.pm line 275.
t/transact.t ........... ok
All tests successful.
Files=16, Tests=139,  4 wallclock secs ( 0.08 usr  0.08 sys +  1.52 cusr  1.12 csys =  2.80 CPU)
Result: PASS

------------------------------
PREREQUISITES
------------------------------

Prerequisite modules loaded:

requires:

    Module                  Need     Have    
    ----------------------- -------- --------
    Carp                    0        1.36    
    DBI                     0        1.633   
    DBI::Const::GetInfoType 0        2.008697
    DBIx::Connector         0        0.53    
    Exporter                0        5.72    
    List::MoreUtils         0        0.413   
    perl                    5.010001 5.023001
    Scalar::Util            0        1.42_01 
    SQL::SplitStatement     0        1.00020 

build_requires:

    Module                  Need     Have    
    ----------------------- -------- --------
    DBD::SQLite             0        1.48    
    String::Replace         0        0.02    
    Test::Subs              0        0.08    

configure_requires:

    Module                  Need     Have    
    ----------------------- -------- --------
    ExtUtils::MakeMaker     6.3002   7.04_01 


------------------------------
ENVIRONMENT AND OTHER CONTEXT
------------------------------

Environment variables:

    AUTOMATED_TESTING = 1
    LANG = en_US.UTF-8
    LC_ALL = 
    LC_COLLATE = 
    LC_CTYPE = 
    LC_MESSAGES = 
    LC_MONETARY = 
    LC_NUMERIC = 
    LC_TIME = 
    NONINTERACTIVE_TESTING = 1
    PATH = /export/home/jmaslak/perl5/perlbrew/bin:/export/home/jmaslak/perl5/perlbrew/perls/perl-5.23.1-ld/bin:/export/home/jmaslak/perltest/bin:/export/home/jmaslak/perltest/bin:/export/home/jmaslak/perltest/bin:/export/home/jmaslak/bin:~/bin:/export/home/jmaslak/perl5/perlbrew/bin:/export/home/jmaslak/perl5/perlbrew/perls/perl-5.23.1/bin:/usr/bin:/bin:/usr/ccs/bin:/usr/sbin:/usr/ccs/bin:/opt/solarisstudio12.4/bin:/usr/ucb:~/perltest/bin
    PERL5LIB = /export/home/jmaslak/.cpan/build/SQL-SplitStatement-1.00020-4r57E4/blib/arch:/export/home/jmaslak/.cpan/build/SQL-SplitStatement-1.00020-4r57E4/blib/lib:/export/home/jmaslak/.cpan/build/SQL-Tokenizer-0.24-J0_OYc/blib/arch:/export/home/jmaslak/.cpan/build/SQL-Tokenizer-0.24-J0_OYc/blib/lib:/export/home/jmaslak/.cpan/build/Regexp-Common-2013031301-KJl2ab/blib/arch:/export/home/jmaslak/.cpan/build/Regexp-Common-2013031301-KJl2ab/blib/lib:/export/home/jmaslak/.cpan/build/String-Replace-0.02-hoUSBK/blib/arch:/export/home/jmaslak/.cpan/build/String-Replace-0.02-hoUSBK/blib/lib:/export/home/jmaslak/.cpan/build/Test-Subs-0.08-iyX9bH/blib/arch:/export/home/jmaslak/.cpan/build/Test-Subs-0.08-iyX9bH/blib/lib
    PERL5OPT = 
    PERL5_CPANPLUS_IS_RUNNING = 11964
    PERL5_CPAN_IS_RUNNING = 11964
    PERL5_CPAN_IS_RUNNING_IN_RECURSION = 9960,11964
    PERLBREW_BASHRC_VERSION = 0.73
    PERLBREW_HOME = /export/home/jmaslak/.perlbrew
    PERLBREW_LIB = 
    PERLBREW_MANPATH = /export/home/jmaslak/perl5/perlbrew/perls/perl-5.23.1-ld/man
    PERLBREW_PATH = /export/home/jmaslak/perl5/perlbrew/bin:/export/home/jmaslak/perl5/perlbrew/perls/perl-5.23.1-ld/bin
    PERLBREW_PERL = perl-5.23.1-ld
    PERLBREW_ROOT = /export/home/jmaslak/perl5/perlbrew
    PERLBREW_VERSION = 0.73
    PERL_CR_SMOKER_CURRENT = SQL-Exec-0.10
    PERL_EXTUTILS_AUTOINSTALL = --defaultdeps
    PERL_LOCAL_LIB_ROOT = 
    PERL_MM_USE_DEFAULT = 1
    SHELL = /usr/bin/bash
    TERM = screen

Perl special variables (and OS-specific diagnostics, for MSWin32):

    $^X = /export/home/jmaslak/perl5/perlbrew/perls/perl-5.23.1-ld/bin/perl5.23.1
    $UID/$EUID = 100 / 100
    $GID = 10 10
    $EGID = 10 10

Perl module toolchain versions installed:

    Module              Have    
    ------------------- --------
    CPAN                2.11    
    CPAN::Meta          2.150005
    Cwd                 3.56    
    ExtUtils::CBuilder  0.280223
    ExtUtils::Command   1.20    
    ExtUtils::Install   2.04    
    ExtUtils::MakeMaker 7.04_01 
    ExtUtils::Manifest  1.70    
    ExtUtils::ParseXS   3.28    
    File::Spec          3.56    
    JSON                2.90    
    JSON::PP            2.27300 
    Module::Build       0.4214  
    Module::Signature   n/a     
    Parse::CPAN::Meta   1.4417  
    Test::Harness       3.35    
    Test::More          1.001014
    YAML                1.15    
    YAML::Syck          n/a     
    version             0.9909  


--

Summary of my perl5 (revision 5 version 23 subversion 1) configuration:
   
  Platform:
    osname=solaris, osvers=2.11, archname=i86pc-solaris-ld
    uname='sunos solaris.antelope.net 5.11 11.2 i86pc i386 i86pc '
    config_args='-de -Dprefix=/export/home/jmaslak/perl5/perlbrew/perls/perl-5.23.1-ld -Duselongdouble -Dusedevel -Aeval:scriptdir=/export/home/jmaslak/perl5/perlbrew/perls/perl-5.23.1-ld/bin'
    hint=recommended, useposix=true, d_sigaction=define
    useithreads=undef, usemultiplicity=undef
    use64bitint=undef, use64bitall=undef, uselongdouble=define
    usemymalloc=n, bincompat5005=undef
  Compiler:
    cc='/opt/solarisstudio12.4/bin/cc', ccflags ='-I/usr/gnu/include -D_LARGEFILE_SOURCE -D_FILE_OFFSET_BITS=64 -DPERL_USE_SAFE_PUTENV',
    optimize='-O',
    cppflags='-I/usr/gnu/include'
    ccversion='Sun C 5.13 SunOS_i386 2014/10/20', gccversion='', gccosandvers=''
    intsize=4, longsize=4, ptrsize=4, doublesize=8, byteorder=1234, doublekind=3
    d_longlong=define, longlongsize=8, d_longdbl=define, longdblsize=12, longdblkind=3
    ivtype='long', ivsize=4, nvtype='long double', nvsize=12, Off_t='off_t', lseeksize=8
    alignbytes=4, prototype=define
  Linker and Libraries:
    ld='/opt/solarisstudio12.4/bin/cc', ldflags =' -L/usr/lib -L/usr/ccs/lib -L/opt/solarisstudio12.4/lib/compilers/staticlib -L/opt/solarisstudio12.4/lib/compilers/sse2 -L/opt/solarisstudio12.4/lib/compilers -L/lib -L/usr/gnu/lib '
    libpth=/usr/lib /usr/ccs/lib /opt/solarisstudio12.4/lib/compilers/staticlib /opt/solarisstudio12.4/lib/compilers/sse2 /opt/solarisstudio12.4/lib/compilers /lib /usr/gnu/lib
    libs=-lpthread -lsocket -lnsl -lgdbm -ldb -ldl -lm -lc -lsunmath
    perllibs=-lpthread -lsocket -lnsl -ldl -lm -lc -lsunmath
    libc=/lib/libc.so, so=so, useshrplib=false, libperl=libperl.a
    gnulibc_version=''
  Dynamic Linking:
    dlsrc=dl_dlopen.xs, dlext=so, d_dlsymun=undef, ccdlflags=' '
    cccdlflags='-KPIC', lddlflags='-G -L/usr/lib -L/usr/ccs/lib -L/opt/solarisstudio12.4/lib/compilers/staticlib -L/opt/solarisstudio12.4/lib/compilers/sse2 -L/opt/solarisstudio12.4/lib/compilers -L/lib -L/usr/gnu/lib'


Characteristics of this binary (from libperl): 
  Compile-time options: HAS_TIMES PERLIO_LAYERS PERL_COPY_ON_WRITE
                        PERL_DONT_CREATE_GVSV
                        PERL_HASH_FUNC_ONE_AT_A_TIME_HARD PERL_MALLOC_WRAP
                        PERL_PRESERVE_IVUV PERL_USE_DEVEL
                        PERL_USE_SAFE_PUTENV USE_LARGE_FILES USE_LOCALE
                        USE_LOCALE_COLLATE USE_LOCALE_CTYPE
                        USE_LOCALE_NUMERIC USE_LOCALE_TIME USE_LONG_DOUBLE
                        USE_PERLIO USE_PERL_ATOF
  Locally applied patches:
	Devel::PatchPerl 1.38
  Built under solaris
  Compiled at Jul 25 2015 00:29:56
  %ENV:
    PERL5LIB="/export/home/jmaslak/.cpan/build/SQL-SplitStatement-1.00020-4r57E4/blib/arch:/export/home/jmaslak/.cpan/build/SQL-SplitStatement-1.00020-4r57E4/blib/lib:/export/home/jmaslak/.cpan/build/SQL-Tokenizer-0.24-J0_OYc/blib/arch:/export/home/jmaslak/.cpan/build/SQL-Tokenizer-0.24-J0_OYc/blib/lib:/export/home/jmaslak/.cpan/build/Regexp-Common-2013031301-KJl2ab/blib/arch:/export/home/jmaslak/.cpan/build/Regexp-Common-2013031301-KJl2ab/blib/lib:/export/home/jmaslak/.cpan/build/String-Replace-0.02-hoUSBK/blib/arch:/export/home/jmaslak/.cpan/build/String-Replace-0.02-hoUSBK/blib/lib:/export/home/jmaslak/.cpan/build/Test-Subs-0.08-iyX9bH/blib/arch:/export/home/jmaslak/.cpan/build/Test-Subs-0.08-iyX9bH/blib/lib"
    PERL5OPT=""
    PERL5_CPANPLUS_IS_RUNNING="11964"
    PERL5_CPAN_IS_RUNNING="11964"
    PERL5_CPAN_IS_RUNNING_IN_RECURSION="9960,11964"
    PERLBREW_BASHRC_VERSION="0.73"
    PERLBREW_HOME="/export/home/jmaslak/.perlbrew"
    PERLBREW_LIB=""
    PERLBREW_MANPATH="/export/home/jmaslak/perl5/perlbrew/perls/perl-5.23.1-ld/man"
    PERLBREW_PATH="/export/home/jmaslak/perl5/perlbrew/bin:/export/home/jmaslak/perl5/perlbrew/perls/perl-5.23.1-ld/bin"
    PERLBREW_PERL="perl-5.23.1-ld"
    PERLBREW_ROOT="/export/home/jmaslak/perl5/perlbrew"
    PERLBREW_VERSION="0.73"
    PERL_CR_SMOKER_CURRENT="SQL-Exec-0.10"
    PERL_EXTUTILS_AUTOINSTALL="--defaultdeps"
    PERL_LOCAL_LIB_ROOT=""
    PERL_MM_USE_DEFAULT="1"
  @INC:
    /export/home/jmaslak/.cpan/build/SQL-SplitStatement-1.00020-4r57E4/blib/arch
    /export/home/jmaslak/.cpan/build/SQL-SplitStatement-1.00020-4r57E4/blib/lib
    /export/home/jmaslak/.cpan/build/SQL-Tokenizer-0.24-J0_OYc/blib/arch
    /export/home/jmaslak/.cpan/build/SQL-Tokenizer-0.24-J0_OYc/blib/lib
    /export/home/jmaslak/.cpan/build/Regexp-Common-2013031301-KJl2ab/blib/arch
    /export/home/jmaslak/.cpan/build/Regexp-Common-2013031301-KJl2ab/blib/lib
    /export/home/jmaslak/.cpan/build/String-Replace-0.02-hoUSBK/blib/arch
    /export/home/jmaslak/.cpan/build/String-Replace-0.02-hoUSBK/blib/lib
    /export/home/jmaslak/.cpan/build/Test-Subs-0.08-iyX9bH/blib/arch
    /export/home/jmaslak/.cpan/build/Test-Subs-0.08-iyX9bH/blib/lib
    /export/home/jmaslak/perl5/perlbrew/perls/perl-5.23.1-ld/lib/site_perl/5.23.1/i86pc-solaris-ld
    /export/home/jmaslak/perl5/perlbrew/perls/perl-5.23.1-ld/lib/site_perl/5.23.1
    /export/home/jmaslak/perl5/perlbrew/perls/perl-5.23.1-ld/lib/5.23.1/i86pc-solaris-ld
    /export/home/jmaslak/perl5/perlbrew/perls/perl-5.23.1-ld/lib/5.23.1
    .