Test-WWW-Mechanize v1.60 Perl 5 v5.42.0 RC2 x86_64-dragonfly
        
            - Status
- Pass
- From
- Carlos Guevara
- Dist
- 
                Test-WWW-Mechanize v1.60
            
- Platform
- Perl 5 v5.42.0 RC2 x86_64-dragonfly
- Date
- 2025-06-28 02:26:57
- ID
- 5d46bfa8-53c7-11f0-8c07-e7b8a1e61cf9
This distribution has been tested as part of the CPAN Testers
project, supporting the Perl programming language.  See
http://wiki.cpantesters.org/ for more information or email
questions to cpan-testers-discuss@perl.org
--
Dear Andy Lester,
This is a computer-generated report for Test-WWW-Mechanize-1.60
on perl 5.42.0, created by CPAN-Reporter-1.2020.
Thank you for uploading your work to CPAN.  Congratulations!
All tests were successful.
Sections of this report:
    * Tester comments
    * Program output
    * Prerequisites
    * Environment and other context
------------------------------
TESTER COMMENTS
------------------------------
Additional comments from tester:
this report is from an automated smoke testing program
and was not reviewed by a human for accuracy
------------------------------
PROGRAM OUTPUT
------------------------------
Output from '/usr/bin/make test':
PERL_DL_NONLAZY=1 "/home/cpan/bin/perl/bin/perl5.42.0" "-MExtUtils::Command::MM" "-MTest::Harness" "-e" "undef *Test::Harness::Switches; test_harness(0, 'blib/lib', 'blib/arch')" t/*.t
# Testing Test::WWW::Mechanize 1.60 on Perl 5.042000, /home/cpan/bin/perl/bin/perl5.42.0
# LWP 6.78
# WWW::Mechanize 2.19
# Test::More 1.302214
# Test::Builder::Tester 1.302214
# Optional HTML::Lint not found. Install it to use additional features.
# Optional HTML::Tidy5 not found. Install it to use additional features.
t/00-load.t ................ ok
t/autolint.t ............... skipped: HTML::Lint 2.20 is not installed, cannot test autolint
t/autotidy.t ............... skipped: Optional HTML::Tidy5 1.00 is not installed, cannot test autotidy.
t/button_exists.t .......... ok
# Test server http://127.0.0.1:21978 as PID 437419
t/click_ok.t ............... ok
t/content_contains.t ....... ok
t/content_lacks.t .......... ok
# Test server http://127.0.0.1:39547 as PID 437425
t/delete_ok.t .............. ok
t/follow_link_ok.t ......... ok
t/followable_links.t ....... ok
t/get_ok-parms.t ........... ok
t/get_ok.t ................. ok
t/has_tag.t ................ ok
t/head_ok-parms.t .......... ok
t/head_ok.t ................ ok
# Test server http://127.0.0.1:22179 as PID 437446
t/headers.t ................ ok
t/html_lint_ok.t ........... skipped: HTML::Lint 2.20 is not installed, cannot test html_lint_ok
t/html_tidy_ok.t ........... skipped: Optional HTML::Tidy5 1.00 is not installed, cannot test html_tidy_ok
t/id_exists.t .............. ok
t/lacks_uncapped_inputs.t .. ok
t/link_content.t ........... ok
t/link_status.t ............ ok
t/links_ok.t ............... ok
t/new.t .................... ok
t/page_links_content.t ..... ok
t/page_links_ok.t .......... ok
t/pod-coverage.t ........... ok
t/pod.t .................... ok
t/post_ok.t ................ ok
# Test server http://127.0.0.1:25903 as PID 437472
t/put_ok.t ................. ok
t/scrape_text_by_id.t ...... ok
t/stuff_inputs.t ........... ok
# Test server http://127.0.0.1:25045 as PID 437479
t/submit_form_ok.t ......... ok
t/text_contains.t .......... ok
t/title_is.t ............... ok
All tests successful.
Files=35, Tests=295, 10 wallclock secs ( 0.11 usr  0.08 sys +  4.05 cusr  1.15 csys =  5.38 CPU)
Result: PASS
------------------------------
PREREQUISITES
------------------------------
Prerequisite modules loaded:
requires:
    Module                    Need  Have    
    ------------------------- ----- --------
    Carp                      0     1.54    
    Carp::Assert::More        1.16  2.9.0   
    HTML::Form                0     6.12    
    HTML::TokeParser          0     3.83    
    HTTP::Message             6.29  7.00    
    LWP                       6.02  6.78    
    parent                    0     0.244   
    perl                      5.010 5.042000
    Test::Builder             0     1.302214
    Test::LongString          0.15  0.17    
    WWW::Mechanize            1.68  2.19    
build_requires:
    Module                    Need  Have    
    ------------------------- ----- --------
    ExtUtils::MakeMaker       0     7.76    
    HTTP::Server::Simple      0.42  0.52    
    HTTP::Server::Simple::CGI 0     0       
    Test::Builder::Tester     1.09  1.302214
    Test::More                0.96  1.302214
    URI::file                 0     5.32    
configure_requires:
    Module                    Need  Have    
    ------------------------- ----- --------
    ExtUtils::MakeMaker       0     7.76    
------------------------------
ENVIRONMENT AND OTHER CONTEXT
------------------------------
Environment variables:
    AUTOMATED_TESTING = 1
    DATE_MANIP_TEST_DM5 = 1
    LC_ALL = C
    NONINTERACTIVE_TESTING = 1
    NO_NETWORK_TESTING = 1
    PATH = /home/cpan/bin/perl/bin:/home/cpan/bin:/sbin:/bin:/usr/sbin:/usr/bin:/usr/games:/usr/local/sbin:/usr/local/bin:/usr/pkg/sbin:/usr/pkg/bin:/home/cpan/bin
    PERL5LIB = 
    PERL5OPT = 
    PERL5_CPANPLUS_IS_RUNNING = 430295
    PERL5_CPAN_IS_RUNNING = 430295
    PERL_MM_USE_DEFAULT = 1
    PERL_USE_UNSAFE_INC = 1
    SHELL = /usr/local/bin/bash
    TERM = screen
    TMPDIR = /home/cpan/tmp
Perl special variables (and OS-specific diagnostics, for MSWin32):
    $^X = /home/cpan/bin/perl/bin/perl5.42.0
    $UID/$EUID = 1002 / 1002
    $GID = 1002 1002
    $EGID = 1002 1002
Perl module toolchain versions installed:
    Module              Have    
    ------------------- --------
    CPAN                2.38    
    CPAN::Meta          2.150010
    Cwd                 3.94    
    ExtUtils::CBuilder  0.280242
    ExtUtils::Command   7.76    
    ExtUtils::Install   2.22    
    ExtUtils::MakeMaker 7.76    
    ExtUtils::Manifest  1.75    
    ExtUtils::ParseXS   3.57    
    File::Spec          3.94    
    JSON                4.10    
    JSON::PP            4.16    
    Module::Build       0.4234  
    Module::Signature   0.93    
    Parse::CPAN::Meta   2.150010
    Test2               1.302214
    Test::Harness       3.50    
    Test::More          1.302214
    YAML                1.31    
    YAML::Syck          1.34    
    version             0.9933  
--
Summary of my perl5 (revision 5 version 42 subversion 0) configuration:
  Commit id: 3e583379b728a24083f038dcd7c98f77b1aae4b2
  Platform:
    osname=dragonfly
    osvers=6.4-release
    archname=x86_64-dragonfly
    uname='dragonfly cjg-dragonfly6 6.4-release dragonfly v6.4.0-release #54: fri dec 30 09:06:50 pst 2022 root@pkgbox64.dragonflybsd.org:usrobjusrsrcsysx86_64_generic x86_64 '
    config_args='-des -Dprefix=/home/cpan/bin/perl -Dscriptdir=/home/cpan/bin/perl/bin -Dusedevel -Duse64bitall'
    hint=recommended
    useposix=true
    d_sigaction=define
    useithreads=undef
    usemultiplicity=undef
    use64bitint=define
    use64bitall=define
    uselongdouble=undef
    usemymalloc=n
    default_inc_excludes_dot=define
  Compiler:
    cc='cc'
    ccflags ='-DHAS_FPSETMASK -DHAS_FLOATINGPOINT_H -DNO_POSIX_2008_LOCALE -fwrapv -fno-strict-aliasing -pipe -fstack-protector-strong -I/usr/local/include -D_FORTIFY_SOURCE=2'
    optimize='-O2'
    cppflags='-DHAS_FPSETMASK -DHAS_FLOATINGPOINT_H -DNO_POSIX_2008_LOCALE -fwrapv -fno-strict-aliasing -pipe -fstack-protector-strong -I/usr/local/include'
    ccversion=''
    gccversion='8.3 [DragonFly] Release/2019-02-22'
    gccosandvers=''
    intsize=4
    longsize=8
    ptrsize=8
    doublesize=8
    byteorder=12345678
    doublekind=3
    d_longlong=define
    longlongsize=8
    d_longdbl=define
    longdblsize=16
    longdblkind=3
    ivtype='long'
    ivsize=8
    nvtype='double'
    nvsize=8
    Off_t='off_t'
    lseeksize=8
    alignbytes=8
    prototype=define
  Linker and Libraries:
    ld='cc'
    ldflags ='-Wl,-E  -fstack-protector-strong -L/usr/local/lib'
    libpth=/usr/lib /usr/local/lib
    libs=-lpthread -lgdbm -ldl -lm -lcrypt -lutil -lc
    perllibs=-lpthread -ldl -lm -lcrypt -lutil -lc
    libc=
    so=so
    useshrplib=false
    libperl=libperl.a
    gnulibc_version=''
  Dynamic Linking:
    dlsrc=dl_dlopen.xs
    dlext=so
    d_dlsymun=undef
    ccdlflags=' '
    cccdlflags='-DPIC -fPIC'
    lddlflags='-shared  -L/usr/local/lib -fstack-protector-strong'
Characteristics of this binary (from libperl): 
  Compile-time options:
    HAS_LONG_DOUBLE
    HAS_STRTOLD
    HAS_TIMES
    PERLIO_LAYERS
    PERL_COPY_ON_WRITE
    PERL_DONT_CREATE_GVSV
    PERL_HASH_FUNC_SIPHASH13
    PERL_HASH_USE_SBOX32
    PERL_MALLOC_WRAP
    PERL_OP_PARENT
    PERL_PRESERVE_IVUV
    PERL_USE_DEVEL
    PERL_USE_SAFE_PUTENV
    USE_64_BIT_ALL
    USE_64_BIT_INT
    USE_LARGE_FILES
    USE_LOCALE
    USE_LOCALE_COLLATE
    USE_LOCALE_CTYPE
    USE_LOCALE_NUMERIC
    USE_LOCALE_TIME
    USE_PERLIO
    USE_PERL_ATOF
  Locally applied patches:
    RC2
  Built under dragonfly
  Compiled at Jun 27 2025 18:03:00
  %ENV:
    PERL5LIB=""
    PERL5OPT=""
    PERL5_CPANPLUS_IS_RUNNING="430295"
    PERL5_CPAN_IS_RUNNING="430295"
    PERL_MM_USE_DEFAULT="1"
    PERL_USE_UNSAFE_INC="1"
  @INC:
    /home/cpan/bin/perl/lib/site_perl/5.42.0/x86_64-dragonfly
    /home/cpan/bin/perl/lib/site_perl/5.42.0
    /home/cpan/bin/perl/lib/5.42.0/x86_64-dragonfly
    /home/cpan/bin/perl/lib/5.42.0
    .