App-Dochazka-REST v0.559 Perl 5 v5.26.0 x86_64-linux-ld

Status
Pass
From
Andreas J. König (ANDK)
Dist
App-Dochazka-REST v0.559
Platform
Perl 5 v5.26.0 x86_64-linux-ld
Date
2022-06-30 02:14:25
ID
5d2a4ffa-f81a-11ec-84cf-ec7d3ad77217
This distribution has been tested as part of the CPAN Testers
project, supporting the Perl programming language.  See
http://wiki.cpantesters.org/ for more information or email
questions to cpan-testers-discuss@perl.org


--
Dear Nathan Cutler,

This is a computer-generated report for App-Dochazka-REST-0.559
on perl 5.26.0, created by CPAN-Reporter-1.2018.

Thank you for uploading your work to CPAN.  Congratulations!
All tests were successful.

Sections of this report:

    * Tester comments
    * Program output
    * Prerequisites
    * Environment and other context

------------------------------
TESTER COMMENTS
------------------------------

Additional comments from tester:

this report is from an automated smoke testing program
and was not reviewed by a human for accuracy

------------------------------
PROGRAM OUTPUT
------------------------------

Output from './Build test':

t/001-noauto.t ................. ok
t/critic.t ..................... skipped: Author test.  Set $ENV{TEST_AUTHOR} to a true value to run.
t/dispatch/001-resource.t ...... skipped: Integration testing environment not detected
t/dispatch/activity.t .......... skipped: Integration testing environment not detected
t/dispatch/component.t ......... skipped: Integration testing environment not detected
t/dispatch/employee.t .......... skipped: Integration testing environment not detected
t/dispatch/fillup.t ............ skipped: Integration testing environment not detected
t/dispatch/genreport.t ......... skipped: Integration testing environment not detected
t/dispatch/history-bug.t ....... skipped: Integration testing environment not detected
t/dispatch/history.t ........... skipped: Integration testing environment not detected
t/dispatch/holiday.t ........... skipped: Integration testing environment not detected
t/dispatch/interval_lock.t ..... skipped: Integration testing environment not detected
t/dispatch/interval_newline.t .. skipped: WIP
t/dispatch/priv.t .............. skipped: Integration testing environment not detected
t/dispatch/qualifiers.t ........ skipped: Integration testing environment not detected
t/dispatch/schedule-bug.t ...... skipped: Integration testing environment not detected
t/dispatch/schedule.t .......... skipped: Integration testing environment not detected
t/dispatch/supervisor.t ........ skipped: Integration testing environment not detected
t/dispatch/top.t ............... skipped: Integration testing environment not detected
t/fillup-bug-67.t .............. skipped: Integration testing environment not detected
t/fillup.t ..................... skipped: Integration testing environment not detected
t/ldap.t ....................... skipped: Integration testing environment not detected
t/manifest.t ................... skipped: Author tests not required for installation
t/mason.t ...................... skipped: State directory /var/lib/dochazka-rest is missing
t/model/activity.t ............. skipped: Integration testing environment not detected
t/model/canonicalize.t ......... skipped: Integration testing environment not detected
t/model/component.t ............ skipped: Integration testing environment not detected
t/model/delete_all.t ........... skipped: Integration testing environment not detected
t/model/during_range.t ......... skipped: Integration testing environment not detected
t/model/employee.t ............. skipped: Integration testing environment not detected
t/model/id.t ................... skipped: Integration testing environment not detected
t/model/interval_lock.t ........ skipped: Integration testing environment not detected
t/model/privhistory.t .......... skipped: Integration testing environment not detected
t/model/schedintvls.t .......... skipped: Integration testing environment not detected
t/model/schedule.t ............. skipped: Integration testing environment not detected
t/model/split_tsrange.t ........ skipped: Integration testing environment not detected
t/model/timestamp_delta.t ...... skipped: Integration testing environment not detected
t/sql/current_priv.t ........... skipped: Integration testing environment not detected
t/sql/disabled_to_zero.t ....... skipped: Integration testing environment not detected
t/sql/immutable_id.t ........... skipped: Integration testing environment not detected
t/sql/privhistory.t ............ skipped: Integration testing environment not detected
t/sql/root.t ................... skipped: Integration testing environment not detected
t/sql/schedhistory.t ........... skipped: Integration testing environment not detected
t/sql/schedintvl.t ............. skipped: Integration testing environment not detected
t/unit/ACL.t ................... ok
t/unit/holiday.t ............... ok
All tests successful.
Files=46, Tests=35, 98 wallclock secs ( 0.12 usr  0.16 sys + 38.80 cusr 12.00 csys = 51.08 CPU)
Result: PASS

------------------------------
PREREQUISITES
------------------------------

Prerequisite modules loaded:

requires:

    Module                           Need  Have    
    -------------------------------- ----- --------
    App::CELL                        0.215 0.231   
    App::Dochazka::Common            0.207 0.210   
    Authen::Passphrase::SaltedDigest 0.008 0.008   
    Date::Calc                       0     6.4     
    Date::Holidays::CZ               0.12  0.20    
  ! DBD::Pg                          0     n/a     
    DBI                              0     1.643   
    DBIx::Connector                  0.47  0.57    
    File::ShareDir                   1     1.118   
    JSON                             0     4.05    
    Mason                            0     2.24    
    Params::Validate                 1.06  1.30    
    Path::Router                     0.12  0.15    
    perl                             5.012 5.026000
    Plack::Middleware::Session       0     0.33    
    Plack::Middleware::StackTrace    0     0       
    Plack::Runner                    0     0       
    Pod::Simple::HTML                0     3.35    
    Test::Deep::NoTest               0     0       
    Try::Tiny                        0     0.31    
    Web::Machine                     0.15  0.17    
    Web::MREST                       0.287 0.290   
    Web::MREST::CLI                  0.276 0.284   

build_requires:

    Module                           Need  Have    
    -------------------------------- ----- --------
    App::CELL                        0.215 0.231   
    App::Dochazka::Common            0.205 0.210   
    Authen::Passphrase::SaltedDigest 0.008 0.008   
    Date::Holidays::CZ               0.12  0.20    
    DBIx::Connector                  0.47  0.57    
    File::ShareDir::Install          0.11  0.13    
    File::Slurp                      0     9999.32 
    HTTP::Request                    0     6.36    
    Mason                            0     2.24    
    Plack::Test                      0     0       
    Test::Fatal                      0     0.016   
    Test::JSON                       0     0.11    
    Test::Warnings                   0     0.031   
    Web::Machine                     0.15  0.17    
    Web::MREST                       0.287 0.290   
    Web::MREST::CLI                  0.276 0.284   

configure_requires:

    Module                           Need  Have    
    -------------------------------- ----- --------
    Module::Build                    0     0.4231  


------------------------------
ENVIRONMENT AND OTHER CONTEXT
------------------------------

Environment variables:

    AUTOMATED_TESTING = 1
    LANG = en_US.UTF-8
    LANGUAGE = en_US:en
    PATH = /home/sand/bin:/usr/local/bin:/usr/bin:/bin:/usr/games:/usr/local/perl/bin:/usr/X11/bin:/sbin:/usr/sbin
    PERL5LIB = 
    PERL5OPT = 
    PERL5_CPANPLUS_IS_RUNNING = 1958298
    PERL5_CPAN_IS_RUNNING = 1958298
    PERL_CANARY_STABILITY_NOPROMPT = 1
    PERL_MM_USE_DEFAULT = 1
    PERL_USE_UNSAFE_INC = 1
    SHELL = /usr/bin/zsh
    TERM = screen

Perl special variables (and OS-specific diagnostics, for MSWin32):

    $^X = /home/sand/src/perl/repoperls/installed-perls/host/k93msid/v5.26.0/af11/bin/perl
    $UID/$EUID = 1005 / 1005
    $GID = 1005 1005
    $EGID = 1005 1005

Perl module toolchain versions installed:

    Module              Have    
    ------------------- --------
    CPAN                2.34    
    CPAN::Meta          2.150010
    Cwd                 3.75    
    ExtUtils::CBuilder  0.280236
    ExtUtils::Command   7.64    
    ExtUtils::Install   2.06    
    ExtUtils::MakeMaker 7.64    
    ExtUtils::Manifest  1.70    
    ExtUtils::ParseXS   3.44    
    File::Spec          3.75    
    JSON                4.05    
    JSON::PP            4.10    
    Module::Build       0.4231  
    Module::Signature   0.88    
    Parse::CPAN::Meta   2.150010
    Test::Harness       3.44    
    Test::More          1.302190
    YAML                1.30    
    YAML::Syck          1.34    
    version             0.9929  


--

Summary of my perl5 (revision 5 version 26 subversion 0) configuration:
  Derived from: 95388f2eb27e74cdbfb715c0097f16aeba4e6e4e
  Platform:
    osname=linux
    osvers=5.16.0-6-amd64
    archname=x86_64-linux-ld
    uname='linux k93msid 5.16.0-6-amd64 #1 smp preempt debian 5.16.18-1 (2022-03-29) x86_64 gnulinux '
    config_args='-Dprefix=/home/sand/src/perl/repoperls/installed-perls/host/k93msid/v5.26.0/af11 -Dmyhostname=k93msid -Dinstallusrbinperl=n -Uversiononly -Dusedevel -des -Ui_db -Dlibswanted=cl pthread socket inet nsl gdbm dbm malloc dl ld sun m crypt sec util c cposix posix ucb BSD gdbm_compat -Uuseithreads -Duselongdouble -DEBUGGING=-g'
    hint=recommended
    useposix=true
    d_sigaction=define
    useithreads=undef
    usemultiplicity=undef
    use64bitint=define
    use64bitall=define
    uselongdouble=define
    usemymalloc=n
    default_inc_excludes_dot=define
    bincompat5005=undef
  Compiler:
    cc='cc'
    ccflags ='-fwrapv -fno-strict-aliasing -pipe -fstack-protector-strong -I/usr/local/include -D_LARGEFILE_SOURCE -D_FILE_OFFSET_BITS=64 -D_FORTIFY_SOURCE=2'
    optimize='-O2 -g'
    cppflags='-fwrapv -fno-strict-aliasing -pipe -fstack-protector-strong -I/usr/local/include'
    ccversion=''
    gccversion='11.2.0'
    gccosandvers=''
    intsize=4
    longsize=8
    ptrsize=8
    doublesize=8
    byteorder=12345678
    doublekind=3
    d_longlong=define
    longlongsize=8
    d_longdbl=define
    longdblsize=16
    longdblkind=3
    ivtype='long'
    ivsize=8
    nvtype='long double'
    nvsize=16
    Off_t='off_t'
    lseeksize=8
    alignbytes=16
    prototype=define
  Linker and Libraries:
    ld='cc'
    ldflags =' -fstack-protector-strong -L/usr/local/lib'
    libpth=/usr/local/lib /usr/include/x86_64-linux-gnu /usr/lib /lib/x86_64-linux-gnu /lib/../lib /usr/lib/x86_64-linux-gnu /usr/lib/../lib /lib
    libs=-lpthread -lnsl -ldl -lm -lcrypt -lutil -lc
    perllibs=-lpthread -lnsl -ldl -lm -lcrypt -lutil -lc
    libc=libc-2.33.so
    so=so
    useshrplib=false
    libperl=libperl.a
    gnulibc_version='2.33'
  Dynamic Linking:
    dlsrc=dl_dlopen.xs
    dlext=so
    d_dlsymun=undef
    ccdlflags='-Wl,-E'
    cccdlflags='-fPIC'
    lddlflags='-shared -O2 -g -L/usr/local/lib -fstack-protector-strong'


Characteristics of this binary (from libperl): 
  Compile-time options:
    HAS_TIMES
    PERLIO_LAYERS
    PERL_COPY_ON_WRITE
    PERL_DONT_CREATE_GVSV
    PERL_MALLOC_WRAP
    PERL_OP_PARENT
    PERL_PRESERVE_IVUV
    PERL_USE_DEVEL
    USE_64_BIT_ALL
    USE_64_BIT_INT
    USE_LARGE_FILES
    USE_LOCALE
    USE_LOCALE_COLLATE
    USE_LOCALE_CTYPE
    USE_LOCALE_NUMERIC
    USE_LOCALE_TIME
    USE_LONG_DOUBLE
    USE_PERLIO
    USE_PERL_ATOF
  Locally applied patches:
    uncommitted-changes
  Built under linux
  Compiled at Apr 19 2022 04:27:26
  %ENV:
    PERL5LIB=""
    PERL5OPT=""
    PERL5_CPANPLUS_IS_RUNNING="1958298"
    PERL5_CPAN_IS_RUNNING="1958298"
    PERL_CANARY_STABILITY_NOPROMPT="1"
    PERL_MM_USE_DEFAULT="1"
    PERL_USE_UNSAFE_INC="1"
  @INC:
    /home/sand/src/perl/repoperls/installed-perls/host/k93msid/v5.26.0/af11/lib/site_perl/5.26.0/x86_64-linux-ld
    /home/sand/src/perl/repoperls/installed-perls/host/k93msid/v5.26.0/af11/lib/site_perl/5.26.0
    /home/sand/src/perl/repoperls/installed-perls/host/k93msid/v5.26.0/af11/lib/5.26.0/x86_64-linux-ld
    /home/sand/src/perl/repoperls/installed-perls/host/k93msid/v5.26.0/af11/lib/5.26.0
    .