Syntax-Feature-Try v1.005 Perl 5 v5.35.6 x86_64-linux
- Status
- Pass
- From
- Andreas J. König (ANDK)
- Dist
-
Syntax-Feature-Try v1.005
- Platform
- Perl 5 v5.35.6 x86_64-linux
- Date
- 2021-10-30 19:19:55
- ID
- 5d2431c4-39b6-11ec-8c4b-0915e24d19e5
This distribution has been tested as part of the CPAN Testers
project, supporting the Perl programming language. See
http://wiki.cpantesters.org/ for more information or email
questions to cpan-testers-discuss@perl.org
--
Dear Tomas Pokorny,
This is a computer-generated report for Syntax-Feature-Try-1.005
on perl 5.35.6, created by CPAN-Reporter-1.2018.
Thank you for uploading your work to CPAN. Congratulations!
All tests were successful.
Sections of this report:
* Tester comments
* Program output
* Prerequisites
* Environment and other context
------------------------------
TESTER COMMENTS
------------------------------
Additional comments from tester:
this report is from an automated smoke testing program
and was not reviewed by a human for accuracy
------------------------------
PROGRAM OUTPUT
------------------------------
Output from '/usr/bin/make test':
"/tmp/basesmoker-reloperl-xjZU/bin/perl" -MExtUtils::Command::MM -e 'cp_nonempty' -- Try.bs blib/arch/auto/Syntax/Feature/Try/Try.bs 644
PERL_DL_NONLAZY=1 "/tmp/basesmoker-reloperl-xjZU/bin/perl" "-MExtUtils::Command::MM" "-MTest::Harness" "-e" "undef *Test::Harness::Switches; test_harness(0, 'blib/lib', 'blib/arch')" t/*.t
t/01_use_ok.t ..................... ok
t/10_parser_output.t .............. ok
t/15_parser_syntax_ok.t ........... ok
t/20_parser_syntax_errors.t ....... ok
t/20_parser_warnings.t ............ ok
t/author-critic.t ................. skipped: these tests are for testing by the author
t/author-pod-coverage.t ........... skipped: these tests are for testing by the author
t/author-pod-syntax.t ............. skipped: these tests are for testing by the author
t/catch_isa.t ..................... ok
t/catch_moose_type_constraints.t .. ok
t/catch_others.t .................. ok
t/catch_variable.t ................ ok
t/catch_without_variable.t ........ ok
t/customer_exception_matchers.t ... ok
t/exception_class.t ............... ok
t/exit.t .......................... ok
t/finally.t ....................... ok
t/import.t ........................ ok
t/last_op_in_block.t .............. ok
t/line_numbers.t .................. ok
t/localized_error_variable.t ...... ok
t/loops.t ......................... ok
t/memory_leaks.t .................. ok
t/moose_throwable.t ............... ok
t/nested.t ........................ ok
t/recursive.t ..................... ok
t/return.t ........................ ok
t/statement.t ..................... ok
t/subroutine_args.t ............... ok
t/wantarray.t ..................... ok
All tests successful.
Test Summary Report
-------------------
t/loops.t (Wstat: 0 Tests: 5 Failed: 0)
TODO passed: 2, 4
Files=30, Tests=337, 3 wallclock secs ( 0.04 usr 0.11 sys + 2.46 cusr 0.72 csys = 3.33 CPU)
Result: PASS
------------------------------
PREREQUISITES
------------------------------
Prerequisite modules loaded:
requires:
Module Need Have
---------------------------- ----- --------
Carp 0 1.52
perl 5.014 5.035006
Scalar::Util 0 1.60
strict 0 1.12
syntax 0.004 0.004
warnings 0 1.55
XSLoader 0 0.31
build_requires:
Module Need Have
---------------------------- ----- --------
base 0 2.27
Exception::Class 0 1.45
Exporter 0 5.77
ExtUtils::MakeMaker 0 7.62
FindBin 0 1.53
lib 0 0.65
Moose 0 2.2015
Moose::Util::TypeConstraints 0 2.2015
syntax 0.004 0.004
Test::Exception 0 0.43
Test::LeakTrace 0 0.17
Test::More 0 1.302188
Test::NoWarnings 0 1.06
Test::Spec 0 0.54
Test::Warn 0 0.36
Throwable 0 1.000
configure_requires:
Module Need Have
---------------------------- ----- --------
ExtUtils::MakeMaker 0 7.62
------------------------------
ENVIRONMENT AND OTHER CONTEXT
------------------------------
Environment variables:
AUTOMATED_TESTING = 1
LANG = en_US.UTF-8
PATH = /home/sand/bin:/usr/local/bin:/usr/bin:/bin:/usr/games:/usr/local/perl/bin:/usr/X11/bin:/sbin:/usr/sbin
PERL5LIB = /tmp/loop_over_bdir-3909562-Nr77CT/FusionInventory-Agent-2.6-0/blib/arch:/tmp/loop_over_bdir-3909562-Nr77CT/FusionInventory-Agent-2.6-0/blib/lib:/tmp/loop_over_bdir-3909562-Nr77CT/Devel-Required-0.16-0/blib/arch:/tmp/loop_over_bdir-3909562-Nr77CT/Devel-Required-0.16-0/blib/lib:/tmp/loop_over_bdir-3909562-Nr77CT/ProjectBuilder-0.14.1-0/blib/arch:/tmp/loop_over_bdir-3909562-Nr77CT/ProjectBuilder-0.14.1-0/blib/lib
PERL5OPT =
PERL5_CPANPLUS_IS_RUNNING = 797221
PERL5_CPAN_IS_RUNNING = 797221
PERL_CANARY_STABILITY_NOPROMPT = 1
PERL_MM_USE_DEFAULT = 1
PERL_USE_UNSAFE_INC = 1
SHELL = /usr/bin/zsh
TERM = screen
Perl special variables (and OS-specific diagnostics, for MSWin32):
$^X = /tmp/basesmoker-reloperl-xjZU/bin/perl
$UID/$EUID = 1005 / 1005
$GID = 1005 1005
$EGID = 1005 1005
Perl module toolchain versions installed:
Module Have
------------------- --------
CPAN 2.28
CPAN::Meta 2.150010
Cwd 3.82
ExtUtils::CBuilder 0.280236
ExtUtils::Command 7.62
ExtUtils::Install 2.20
ExtUtils::MakeMaker 7.62
ExtUtils::Manifest 1.73
ExtUtils::ParseXS 3.44
File::Spec 3.81
JSON 4.03
JSON::PP 4.06
Module::Build 0.4231
Module::Signature 0.87
Parse::CPAN::Meta 2.150010
Test::Harness 3.43
Test::More 1.302188
YAML 1.30
YAML::Syck 1.34
version 0.9929
--
Summary of my perl5 (revision 5 version 35 subversion 6) configuration:
Commit id: 76829f42d6278f3b9862e88fcecb11eeaf70c3c1
Platform:
osname=linux
osvers=5.14.0-3-amd64
archname=x86_64-linux
uname='linux k93msid 5.14.0-3-amd64 #1 smp debian 5.14.12-1 (2021-10-14) x86_64 gnulinux '
config_args='-Dprefix=/home/sand/src/perl/repoperls/installed-perls/host/k93msid/v5.35.5-8-g76829f42d6/3c10 -Dmyhostname=k93msid -Dinstallusrbinperl=n -Uversiononly -Dusedevel -des -Ui_db -Dlibswanted=cl pthread socket inet nsl gdbm dbm malloc dl ld sun m crypt sec util c cposix posix ucb BSD gdbm_compat -Uuseithreads -Uuselongdouble -DEBUGGING=none'
hint=recommended
useposix=true
d_sigaction=define
useithreads=undef
usemultiplicity=undef
use64bitint=define
use64bitall=define
uselongdouble=undef
usemymalloc=n
default_inc_excludes_dot=define
Compiler:
cc='cc'
ccflags ='-fwrapv -fno-strict-aliasing -pipe -fstack-protector-strong -I/usr/local/include -D_LARGEFILE_SOURCE -D_FILE_OFFSET_BITS=64 -D_FORTIFY_SOURCE=2'
optimize='-O2'
cppflags='-fwrapv -fno-strict-aliasing -pipe -fstack-protector-strong -I/usr/local/include'
ccversion=''
gccversion='11.2.0'
gccosandvers=''
intsize=4
longsize=8
ptrsize=8
doublesize=8
byteorder=12345678
doublekind=3
d_longlong=define
longlongsize=8
d_longdbl=define
longdblsize=16
longdblkind=3
ivtype='long'
ivsize=8
nvtype='double'
nvsize=8
Off_t='off_t'
lseeksize=8
alignbytes=8
prototype=define
Linker and Libraries:
ld='cc'
ldflags =' -fstack-protector-strong -L/usr/local/lib'
libpth=/usr/local/lib /usr/lib/x86_64-linux-gnu /usr/lib /lib/x86_64-linux-gnu /lib
libs=-lpthread -lnsl -ldl -lm -lcrypt -lutil -lc
perllibs=-lpthread -lnsl -ldl -lm -lcrypt -lutil -lc
libc=libc-2.32.so
so=so
useshrplib=false
libperl=libperl.a
gnulibc_version='2.32'
Dynamic Linking:
dlsrc=dl_dlopen.xs
dlext=so
d_dlsymun=undef
ccdlflags='-Wl,-E'
cccdlflags='-fPIC'
lddlflags='-shared -O2 -L/usr/local/lib -fstack-protector-strong'
Characteristics of this binary (from libperl):
Compile-time options:
HAS_TIMES
PERLIO_LAYERS
PERL_COPY_ON_WRITE
PERL_DONT_CREATE_GVSV
PERL_MALLOC_WRAP
PERL_OP_PARENT
PERL_PRESERVE_IVUV
PERL_USE_DEVEL
USE_64_BIT_ALL
USE_64_BIT_INT
USE_LARGE_FILES
USE_LOCALE
USE_LOCALE_COLLATE
USE_LOCALE_CTYPE
USE_LOCALE_NUMERIC
USE_LOCALE_TIME
USE_PERLIO
USE_PERL_ATOF
Built under linux
Compiled at Oct 29 2021 15:43:11
%ENV:
PERL5LIB="/tmp/loop_over_bdir-3909562-Nr77CT/FusionInventory-Agent-2.6-0/blib/arch:/tmp/loop_over_bdir-3909562-Nr77CT/FusionInventory-Agent-2.6-0/blib/lib:/tmp/loop_over_bdir-3909562-Nr77CT/Devel-Required-0.16-0/blib/arch:/tmp/loop_over_bdir-3909562-Nr77CT/Devel-Required-0.16-0/blib/lib:/tmp/loop_over_bdir-3909562-Nr77CT/ProjectBuilder-0.14.1-0/blib/arch:/tmp/loop_over_bdir-3909562-Nr77CT/ProjectBuilder-0.14.1-0/blib/lib"
PERL5OPT=""
PERL5_CPANPLUS_IS_RUNNING="797221"
PERL5_CPAN_IS_RUNNING="797221"
PERL_CANARY_STABILITY_NOPROMPT="1"
PERL_MM_USE_DEFAULT="1"
PERL_USE_UNSAFE_INC="1"
@INC:
/tmp/loop_over_bdir-3909562-Nr77CT/FusionInventory-Agent-2.6-0/blib/arch
/tmp/loop_over_bdir-3909562-Nr77CT/FusionInventory-Agent-2.6-0/blib/lib
/tmp/loop_over_bdir-3909562-Nr77CT/Devel-Required-0.16-0/blib/arch
/tmp/loop_over_bdir-3909562-Nr77CT/Devel-Required-0.16-0/blib/lib
/tmp/loop_over_bdir-3909562-Nr77CT/ProjectBuilder-0.14.1-0/blib/arch
/tmp/loop_over_bdir-3909562-Nr77CT/ProjectBuilder-0.14.1-0/blib/lib
/home/sand/src/perl/repoperls/installed-perls/host/k93msid/v5.35.5-8-g76829f42d6/3c10/lib/site_perl/5.35.6/x86_64-linux
/home/sand/src/perl/repoperls/installed-perls/host/k93msid/v5.35.5-8-g76829f42d6/3c10/lib/site_perl/5.35.6
/home/sand/src/perl/repoperls/installed-perls/host/k93msid/v5.35.5-8-g76829f42d6/3c10/lib/5.35.6/x86_64-linux
/home/sand/src/perl/repoperls/installed-perls/host/k93msid/v5.35.5-8-g76829f42d6/3c10/lib/5.35.6
.