Report for Perl-Critic-Lax-0.009

Back
From: metabase:user:320bfe00-2aae-11df-837a-5e0a49663a4f
Subject: PASS Perl-Critic-Lax-0.009 v5.19.0 GNU/Linux
Date: 2013-05-20T10:38:08Z

This distribution has been tested as part of the CPAN Testers
project, supporting the Perl programming language.  See
http://wiki.cpantesters.org/ for more information or email
questions to cpan-testers-discuss@perl.org


--
Dear Ricardo SIGNES,

This is a computer-generated report for Perl-Critic-Lax-0.009
on perl 5.19.0, created by CPAN-Reporter-1.2010.

Thank you for uploading your work to CPAN.  Congratulations!
All tests were successful.

Sections of this report:

    * Tester comments
    * Program output
    * Prerequisites
    * Environment and other context

------------------------------
TESTER COMMENTS
------------------------------

Additional comments from tester:

this report is from an automated smoke testing program
and was not reviewed by a human for accuracy

------------------------------
PROGRAM OUTPUT
------------------------------

Output from '/usr/bin/make test':

PERL_DL_NONLAZY=1 /tmp/basesmoker-reloperl-OX9x/bin/perl "-MExtUtils::Command::MM" "-e" "test_harness(0, 'blib/lib', 'blib/arch')" t/*.t
t/00-compile.t ................ ok
# 
Module::Pluggable will be removed from the Perl core distribution in the next major release. Please install it from CPAN. It is being used at /home/src/perl/repoperls/installed-perls/perl/v5.18.0-5-gb6d67c6/127e/lib/site_perl/5.19.0/Perl/Critic/PolicyFactory.pm, line 58.
# 
# Generated by Dist::Zilla::Plugin::ReportVersions::Tiny v1.05
# perl: v5.19.0 (wanted any version) on linux from /tmp/basesmoker-reloperl-OX9x/bin/perl
# 
# ExtUtils::MakeMaker                           => 6.66       (want 6.30)   
# File::Find                                    => 1.23       (want any version)
# File::Temp                                    => 0.2301     (want any version)
# Perl::Critic::Policy                          => 1.118      (want any version)
# Perl::Critic::TestUtils                       => 1.118      (want any version)
# Perl::Critic::Utils                           => 1.118      (want any version)
# Test::More                                    => 0.98       (want 0.96)   
# parent                                        => 0.225      (want any version)
# strict                                        => 1.07       (want any version)
# warnings                                      => 1.18       (want any version)
# 
# Thanks for using my code.  I hope it works for you.
# If not, please try and include this output in the bug report.
# That will help me reproduce the issue and solve your problem.
# 
t/000-report-versions-tiny.t .. ok
Module::Pluggable will be removed from the Perl core distribution in the next major release. Please install it from CPAN. It is being used at /home/src/perl/repoperls/installed-perls/perl/v5.18.0-5-gb6d67c6/127e/lib/site_perl/5.19.0/Perl/Critic/PolicyFactory.pm, line 58.
t/chmod-0xxx.t ................ ok
Module::Pluggable will be removed from the Perl core distribution in the next major release. Please install it from CPAN. It is being used at /home/src/perl/repoperls/installed-perls/perl/v5.18.0-5-gb6d67c6/127e/lib/site_perl/5.19.0/Perl/Critic/PolicyFactory.pm, line 58.
t/empty-after-or.t ............ ok
Module::Pluggable will be removed from the Perl core distribution in the next major release. Please install it from CPAN. It is being used at /home/src/perl/repoperls/installed-perls/perl/v5.18.0-5-gb6d67c6/127e/lib/site_perl/5.19.0/Perl/Critic/PolicyFactory.pm, line 58.
t/end-with-true.t ............. ok
Module::Pluggable will be removed from the Perl core distribution in the next major release. Please install it from CPAN. It is being used at /home/src/perl/repoperls/installed-perls/perl/v5.18.0-5-gb6d67c6/127e/lib/site_perl/5.19.0/Perl/Critic/PolicyFactory.pm, line 58.
t/eval-require.t .............. ok
Module::Pluggable will be removed from the Perl core distribution in the next major release. Please install it from CPAN. It is being used at /home/src/perl/repoperls/installed-perls/perl/v5.18.0-5-gb6d67c6/127e/lib/site_perl/5.19.0/Perl/Critic/PolicyFactory.pm, line 58.
t/map-linebreak.t ............. ok
Module::Pluggable will be removed from the Perl core distribution in the next major release. Please install it from CPAN. It is being used at /home/src/perl/repoperls/installed-perls/perl/v5.18.0-5-gb6d67c6/127e/lib/site_perl/5.19.0/Perl/Critic/PolicyFactory.pm, line 58.
t/use-before-pkg.t ............ ok
All tests successful.
Files=8, Tests=56,  4 wallclock secs ( 0.04 usr  0.01 sys +  3.30 cusr  0.28 csys =  3.63 CPU)
Result: PASS

------------------------------
PREREQUISITES
------------------------------

Prerequisite modules loaded:

requires:

    Module                  Need Have  
    ----------------------- ---- ------
    parent                  0    0.225 
    Perl::Critic::Policy    0    1.118 
    Perl::Critic::Utils     0    1.118 
    strict                  0    1.07  
    warnings                0    1.18  

build_requires:

    Module                  Need Have  
    ----------------------- ---- ------
    File::Find              0    1.23  
    File::Temp              0    0.2301
    Perl::Critic::TestUtils 0    1.118 
    Test::More              0.96 0.98  

configure_requires:

    Module                  Need Have  
    ----------------------- ---- ------
    ExtUtils::MakeMaker     6.30 6.66  


------------------------------
ENVIRONMENT AND OTHER CONTEXT
------------------------------

Environment variables:

    AUTOMATED_TESTING = 1
    LANG = en_US.UTF-8
    LANGUAGE = en_US:en
    PATH = /usr/lib/ccache:/home/sand/bin:/usr/local/bin:/usr/bin:/bin:/usr/bin/X11:/usr/games:/usr/local/perl/bin:/usr/X11/bin:/sbin:/usr/sbin
    PERL5LIB = 
    PERL5OPT = 
    PERL5_CPANPLUS_IS_RUNNING = 23314
    PERL5_CPAN_IS_RUNNING = 23314
    PERL_MM_USE_DEFAULT = 1
    SHELL = /usr/bin/zsh
    TERM = screen

Perl special variables (and OS-specific diagnostics, for MSWin32):

    $^X = /tmp/basesmoker-reloperl-OX9x/bin/perl
    $UID/$EUID = 1005 / 1005
    $GID = 1005 1005
    $EGID = 1005 1005

Perl module toolchain versions installed:

    Module              Have    
    ------------------- --------
    CPAN                2.00    
    CPAN::Meta          2.130880
    Cwd                 3.40    
    ExtUtils::CBuilder  0.280210
    ExtUtils::Command   1.17    
    ExtUtils::Install   1.59    
    ExtUtils::MakeMaker 6.66    
    ExtUtils::Manifest  1.63    
    ExtUtils::ParseXS   3.18    
    File::Spec          3.40    
    JSON                2.57    
    JSON::PP            2.27202 
    Module::Build       0.4005  
    Module::Signature   0.70    
    Parse::CPAN::Meta   1.4404  
    Test::Harness       3.28    
    Test::More          0.98    
    YAML                0.84    
    YAML::Syck          1.25    
    version             0.9902  


--

Summary of my perl5 (revision 5 version 19 subversion 0) configuration:
  Commit id: b6d67c65e48d80e06351a0ada9042f697ae521f2
  Platform:
    osname=linux, osvers=3.8-1-amd64, archname=x86_64-linux-ld
    uname='linux k83 3.8-1-amd64 #1 smp debian 3.8.12-1 x86_64 gnulinux '
    config_args='-Dprefix=/home/src/perl/repoperls/installed-perls/perl/v5.18.0-5-gb6d67c6/127e -Dmyhostname=k83 -Dinstallusrbinperl=n -Uversiononly -Dusedevel -des -Ui_db -Uuseithreads -Duselongdouble -DDEBUGGING=-g'
    hint=recommended, useposix=true, d_sigaction=define
    useithreads=undef, usemultiplicity=undef
    useperlio=define, d_sfio=undef, uselargefiles=define, usesocks=undef
    use64bitint=define, use64bitall=define, uselongdouble=define
    usemymalloc=n, bincompat5005=undef
  Compiler:
    cc='cc', ccflags ='-fno-strict-aliasing -pipe -fstack-protector -I/usr/local/include -D_LARGEFILE_SOURCE -D_FILE_OFFSET_BITS=64',
    optimize='-O2 -g',
    cppflags='-fno-strict-aliasing -pipe -fstack-protector -I/usr/local/include'
    ccversion='', gccversion='4.7.3', gccosandvers=''
    intsize=4, longsize=8, ptrsize=8, doublesize=8, byteorder=12345678
    d_longlong=define, longlongsize=8, d_longdbl=define, longdblsize=16
    ivtype='long', ivsize=8, nvtype='long double', nvsize=16, Off_t='off_t', lseeksize=8
    alignbytes=16, prototype=define
  Linker and Libraries:
    ld='cc', ldflags =' -fstack-protector -L/usr/local/lib'
    libpth=/usr/local/lib /lib/x86_64-linux-gnu /lib/../lib /usr/lib/x86_64-linux-gnu /usr/lib/../lib /lib /usr/lib
    libs=-lnsl -lgdbm -ldb -ldl -lm -lcrypt -lutil -lc -lgdbm_compat
    perllibs=-lnsl -ldl -lm -lcrypt -lutil -lc
    libc=, so=so, useshrplib=false, libperl=libperl.a
    gnulibc_version='2.17'
  Dynamic Linking:
    dlsrc=dl_dlopen.xs, dlext=so, d_dlsymun=undef, ccdlflags='-Wl,-E'
    cccdlflags='-fPIC', lddlflags='-shared -O2 -g -L/usr/local/lib -fstack-protector'


Characteristics of this binary (from libperl): 
  Compile-time options: HAS_TIMES PERLIO_LAYERS PERL_DONT_CREATE_GVSV
                        PERL_HASH_FUNC_ONE_AT_A_TIME_HARD PERL_MALLOC_WRAP
                        PERL_PRESERVE_IVUV PERL_SAWAMPERSAND PERL_USE_DEVEL
                        USE_64_BIT_ALL USE_64_BIT_INT USE_LARGE_FILES
                        USE_LOCALE USE_LOCALE_COLLATE USE_LOCALE_CTYPE
                        USE_LOCALE_NUMERIC USE_LONG_DOUBLE USE_PERLIO
                        USE_PERL_ATOF
  Built under linux
  Compiled at May 18 2013 16:55:14
  %ENV:
    PERL5LIB=""
    PERL5OPT=""
    PERL5_CPANPLUS_IS_RUNNING="23314"
    PERL5_CPAN_IS_RUNNING="23314"
    PERL_MM_USE_DEFAULT="1"
  @INC:
    /home/src/perl/repoperls/installed-perls/perl/v5.18.0-5-gb6d67c6/127e/lib/site_perl/5.19.0/x86_64-linux-ld
    /home/src/perl/repoperls/installed-perls/perl/v5.18.0-5-gb6d67c6/127e/lib/site_perl/5.19.0
    /home/src/perl/repoperls/installed-perls/perl/v5.18.0-5-gb6d67c6/127e/lib/5.19.0/x86_64-linux-ld
    /home/src/perl/repoperls/installed-perls/perl/v5.18.0-5-gb6d67c6/127e/lib/5.19.0
    .