Mail-Mbox-MessageParser v1.5111 Perl 5 v5.18.4 amd64-freebsd

Status
Pass
From
Nigel Horne
Dist
Mail-Mbox-MessageParser v1.5111
Platform
Perl 5 v5.18.4 amd64-freebsd
Date
2018-07-12 14:10:42
ID
5cc2690c-85dd-11e8-b37d-ffe0b8d57a06
This distribution has been tested as part of the CPAN Testers
project, supporting the Perl programming language.  See
http://wiki.cpantesters.org/ for more information or email
questions to cpan-testers-discuss@perl.org


--
Dear David Coppit,

This is a computer-generated report for Mail-Mbox-MessageParser-1.5111
on perl 5.18.4, created by CPAN-Reporter-1.2018.

Thank you for uploading your work to CPAN.  Congratulations!
All tests were successful.

Sections of this report:

    * Tester comments
    * Program output
    * Prerequisites
    * Environment and other context

------------------------------
TESTER COMMENTS
------------------------------

Additional comments from tester:

this report is from an automated smoke testing program
and was not reviewed by a human for accuracy

------------------------------
PROGRAM OUTPUT
------------------------------

Output from '/usr/bin/make test':

PERL_DL_NONLAZY=1 "/usr/home/njh/perl5/perlbrew/perls/perl-5.18.4/bin/perl5.18.4" "-MExtUtils::Command::MM" "-MTest::Harness" "-e" "undef *Test::Harness::Switches; test_harness(1, 'blib/lib', 'blib/arch')" t/*.t
t/000_standard__compile.t ....... 
1..6
ok 1 - Compile test for blib/lib/Mail/Mbox/MessageParser.pm
ok 2 - Compile test for blib/lib/Mail/Mbox/MessageParser/Perl.pm
ok 3 - Compile test for blib/lib/Mail/Mbox/MessageParser/Grep.pm
ok 4 - Compile test for blib/lib/Mail/Mbox/MessageParser/Cache.pm
ok 5 - Compile test for blib/lib/Mail/Mbox/MessageParser/Config.pm
ok 6 - Compile test for blib/lib/Mail/Mbox/MessageParser/MetaInfo.pm
ok
t/000_standard__perl_critic.t ... skipped: Author test. Set $ENV{TEST_AUTHOR} to a true value to run.
t/000_standard__pod.t ........... 
1..6
ok 1 - POD test for blib/lib/Mail/Mbox/MessageParser.pm
ok 2 - POD test for blib/lib/Mail/Mbox/MessageParser/Perl.pm
ok 3 - POD test for blib/lib/Mail/Mbox/MessageParser/Grep.pm
ok 4 - POD test for blib/lib/Mail/Mbox/MessageParser/Cache.pm
ok 5 - POD test for blib/lib/Mail/Mbox/MessageParser/Config.pm
ok 6 - POD test for blib/lib/Mail/Mbox/MessageParser/MetaInfo.pm
ok
t/000_standard__pod_coverage.t .. 
1..6
ok 1 - Pod coverage on Mail::Mbox::MessageParser
ok 2 - Pod coverage on Mail::Mbox::MessageParser::Perl
ok 3 - Pod coverage on Mail::Mbox::MessageParser::Grep
ok 4 - Pod coverage on Mail::Mbox::MessageParser::Cache
ok 5 - Pod coverage on Mail::Mbox::MessageParser::Config
ok 6 - Pod coverage on Mail::Mbox::MessageParser::MetaInfo
ok
t/appended_mailbox.t ............ 
1..6
Testing modified mailbox with Perl implementation
Comparing /tmp/testwrapper.87399/sZTR7HItbL to t/mailboxes/mailarc-1.txt
Output /tmp/testwrapper.87399/sZTR7HItbL looks good.
ok 1 - Computing differences
Testing modified mailbox with Cache implementation
Comparing /tmp/testwrapper.87399/rL_JmBGJby to t/mailboxes/mailarc-1.txt
Output /tmp/testwrapper.87399/rL_JmBGJby looks good.
ok 2 - Computing differences
Testing modified mailbox with Grep implementation
ok 3 # skip GNU grep not available
Testing modified mailbox with Perl implementation
Comparing /tmp/testwrapper.87399/WNdkBpZubr to t/mailboxes/mailarc-1.txt
Output /tmp/testwrapper.87399/WNdkBpZubr looks good.
ok 4 - Computing differences
Testing modified mailbox with Cache implementation
Comparing /tmp/testwrapper.87399/CpfiW9OYs4 to t/mailboxes/mailarc-1.txt
Output /tmp/testwrapper.87399/CpfiW9OYs4 looks good.
ok 5 - Computing differences
Testing modified mailbox with Grep implementation
ok 6 # skip GNU grep not available
ok
t/bzip2.t ....................... 
1..1
Running test:
  "/bin/cat" "t/mailboxes/mailarc-2.txt.bz2" | "/usr/bin/bzip2" -cd
Comparing /tmp/testwrapper.87399/A9DJTT4Ld8 to t/results/mailarc-2.txt
Output /tmp/testwrapper.87399/A9DJTT4Ld8 looks good.
Comparing /tmp/testwrapper.87399/RwoguPDkPx to t/results/none
Output /tmp/testwrapper.87399/RwoguPDkPx looks good.
ok 1 - Computing differences
ok
t/endline.t ..................... 
1..8
Testing filename: t/mailboxes/mailarc-1-dos.txt
ok 1 - Dos endline expected
ok 2 - Dos endline expected
ok 3 - Dos endline expected
ok 4 # skip GNU grep not available
Testing filename: t/mailboxes/mailarc-1.txt
ok 5 - Unix endline expected
ok 6 - Unix endline expected
ok 7 - Unix endline expected
ok 8 # skip GNU grep not available
ok
t/filehandle_compressed.t ....... 
1..16
Testing filename: t/mailboxes/mailarc-2.txt.bz2
Comparing /tmp/testwrapper.87399/IRY2wIM2pf to t/mailboxes/mailarc-2.txt
Output /tmp/testwrapper.87399/IRY2wIM2pf looks good.
ok 1 - Computing differences
Comparing /tmp/testwrapper.87399/Rmyvi5EQ1u to t/mailboxes/mailarc-2.txt
Output /tmp/testwrapper.87399/Rmyvi5EQ1u looks good.
ok 2 - Computing differences
Comparing /tmp/testwrapper.87399/wC_dIUpvC8 to t/mailboxes/mailarc-2.txt
Output /tmp/testwrapper.87399/wC_dIUpvC8 looks good.
ok 3 - Computing differences
ok 4 # skip GNU grep not available
Testing filename: t/mailboxes/mailarc-2.txt.gz
Comparing /tmp/testwrapper.87399/bKFyeITxYF to t/mailboxes/mailarc-2.txt
Output /tmp/testwrapper.87399/bKFyeITxYF looks good.
ok 5 - Computing differences
Comparing /tmp/testwrapper.87399/CVqMl4hIJc to t/mailboxes/mailarc-2.txt
Output /tmp/testwrapper.87399/CVqMl4hIJc looks good.
ok 6 - Computing differences
Comparing /tmp/testwrapper.87399/OlX7L0V9p9 to t/mailboxes/mailarc-2.txt
Output /tmp/testwrapper.87399/OlX7L0V9p9 looks good.
ok 7 - Computing differences
ok 8 # skip GNU grep not available
Testing filename: t/mailboxes/mailarc-2.txt.lz
ok 9 # skip lzip not available
ok 10 # skip lzip not available
ok 11 # skip lzip not available
ok 12 # skip lzip not available
Testing filename: t/mailboxes/mailarc-2.txt.xz
Comparing /tmp/testwrapper.87399/cUCV7Ie_c5 to t/mailboxes/mailarc-2.txt
Output /tmp/testwrapper.87399/cUCV7Ie_c5 looks good.
ok 13 - Computing differences
Comparing /tmp/testwrapper.87399/w5L_bPjD8o to t/mailboxes/mailarc-2.txt
Output /tmp/testwrapper.87399/w5L_bPjD8o looks good.
ok 14 - Computing differences
Comparing /tmp/testwrapper.87399/1RkYruxSql to t/mailboxes/mailarc-2.txt
Output /tmp/testwrapper.87399/1RkYruxSql looks good.
ok 15 - Computing differences
ok 16 # skip GNU grep not available
ok
t/filehandle_noncompressed.t .... 
1..44
Testing filename: t/mailboxes/binary_body.txt
Comparing /tmp/testwrapper.87399/r_bomSZ88o to t/mailboxes/binary_body.txt
Output /tmp/testwrapper.87399/r_bomSZ88o looks good.
ok 1 - Computing differences
Comparing /tmp/testwrapper.87399/jWvsvAmpSs to t/mailboxes/binary_body.txt
Output /tmp/testwrapper.87399/jWvsvAmpSs looks good.
ok 2 - Computing differences
Comparing /tmp/testwrapper.87399/nKoomsC8Pm to t/mailboxes/binary_body.txt
Output /tmp/testwrapper.87399/nKoomsC8Pm looks good.
ok 3 - Computing differences
ok 4 # skip GNU grep not available
Testing filename: t/mailboxes/hessbug.txt
Comparing /tmp/testwrapper.87399/YfTduzye_3 to t/mailboxes/hessbug.txt
Output /tmp/testwrapper.87399/YfTduzye_3 looks good.
ok 5 - Computing differences
Comparing /tmp/testwrapper.87399/VxPZppi5WB to t/mailboxes/hessbug.txt
Output /tmp/testwrapper.87399/VxPZppi5WB looks good.
ok 6 - Computing differences
Comparing /tmp/testwrapper.87399/7JSe42yS7e to t/mailboxes/hessbug.txt
Output /tmp/testwrapper.87399/7JSe42yS7e looks good.
ok 7 - Computing differences
ok 8 # skip GNU grep not available
Testing filename: t/mailboxes/invalid-boundaries.txt
Comparing /tmp/testwrapper.87399/ncz0Aqs8WR to t/mailboxes/invalid-boundaries.txt
Output /tmp/testwrapper.87399/ncz0Aqs8WR looks good.
ok 9 - Computing differences
Comparing /tmp/testwrapper.87399/uIbiKCL92E to t/mailboxes/invalid-boundaries.txt
Output /tmp/testwrapper.87399/uIbiKCL92E looks good.
ok 10 - Computing differences
Comparing /tmp/testwrapper.87399/XYuyb6qZew to t/mailboxes/invalid-boundaries.txt
Output /tmp/testwrapper.87399/XYuyb6qZew looks good.
ok 11 - Computing differences
ok 12 # skip GNU grep not available
Testing filename: t/mailboxes/mailarc-1-dos.txt
Comparing /tmp/testwrapper.87399/e6BiZ_6rGE to t/mailboxes/mailarc-1-dos.txt
Output /tmp/testwrapper.87399/e6BiZ_6rGE looks good.
ok 13 - Computing differences
Comparing /tmp/testwrapper.87399/vr4hPuOBmo to t/mailboxes/mailarc-1-dos.txt
Output /tmp/testwrapper.87399/vr4hPuOBmo looks good.
ok 14 - Computing differences
Comparing /tmp/testwrapper.87399/MwvKgdDrRO to t/mailboxes/mailarc-1-dos.txt
Output /tmp/testwrapper.87399/MwvKgdDrRO looks good.
ok 15 - Computing differences
ok 16 # skip GNU grep not available
Testing filename: t/mailboxes/mailarc-1.txt
Comparing /tmp/testwrapper.87399/wG_PbenF9m to t/mailboxes/mailarc-1.txt
Output /tmp/testwrapper.87399/wG_PbenF9m looks good.
ok 17 - Computing differences
Comparing /tmp/testwrapper.87399/Ml97qFkVPb to t/mailboxes/mailarc-1.txt
Output /tmp/testwrapper.87399/Ml97qFkVPb looks good.
ok 18 - Computing differences
Comparing /tmp/testwrapper.87399/814zG99NK0 to t/mailboxes/mailarc-1.txt
Output /tmp/testwrapper.87399/814zG99NK0 looks good.
ok 19 - Computing differences
ok 20 # skip GNU grep not available
Testing filename: t/mailboxes/mailarc-2.txt
Comparing /tmp/testwrapper.87399/mv1gAa_8uz to t/mailboxes/mailarc-2.txt
Output /tmp/testwrapper.87399/mv1gAa_8uz looks good.
ok 21 - Computing differences
Comparing /tmp/testwrapper.87399/EEEQ5Dtz9l to t/mailboxes/mailarc-2.txt
Output /tmp/testwrapper.87399/EEEQ5Dtz9l looks good.
ok 22 - Computing differences
Comparing /tmp/testwrapper.87399/EqYjz8Rxau to t/mailboxes/mailarc-2.txt
Output /tmp/testwrapper.87399/EqYjz8Rxau looks good.
ok 23 - Computing differences
ok 24 # skip GNU grep not available
Testing filename: t/mailboxes/mailarc-3.txt
Comparing /tmp/testwrapper.87399/ARyhyqjcu3 to t/mailboxes/mailarc-3.txt
Output /tmp/testwrapper.87399/ARyhyqjcu3 looks good.
ok 25 - Computing differences
Comparing /tmp/testwrapper.87399/8dKRHsgmsD to t/mailboxes/mailarc-3.txt
Output /tmp/testwrapper.87399/8dKRHsgmsD looks good.
ok 26 - Computing differences
Comparing /tmp/testwrapper.87399/aQIXM_9UlX to t/mailboxes/mailarc-3.txt
Output /tmp/testwrapper.87399/aQIXM_9UlX looks good.
ok 27 - Computing differences
ok 28 # skip GNU grep not available
Testing filename: t/mailboxes/mailseparators.txt
Comparing /tmp/testwrapper.87399/1ItlKTdkkP to t/mailboxes/mailseparators.txt
Output /tmp/testwrapper.87399/1ItlKTdkkP looks good.
ok 29 - Computing differences
Comparing /tmp/testwrapper.87399/H2MK9oAAEl to t/mailboxes/mailseparators.txt
Output /tmp/testwrapper.87399/H2MK9oAAEl looks good.
ok 30 - Computing differences
Comparing /tmp/testwrapper.87399/hcT8nkWAu2 to t/mailboxes/mailseparators.txt
Output /tmp/testwrapper.87399/hcT8nkWAu2 looks good.
ok 31 - Computing differences
ok 32 # skip GNU grep not available
Testing filename: t/mailboxes/malformed.txt
Comparing /tmp/testwrapper.87399/812rVGK_Hc to t/mailboxes/malformed.txt
Output /tmp/testwrapper.87399/812rVGK_Hc looks good.
ok 33 - Computing differences
Comparing /tmp/testwrapper.87399/W2i_EC6t8Y to t/mailboxes/malformed.txt
Output /tmp/testwrapper.87399/W2i_EC6t8Y looks good.
ok 34 - Computing differences
Comparing /tmp/testwrapper.87399/awwQ381H1F to t/mailboxes/malformed.txt
Output /tmp/testwrapper.87399/awwQ381H1F looks good.
ok 35 - Computing differences
ok 36 # skip GNU grep not available
Testing filename: t/mailboxes/newlines_at_beginning.txt
Comparing /tmp/testwrapper.87399/J4mpdmvpU6 to t/mailboxes/newlines_at_beginning.txt
Output /tmp/testwrapper.87399/J4mpdmvpU6 looks good.
ok 37 - Computing differences
Comparing /tmp/testwrapper.87399/Zqpw6sc3hB to t/mailboxes/newlines_at_beginning.txt
Output /tmp/testwrapper.87399/Zqpw6sc3hB looks good.
ok 38 - Computing differences
Comparing /tmp/testwrapper.87399/DrD6dBM4yj to t/mailboxes/newlines_at_beginning.txt
Output /tmp/testwrapper.87399/DrD6dBM4yj looks good.
ok 39 - Computing differences
ok 40 # skip GNU grep not available
Testing filename: t/mailboxes/vm-emacs.txt
Comparing /tmp/testwrapper.87399/HhRByTwAcZ to t/mailboxes/vm-emacs.txt
Output /tmp/testwrapper.87399/HhRByTwAcZ looks good.
ok 41 - Computing differences
Comparing /tmp/testwrapper.87399/aZKuRFwM8q to t/mailboxes/vm-emacs.txt
Output /tmp/testwrapper.87399/aZKuRFwM8q looks good.
ok 42 - Computing differences
Comparing /tmp/testwrapper.87399/fMjn4yePxB to t/mailboxes/vm-emacs.txt
Output /tmp/testwrapper.87399/fMjn4yePxB looks good.
ok 43 - Computing differences
ok 44 # skip GNU grep not available
ok
t/filename_compressed.t ......... 
1..4
Testing filename: t/mailboxes/mailarc-2.txt.bz2
Comparing /tmp/testwrapper.87399/4o4SNp3q45 to t/mailboxes/mailarc-2.txt
Output /tmp/testwrapper.87399/4o4SNp3q45 looks good.
ok 1 - Computing differences
Testing filename: t/mailboxes/mailarc-2.txt.gz
Comparing /tmp/testwrapper.87399/a4bcMctCg1 to t/mailboxes/mailarc-2.txt
Output /tmp/testwrapper.87399/a4bcMctCg1 looks good.
ok 2 - Computing differences
Testing filename: t/mailboxes/mailarc-2.txt.lz
ok 3 # skip lzip not available
Testing filename: t/mailboxes/mailarc-2.txt.xz
Comparing /tmp/testwrapper.87399/iztidmy5Lo to t/mailboxes/mailarc-2.txt
Output /tmp/testwrapper.87399/iztidmy5Lo looks good.
ok 4 - Computing differences
ok
t/filename_noncompressed.t ...... 
1..11
Testing filename: t/mailboxes/binary_body.txt
Comparing /tmp/testwrapper.87399/4AZpiY5SgO to t/mailboxes/binary_body.txt
Output /tmp/testwrapper.87399/4AZpiY5SgO looks good.
ok 1 - Computing differences
Testing filename: t/mailboxes/hessbug.txt
Comparing /tmp/testwrapper.87399/YcOvBerLKG to t/mailboxes/hessbug.txt
Output /tmp/testwrapper.87399/YcOvBerLKG looks good.
ok 2 - Computing differences
Testing filename: t/mailboxes/invalid-boundaries.txt
Comparing /tmp/testwrapper.87399/wDZZb1n4hE to t/mailboxes/invalid-boundaries.txt
Output /tmp/testwrapper.87399/wDZZb1n4hE looks good.
ok 3 - Computing differences
Testing filename: t/mailboxes/mailarc-1-dos.txt
Comparing /tmp/testwrapper.87399/DXChkvRzOw to t/mailboxes/mailarc-1-dos.txt
Output /tmp/testwrapper.87399/DXChkvRzOw looks good.
ok 4 - Computing differences
Testing filename: t/mailboxes/mailarc-1.txt
Comparing /tmp/testwrapper.87399/LPJMVXhSC7 to t/mailboxes/mailarc-1.txt
Output /tmp/testwrapper.87399/LPJMVXhSC7 looks good.
ok 5 - Computing differences
Testing filename: t/mailboxes/mailarc-2.txt
Comparing /tmp/testwrapper.87399/iOYn2Xt3AE to t/mailboxes/mailarc-2.txt
Output /tmp/testwrapper.87399/iOYn2Xt3AE looks good.
ok 6 - Computing differences
Testing filename: t/mailboxes/mailarc-3.txt
Comparing /tmp/testwrapper.87399/rG5O_QhaAx to t/mailboxes/mailarc-3.txt
Output /tmp/testwrapper.87399/rG5O_QhaAx looks good.
ok 7 - Computing differences
Testing filename: t/mailboxes/mailseparators.txt
Comparing /tmp/testwrapper.87399/VDcU9a9Ow0 to t/mailboxes/mailseparators.txt
Output /tmp/testwrapper.87399/VDcU9a9Ow0 looks good.
ok 8 - Computing differences
Testing filename: t/mailboxes/malformed.txt
Comparing /tmp/testwrapper.87399/uL5AbwGObH to t/mailboxes/malformed.txt
Output /tmp/testwrapper.87399/uL5AbwGObH looks good.
ok 9 - Computing differences
Testing filename: t/mailboxes/newlines_at_beginning.txt
Comparing /tmp/testwrapper.87399/P1CXLLsHLl to t/mailboxes/newlines_at_beginning.txt
Output /tmp/testwrapper.87399/P1CXLLsHLl looks good.
ok 10 - Computing differences
Testing filename: t/mailboxes/vm-emacs.txt
Comparing /tmp/testwrapper.87399/pgGMSRI9zr to t/mailboxes/vm-emacs.txt
Output /tmp/testwrapper.87399/pgGMSRI9zr looks good.
ok 11 - Computing differences
ok
t/grep.t ........................ 
1..4
Running test:
  unset LC_ALL LC_COLLATE LANG LC_CTYPE LC_MESSAGES; grep --extended-regexp --line-number --byte-offset --binary-files=text "^From [^:]+(:[0-9][0-9]){1,2}(  *([A-Z]{2,6}|[+-]?[0-9]{4})){1,3}( remote from .*)?
?$" t/mailboxes/mailarc-1.txt
ok 1 # skip 1
Running test:
  unset LC_ALL LC_COLLATE LANG LC_CTYPE LC_MESSAGES; grep --extended-regexp --line-number --byte-offset --binary-files=text "^From [^:]+(:[0-9][0-9]){1,2}(  *([A-Z]{2,6}|[+-]?[0-9]{4})){1,3}( remote from .*)?
?$" t/mailboxes/mailarc-2.txt
ok 2 # skip 1
Running test:
  unset LC_ALL LC_COLLATE LANG LC_CTYPE LC_MESSAGES; grep --extended-regexp --line-number --byte-offset --binary-files=text "^From [^:]+(:[0-9][0-9]){1,2}(  *([A-Z]{2,6}|[+-]?[0-9]{4})){1,3}( remote from .*)?
?$" t/mailboxes/mailarc-3.txt
ok 3 # skip 1
Running test:
  unset LC_ALL LC_COLLATE LANG LC_CTYPE LC_MESSAGES; grep --extended-regexp --line-number --byte-offset --binary-files=text "^From [^:]+(:[0-9][0-9]){1,2}(  *([A-Z]{2,6}|[+-]?[0-9]{4})){1,3}( remote from .*)?
?$" t/mailboxes/mailseparators.txt
ok 4 # skip 1
ok
t/gzip.t ........................ 
1..1
Running test:
  "/bin/cat" "t/mailboxes/mailarc-2.txt.gz" | "/usr/bin/gzip" -cd
Comparing /tmp/testwrapper.87399/zIH6u_XlrN to t/results/mailarc-2.txt
Output /tmp/testwrapper.87399/zIH6u_XlrN looks good.
Comparing /tmp/testwrapper.87399/111_YoJAnb to t/results/none
Output /tmp/testwrapper.87399/111_YoJAnb looks good.
ok 1 - Computing differences
ok
t/length.t ...................... 
1..30
Testing filename: t/mailboxes/binary_body.txt
Comparing /tmp/testwrapper.87399/4yuVz8UTbr to t/results/length_binary_body.stdout
Output /tmp/testwrapper.87399/4yuVz8UTbr looks good.
ok 1 - Computing differences
Comparing /tmp/testwrapper.87399/UFv6mPfkkv to t/results/length_binary_body.stdout
Output /tmp/testwrapper.87399/UFv6mPfkkv looks good.
ok 2 - Computing differences
ok 3 # skip GNU grep not available
Testing filename: t/mailboxes/hessbug.txt
Comparing /tmp/testwrapper.87399/rHN9FLDHTy to t/results/length_hessbug.stdout
Output /tmp/testwrapper.87399/rHN9FLDHTy looks good.
ok 4 - Computing differences
Comparing /tmp/testwrapper.87399/cFfhrJHsXy to t/results/length_hessbug.stdout
Output /tmp/testwrapper.87399/cFfhrJHsXy looks good.
ok 5 - Computing differences
ok 6 # skip GNU grep not available
Testing filename: t/mailboxes/invalid-boundaries.txt
Comparing /tmp/testwrapper.87399/jXQNCHaqJx to t/results/length_invalid-boundaries.stdout
Output /tmp/testwrapper.87399/jXQNCHaqJx looks good.
ok 7 - Computing differences
Comparing /tmp/testwrapper.87399/ohSYV3fWMr to t/results/length_invalid-boundaries.stdout
Output /tmp/testwrapper.87399/ohSYV3fWMr looks good.
ok 8 - Computing differences
ok 9 # skip GNU grep not available
Testing filename: t/mailboxes/mailarc-1-dos.txt
Comparing /tmp/testwrapper.87399/5PPZdpQta2 to t/results/length_mailarc-1-dos.stdout
Output /tmp/testwrapper.87399/5PPZdpQta2 looks good.
ok 10 - Computing differences
Comparing /tmp/testwrapper.87399/LnQ3zeIUBD to t/results/length_mailarc-1-dos.stdout
Output /tmp/testwrapper.87399/LnQ3zeIUBD looks good.
ok 11 - Computing differences
ok 12 # skip GNU grep not available
Testing filename: t/mailboxes/mailarc-1.txt
Comparing /tmp/testwrapper.87399/wQum_Lj7V_ to t/results/length_mailarc-1.stdout
Output /tmp/testwrapper.87399/wQum_Lj7V_ looks good.
ok 13 - Computing differences
Comparing /tmp/testwrapper.87399/pbU34K6OPN to t/results/length_mailarc-1.stdout
Output /tmp/testwrapper.87399/pbU34K6OPN looks good.
ok 14 - Computing differences
ok 15 # skip GNU grep not available
Testing filename: t/mailboxes/mailarc-2.txt
Comparing /tmp/testwrapper.87399/F4di1AqI3o to t/results/length_mailarc-2.stdout
Output /tmp/testwrapper.87399/F4di1AqI3o looks good.
ok 16 - Computing differences
Comparing /tmp/testwrapper.87399/VjexDVvu1f to t/results/length_mailarc-2.stdout
Output /tmp/testwrapper.87399/VjexDVvu1f looks good.
ok 17 - Computing differences
ok 18 # skip GNU grep not available
Testing filename: t/mailboxes/mailarc-3.txt
Comparing /tmp/testwrapper.87399/0nDTGnOQEM to t/results/length_mailarc-3.stdout
Output /tmp/testwrapper.87399/0nDTGnOQEM looks good.
ok 19 - Computing differences
Comparing /tmp/testwrapper.87399/p7eBwNtZT8 to t/results/length_mailarc-3.stdout
Output /tmp/testwrapper.87399/p7eBwNtZT8 looks good.
ok 20 - Computing differences
ok 21 # skip GNU grep not available
Testing filename: t/mailboxes/mailseparators.txt
Comparing /tmp/testwrapper.87399/K8JIUj2n_R to t/results/length_mailseparators.stdout
Output /tmp/testwrapper.87399/K8JIUj2n_R looks good.
ok 22 - Computing differences
Comparing /tmp/testwrapper.87399/kV_Tl_CRE5 to t/results/length_mailseparators.stdout
Output /tmp/testwrapper.87399/kV_Tl_CRE5 looks good.
ok 23 - Computing differences
ok 24 # skip GNU grep not available
Testing filename: t/mailboxes/malformed.txt
Comparing /tmp/testwrapper.87399/Oo0WptS8qZ to t/results/length_malformed.stdout
Output /tmp/testwrapper.87399/Oo0WptS8qZ looks good.
ok 25 - Computing differences
Comparing /tmp/testwrapper.87399/SjneIR2OGK to t/results/length_malformed.stdout
Output /tmp/testwrapper.87399/SjneIR2OGK looks good.
ok 26 - Computing differences
ok 27 # skip GNU grep not available
Testing filename: t/mailboxes/newlines_at_beginning.txt
Comparing /tmp/testwrapper.87399/H898RfHa8r to t/results/length_newlines_at_beginning.stdout
Output /tmp/testwrapper.87399/H898RfHa8r looks good.
ok 28 - Computing differences
Comparing /tmp/testwrapper.87399/uRGaaQw6EU to t/results/length_newlines_at_beginning.stdout
Output /tmp/testwrapper.87399/uRGaaQw6EU looks good.
ok 29 - Computing differences
ok 30 # skip GNU grep not available
ok
t/line_number.t ................. 
1..30
Testing filename: t/mailboxes/binary_body.txt
Comparing /tmp/testwrapper.87399/m3IhF0kW94 to t/results/line_number_binary_body.stdout
Output /tmp/testwrapper.87399/m3IhF0kW94 looks good.
ok 1 - Computing differences
Comparing /tmp/testwrapper.87399/oYhud0ZiLK to t/results/line_number_binary_body.stdout
Output /tmp/testwrapper.87399/oYhud0ZiLK looks good.
ok 2 - Computing differences
ok 3 # skip GNU grep not available
Testing filename: t/mailboxes/hessbug.txt
Comparing /tmp/testwrapper.87399/0WK0XGtWRU to t/results/line_number_hessbug.stdout
Output /tmp/testwrapper.87399/0WK0XGtWRU looks good.
ok 4 - Computing differences
Comparing /tmp/testwrapper.87399/4VZu67Z9ID to t/results/line_number_hessbug.stdout
Output /tmp/testwrapper.87399/4VZu67Z9ID looks good.
ok 5 - Computing differences
ok 6 # skip GNU grep not available
Testing filename: t/mailboxes/invalid-boundaries.txt
Comparing /tmp/testwrapper.87399/FxFRBjkKoE to t/results/line_number_invalid-boundaries.stdout
Output /tmp/testwrapper.87399/FxFRBjkKoE looks good.
ok 7 - Computing differences
Comparing /tmp/testwrapper.87399/lat67220t7 to t/results/line_number_invalid-boundaries.stdout
Output /tmp/testwrapper.87399/lat67220t7 looks good.
ok 8 - Computing differences
ok 9 # skip GNU grep not available
Testing filename: t/mailboxes/mailarc-1-dos.txt
Comparing /tmp/testwrapper.87399/9URR7UR3Qz to t/results/line_number_mailarc-1-dos.stdout
Output /tmp/testwrapper.87399/9URR7UR3Qz looks good.
ok 10 - Computing differences
Comparing /tmp/testwrapper.87399/XQ5cb4QMho to t/results/line_number_mailarc-1-dos.stdout
Output /tmp/testwrapper.87399/XQ5cb4QMho looks good.
ok 11 - Computing differences
ok 12 # skip GNU grep not available
Testing filename: t/mailboxes/mailarc-1.txt
Comparing /tmp/testwrapper.87399/pOQpjRhV4J to t/results/line_number_mailarc-1.stdout
Output /tmp/testwrapper.87399/pOQpjRhV4J looks good.
ok 13 - Computing differences
Comparing /tmp/testwrapper.87399/uDA6Ysc4dE to t/results/line_number_mailarc-1.stdout
Output /tmp/testwrapper.87399/uDA6Ysc4dE looks good.
ok 14 - Computing differences
ok 15 # skip GNU grep not available
Testing filename: t/mailboxes/mailarc-2.txt
Comparing /tmp/testwrapper.87399/h835IfZbvB to t/results/line_number_mailarc-2.stdout
Output /tmp/testwrapper.87399/h835IfZbvB looks good.
ok 16 - Computing differences
Comparing /tmp/testwrapper.87399/qj4FUfvXjq to t/results/line_number_mailarc-2.stdout
Output /tmp/testwrapper.87399/qj4FUfvXjq looks good.
ok 17 - Computing differences
ok 18 # skip GNU grep not available
Testing filename: t/mailboxes/mailarc-3.txt
Comparing /tmp/testwrapper.87399/H41sUDf3hr to t/results/line_number_mailarc-3.stdout
Output /tmp/testwrapper.87399/H41sUDf3hr looks good.
ok 19 - Computing differences
Comparing /tmp/testwrapper.87399/355jCzLchF to t/results/line_number_mailarc-3.stdout
Output /tmp/testwrapper.87399/355jCzLchF looks good.
ok 20 - Computing differences
ok 21 # skip GNU grep not available
Testing filename: t/mailboxes/mailseparators.txt
Comparing /tmp/testwrapper.87399/B8le_RtBzQ to t/results/line_number_mailseparators.stdout
Output /tmp/testwrapper.87399/B8le_RtBzQ looks good.
ok 22 - Computing differences
Comparing /tmp/testwrapper.87399/sIZMaPVJlG to t/results/line_number_mailseparators.stdout
Output /tmp/testwrapper.87399/sIZMaPVJlG looks good.
ok 23 - Computing differences
ok 24 # skip GNU grep not available
Testing filename: t/mailboxes/malformed.txt
Comparing /tmp/testwrapper.87399/O_9uEGEKST to t/results/line_number_malformed.stdout
Output /tmp/testwrapper.87399/O_9uEGEKST looks good.
ok 25 - Computing differences
Comparing /tmp/testwrapper.87399/O1FqTf3eDh to t/results/line_number_malformed.stdout
Output /tmp/testwrapper.87399/O1FqTf3eDh looks good.
ok 26 - Computing differences
ok 27 # skip GNU grep not available
Testing filename: t/mailboxes/newlines_at_beginning.txt
Comparing /tmp/testwrapper.87399/LE6ujODrcZ to t/results/line_number_newlines_at_beginning.stdout
Output /tmp/testwrapper.87399/LE6ujODrcZ looks good.
ok 28 - Computing differences
Comparing /tmp/testwrapper.87399/3jOBLtW6YW to t/results/line_number_newlines_at_beginning.stdout
Output /tmp/testwrapper.87399/3jOBLtW6YW looks good.
ok 29 - Computing differences
ok 30 # skip GNU grep not available
ok
t/lzip.t ........................ 
1..1
Running test:
  "/bin/cat" "t/mailboxes/mailarc-2.txt.lz" | "lzip" -cd
ok 1 # skip lzip not available
ok
t/number.t ...................... 
1..30
Testing filename: t/mailboxes/binary_body.txt
Comparing /tmp/testwrapper.87399/VHr1zggR7W to t/results/number_binary_body.stdout
Output /tmp/testwrapper.87399/VHr1zggR7W looks good.
ok 1 - Computing differences
Comparing /tmp/testwrapper.87399/fwIgl3Topb to t/results/number_binary_body.stdout
Output /tmp/testwrapper.87399/fwIgl3Topb looks good.
ok 2 - Computing differences
ok 3 # skip GNU grep not available
Testing filename: t/mailboxes/hessbug.txt
Comparing /tmp/testwrapper.87399/iYobo0aYCm to t/results/number_hessbug.stdout
Output /tmp/testwrapper.87399/iYobo0aYCm looks good.
ok 4 - Computing differences
Comparing /tmp/testwrapper.87399/Nm_hTjx1Td to t/results/number_hessbug.stdout
Output /tmp/testwrapper.87399/Nm_hTjx1Td looks good.
ok 5 - Computing differences
ok 6 # skip GNU grep not available
Testing filename: t/mailboxes/invalid-boundaries.txt
Comparing /tmp/testwrapper.87399/eJHc4_wxaV to t/results/number_invalid-boundaries.stdout
Output /tmp/testwrapper.87399/eJHc4_wxaV looks good.
ok 7 - Computing differences
Comparing /tmp/testwrapper.87399/xv3un_hlO0 to t/results/number_invalid-boundaries.stdout
Output /tmp/testwrapper.87399/xv3un_hlO0 looks good.
ok 8 - Computing differences
ok 9 # skip GNU grep not available
Testing filename: t/mailboxes/mailarc-1-dos.txt
Comparing /tmp/testwrapper.87399/xXvPPYfNkW to t/results/number_mailarc-1-dos.stdout
Output /tmp/testwrapper.87399/xXvPPYfNkW looks good.
ok 10 - Computing differences
Comparing /tmp/testwrapper.87399/zpQwKgLQ1e to t/results/number_mailarc-1-dos.stdout
Output /tmp/testwrapper.87399/zpQwKgLQ1e looks good.
ok 11 - Computing differences
ok 12 # skip GNU grep not available
Testing filename: t/mailboxes/mailarc-1.txt
Comparing /tmp/testwrapper.87399/giXprkFy8d to t/results/number_mailarc-1.stdout
Output /tmp/testwrapper.87399/giXprkFy8d looks good.
ok 13 - Computing differences
Comparing /tmp/testwrapper.87399/afycleUX6r to t/results/number_mailarc-1.stdout
Output /tmp/testwrapper.87399/afycleUX6r looks good.
ok 14 - Computing differences
ok 15 # skip GNU grep not available
Testing filename: t/mailboxes/mailarc-2.txt
Comparing /tmp/testwrapper.87399/crBja3K1bm to t/results/number_mailarc-2.stdout
Output /tmp/testwrapper.87399/crBja3K1bm looks good.
ok 16 - Computing differences
Comparing /tmp/testwrapper.87399/v6_tJtoFU_ to t/results/number_mailarc-2.stdout
Output /tmp/testwrapper.87399/v6_tJtoFU_ looks good.
ok 17 - Computing differences
ok 18 # skip GNU grep not available
Testing filename: t/mailboxes/mailarc-3.txt
Comparing /tmp/testwrapper.87399/fsRg0ILSeK to t/results/number_mailarc-3.stdout
Output /tmp/testwrapper.87399/fsRg0ILSeK looks good.
ok 19 - Computing differences
Comparing /tmp/testwrapper.87399/VctX8DISLF to t/results/number_mailarc-3.stdout
Output /tmp/testwrapper.87399/VctX8DISLF looks good.
ok 20 - Computing differences
ok 21 # skip GNU grep not available
Testing filename: t/mailboxes/mailseparators.txt
Comparing /tmp/testwrapper.87399/BZaIVzdgtq to t/results/number_mailseparators.stdout
Output /tmp/testwrapper.87399/BZaIVzdgtq looks good.
ok 22 - Computing differences
Comparing /tmp/testwrapper.87399/eNs8j3wcE6 to t/results/number_mailseparators.stdout
Output /tmp/testwrapper.87399/eNs8j3wcE6 looks good.
ok 23 - Computing differences
ok 24 # skip GNU grep not available
Testing filename: t/mailboxes/malformed.txt
Comparing /tmp/testwrapper.87399/4Eb9N_OuqU to t/results/number_malformed.stdout
Output /tmp/testwrapper.87399/4Eb9N_OuqU looks good.
ok 25 - Computing differences
Comparing /tmp/testwrapper.87399/xqXEzbPQsN to t/results/number_malformed.stdout
Output /tmp/testwrapper.87399/xqXEzbPQsN looks good.
ok 26 - Computing differences
ok 27 # skip GNU grep not available
Testing filename: t/mailboxes/newlines_at_beginning.txt
Comparing /tmp/testwrapper.87399/hlhqGgj2JN to t/results/number_newlines_at_beginning.stdout
Output /tmp/testwrapper.87399/hlhqGgj2JN looks good.
ok 28 - Computing differences
Comparing /tmp/testwrapper.87399/xqX4waDx7M to t/results/number_newlines_at_beginning.stdout
Output /tmp/testwrapper.87399/xqX4waDx7M looks good.
ok 29 - Computing differences
ok 30 # skip GNU grep not available
ok
t/offset.t ...................... 
1..30
Testing filename: t/mailboxes/binary_body.txt
Comparing /tmp/testwrapper.87399/1ca9BWU798 to t/results/offset_binary_body.stdout
Output /tmp/testwrapper.87399/1ca9BWU798 looks good.
ok 1 - Computing differences
Comparing /tmp/testwrapper.87399/QzRULFne7U to t/results/offset_binary_body.stdout
Output /tmp/testwrapper.87399/QzRULFne7U looks good.
ok 2 - Computing differences
ok 3 # skip GNU grep not available
Testing filename: t/mailboxes/hessbug.txt
Comparing /tmp/testwrapper.87399/v7yzJ9zkcN to t/results/offset_hessbug.stdout
Output /tmp/testwrapper.87399/v7yzJ9zkcN looks good.
ok 4 - Computing differences
Comparing /tmp/testwrapper.87399/AsuZoWvatl to t/results/offset_hessbug.stdout
Output /tmp/testwrapper.87399/AsuZoWvatl looks good.
ok 5 - Computing differences
ok 6 # skip GNU grep not available
Testing filename: t/mailboxes/invalid-boundaries.txt
Comparing /tmp/testwrapper.87399/bwy8b30vDs to t/results/offset_invalid-boundaries.stdout
Output /tmp/testwrapper.87399/bwy8b30vDs looks good.
ok 7 - Computing differences
Comparing /tmp/testwrapper.87399/7bjJRLSm6R to t/results/offset_invalid-boundaries.stdout
Output /tmp/testwrapper.87399/7bjJRLSm6R looks good.
ok 8 - Computing differences
ok 9 # skip GNU grep not available
Testing filename: t/mailboxes/mailarc-1-dos.txt
Comparing /tmp/testwrapper.87399/56iOxrrr8o to t/results/offset_mailarc-1-dos.stdout
Output /tmp/testwrapper.87399/56iOxrrr8o looks good.
ok 10 - Computing differences
Comparing /tmp/testwrapper.87399/9tuL49B9iK to t/results/offset_mailarc-1-dos.stdout
Output /tmp/testwrapper.87399/9tuL49B9iK looks good.
ok 11 - Computing differences
ok 12 # skip GNU grep not available
Testing filename: t/mailboxes/mailarc-1.txt
Comparing /tmp/testwrapper.87399/r8UPAiXn0H to t/results/offset_mailarc-1.stdout
Output /tmp/testwrapper.87399/r8UPAiXn0H looks good.
ok 13 - Computing differences
Comparing /tmp/testwrapper.87399/kuJBizdhmv to t/results/offset_mailarc-1.stdout
Output /tmp/testwrapper.87399/kuJBizdhmv looks good.
ok 14 - Computing differences
ok 15 # skip GNU grep not available
Testing filename: t/mailboxes/mailarc-2.txt
Comparing /tmp/testwrapper.87399/2GW2yp5Kav to t/results/offset_mailarc-2.stdout
Output /tmp/testwrapper.87399/2GW2yp5Kav looks good.
ok 16 - Computing differences
Comparing /tmp/testwrapper.87399/6WgBstmTvy to t/results/offset_mailarc-2.stdout
Output /tmp/testwrapper.87399/6WgBstmTvy looks good.
ok 17 - Computing differences
ok 18 # skip GNU grep not available
Testing filename: t/mailboxes/mailarc-3.txt
Comparing /tmp/testwrapper.87399/yK_08FMTKv to t/results/offset_mailarc-3.stdout
Output /tmp/testwrapper.87399/yK_08FMTKv looks good.
ok 19 - Computing differences
Comparing /tmp/testwrapper.87399/2AjGkgtSNC to t/results/offset_mailarc-3.stdout
Output /tmp/testwrapper.87399/2AjGkgtSNC looks good.
ok 20 - Computing differences
ok 21 # skip GNU grep not available
Testing filename: t/mailboxes/mailseparators.txt
Comparing /tmp/testwrapper.87399/uRMasSVNOh to t/results/offset_mailseparators.stdout
Output /tmp/testwrapper.87399/uRMasSVNOh looks good.
ok 22 - Computing differences
Comparing /tmp/testwrapper.87399/bVKPjxBTfV to t/results/offset_mailseparators.stdout
Output /tmp/testwrapper.87399/bVKPjxBTfV looks good.
ok 23 - Computing differences
ok 24 # skip GNU grep not available
Testing filename: t/mailboxes/malformed.txt
Comparing /tmp/testwrapper.87399/hY32PkJxYh to t/results/offset_malformed.stdout
Output /tmp/testwrapper.87399/hY32PkJxYh looks good.
ok 25 - Computing differences
Comparing /tmp/testwrapper.87399/iEdUt8iBdo to t/results/offset_malformed.stdout
Output /tmp/testwrapper.87399/iEdUt8iBdo looks good.
ok 26 - Computing differences
ok 27 # skip GNU grep not available
Testing filename: t/mailboxes/newlines_at_beginning.txt
Comparing /tmp/testwrapper.87399/ipFRaRE1Sy to t/results/offset_newlines_at_beginning.stdout
Output /tmp/testwrapper.87399/ipFRaRE1Sy looks good.
ok 28 - Computing differences
Comparing /tmp/testwrapper.87399/MXinIzwcBV to t/results/offset_newlines_at_beginning.stdout
Output /tmp/testwrapper.87399/MXinIzwcBV looks good.
ok 29 - Computing differences
ok 30 # skip GNU grep not available
ok
t/prologue.t .................... 
1..33
Testing filename: t/mailboxes/binary_body.txt
Comparing /tmp/testwrapper.87399/azdhycaxTI to t/mailboxes/binary_body.txt
Output /tmp/testwrapper.87399/azdhycaxTI looks good.
ok 1 - Computing differences
Comparing /tmp/testwrapper.87399/wAFb8OYydk to t/mailboxes/binary_body.txt
Output /tmp/testwrapper.87399/wAFb8OYydk looks good.
ok 2 - Computing differences
ok 3 # skip GNU grep not available
Testing filename: t/mailboxes/hessbug.txt
Comparing /tmp/testwrapper.87399/OL1qOyp8w3 to t/mailboxes/hessbug.txt
Output /tmp/testwrapper.87399/OL1qOyp8w3 looks good.
ok 4 - Computing differences
Comparing /tmp/testwrapper.87399/F1rwYumAWK to t/mailboxes/hessbug.txt
Output /tmp/testwrapper.87399/F1rwYumAWK looks good.
ok 5 - Computing differences
ok 6 # skip GNU grep not available
Testing filename: t/mailboxes/invalid-boundaries.txt
Comparing /tmp/testwrapper.87399/a_bJfYtZsw to t/mailboxes/invalid-boundaries.txt
Output /tmp/testwrapper.87399/a_bJfYtZsw looks good.
ok 7 - Computing differences
Comparing /tmp/testwrapper.87399/vBB2QD4KUT to t/mailboxes/invalid-boundaries.txt
Output /tmp/testwrapper.87399/vBB2QD4KUT looks good.
ok 8 - Computing differences
ok 9 # skip GNU grep not available
Testing filename: t/mailboxes/mailarc-1-dos.txt
Comparing /tmp/testwrapper.87399/QLfKjd_KXk to t/mailboxes/mailarc-1-dos.txt
Output /tmp/testwrapper.87399/QLfKjd_KXk looks good.
ok 10 - Computing differences
Comparing /tmp/testwrapper.87399/tnXxUNASYh to t/mailboxes/mailarc-1-dos.txt
Output /tmp/testwrapper.87399/tnXxUNASYh looks good.
ok 11 - Computing differences
ok 12 # skip GNU grep not available
Testing filename: t/mailboxes/mailarc-1.txt
Comparing /tmp/testwrapper.87399/1CZOYcuXuW to t/mailboxes/mailarc-1.txt
Output /tmp/testwrapper.87399/1CZOYcuXuW looks good.
ok 13 - Computing differences
Comparing /tmp/testwrapper.87399/FUxjj2u7RG to t/mailboxes/mailarc-1.txt
Output /tmp/testwrapper.87399/FUxjj2u7RG looks good.
ok 14 - Computing differences
ok 15 # skip GNU grep not available
Testing filename: t/mailboxes/mailarc-2.txt
Comparing /tmp/testwrapper.87399/lPdyht0f19 to t/mailboxes/mailarc-2.txt
Output /tmp/testwrapper.87399/lPdyht0f19 looks good.
ok 16 - Computing differences
Comparing /tmp/testwrapper.87399/ROyggJePTu to t/mailboxes/mailarc-2.txt
Output /tmp/testwrapper.87399/ROyggJePTu looks good.
ok 17 - Computing differences
ok 18 # skip GNU grep not available
Testing filename: t/mailboxes/mailarc-3.txt
Comparing /tmp/testwrapper.87399/gqqeCJJeOg to t/mailboxes/mailarc-3.txt
Output /tmp/testwrapper.87399/gqqeCJJeOg looks good.
ok 19 - Computing differences
Comparing /tmp/testwrapper.87399/SDoo9LbB5o to t/mailboxes/mailarc-3.txt
Output /tmp/testwrapper.87399/SDoo9LbB5o looks good.
ok 20 - Computing differences
ok 21 # skip GNU grep not available
Testing filename: t/mailboxes/mailseparators.txt
Comparing /tmp/testwrapper.87399/qV2gzXuDHR to t/mailboxes/mailseparators.txt
Output /tmp/testwrapper.87399/qV2gzXuDHR looks good.
ok 22 - Computing differences
Comparing /tmp/testwrapper.87399/nByJECbU8U to t/mailboxes/mailseparators.txt
Output /tmp/testwrapper.87399/nByJECbU8U looks good.
ok 23 - Computing differences
ok 24 # skip GNU grep not available
Testing filename: t/mailboxes/malformed.txt
Comparing /tmp/testwrapper.87399/Jc7LcaYwlX to t/mailboxes/malformed.txt
Output /tmp/testwrapper.87399/Jc7LcaYwlX looks good.
ok 25 - Computing differences
Comparing /tmp/testwrapper.87399/1ThQmCxH5U to t/mailboxes/malformed.txt
Output /tmp/testwrapper.87399/1ThQmCxH5U looks good.
ok 26 - Computing differences
ok 27 # skip GNU grep not available
Testing filename: t/mailboxes/newlines_at_beginning.txt
Comparing /tmp/testwrapper.87399/QdXCWL5VrS to t/mailboxes/newlines_at_beginning.txt
Output /tmp/testwrapper.87399/QdXCWL5VrS looks good.
ok 28 - Computing differences
Comparing /tmp/testwrapper.87399/vVjQowp71s to t/mailboxes/newlines_at_beginning.txt
Output /tmp/testwrapper.87399/vVjQowp71s looks good.
ok 29 - Computing differences
ok 30 # skip GNU grep not available
Testing filename: t/mailboxes/vm-emacs.txt
Comparing /tmp/testwrapper.87399/xDnOuHGRcA to t/mailboxes/vm-emacs.txt
Output /tmp/testwrapper.87399/xDnOuHGRcA looks good.
ok 31 - Computing differences
Comparing /tmp/testwrapper.87399/LLWVW_CCxV to t/mailboxes/vm-emacs.txt
Output /tmp/testwrapper.87399/LLWVW_CCxV looks good.
ok 32 - Computing differences
ok 33 # skip GNU grep not available
ok
t/reset.t ....................... 
1..60
Testing filename: t/mailboxes/binary_body.txt
Testing partial mailbox reset with Perl implementation
Comparing /tmp/testwrapper.87399/MXxRAknSt_ to t/results/reset_binary_body.stdout
Output /tmp/testwrapper.87399/MXxRAknSt_ looks good.
ok 1 - Computing differences
Testing partial mailbox reset with Cache implementation
Comparing /tmp/testwrapper.87399/0uv81pzi9F to t/results/reset_binary_body.stdout
Output /tmp/testwrapper.87399/0uv81pzi9F looks good.
ok 2 - Computing differences
Testing partial mailbox reset with Grep implementation
ok 3 # skip GNU grep not available
Testing full mailbox reset with Perl implementation
Comparing /tmp/testwrapper.87399/Yz1bhv4Rgn to t/results/reset_binary_body.stdout
Output /tmp/testwrapper.87399/Yz1bhv4Rgn looks good.
ok 4 - Computing differences
Testing full mailbox reset with Cache implementation
Comparing /tmp/testwrapper.87399/tnnci7DSVT to t/results/reset_binary_body.stdout
Output /tmp/testwrapper.87399/tnnci7DSVT looks good.
ok 5 - Computing differences
Testing full mailbox reset with Grep implementation
ok 6 # skip GNU grep not available
Testing filename: t/mailboxes/hessbug.txt
Testing partial mailbox reset with Perl implementation
Comparing /tmp/testwrapper.87399/2D35P1X4Y9 to t/results/reset_hessbug.stdout
Output /tmp/testwrapper.87399/2D35P1X4Y9 looks good.
ok 7 - Computing differences
Testing partial mailbox reset with Cache implementation
Comparing /tmp/testwrapper.87399/lEYYUljdJI to t/results/reset_hessbug.stdout
Output /tmp/testwrapper.87399/lEYYUljdJI looks good.
ok 8 - Computing differences
Testing partial mailbox reset with Grep implementation
ok 9 # skip GNU grep not available
Testing full mailbox reset with Perl implementation
Comparing /tmp/testwrapper.87399/7bCokIilP1 to t/results/reset_hessbug.stdout
Output /tmp/testwrapper.87399/7bCokIilP1 looks good.
ok 10 - Computing differences
Testing full mailbox reset with Cache implementation
Comparing /tmp/testwrapper.87399/f8ubyJudnL to t/results/reset_hessbug.stdout
Output /tmp/testwrapper.87399/f8ubyJudnL looks good.
ok 11 - Computing differences
Testing full mailbox reset with Grep implementation
ok 12 # skip GNU grep not available
Testing filename: t/mailboxes/invalid-boundaries.txt
Testing partial mailbox reset with Perl implementation
Comparing /tmp/testwrapper.87399/JHPFYq6S09 to t/results/reset_invalid-boundaries.stdout
Output /tmp/testwrapper.87399/JHPFYq6S09 looks good.
ok 13 - Computing differences
Testing partial mailbox reset with Cache implementation
Comparing /tmp/testwrapper.87399/hDEuYJGuuA to t/results/reset_invalid-boundaries.stdout
Output /tmp/testwrapper.87399/hDEuYJGuuA looks good.
ok 14 - Computing differences
Testing partial mailbox reset with Grep implementation
ok 15 # skip GNU grep not available
Testing full mailbox reset with Perl implementation
Comparing /tmp/testwrapper.87399/atfPmadfsd to t/results/reset_invalid-boundaries.stdout
Output /tmp/testwrapper.87399/atfPmadfsd looks good.
ok 16 - Computing differences
Testing full mailbox reset with Cache implementation
Comparing /tmp/testwrapper.87399/_LLOPwQIND to t/results/reset_invalid-boundaries.stdout
Output /tmp/testwrapper.87399/_LLOPwQIND looks good.
ok 17 - Computing differences
Testing full mailbox reset with Grep implementation
ok 18 # skip GNU grep not available
Testing filename: t/mailboxes/mailarc-1-dos.txt
Testing partial mailbox reset with Perl implementation
Comparing /tmp/testwrapper.87399/z4wdR64jOq to t/results/reset_mailarc-1-dos.stdout
Output /tmp/testwrapper.87399/z4wdR64jOq looks good.
ok 19 - Computing differences
Testing partial mailbox reset with Cache implementation
Comparing /tmp/testwrapper.87399/xhLEh_VvJ5 to t/results/reset_mailarc-1-dos.stdout
Output /tmp/testwrapper.87399/xhLEh_VvJ5 looks good.
ok 20 - Computing differences
Testing partial mailbox reset with Grep implementation
ok 21 # skip GNU grep not available
Testing full mailbox reset with Perl implementation
Comparing /tmp/testwrapper.87399/t6oN8yryXI to t/results/reset_mailarc-1-dos.stdout
Output /tmp/testwrapper.87399/t6oN8yryXI looks good.
ok 22 - Computing differences
Testing full mailbox reset with Cache implementation
Comparing /tmp/testwrapper.87399/e27AGUTpbS to t/results/reset_mailarc-1-dos.stdout
Output /tmp/testwrapper.87399/e27AGUTpbS looks good.
ok 23 - Computing differences
Testing full mailbox reset with Grep implementation
ok 24 # skip GNU grep not available
Testing filename: t/mailboxes/mailarc-1.txt
Testing partial mailbox reset with Perl implementation
Comparing /tmp/testwrapper.87399/Rl1Jtpfqhw to t/results/reset_mailarc-1.stdout
Output /tmp/testwrapper.87399/Rl1Jtpfqhw looks good.
ok 25 - Computing differences
Testing partial mailbox reset with Cache implementation
Comparing /tmp/testwrapper.87399/5GjOe0BN9C to t/results/reset_mailarc-1.stdout
Output /tmp/testwrapper.87399/5GjOe0BN9C looks good.
ok 26 - Computing differences
Testing partial mailbox reset with Grep implementation
ok 27 # skip GNU grep not available
Testing full mailbox reset with Perl implementation
Comparing /tmp/testwrapper.87399/R1DrQtP4FJ to t/results/reset_mailarc-1.stdout
Output /tmp/testwrapper.87399/R1DrQtP4FJ looks good.
ok 28 - Computing differences
Testing full mailbox reset with Cache implementation
Comparing /tmp/testwrapper.87399/c3sb50ELx0 to t/results/reset_mailarc-1.stdout
Output /tmp/testwrapper.87399/c3sb50ELx0 looks good.
ok 29 - Computing differences
Testing full mailbox reset with Grep implementation
ok 30 # skip GNU grep not available
Testing filename: t/mailboxes/mailarc-2.txt
Testing partial mailbox reset with Perl implementation
Comparing /tmp/testwrapper.87399/8kszFsAQLb to t/results/reset_mailarc-2.stdout
Output /tmp/testwrapper.87399/8kszFsAQLb looks good.
ok 31 - Computing differences
Testing partial mailbox reset with Cache implementation
Comparing /tmp/testwrapper.87399/4L7g_f_Ser to t/results/reset_mailarc-2.stdout
Output /tmp/testwrapper.87399/4L7g_f_Ser looks good.
ok 32 - Computing differences
Testing partial mailbox reset with Grep implementation
ok 33 # skip GNU grep not available
Testing full mailbox reset with Perl implementation
Comparing /tmp/testwrapper.87399/9PRNjShi6s to t/results/reset_mailarc-2.stdout
Output /tmp/testwrapper.87399/9PRNjShi6s looks good.
ok 34 - Computing differences
Testing full mailbox reset with Cache implementation
Comparing /tmp/testwrapper.87399/_soR7EtAPc to t/results/reset_mailarc-2.stdout
Output /tmp/testwrapper.87399/_soR7EtAPc looks good.
ok 35 - Computing differences
Testing full mailbox reset with Grep implementation
ok 36 # skip GNU grep not available
Testing filename: t/mailboxes/mailarc-3.txt
Testing partial mailbox reset with Perl implementation
Comparing /tmp/testwrapper.87399/47OiGrA0i8 to t/results/reset_mailarc-3.stdout
Output /tmp/testwrapper.87399/47OiGrA0i8 looks good.
ok 37 - Computing differences
Testing partial mailbox reset with Cache implementation
Comparing /tmp/testwrapper.87399/urATvYzOUh to t/results/reset_mailarc-3.stdout
Output /tmp/testwrapper.87399/urATvYzOUh looks good.
ok 38 - Computing differences
Testing partial mailbox reset with Grep implementation
ok 39 # skip GNU grep not available
Testing full mailbox reset with Perl implementation
Comparing /tmp/testwrapper.87399/2zoU4fqwPl to t/results/reset_mailarc-3.stdout
Output /tmp/testwrapper.87399/2zoU4fqwPl looks good.
ok 40 - Computing differences
Testing full mailbox reset with Cache implementation
Comparing /tmp/testwrapper.87399/SODZOr8WfC to t/results/reset_mailarc-3.stdout
Output /tmp/testwrapper.87399/SODZOr8WfC looks good.
ok 41 - Computing differences
Testing full mailbox reset with Grep implementation
ok 42 # skip GNU grep not available
Testing filename: t/mailboxes/mailseparators.txt
Testing partial mailbox reset with Perl implementation
Comparing /tmp/testwrapper.87399/kSO9BWV8sn to t/results/reset_mailseparators.stdout
Output /tmp/testwrapper.87399/kSO9BWV8sn looks good.
ok 43 - Computing differences
Testing partial mailbox reset with Cache implementation
Comparing /tmp/testwrapper.87399/RVK7VjgCbq to t/results/reset_mailseparators.stdout
Output /tmp/testwrapper.87399/RVK7VjgCbq looks good.
ok 44 - Computing differences
Testing partial mailbox reset with Grep implementation
ok 45 # skip GNU grep not available
Testing full mailbox reset with Perl implementation
Comparing /tmp/testwrapper.87399/nlaa3lcCsC to t/results/reset_mailseparators.stdout
Output /tmp/testwrapper.87399/nlaa3lcCsC looks good.
ok 46 - Computing differences
Testing full mailbox reset with Cache implementation
Comparing /tmp/testwrapper.87399/KvwsW1ovH2 to t/results/reset_mailseparators.stdout
Output /tmp/testwrapper.87399/KvwsW1ovH2 looks good.
ok 47 - Computing differences
Testing full mailbox reset with Grep implementation
ok 48 # skip GNU grep not available
Testing filename: t/mailboxes/malformed.txt
Testing partial mailbox reset with Perl implementation
Comparing /tmp/testwrapper.87399/p0thlCcA6Q to t/results/reset_malformed.stdout
Output /tmp/testwrapper.87399/p0thlCcA6Q looks good.
ok 49 - Computing differences
Testing partial mailbox reset with Cache implementation
Comparing /tmp/testwrapper.87399/8hDBpCtsrU to t/results/reset_malformed.stdout
Output /tmp/testwrapper.87399/8hDBpCtsrU looks good.
ok 50 - Computing differences
Testing partial mailbox reset with Grep implementation
ok 51 # skip GNU grep not available
Testing full mailbox reset with Perl implementation
Comparing /tmp/testwrapper.87399/qEzxyH6Erj to t/results/reset_malformed.stdout
Output /tmp/testwrapper.87399/qEzxyH6Erj looks good.
ok 52 - Computing differences
Testing full mailbox reset with Cache implementation
Comparing /tmp/testwrapper.87399/PouYrj4QSk to t/results/reset_malformed.stdout
Output /tmp/testwrapper.87399/PouYrj4QSk looks good.
ok 53 - Computing differences
Testing full mailbox reset with Grep implementation
ok 54 # skip GNU grep not available
Testing filename: t/mailboxes/newlines_at_beginning.txt
Testing partial mailbox reset with Perl implementation
Comparing /tmp/testwrapper.87399/LMoHudZowp to t/results/reset_newlines_at_beginning.stdout
Output /tmp/testwrapper.87399/LMoHudZowp looks good.
ok 55 - Computing differences
Testing partial mailbox reset with Cache implementation
Comparing /tmp/testwrapper.87399/YbaBCynTz9 to t/results/reset_newlines_at_beginning.stdout
Output /tmp/testwrapper.87399/YbaBCynTz9 looks good.
ok 56 - Computing differences
Testing partial mailbox reset with Grep implementation
ok 57 # skip GNU grep not available
Testing full mailbox reset with Perl implementation
Comparing /tmp/testwrapper.87399/ZlaJWr7wV5 to t/results/reset_newlines_at_beginning.stdout
Output /tmp/testwrapper.87399/ZlaJWr7wV5 looks good.
ok 58 - Computing differences
Testing full mailbox reset with Cache implementation
Comparing /tmp/testwrapper.87399/IPMYUMYcGS to t/results/reset_newlines_at_beginning.stdout
Output /tmp/testwrapper.87399/IPMYUMYcGS looks good.
ok 59 - Computing differences
Testing full mailbox reset with Grep implementation
ok 60 # skip GNU grep not available
ok
t/separators.t .................. 
1..6
Testing filename: t/mailboxes/separators2.sep
ok 1 - Number of emails in t/mailboxes/separators2.sep
ok 2 - Number of emails in t/mailboxes/separators2.sep
ok 3 # skip GNU grep not available
Testing filename: t/mailboxes/separators1.sep
ok 4 - Number of emails in t/mailboxes/separators1.sep
ok 5 - Number of emails in t/mailboxes/separators1.sep
ok 6 # skip GNU grep not available
ok
t/stdin_compressed.t ............ 
1..4
Testing filename: t/mailboxes/mailarc-2.txt.bz2
Comparing /tmp/testwrapper.87399/2XcUa9exqP to t/mailboxes/mailarc-2.txt
Output /tmp/testwrapper.87399/2XcUa9exqP looks good.
ok 1 - Computing differences
Testing filename: t/mailboxes/mailarc-2.txt.gz
Comparing /tmp/testwrapper.87399/rLJSzZUW3F to t/mailboxes/mailarc-2.txt
Output /tmp/testwrapper.87399/rLJSzZUW3F looks good.
ok 2 - Computing differences
Testing filename: t/mailboxes/mailarc-2.txt.lz
ok 3 # skip lzip not available
Testing filename: t/mailboxes/mailarc-2.txt.xz
Comparing /tmp/testwrapper.87399/CAt95W4KFv to t/mailboxes/mailarc-2.txt
Output /tmp/testwrapper.87399/CAt95W4KFv looks good.
ok 4 - Computing differences
ok
t/stdin_uncompressed.t .......... 
1..11
Testing filename: t/mailboxes/binary_body.txt
Comparing /tmp/testwrapper.87399/U8q63XJsUy to t/mailboxes/binary_body.txt
Output /tmp/testwrapper.87399/U8q63XJsUy looks good.
ok 1 - Computing differences
Testing filename: t/mailboxes/hessbug.txt
Comparing /tmp/testwrapper.87399/Hb6AeMY62H to t/mailboxes/hessbug.txt
Output /tmp/testwrapper.87399/Hb6AeMY62H looks good.
ok 2 - Computing differences
Testing filename: t/mailboxes/invalid-boundaries.txt
Comparing /tmp/testwrapper.87399/c3UJscX5G3 to t/mailboxes/invalid-boundaries.txt
Output /tmp/testwrapper.87399/c3UJscX5G3 looks good.
ok 3 - Computing differences
Testing filename: t/mailboxes/mailarc-1-dos.txt
Comparing /tmp/testwrapper.87399/weaqqif0t7 to t/mailboxes/mailarc-1-dos.txt
Output /tmp/testwrapper.87399/weaqqif0t7 looks good.
ok 4 - Computing differences
Testing filename: t/mailboxes/mailarc-1.txt
Comparing /tmp/testwrapper.87399/NdtSC5z0Ef to t/mailboxes/mailarc-1.txt
Output /tmp/testwrapper.87399/NdtSC5z0Ef looks good.
ok 5 - Computing differences
Testing filename: t/mailboxes/mailarc-2.txt
Comparing /tmp/testwrapper.87399/CLJSuUhV6M to t/mailboxes/mailarc-2.txt
Output /tmp/testwrapper.87399/CLJSuUhV6M looks good.
ok 6 - Computing differences
Testing filename: t/mailboxes/mailarc-3.txt
Comparing /tmp/testwrapper.87399/0gw7uxrsmX to t/mailboxes/mailarc-3.txt
Output /tmp/testwrapper.87399/0gw7uxrsmX looks good.
ok 7 - Computing differences
Testing filename: t/mailboxes/mailseparators.txt
Comparing /tmp/testwrapper.87399/l3li1NIgsO to t/mailboxes/mailseparators.txt
Output /tmp/testwrapper.87399/l3li1NIgsO looks good.
ok 8 - Computing differences
Testing filename: t/mailboxes/malformed.txt
Comparing /tmp/testwrapper.87399/r6JNnxaq73 to t/mailboxes/malformed.txt
Output /tmp/testwrapper.87399/r6JNnxaq73 looks good.
ok 9 - Computing differences
Testing filename: t/mailboxes/newlines_at_beginning.txt
Comparing /tmp/testwrapper.87399/jR3YcqpgQ2 to t/mailboxes/newlines_at_beginning.txt
Output /tmp/testwrapper.87399/jR3YcqpgQ2 looks good.
ok 10 - Computing differences
Testing filename: t/mailboxes/vm-emacs.txt
Comparing /tmp/testwrapper.87399/b6ZtygwiYY to t/mailboxes/vm-emacs.txt
Output /tmp/testwrapper.87399/b6ZtygwiYY looks good.
ok 11 - Computing differences
ok
t/undef_return_value.t .......... 
1..33
Testing Perl 
Comparing /tmp/testwrapper.87399/86gAO2rwlK to t/mailboxes/binary_body.txt
Output /tmp/testwrapper.87399/86gAO2rwlK looks good.
ok 1 - Computing differences
Testing Cache implementation
Comparing /tmp/testwrapper.87399/0jumT3FP3C to t/mailboxes/binary_body.txt
Output /tmp/testwrapper.87399/0jumT3FP3C looks good.
ok 2 - Computing differences
ok 3 # skip GNU grep not available
Testing Perl 
Comparing /tmp/testwrapper.87399/AjNRWX9Azj to t/mailboxes/hessbug.txt
Output /tmp/testwrapper.87399/AjNRWX9Azj looks good.
ok 4 - Computing differences
Testing Cache implementation
Comparing /tmp/testwrapper.87399/BlqJ42pYFw to t/mailboxes/hessbug.txt
Output /tmp/testwrapper.87399/BlqJ42pYFw looks good.
ok 5 - Computing differences
ok 6 # skip GNU grep not available
Testing Perl 
Comparing /tmp/testwrapper.87399/M8YnvYgFkq to t/mailboxes/invalid-boundaries.txt
Output /tmp/testwrapper.87399/M8YnvYgFkq looks good.
ok 7 - Computing differences
Testing Cache implementation
Comparing /tmp/testwrapper.87399/jwPsxstwgR to t/mailboxes/invalid-boundaries.txt
Output /tmp/testwrapper.87399/jwPsxstwgR looks good.
ok 8 - Computing differences
ok 9 # skip GNU grep not available
Testing Perl 
Comparing /tmp/testwrapper.87399/zzPsP7668b to t/mailboxes/mailarc-1-dos.txt
Output /tmp/testwrapper.87399/zzPsP7668b looks good.
ok 10 - Computing differences
Testing Cache implementation
Comparing /tmp/testwrapper.87399/N_SPoRXAr2 to t/mailboxes/mailarc-1-dos.txt
Output /tmp/testwrapper.87399/N_SPoRXAr2 looks good.
ok 11 - Computing differences
ok 12 # skip GNU grep not available
Testing Perl 
Comparing /tmp/testwrapper.87399/YaT1C_W67Y to t/mailboxes/mailarc-1.txt
Output /tmp/testwrapper.87399/YaT1C_W67Y looks good.
ok 13 - Computing differences
Testing Cache implementation
Comparing /tmp/testwrapper.87399/guPdur0BBt to t/mailboxes/mailarc-1.txt
Output /tmp/testwrapper.87399/guPdur0BBt looks good.
ok 14 - Computing differences
ok 15 # skip GNU grep not available
Testing Perl 
Comparing /tmp/testwrapper.87399/cTeVT3Q3s7 to t/mailboxes/mailarc-2.txt
Output /tmp/testwrapper.87399/cTeVT3Q3s7 looks good.
ok 16 - Computing differences
Testing Cache implementation
Comparing /tmp/testwrapper.87399/7q7jYsOmyR to t/mailboxes/mailarc-2.txt
Output /tmp/testwrapper.87399/7q7jYsOmyR looks good.
ok 17 - Computing differences
ok 18 # skip GNU grep not available
Testing Perl 
Comparing /tmp/testwrapper.87399/3p2PQe2wYO to t/mailboxes/mailarc-3.txt
Output /tmp/testwrapper.87399/3p2PQe2wYO looks good.
ok 19 - Computing differences
Testing Cache implementation
Comparing /tmp/testwrapper.87399/XRCdu71W41 to t/mailboxes/mailarc-3.txt
Output /tmp/testwrapper.87399/XRCdu71W41 looks good.
ok 20 - Computing differences
ok 21 # skip GNU grep not available
Testing Perl 
Comparing /tmp/testwrapper.87399/Y5BdrGnnN3 to t/mailboxes/mailseparators.txt
Output /tmp/testwrapper.87399/Y5BdrGnnN3 looks good.
ok 22 - Computing differences
Testing Cache implementation
Comparing /tmp/testwrapper.87399/GcmxDeKrII to t/mailboxes/mailseparators.txt
Output /tmp/testwrapper.87399/GcmxDeKrII looks good.
ok 23 - Computing differences
ok 24 # skip GNU grep not available
Testing Perl 
Comparing /tmp/testwrapper.87399/yaX60suT9J to t/mailboxes/malformed.txt
Output /tmp/testwrapper.87399/yaX60suT9J looks good.
ok 25 - Computing differences
Testing Cache implementation
Comparing /tmp/testwrapper.87399/ko3XHrwJmb to t/mailboxes/malformed.txt
Output /tmp/testwrapper.87399/ko3XHrwJmb looks good.
ok 26 - Computing differences
ok 27 # skip GNU grep not available
Testing Perl 
Comparing /tmp/testwrapper.87399/LHzQrDpXFJ to t/mailboxes/newlines_at_beginning.txt
Output /tmp/testwrapper.87399/LHzQrDpXFJ looks good.
ok 28 - Computing differences
Testing Cache implementation
Comparing /tmp/testwrapper.87399/mn7_782x07 to t/mailboxes/newlines_at_beginning.txt
Output /tmp/testwrapper.87399/mn7_782x07 looks good.
ok 29 - Computing differences
ok 30 # skip GNU grep not available
Testing Perl 
Comparing /tmp/testwrapper.87399/YINxG8JY0m to t/mailboxes/vm-emacs.txt
Output /tmp/testwrapper.87399/YINxG8JY0m looks good.
ok 31 - Computing differences
Testing Cache implementation
Comparing /tmp/testwrapper.87399/WsSsyLY0Mj to t/mailboxes/vm-emacs.txt
Output /tmp/testwrapper.87399/WsSsyLY0Mj looks good.
ok 32 - Computing differences
ok 33 # skip GNU grep not available
ok
t/xz.t .......................... 
1..1
Running test:
  "/bin/cat" "t/mailboxes/mailarc-2.txt.xz" | "/usr/bin/xz" -cd
Comparing /tmp/testwrapper.87399/swrdsDCuDZ to t/results/mailarc-2.txt
Output /tmp/testwrapper.87399/swrdsDCuDZ looks good.
Comparing /tmp/testwrapper.87399/z2yAAfimlo to t/results/none
Output /tmp/testwrapper.87399/z2yAAfimlo looks good.
ok 1 - Computing differences
ok
All tests successful.
Files=25, Tests=382,  7 wallclock secs ( 0.20 usr  0.05 sys +  4.12 cusr  2.59 csys =  6.97 CPU)
Result: PASS

------------------------------
PREREQUISITES
------------------------------

Prerequisite modules loaded:

requires:

    Module              Need  Have    
    ------------------- ----- --------
    FileHandle::Unget   0     0.1634  
    perl                5.005 5.018004
    Storable            0     3.11    

build_requires:

    Module              Need  Have    
    ------------------- ----- --------
    ExtUtils::MakeMaker 6.36  7.34    
    File::Path          2.08  2.15    
    File::Slurper       0     0.012   
    Test::Compile       0     v1.3.0  
    Test::More          0     1.302136
    Text::Diff          0     1.45    
    UNIVERSAL::require  0     0.18    
    URI::Escape         0     3.31    

configure_requires:

    Module              Need  Have    
    ------------------- ----- --------
    ExtUtils::MakeMaker 6.36  7.34    
    URI::Escape         0     3.31    


------------------------------
ENVIRONMENT AND OTHER CONTEXT
------------------------------

Environment variables:

    AUTOMATED_TESTING = 1
    PATH = /home/njh/perl5/perlbrew/bin:/home/njh/perl5/perlbrew/perls/perl-5.18.4/bin:/home/njh/src/njh/smoker/bin:/sbin:/bin:/usr/sbin:/usr/bin:/usr/local/sbin:/usr/local/bin
    PERL5LIB = /home/njh/.cpan/build/Getargs-Long-1.1012-0/blib/arch:/home/njh/.cpan/build/Getargs-Long-1.1012-0/blib/lib:/home/njh/.cpan/build/Log-Agent-1.003-0/blib/arch:/home/njh/.cpan/build/Log-Agent-1.003-0/blib/lib:/home/njh/.cpan/build/FileHandle-Unget-0.1634-0/blib/arch:/home/njh/.cpan/build/FileHandle-Unget-0.1634-0/blib/lib:/home/njh/.cpan/build/CGI-Cache-1.4213-0/blib/arch:/home/njh/.cpan/build/CGI-Cache-1.4213-0/blib/lib:/home/njh/.cpan/build/Tie-Restore-0.11-0/blib/arch:/home/njh/.cpan/build/Tie-Restore-0.11-0/blib/lib:/home/njh/.cpan/build/Cache-Cache-1.08-0/blib/arch:/home/njh/.cpan/build/Cache-Cache-1.08-0/blib/lib:/home/njh/.cpan/build/Error-0.17026-0/blib/arch:/home/njh/.cpan/build/Error-0.17026-0/blib/lib:/home/njh/.cpan/build/Digest-SHA1-2.13-0/blib/arch:/home/njh/.cpan/build/Digest-SHA1-2.13-0/blib/lib:/home/njh/.cpan/build/Benchmark-Timer-0.7112-0/blib/arch:/home/njh/.cpan/build/Benchmark-Timer-0.7112-0/blib/lib:/home/njh/.cpan/build/XSConfig-6.27-0/blib/arch:/home/njh/.cpan/build/XSConfig-6.27-0/blib/lib:/home/njh/.cpan/build/OSPF-LSDB-1.08-0/blib/arch:/home/njh/.cpan/build/OSPF-LSDB-1.08-0/blib/lib:/home/njh/.cpan/build/Regexp-IPv6-0.03-0/blib/arch:/home/njh/.cpan/build/Regexp-IPv6-0.03-0/blib/lib:/home/njh/.cpan/build/Data-Validate-Struct-0.1-0/blib/arch:/home/njh/.cpan/build/Data-Validate-Struct-0.1-0/blib/lib:/home/njh/.cpan/build/Regexp-Common-2017060201-0/blib/arch:/home/njh/.cpan/build/Regexp-Common-2017060201-0/blib/lib:/home/njh/.cpan/build/Data-Validate-IP-0.27-0/blib/arch:/home/njh/.cpan/build/Data-Validate-IP-0.27-0/blib/lib:/home/njh/.cpan/build/NetAddr-IP-4.079-0/blib/arch:/home/njh/.cpan/build/NetAddr-IP-4.079-0/blib/lib:/home/njh/.cpan/build/Data-Validate-0.09-0/blib/arch:/home/njh/.cpan/build/Data-Validate-0.09-0/blib/lib
    PERL5OPT = 
    PERL5_CPANPLUS_IS_RUNNING = 87410
    PERL5_CPAN_IS_RUNNING = 87410
    PERLBREW_HOME = /home/njh/.perlbrew
    PERLBREW_MANPATH = /home/njh/perl5/perlbrew/perls/perl-5.18.4/man
    PERLBREW_PATH = /home/njh/perl5/perlbrew/bin:/home/njh/perl5/perlbrew/perls/perl-5.18.4/bin
    PERLBREW_PERL = perl-5.18.4
    PERLBREW_ROOT = /home/njh/perl5/perlbrew
    PERLBREW_SHELLRC_VERSION = 0.83
    PERLBREW_VERSION = 0.83
    SHELL = /bin/sh
    TMPDIR = /tmp/testwrapper.87399

Perl special variables (and OS-specific diagnostics, for MSWin32):

    $^X = /usr/home/njh/perl5/perlbrew/perls/perl-5.18.4/bin/perl5.18.4
    $UID/$EUID = 1000 / 1000
    $GID = 1000 1000 0
    $EGID = 1000 1000 0

Perl module toolchain versions installed:

    Module              Have    
    ------------------- --------
    CPAN                2.16    
    CPAN::Meta          2.150010
    Cwd                 3.40    
    ExtUtils::CBuilder  0.280230
    ExtUtils::Command   7.34    
    ExtUtils::Install   2.14    
    ExtUtils::MakeMaker 7.34    
    ExtUtils::Manifest  1.71    
    ExtUtils::ParseXS   3.35    
    File::Spec          3.40    
    JSON                2.97001 
    JSON::PP            2.97001 
    Module::Build       0.4224  
    Module::Signature   n/a     
    Parse::CPAN::Meta   2.150010
    Test::Harness       3.42    
    Test::More          1.302136
    YAML                1.26    
    YAML::Syck          1.30    
    version             0.9924  


--

Summary of my perl5 (revision 5 version 18 subversion 4) configuration:
   
  Platform:
    osname=freebsd, osvers=11.1-release-p4, archname=amd64-freebsd
    uname='freebsd njh3.vultr.com 11.1-release-p4 freebsd 11.1-release-p4 #0: tue nov 14 06:12:40 utc 2017 root@amd64-builder.daemonology.net:usrobjusrsrcsysgeneric amd64 '
    config_args='-de -Dprefix=/home/njh/perl5/perlbrew/perls/perl-5.18.4 -Aeval:scriptdir=/home/njh/perl5/perlbrew/perls/perl-5.18.4/bin'
    hint=recommended, useposix=true, d_sigaction=define
    useithreads=undef, usemultiplicity=undef
    useperlio=define, d_sfio=undef, uselargefiles=define, usesocks=undef
    use64bitint=define, use64bitall=define, uselongdouble=undef
    usemymalloc=n, bincompat5005=undef
  Compiler:
    cc='cc', ccflags ='-DHAS_FPSETMASK -DHAS_FLOATINGPOINT_H -fno-strict-aliasing -pipe -fstack-protector -I/usr/local/include',
    optimize='-O',
    cppflags='-DHAS_FPSETMASK -DHAS_FLOATINGPOINT_H -fno-strict-aliasing -pipe -fstack-protector -I/usr/local/include'
    ccversion='', gccversion='4.2.1 Compatible FreeBSD Clang 4.0.0 (tags/RELEASE_400/final 297347)', gccosandvers=''
    intsize=4, longsize=8, ptrsize=8, doublesize=8, byteorder=12345678
    d_longlong=define, longlongsize=8, d_longdbl=define, longdblsize=16
    ivtype='long', ivsize=8, nvtype='double', nvsize=8, Off_t='off_t', lseeksize=8
    alignbytes=8, prototype=define
  Linker and Libraries:
    ld='cc', ldflags ='-Wl,-E  -fstack-protector -L/usr/local/lib'
    libpth=/usr/lib /usr/local/lib
    libs=-lm -lcrypt -lutil -lc
    perllibs=-lm -lcrypt -lutil -lc
    libc=, so=so, useshrplib=false, libperl=libperl.a
    gnulibc_version=''
  Dynamic Linking:
    dlsrc=dl_dlopen.xs, dlext=so, d_dlsymun=undef, ccdlflags=' '
    cccdlflags='-DPIC -fPIC', lddlflags='-shared  -L/usr/local/lib -fstack-protector'


Characteristics of this binary (from libperl): 
  Compile-time options: HAS_TIMES PERLIO_LAYERS PERL_DONT_CREATE_GVSV
                        PERL_HASH_FUNC_ONE_AT_A_TIME_HARD PERL_MALLOC_WRAP
                        PERL_PRESERVE_IVUV PERL_SAWAMPERSAND USE_64_BIT_ALL
                        USE_64_BIT_INT USE_LARGE_FILES USE_LOCALE
                        USE_LOCALE_COLLATE USE_LOCALE_CTYPE
                        USE_LOCALE_NUMERIC USE_PERLIO USE_PERL_ATOF
  Locally applied patches:
	Devel::PatchPerl 1.48
  Built under freebsd
  Compiled at Jun 14 2018 10:28:24
  %ENV:
    PERL5LIB="/home/njh/.cpan/build/Getargs-Long-1.1012-0/blib/arch:/home/njh/.cpan/build/Getargs-Long-1.1012-0/blib/lib:/home/njh/.cpan/build/Log-Agent-1.003-0/blib/arch:/home/njh/.cpan/build/Log-Agent-1.003-0/blib/lib:/home/njh/.cpan/build/FileHandle-Unget-0.1634-0/blib/arch:/home/njh/.cpan/build/FileHandle-Unget-0.1634-0/blib/lib:/home/njh/.cpan/build/CGI-Cache-1.4213-0/blib/arch:/home/njh/.cpan/build/CGI-Cache-1.4213-0/blib/lib:/home/njh/.cpan/build/Tie-Restore-0.11-0/blib/arch:/home/njh/.cpan/build/Tie-Restore-0.11-0/blib/lib:/home/njh/.cpan/build/Cache-Cache-1.08-0/blib/arch:/home/njh/.cpan/build/Cache-Cache-1.08-0/blib/lib:/home/njh/.cpan/build/Error-0.17026-0/blib/arch:/home/njh/.cpan/build/Error-0.17026-0/blib/lib:/home/njh/.cpan/build/Digest-SHA1-2.13-0/blib/arch:/home/njh/.cpan/build/Digest-SHA1-2.13-0/blib/lib:/home/njh/.cpan/build/Benchmark-Timer-0.7112-0/blib/arch:/home/njh/.cpan/build/Benchmark-Timer-0.7112-0/blib/lib:/home/njh/.cpan/build/XSConfig-6.27-0/blib/arch:/home/njh/.cpan/build/XSConfig-6.27-0/blib/lib:/home/njh/.cpan/build/OSPF-LSDB-1.08-0/blib/arch:/home/njh/.cpan/build/OSPF-LSDB-1.08-0/blib/lib:/home/njh/.cpan/build/Regexp-IPv6-0.03-0/blib/arch:/home/njh/.cpan/build/Regexp-IPv6-0.03-0/blib/lib:/home/njh/.cpan/build/Data-Validate-Struct-0.1-0/blib/arch:/home/njh/.cpan/build/Data-Validate-Struct-0.1-0/blib/lib:/home/njh/.cpan/build/Regexp-Common-2017060201-0/blib/arch:/home/njh/.cpan/build/Regexp-Common-2017060201-0/blib/lib:/home/njh/.cpan/build/Data-Validate-IP-0.27-0/blib/arch:/home/njh/.cpan/build/Data-Validate-IP-0.27-0/blib/lib:/home/njh/.cpan/build/NetAddr-IP-4.079-0/blib/arch:/home/njh/.cpan/build/NetAddr-IP-4.079-0/blib/lib:/home/njh/.cpan/build/Data-Validate-0.09-0/blib/arch:/home/njh/.cpan/build/Data-Validate-0.09-0/blib/lib"
    PERL5OPT=""
    PERL5_CPANPLUS_IS_RUNNING="87410"
    PERL5_CPAN_IS_RUNNING="87410"
    PERLBREW_HOME="/home/njh/.perlbrew"
    PERLBREW_MANPATH="/home/njh/perl5/perlbrew/perls/perl-5.18.4/man"
    PERLBREW_PATH="/home/njh/perl5/perlbrew/bin:/home/njh/perl5/perlbrew/perls/perl-5.18.4/bin"
    PERLBREW_PERL="perl-5.18.4"
    PERLBREW_ROOT="/home/njh/perl5/perlbrew"
    PERLBREW_SHELLRC_VERSION="0.83"
    PERLBREW_VERSION="0.83"
  @INC:
    /home/njh/.cpan/build/Getargs-Long-1.1012-0/blib/arch
    /home/njh/.cpan/build/Getargs-Long-1.1012-0/blib/lib
    /home/njh/.cpan/build/Log-Agent-1.003-0/blib/arch
    /home/njh/.cpan/build/Log-Agent-1.003-0/blib/lib
    /home/njh/.cpan/build/FileHandle-Unget-0.1634-0/blib/arch
    /home/njh/.cpan/build/FileHandle-Unget-0.1634-0/blib/lib
    /home/njh/.cpan/build/CGI-Cache-1.4213-0/blib/arch
    /home/njh/.cpan/build/CGI-Cache-1.4213-0/blib/lib
    /home/njh/.cpan/build/Tie-Restore-0.11-0/blib/arch
    /home/njh/.cpan/build/Tie-Restore-0.11-0/blib/lib
    /home/njh/.cpan/build/Cache-Cache-1.08-0/blib/arch
    /home/njh/.cpan/build/Cache-Cache-1.08-0/blib/lib
    /home/njh/.cpan/build/Error-0.17026-0/blib/arch
    /home/njh/.cpan/build/Error-0.17026-0/blib/lib
    /home/njh/.cpan/build/Digest-SHA1-2.13-0/blib/arch
    /home/njh/.cpan/build/Digest-SHA1-2.13-0/blib/lib
    /home/njh/.cpan/build/Benchmark-Timer-0.7112-0/blib/arch
    /home/njh/.cpan/build/Benchmark-Timer-0.7112-0/blib/lib
    /home/njh/.cpan/build/XSConfig-6.27-0/blib/arch
    /home/njh/.cpan/build/XSConfig-6.27-0/blib/lib
    /home/njh/.cpan/build/OSPF-LSDB-1.08-0/blib/arch
    /home/njh/.cpan/build/OSPF-LSDB-1.08-0/blib/lib
    /home/njh/.cpan/build/Regexp-IPv6-0.03-0/blib/arch
    /home/njh/.cpan/build/Regexp-IPv6-0.03-0/blib/lib
    /home/njh/.cpan/build/Data-Validate-Struct-0.1-0/blib/arch
    /home/njh/.cpan/build/Data-Validate-Struct-0.1-0/blib/lib
    /home/njh/.cpan/build/Regexp-Common-2017060201-0/blib/arch
    /home/njh/.cpan/build/Regexp-Common-2017060201-0/blib/lib
    /home/njh/.cpan/build/Data-Validate-IP-0.27-0/blib/arch
    /home/njh/.cpan/build/Data-Validate-IP-0.27-0/blib/lib
    /home/njh/.cpan/build/NetAddr-IP-4.079-0/blib/arch
    /home/njh/.cpan/build/NetAddr-IP-4.079-0/blib/lib
    /home/njh/.cpan/build/Data-Validate-0.09-0/blib/arch
    /home/njh/.cpan/build/Data-Validate-0.09-0/blib/lib
    /home/njh/perl5/perlbrew/perls/perl-5.18.4/lib/site_perl/5.18.4/amd64-freebsd
    /home/njh/perl5/perlbrew/perls/perl-5.18.4/lib/site_perl/5.18.4
    /home/njh/perl5/perlbrew/perls/perl-5.18.4/lib/5.18.4/amd64-freebsd
    /home/njh/perl5/perlbrew/perls/perl-5.18.4/lib/5.18.4
    .