Fluent-Logger v0.27 Perl 5 v5.31.7 x86_64-linux
- Status
- Pass
- From
- Andreas J. König (ANDK)
- Dist
-
Fluent-Logger v0.27
- Platform
- Perl 5 v5.31.7 x86_64-linux
- Date
- 2019-11-26 21:33:18
- ID
- 5ca81fd2-1094-11ea-8d39-95d95056c7cc
This distribution has been tested as part of the CPAN Testers
project, supporting the Perl programming language. See
http://wiki.cpantesters.org/ for more information or email
questions to cpan-testers-discuss@perl.org
--
Dear FUJIWARA Shunichiro,
This is a computer-generated report for Fluent-Logger-0.27
on perl 5.31.7, created by CPAN-Reporter-1.2018.
Thank you for uploading your work to CPAN. Congratulations!
All tests were successful.
Sections of this report:
* Tester comments
* Program output
* Prerequisites
* Environment and other context
------------------------------
TESTER COMMENTS
------------------------------
Additional comments from tester:
this report is from an automated smoke testing program
and was not reviewed by a human for accuracy
------------------------------
PROGRAM OUTPUT
------------------------------
Output from './Build test':
t/00_compile.t ...................... ok
t/01_new.t .......................... ok
t/02_unix_socket.t .................. ok
t/03_tcp.t .......................... ok
Can't exec "fluentd": No such file or directory at /tmp/loop_over_bdir-1625965-ck3ziW/Fluent-Logger-0.27-0/t/../t/Util.pm line 34.
Use of uninitialized value in pattern match (m//) at /tmp/loop_over_bdir-1625965-ck3ziW/Fluent-Logger-0.27-0/t/../t/Util.pm line 34.
t/04_live.t ......................... skipped: fluentd is not installed.
Can't exec "fluentd": No such file or directory at /tmp/loop_over_bdir-1625965-ck3ziW/Fluent-Logger-0.27-0/t/../t/Util.pm line 34.
Use of uninitialized value in pattern match (m//) at /tmp/loop_over_bdir-1625965-ck3ziW/Fluent-Logger-0.27-0/t/../t/Util.pm line 34.
t/05_prefer_integer.t ............... skipped: fluentd is not installed.
Can't exec "fluentd": No such file or directory at /tmp/loop_over_bdir-1625965-ck3ziW/Fluent-Logger-0.27-0/t/../t/Util.pm line 34.
Use of uninitialized value in pattern match (m//) at /tmp/loop_over_bdir-1625965-ck3ziW/Fluent-Logger-0.27-0/t/../t/Util.pm line 34.
t/06_fork.t ......................... skipped: fluentd is not installed.
Can't exec "fluentd": No such file or directory at /tmp/loop_over_bdir-1625965-ck3ziW/Fluent-Logger-0.27-0/t/../t/Util.pm line 34.
Use of uninitialized value in pattern match (m//) at /tmp/loop_over_bdir-1625965-ck3ziW/Fluent-Logger-0.27-0/t/../t/Util.pm line 34.
t/07_str_bin.t ...................... skipped: fluentd is not installed.
Can't exec "fluentd": No such file or directory at /tmp/loop_over_bdir-1625965-ck3ziW/Fluent-Logger-0.27-0/t/../t/Util.pm line 34.
Use of uninitialized value in pattern match (m//) at /tmp/loop_over_bdir-1625965-ck3ziW/Fluent-Logger-0.27-0/t/../t/Util.pm line 34.
t/08_udp.t .......................... skipped: fluentd is not installed.
2019-11-26T21:33:11+0000 Fluent::Logger[94665190037192](127.0.0.1:36793): Can't connect: Connection refused at t/09_buffer_overflow_handler.t line 16.
2019-11-26T21:33:11+0000 Fluent::Logger[94665190037192](127.0.0.1:36793): Can't connect: Connection refused at t/09_buffer_overflow_handler.t line 19.
2019-11-26T21:33:11+0000 Fluent::Logger[94665190037192](127.0.0.1:36793): Cannot send data: Connection is not available at /tmp/loop_over_bdir-1625965-ck3ziW/Fluent-Logger-0.27-0/blib/lib/Fluent/Logger.pm line 329. at t/09_buffer_overflow_handler.t line 19.
2019-11-26T21:33:11+0000 Fluent::Logger[94665190037192](127.0.0.1:36793): flushing pending data on close at t/09_buffer_overflow_handler.t line 23.
2019-11-26T21:33:11+0000 Fluent::Logger[94665190037192](127.0.0.1:36793): Can't connect: Connection refused at t/09_buffer_overflow_handler.t line 23.
2019-11-26T21:33:11+0000 Fluent::Logger[94665190037192](127.0.0.1:36793): Can't send pending data. LOST 2097194 bytes.: Connection is not available at /tmp/loop_over_bdir-1625965-ck3ziW/Fluent-Logger-0.27-0/blib/lib/Fluent/Logger.pm line 329. at t/09_buffer_overflow_handler.t line 23.
t/09_buffer_overflow_handler.t ...... ok
2019-11-26T21:33:11+0000 Fluent::Logger[93939039185664](127.0.0.1:33539): Can't connect: Connection refused at t/10_truncate_buffet_at_overflow.t line 12.
2019-11-26T21:33:11+0000 Fluent::Logger[93939039185664](127.0.0.1:33539): Can't connect: Connection refused at t/10_truncate_buffet_at_overflow.t line 19.
2019-11-26T21:33:11+0000 Fluent::Logger[93939039185664](127.0.0.1:33539): Cannot send data: Connection is not available at /tmp/loop_over_bdir-1625965-ck3ziW/Fluent-Logger-0.27-0/blib/lib/Fluent/Logger.pm line 329. at t/10_truncate_buffet_at_overflow.t line 19.
2019-11-26T21:33:11+0000 Fluent::Logger[93939039185664](127.0.0.1:33539): Can't connect: Connection refused at t/10_truncate_buffet_at_overflow.t line 23.
2019-11-26T21:33:11+0000 Fluent::Logger[93939039185664](127.0.0.1:33539): Cannot send data: Connection is not available at /tmp/loop_over_bdir-1625965-ck3ziW/Fluent-Logger-0.27-0/blib/lib/Fluent/Logger.pm line 329. at t/10_truncate_buffet_at_overflow.t line 23.
2019-11-26T21:33:11+0000 Fluent::Logger[93939039185664](127.0.0.1:33539): Can't connect: Connection refused at t/10_truncate_buffet_at_overflow.t line 23.
2019-11-26T21:33:11+0000 Fluent::Logger[93939039185664](127.0.0.1:33539): Cannot send data: Connection is not available at /tmp/loop_over_bdir-1625965-ck3ziW/Fluent-Logger-0.27-0/blib/lib/Fluent/Logger.pm line 329. at t/10_truncate_buffet_at_overflow.t line 23.
2019-11-26T21:33:11+0000 Fluent::Logger[93939039185664](127.0.0.1:33539): Can't connect: Connection refused at t/10_truncate_buffet_at_overflow.t line 23.
2019-11-26T21:33:11+0000 Fluent::Logger[93939039185664](127.0.0.1:33539): Cannot send data: Connection is not available at /tmp/loop_over_bdir-1625965-ck3ziW/Fluent-Logger-0.27-0/blib/lib/Fluent/Logger.pm line 329. at t/10_truncate_buffet_at_overflow.t line 23.
2019-11-26T21:33:11+0000 Fluent::Logger[93939039185664](127.0.0.1:33539): Can't connect: Connection refused at t/10_truncate_buffet_at_overflow.t line 23.
2019-11-26T21:33:11+0000 Fluent::Logger[93939039185664](127.0.0.1:33539): Cannot send data: Connection is not available at /tmp/loop_over_bdir-1625965-ck3ziW/Fluent-Logger-0.27-0/blib/lib/Fluent/Logger.pm line 329. at t/10_truncate_buffet_at_overflow.t line 23.
2019-11-26T21:33:11+0000 Fluent::Logger[93939039185664](127.0.0.1:33539): Can't connect: Connection refused at t/10_truncate_buffet_at_overflow.t line 23.
2019-11-26T21:33:11+0000 Fluent::Logger[93939039185664](127.0.0.1:33539): Cannot send data: Connection is not available at /tmp/loop_over_bdir-1625965-ck3ziW/Fluent-Logger-0.27-0/blib/lib/Fluent/Logger.pm line 329. at t/10_truncate_buffet_at_overflow.t line 23.
2019-11-26T21:33:11+0000 Fluent::Logger[93939039185664](127.0.0.1:33539): Can't connect: Connection refused at t/10_truncate_buffet_at_overflow.t line 23.
2019-11-26T21:33:11+0000 Fluent::Logger[93939039185664](127.0.0.1:33539): Cannot send data: Connection is not available at /tmp/loop_over_bdir-1625965-ck3ziW/Fluent-Logger-0.27-0/blib/lib/Fluent/Logger.pm line 329. at t/10_truncate_buffet_at_overflow.t line 23.
2019-11-26T21:33:11+0000 Fluent::Logger[93939039185664](127.0.0.1:33539): Can't connect: Connection refused at t/10_truncate_buffet_at_overflow.t line 23.
2019-11-26T21:33:11+0000 Fluent::Logger[93939039185664](127.0.0.1:33539): Cannot send data: Connection is not available at /tmp/loop_over_bdir-1625965-ck3ziW/Fluent-Logger-0.27-0/blib/lib/Fluent/Logger.pm line 329. at t/10_truncate_buffet_at_overflow.t line 23.
2019-11-26T21:33:11+0000 Fluent::Logger[93939039185664](127.0.0.1:33539): Can't connect: Connection refused at t/10_truncate_buffet_at_overflow.t line 23.
2019-11-26T21:33:11+0000 Fluent::Logger[93939039185664](127.0.0.1:33539): Cannot send data: Connection is not available at /tmp/loop_over_bdir-1625965-ck3ziW/Fluent-Logger-0.27-0/blib/lib/Fluent/Logger.pm line 329. at t/10_truncate_buffet_at_overflow.t line 23.
2019-11-26T21:33:11+0000 Fluent::Logger[93939039185664](127.0.0.1:33539): flushing pending data on close at t/10_truncate_buffet_at_overflow.t line 27.
2019-11-26T21:33:11+0000 Fluent::Logger[93939039185664](127.0.0.1:33539): Can't connect: Connection refused at t/10_truncate_buffet_at_overflow.t line 27.
2019-11-26T21:33:11+0000 Fluent::Logger[93939039185664](127.0.0.1:33539): Can't send pending data. LOST 7340179 bytes.: Connection is not available at /tmp/loop_over_bdir-1625965-ck3ziW/Fluent-Logger-0.27-0/blib/lib/Fluent/Logger.pm line 329. at t/10_truncate_buffet_at_overflow.t line 27.
t/10_truncate_buffet_at_overflow.t .. ok
Can't exec "fluentd": No such file or directory at /tmp/loop_over_bdir-1625965-ck3ziW/Fluent-Logger-0.27-0/t/../t/Util.pm line 34.
Use of uninitialized value in pattern match (m//) at /tmp/loop_over_bdir-1625965-ck3ziW/Fluent-Logger-0.27-0/t/../t/Util.pm line 34.
t/11_retry_immediately.t ............ skipped: fluentd is not installed.
All tests successful.
Files=12, Tests=35, 5 wallclock secs ( 0.04 usr 0.05 sys + 1.25 cusr 0.38 csys = 1.72 CPU)
Result: PASS
------------------------------
PREREQUISITES
------------------------------
Prerequisite modules loaded:
requires:
Module Need Have
------------------------- ------- --------
Class::Tiny 0 1.006
Data::MessagePack 0.35_01 1.00
Data::MessagePack::Stream 0 1.04
Time::Piece 0 1.33
UUID::Tiny 0 1.04
build_requires:
Module Need Have
------------------------- ------- --------
Capture::Tiny 0 0.48
ExtUtils::MakeMaker 6.36 7.38
Path::Class 0 0.37
Test::More 0.88 1.302169
Test::SharedFork 0 0.35
Test::TCP 1.3 2.22
version 0.77 0.9924
configure_requires:
Module Need Have
------------------------- ------- --------
Module::Build::Tiny 0.035 0.039
------------------------------
ENVIRONMENT AND OTHER CONTEXT
------------------------------
Environment variables:
AUTOMATED_TESTING = 1
LANG = en_US.UTF-8
PATH = /home/sand/bin:/usr/local/bin:/usr/bin:/bin:/usr/games:/usr/local/perl/bin:/usr/X11/bin:/sbin:/usr/sbin
PERL5LIB =
PERL5OPT =
PERL5_CPANPLUS_IS_RUNNING = 1126785
PERL5_CPAN_IS_RUNNING = 1126785
PERL_CANARY_STABILITY_NOPROMPT = 1
PERL_MM_USE_DEFAULT = 1
PERL_USE_UNSAFE_INC = 1
SHELL = /usr/bin/zsh
TERM = screen
Perl special variables (and OS-specific diagnostics, for MSWin32):
$^X = /tmp/basesmoker-reloperl-yIqi/bin/perl
$UID/$EUID = 1005 / 1005
$GID = 1005 1005
$EGID = 1005 1005
Perl module toolchain versions installed:
Module Have
------------------- --------
CPAN 2.27
CPAN::Meta 2.150010
Cwd 3.78
ExtUtils::CBuilder 0.280233
ExtUtils::Command 7.38
ExtUtils::Install 2.14
ExtUtils::MakeMaker 7.38
ExtUtils::Manifest 1.72
ExtUtils::ParseXS 3.40
File::Spec 3.78
JSON 4.02
JSON::PP 4.04
Module::Build 0.4229
Module::Signature 0.83
Parse::CPAN::Meta 2.150010
Test::Harness 3.42
Test::More 1.302169
YAML 1.29
YAML::Syck 1.31
version 0.9924
--
Summary of my perl5 (revision 5 version 31 subversion 7) configuration:
Commit id: bfb5975f40d224f172ebe7684953f0f85d7af3c9
Platform:
osname=linux
osvers=5.3.0-2-amd64
archname=x86_64-linux
uname='linux k93msid 5.3.0-2-amd64 #1 smp debian 5.3.9-3 (2019-11-19) x86_64 gnulinux '
config_args='-Dprefix=/home/sand/src/perl/repoperls/installed-perls/host/k93msid/v5.31.6-40-gbfb5975f40/3c10 -Dmyhostname=k93msid -Dinstallusrbinperl=n -Uversiononly -Dusedevel -des -Ui_db -Dlibswanted=cl pthread socket inet nsl gdbm dbm malloc dl ld sun m crypt sec util c cposix posix ucb BSD gdbm_compat -Uuseithreads -Uuselongdouble -DEBUGGING=none'
hint=recommended
useposix=true
d_sigaction=define
useithreads=undef
usemultiplicity=undef
use64bitint=define
use64bitall=define
uselongdouble=undef
usemymalloc=n
default_inc_excludes_dot=define
bincompat5005=undef
Compiler:
cc='cc'
ccflags ='-fwrapv -fno-strict-aliasing -pipe -fstack-protector-strong -I/usr/local/include -D_LARGEFILE_SOURCE -D_FILE_OFFSET_BITS=64 -D_FORTIFY_SOURCE=2'
optimize='-O2'
cppflags='-fwrapv -fno-strict-aliasing -pipe -fstack-protector-strong -I/usr/local/include'
ccversion=''
gccversion='9.2.1 20191109'
gccosandvers=''
intsize=4
longsize=8
ptrsize=8
doublesize=8
byteorder=12345678
doublekind=3
d_longlong=define
longlongsize=8
d_longdbl=define
longdblsize=16
longdblkind=3
ivtype='long'
ivsize=8
nvtype='double'
nvsize=8
Off_t='off_t'
lseeksize=8
alignbytes=8
prototype=define
Linker and Libraries:
ld='cc'
ldflags =' -fstack-protector-strong -L/usr/local/lib'
libpth=/usr/local/lib /usr/lib/gcc/x86_64-linux-gnu/9/include-fixed /usr/include/x86_64-linux-gnu /usr/lib /lib/x86_64-linux-gnu /lib/../lib /usr/lib/x86_64-linux-gnu /usr/lib/../lib /lib
libs=-lpthread -lnsl -ldl -lm -lcrypt -lutil -lc
perllibs=-lpthread -lnsl -ldl -lm -lcrypt -lutil -lc
libc=libc-2.29.so
so=so
useshrplib=false
libperl=libperl.a
gnulibc_version='2.29'
Dynamic Linking:
dlsrc=dl_dlopen.xs
dlext=so
d_dlsymun=undef
ccdlflags='-Wl,-E'
cccdlflags='-fPIC'
lddlflags='-shared -O2 -L/usr/local/lib -fstack-protector-strong'
Characteristics of this binary (from libperl):
Compile-time options:
HAS_TIMES
PERLIO_LAYERS
PERL_COPY_ON_WRITE
PERL_DONT_CREATE_GVSV
PERL_MALLOC_WRAP
PERL_OP_PARENT
PERL_PRESERVE_IVUV
PERL_USE_DEVEL
USE_64_BIT_ALL
USE_64_BIT_INT
USE_LARGE_FILES
USE_LOCALE
USE_LOCALE_COLLATE
USE_LOCALE_CTYPE
USE_LOCALE_NUMERIC
USE_LOCALE_TIME
USE_PERLIO
USE_PERL_ATOF
Built under linux
Compiled at Nov 24 2019 20:05:22
%ENV:
PERL5LIB=""
PERL5OPT=""
PERL5_CPANPLUS_IS_RUNNING="1126785"
PERL5_CPAN_IS_RUNNING="1126785"
PERL_CANARY_STABILITY_NOPROMPT="1"
PERL_MM_USE_DEFAULT="1"
PERL_USE_UNSAFE_INC="1"
@INC:
/home/sand/src/perl/repoperls/installed-perls/host/k93msid/v5.31.6-40-gbfb5975f40/3c10/lib/site_perl/5.31.7/x86_64-linux
/home/sand/src/perl/repoperls/installed-perls/host/k93msid/v5.31.6-40-gbfb5975f40/3c10/lib/site_perl/5.31.7
/home/sand/src/perl/repoperls/installed-perls/host/k93msid/v5.31.6-40-gbfb5975f40/3c10/lib/5.31.7/x86_64-linux
/home/sand/src/perl/repoperls/installed-perls/host/k93msid/v5.31.6-40-gbfb5975f40/3c10/lib/5.31.7
.