Report for Proc-Launcher-0.0.35

Back
From: metabase:user:3198cbe2-2aae-11df-837a-5e0a49663a4f
Subject: PASS Proc-Launcher-0.0.35 v5.14.2 GNU/Linux
Date: 2012-10-22T18:00:27Z

This distribution has been tested as part of the CPAN Testers
project, supporting the Perl programming language.  See
http://wiki.cpantesters.org/ for more information or email
questions to cpan-testers-discuss@perl.org


--
Dear Alex White (wu),

This is a computer-generated report for Proc-Launcher-0.0.35
on perl 5.14.2, created by CPAN-Reporter-1.2006.

Thank you for uploading your work to CPAN.  Congratulations!
All tests were successful.

Sections of this report:

    * Tester comments
    * Program output
    * Prerequisites
    * Environment and other context

------------------------------
TESTER COMMENTS
------------------------------

Additional comments from tester:

this report is from an automated smoke testing program
and was not reviewed by a human for accuracy

------------------------------
PROGRAM OUTPUT
------------------------------

Output from '/usr/bin/make test':

PERL_DL_NONLAZY=1 /home/graham/perls/perl-5.14.2/bin/perl "-MExtUtils::Command::MM" "-e" "test_harness(0, 'blib/lib', 'blib/arch')" t/*.t
# Testing Proc::Launcher 0.0.35
t/00.load.t ....................... ok
# 
# 
# perl: v5.14.2 (wanted any version) on linux from /home/graham/perls/perl-5.14.2/bin/perl
# 
# Carp                                          => 1.26       (want any version)
# English                                       => 1.04       (want any version)
# ExtUtils::MakeMaker                           => 6.6302     (want 6.31)   
# File::Path                                    => 2.08_01    (want any version)
# File::Tail                                    => 0.99.3     (want any version)
# File::Temp                                    => 0.22       (want any version)
# IO::File                                      => 1.15       (want any version)
# Mouse                                         => 1.02       (want any version)
# Mouse::Role                                   => 1.02       (want any version)
# POSIX                                         => 1.24       (want any version)
# Test::More                                    => 0.9803     (want 0.88)   
# 
# Thanks for using my code.  I hope it works for you.
# If not, please try and include this output in the bug report.
# That will help me reproduce the issue and solve you problem.
# 
t/000-report-versions-tiny.t ...... ok
t/10_launcher_sleeper.t ........... ok
t/10_launcher_sleeper_class.t ..... ok
t/15_launcher_cleanexit.t ......... ok
t/15_launcher_errorexit.t ......... ok
t/20_launcher_stubborn.t .......... ok
t/25_launcher_exec.t .............. ok
t/30_restart.t .................... ok
t/40_launcher_class.t ............. ok
t/40_launcher_class_context.t ..... ok
t/50_launch_manager.t ............. ok
t/51_launch_manager_noregister.t .. ok
t/52_launch_tail.t ................ ok
t/60_disable_enable.t ............. ok
t/70_pidfile.t .................... ok
t/80_launcher_locking.t ........... skipped: Author tests not required for installation
t/90_launcher_named_pipe.t ........ ok
t/author-critic.t ................. skipped: these tests are for testing by the author
t/kwalitee.t ...................... skipped: Author tests not required for installation
t/meta.t .......................... ok
t/no_tabs.t ....................... skipped: Author tests not required for installation
t/release-pod-coverage.t .......... skipped: these tests are for release candidate testing
t/release-pod-syntax.t ............ skipped: these tests are for release candidate testing
All tests successful.
Files=24, Tests=99, 108 wallclock secs ( 0.15 usr  0.04 sys +  2.10 cusr  0.35 csys =  2.64 CPU)
Result: PASS

------------------------------
PREREQUISITES
------------------------------

Prerequisite modules loaded:

requires:

    Module              Need Have   
    ------------------- ---- -------
    Carp                0    1.26   
    File::Path          0    2.08_01
    File::Tail          0    0.99.3 
    Mouse               0    1.02   
    Mouse::Role         0    1.02   
    POSIX               0    1.24   

build_requires:

    Module              Need Have   
    ------------------- ---- -------
    English             0    1.04   
    File::Temp          0    0.22   
    IO::File            0    1.15   
    Test::More          0.88 0.98_03

configure_requires:

    Module              Need Have   
    ------------------- ---- -------
    ExtUtils::MakeMaker 6.31 6.63_02


------------------------------
ENVIRONMENT AND OTHER CONTEXT
------------------------------

Environment variables:

    AUTOMATED_TESTING = 1
    LANG = C
    PATH = /home/graham/perls/perl-5.14.2/bin:/usr/local/bin:/usr/bin:/bin:/usr/local/sbin:/usr/sbin:/sbin:/usr/bin/core_perl
    PERL5LIB = 
    PERL5OPT = 
    PERL5_CPANPLUS_IS_RUNNING = 2366
    PERL5_CPAN_IS_RUNNING = 2366
    PERL5_CPAN_IS_RUNNING_IN_RECURSION = 3147,2366
    PERL_CR_SMOKER_CURRENT = Proc-Launcher-0.0.35
    PERL_EXTUTILS_AUTOINSTALL = --defaultdeps
    PERL_MM_USE_DEFAULT = 1
    SHELL = /bin/bash
    TERM = xterm

Perl special variables (and OS-specific diagnostics, for MSWin32):

    $^X = /home/graham/perls/perl-5.14.2/bin/perl
    $UID/$EUID = 1000 / 1000
    $GID = 100 100
    $EGID = 100 100

Perl module toolchain versions installed:

    Module              Have    
    ------------------- --------
    CPAN                1.99_51 
    CPAN::Meta          2.120351
    Cwd                 3.39_01 
    ExtUtils::CBuilder  0.280205
    ExtUtils::Command   1.17    
    ExtUtils::Install   1.56    
    ExtUtils::MakeMaker 6.63_02 
    ExtUtils::Manifest  1.61    
    ExtUtils::ParseXS   3.15    
    File::Spec          3.39_01 
    JSON                2.53    
    JSON::PP            2.27200 
    Module::Build       0.4003  
    Module::Signature   0.68    
    Parse::CPAN::Meta   1.4404  
    Test::Harness       3.25    
    Test::More          0.98_03 
    YAML                0.84    
    YAML::Syck          1.21    
    version             0.9901  


--

Summary of my perl5 (revision 5 version 14 subversion 2) configuration:
   
  Platform:
    osname=linux, osvers=3.5.6-1-arch, archname=x86_64-linux
    uname='linux grosics 3.5.6-1-arch #1 smp preempt sun oct 7 19:30:49 cest 2012 x86_64 gnulinux '
    config_args='-des -Dprefix=/home/graham/perls/perl-5.14.2'
    hint=recommended, useposix=true, d_sigaction=define
    useithreads=undef, usemultiplicity=undef
    useperlio=define, d_sfio=undef, uselargefiles=define, usesocks=undef
    use64bitint=define, use64bitall=define, uselongdouble=undef
    usemymalloc=n, bincompat5005=undef
  Compiler:
    cc='cc', ccflags ='-fno-strict-aliasing -pipe -fstack-protector -I/usr/local/include -D_LARGEFILE_SOURCE -D_FILE_OFFSET_BITS=64',
    optimize='-O2',
    cppflags='-fno-strict-aliasing -pipe -fstack-protector -I/usr/local/include'
    ccversion='', gccversion='4.7.2', gccosandvers=''
    intsize=4, longsize=8, ptrsize=8, doublesize=8, byteorder=12345678
    d_longlong=define, longlongsize=8, d_longdbl=define, longdblsize=16
    ivtype='long', ivsize=8, nvtype='double', nvsize=8, Off_t='off_t', lseeksize=8
    alignbytes=8, prototype=define
  Linker and Libraries:
    ld='cc', ldflags =' -fstack-protector -L/usr/local/lib'
    libpth=/usr/local/lib /lib/../lib /usr/lib/../lib /lib /usr/lib
    libs=-lnsl -lgdbm -ldb -ldl -lm -lcrypt -lutil -lc -lgdbm_compat
    perllibs=-lnsl -ldl -lm -lcrypt -lutil -lc
    libc=/lib/libc-2.16.so, so=so, useshrplib=false, libperl=libperl.a
    gnulibc_version='2.16'
  Dynamic Linking:
    dlsrc=dl_dlopen.xs, dlext=so, d_dlsymun=undef, ccdlflags='-Wl,-E'
    cccdlflags='-fPIC', lddlflags='-shared -O2 -L/usr/local/lib -fstack-protector'


Characteristics of this binary (from libperl): 
  Compile-time options: PERL_DONT_CREATE_GVSV PERL_MALLOC_WRAP
                        PERL_PRESERVE_IVUV USE_64_BIT_ALL USE_64_BIT_INT
                        USE_LARGE_FILES USE_PERLIO USE_PERL_ATOF
  Built under linux
  Compiled at Oct 12 2012 19:57:27
  %ENV:
    PERL5LIB=""
    PERL5OPT=""
    PERL5_CPANPLUS_IS_RUNNING="2366"
    PERL5_CPAN_IS_RUNNING="2366"
    PERL5_CPAN_IS_RUNNING_IN_RECURSION="3147,2366"
    PERL_CR_SMOKER_CURRENT="Proc-Launcher-0.0.35"
    PERL_EXTUTILS_AUTOINSTALL="--defaultdeps"
    PERL_MM_USE_DEFAULT="1"
  @INC:
    /home/graham/perls/perl-5.14.2/lib/site_perl/5.14.2/x86_64-linux
    /home/graham/perls/perl-5.14.2/lib/site_perl/5.14.2
    /home/graham/perls/perl-5.14.2/lib/5.14.2/x86_64-linux
    /home/graham/perls/perl-5.14.2/lib/5.14.2
    .