Back
From: metabase:user:30dda8bc-2aae-11df-837a-5e0a49663a4f
Subject: PASS Shell-Perl-0.0019 v5.10.1 GNU/Linux
Date: 2011-03-10T19:48:24Z
This distribution has been tested as part of the CPAN Testers
project, supporting the Perl programming language. See
http://wiki.cpantesters.org/ for more information or email
questions to cpan-testers-discuss@perl.org
--
Dear Adriano Ferreira,
This is a computer-generated report for Shell-Perl-0.0019
on perl 5.10.1, created by CPAN-Reporter-1.1902.
Thank you for uploading your work to CPAN. Congratulations!
All tests were successful.
Sections of this report:
* Tester comments
* Program output
* Prerequisites
* Environment and other context
------------------------------
TESTER COMMENTS
------------------------------
Additional comments from tester:
this report is from an automated smoke testing program
and was not reviewed by a human for accuracy
------------------------------
PROGRAM OUTPUT
------------------------------
Output from '/usr/bin/make test':
PERL_DL_NONLAZY=1 /net/netfile2/ag-russell/install/Fedora-14-i686/perlbrew/perls/perl-5.10.1/bin/perl "-MExtUtils::Command::MM" "-e" "test_harness(0, 'blib/lib', 'blib/arch')" t/*.t
# Testing Shell::Perl 0.0019, Perl 5.010001, /net/netfile2/ag-russell/install/Fedora-14-i686/perlbrew/perls/perl-5.10.1/bin/perl
t/01use.t ........... ok
t/02basic.t ......... ok
t/10compile.t ....... ok
t/11version.t ....... ok
t/20expect_quit.t ... skipped: Test::Expect required for testing
t/50isolated.t ...... ok
t/90pod.t ........... skipped: Test::Pod 1.18 required for testing POD
t/98pod-coverage.t .. skipped: Test::Pod::Coverage 1.04 required for testing POD coverage
All tests successful.
Files=8, Tests=16, 1 wallclock secs ( 0.05 usr 0.02 sys + 0.52 cusr 0.16 csys = 0.75 CPU)
Result: PASS
------------------------------
PREREQUISITES
------------------------------
Prerequisite modules loaded:
requires:
Module Need Have
------------------- ---- -------
Class::Accessor 0 0.34
File::Basename 0 2.77
File::HomeDir 0 0.97
File::Slurp 0 9999.13
Getopt::Long 0 2.38
IPC::Cmd 0 0.46
Path::Class 0 0.23
Term::ReadLine 0 1.04
Test::Deep 0 0.108
Test::More 0 0.98
configure_requires:
Module Need Have
------------------- ---- -------
ExtUtils::MakeMaker 0 6.55_02
------------------------------
ENVIRONMENT AND OTHER CONTEXT
------------------------------
Environment variables:
AUTOMATED_TESTING = 1
LANG = en_US.utf8
LD_LIBRARY_PATH = :/net/netfile2/ag-russell/install/Fedora-14-i686/lib:/net/netfile2/ag-russell/install/Fedora-14-i686/lib64:/usr/lib/mysql
PATH = /usr/java/jdk1.6.0_24/bin:/net/netfile2/ag-russell/perl/Fedora-14-i686/perl-5.10.1/bin:/net/netfile2/ag-russell/install/Fedora-14-i686/perlbrew/bin:/net/netfile2/ag-russell/install/Fedora-14-i686/perlbrew/perls/perl-5.10.1/bin:/home/bq_cdavis/scripts:/home/bq_cdavis/usr/bin:/bin:/sbin:/usr/bin:/usr/sbin:/usr/local/bin:/net/netfile2/ag-russell/admin:/net/netfile2/ag-russell/admin/data:/net/netfile2/ag-russell/install/Fedora-14-i686/bin:/net/netfile2/ag-russell/code/misc/bin:/net/netfile2/ag-russell/lbin
PATH_WITHOUT_PERLBREW = /home/bq_cdavis/scripts:/home/bq_cdavis/usr/bin:/bin:/sbin:/usr/bin:/usr/sbin:/usr/local/bin:/net/netfile2/ag-russell/admin:/net/netfile2/ag-russell/admin/data:/net/netfile2/ag-russell/install/Fedora-14-i686/bin
PERL5LIB = /tmp/cpan/Fedora-14-i686/perl-5.10.1/build/File-Slurp-9999.13-u8ZflG/blib/arch:/tmp/cpan/Fedora-14-i686/perl-5.10.1/build/File-Slurp-9999.13-u8ZflG/blib/lib:/tmp/cpan/Fedora-14-i686/perl-5.10.1/build/Class-Accessor-0.34-Myiuwd/blib/arch:/tmp/cpan/Fedora-14-i686/perl-5.10.1/build/Class-Accessor-0.34-Myiuwd/blib/lib:/tmp/cpan/Fedora-14-i686/perl-5.10.1/build/Path-Class-0.23-cLV0eu/blib/arch:/tmp/cpan/Fedora-14-i686/perl-5.10.1/build/Path-Class-0.23-cLV0eu/blib/lib:/tmp/cpan/Fedora-14-i686/perl-5.10.1/build/Test-Deep-0.108-VC3Mew/blib/arch:/tmp/cpan/Fedora-14-i686/perl-5.10.1/build/Test-Deep-0.108-VC3Mew/blib/lib:/net/netfile2/ag-russell/perl/Fedora-14-i686/perl-5.10.1/lib/perl5/i686-linux-thread-multi:/net/netfile2/ag-russell/perl/Fedora-14-i686/perl-5.10.1/lib/perl5::/net/netfile2/ag-russell/install/Fedora-14-i686/lib/perl5:/net/netfile2/ag-russell/code/misc/lib
PERL5OPT =
PERL5_CPANPLUS_IS_RUNNING = 29142
PERL5_CPAN_IS_RUNNING = 29142
PERL5_CPAN_IS_RUNNING_IN_RECURSION = 17062,29142
PERLBREW_PATH = /net/netfile2/ag-russell/install/Fedora-14-i686/perlbrew/bin:/net/netfile2/ag-russell/install/Fedora-14-i686/perlbrew/perls/perl-5.10.1/bin
PERLBREW_PERL = perl-5.10.1
PERLBREW_ROOT = /net/netfile2/ag-russell/install/Fedora-14-i686/perlbrew
PERLBREW_VERSION = 0.17
PERL_CR_SMOKER_CURRENT = Shell-Perl-0.0019
PERL_EXTUTILS_AUTOINSTALL = --defaultdeps
PERL_LOCAL_LIB_ROOT = /net/netfile2/ag-russell/perl/Fedora-14-i686/perl-5.10.1
PERL_MB_OPT = --install_base /net/netfile2/ag-russell/perl/Fedora-14-i686/perl-5.10.1
PERL_MM_OPT = INSTALL_BASE=/net/netfile2/ag-russell/perl/Fedora-14-i686/perl-5.10.1
PERL_MM_USE_DEFAULT = 1
SHELL = /bin/bash
TERM = screen
Perl special variables (and OS-specific diagnostics, for MSWin32):
$^X = /net/netfile2/ag-russell/install/Fedora-14-i686/perlbrew/perls/perl-5.10.1/bin/perl
$UID/$EUID = 2699 / 2699
$GID = 2048 2048 10000 10003 10004 10099
$EGID = 2048 2048 10000 10003 10004 10099
Perl module toolchain versions installed:
Module Have
------------------- --------
CPAN 1.9402
Cwd 3.30
ExtUtils::CBuilder 0.280202
ExtUtils::Command 1.16
ExtUtils::Install 1.54
ExtUtils::MakeMaker 6.55_02
ExtUtils::Manifest 1.56
ExtUtils::ParseXS 2.2206
File::Spec 3.30
Module::Build 0.3800
Module::Signature n/a
Test::Harness 3.17
Test::More 0.98
YAML 0.72
YAML::Syck n/a
version 0.88
--
Summary of my perl5 (revision 5 version 10 subversion 1) configuration:
Platform:
osname=linux, osvers=2.6.35.11-83.fc14.i686.pae, archname=i686-linux-thread-multi
uname='linux bq-pc-rr05 2.6.35.11-83.fc14.i686.pae #1 smp mon feb 7 06:57:55 utc 2011 i686 i686 i386 gnulinux '
config_args='-de -Dprefix=/net/netfile2/ag-russell/install/Fedora-14-i686/perlbrew/perls/perl-5.10.1 -Dusethreads'
hint=recommended, useposix=true, d_sigaction=define
useithreads=define, usemultiplicity=define
useperlio=define, d_sfio=undef, uselargefiles=define, usesocks=undef
use64bitint=undef, use64bitall=undef, uselongdouble=undef
usemymalloc=n, bincompat5005=undef
Compiler:
cc='cc', ccflags ='-D_REENTRANT -D_GNU_SOURCE -fno-strict-aliasing -pipe -fstack-protector -I/usr/local/include -D_LARGEFILE_SOURCE -D_FILE_OFFSET_BITS=64',
optimize='-O2',
cppflags='-D_REENTRANT -D_GNU_SOURCE -fno-strict-aliasing -pipe -fstack-protector -I/usr/local/include'
ccversion='', gccversion='4.5.1 20100924 (Red Hat 4.5.1-4)', gccosandvers=''
intsize=4, longsize=4, ptrsize=4, doublesize=8, byteorder=1234
d_longlong=define, longlongsize=8, d_longdbl=define, longdblsize=12
ivtype='long', ivsize=4, nvtype='double', nvsize=8, Off_t='off_t', lseeksize=8
alignbytes=4, prototype=define
Linker and Libraries:
ld='cc', ldflags =' -fstack-protector -L/usr/local/lib'
libpth=/usr/local/lib /lib /usr/lib
libs=-lnsl -ldl -lm -lcrypt -lutil -lpthread -lc
perllibs=-lnsl -ldl -lm -lcrypt -lutil -lpthread -lc
libc=/lib/libc-2.13.so, so=so, useshrplib=false, libperl=libperl.a
gnulibc_version='2.13'
Dynamic Linking:
dlsrc=dl_dlopen.xs, dlext=so, d_dlsymun=undef, ccdlflags='-Wl,-E'
cccdlflags='-fPIC', lddlflags='-shared -O2 -L/usr/local/lib -fstack-protector'
Characteristics of this binary (from libperl):
Compile-time options: MULTIPLICITY PERL_DONT_CREATE_GVSV
PERL_IMPLICIT_CONTEXT PERL_MALLOC_WRAP USE_ITHREADS
USE_LARGE_FILES USE_PERLIO USE_REENTRANT_API
Built under linux
Compiled at Mar 10 2011 18:24:59
%ENV:
PERL5LIB="/tmp/cpan/Fedora-14-i686/perl-5.10.1/build/File-Slurp-9999.13-u8ZflG/blib/arch:/tmp/cpan/Fedora-14-i686/perl-5.10.1/build/File-Slurp-9999.13-u8ZflG/blib/lib:/tmp/cpan/Fedora-14-i686/perl-5.10.1/build/Class-Accessor-0.34-Myiuwd/blib/arch:/tmp/cpan/Fedora-14-i686/perl-5.10.1/build/Class-Accessor-0.34-Myiuwd/blib/lib:/tmp/cpan/Fedora-14-i686/perl-5.10.1/build/Path-Class-0.23-cLV0eu/blib/arch:/tmp/cpan/Fedora-14-i686/perl-5.10.1/build/Path-Class-0.23-cLV0eu/blib/lib:/tmp/cpan/Fedora-14-i686/perl-5.10.1/build/Test-Deep-0.108-VC3Mew/blib/arch:/tmp/cpan/Fedora-14-i686/perl-5.10.1/build/Test-Deep-0.108-VC3Mew/blib/lib:/net/netfile2/ag-russell/perl/Fedora-14-i686/perl-5.10.1/lib/perl5/i686-linux-thread-multi:/net/netfile2/ag-russell/perl/Fedora-14-i686/perl-5.10.1/lib/perl5::/net/netfile2/ag-russell/install/Fedora-14-i686/lib/perl5:/net/netfile2/ag-russell/code/misc/lib"
PERL5OPT=""
PERL5_CPANPLUS_IS_RUNNING="29142"
PERL5_CPAN_IS_RUNNING="29142"
PERL5_CPAN_IS_RUNNING_IN_RECURSION="17062,29142"
PERLBREW_PATH="/net/netfile2/ag-russell/install/Fedora-14-i686/perlbrew/bin:/net/netfile2/ag-russell/install/Fedora-14-i686/perlbrew/perls/perl-5.10.1/bin"
PERLBREW_PERL="perl-5.10.1"
PERLBREW_ROOT="/net/netfile2/ag-russell/install/Fedora-14-i686/perlbrew"
PERLBREW_VERSION="0.17"
PERL_CR_SMOKER_CURRENT="Shell-Perl-0.0019"
PERL_EXTUTILS_AUTOINSTALL="--defaultdeps"
PERL_LOCAL_LIB_ROOT="/net/netfile2/ag-russell/perl/Fedora-14-i686/perl-5.10.1"
PERL_MB_OPT="--install_base /net/netfile2/ag-russell/perl/Fedora-14-i686/perl-5.10.1"
PERL_MM_OPT="INSTALL_BASE=/net/netfile2/ag-russell/perl/Fedora-14-i686/perl-5.10.1"
PERL_MM_USE_DEFAULT="1"
@INC:
/tmp/cpan/Fedora-14-i686/perl-5.10.1/build/File-Slurp-9999.13-u8ZflG/blib/arch
/tmp/cpan/Fedora-14-i686/perl-5.10.1/build/File-Slurp-9999.13-u8ZflG/blib/lib
/tmp/cpan/Fedora-14-i686/perl-5.10.1/build/Class-Accessor-0.34-Myiuwd/blib/arch
/tmp/cpan/Fedora-14-i686/perl-5.10.1/build/Class-Accessor-0.34-Myiuwd/blib/lib
/tmp/cpan/Fedora-14-i686/perl-5.10.1/build/Path-Class-0.23-cLV0eu/blib/arch
/tmp/cpan/Fedora-14-i686/perl-5.10.1/build/Path-Class-0.23-cLV0eu/blib/lib
/tmp/cpan/Fedora-14-i686/perl-5.10.1/build/Test-Deep-0.108-VC3Mew/blib/arch
/tmp/cpan/Fedora-14-i686/perl-5.10.1/build/Test-Deep-0.108-VC3Mew/blib/lib
/net/netfile2/ag-russell/perl/Fedora-14-i686/perl-5.10.1/lib/perl5/i686-linux-thread-multi
/net/netfile2/ag-russell/perl/Fedora-14-i686/perl-5.10.1/lib/perl5/i686-linux-thread-multi
/net/netfile2/ag-russell/perl/Fedora-14-i686/perl-5.10.1/lib/perl5
/net/netfile2/ag-russell/install/Fedora-14-i686/lib/perl5
/net/netfile2/ag-russell/code/misc/lib
/net/netfile2/ag-russell/install/Fedora-14-i686/perlbrew/perls/perl-5.10.1/lib/5.10.1/i686-linux-thread-multi
/net/netfile2/ag-russell/install/Fedora-14-i686/perlbrew/perls/perl-5.10.1/lib/5.10.1
/net/netfile2/ag-russell/install/Fedora-14-i686/perlbrew/perls/perl-5.10.1/lib/site_perl/5.10.1/i686-linux-thread-multi
/net/netfile2/ag-russell/install/Fedora-14-i686/perlbrew/perls/perl-5.10.1/lib/site_perl/5.10.1
.