HTML-Parser v3.82 Perl 5 v5.22.4 darwin-2level

Status
Pass
From
Stanislaw Pusep
Dist
HTML-Parser v3.82
Platform
Perl 5 v5.22.4 darwin-2level
Date
2024-03-15 20:41:12
ID
5c40d2c4-e30c-11ee-9864-3e63b1d8d51e
This distribution has been tested as part of the CPAN Testers
project, supporting the Perl programming language.  See
http://wiki.cpantesters.org/ for more information or email
questions to cpan-testers-discuss@perl.org


--
Dear OALDERS,

This is a computer-generated report for HTML-Parser-3.82
on perl 5.22.4, created by App::cpanminus::reporter 0.21 (1.7044).

Thank you for uploading your work to CPAN.  Congratulations!
All tests were successful.

Sections of this report:

    * Tester comments
    * Program output
    * Prerequisites
    * Environment and other context

------------------------------
TESTER COMMENTS
------------------------------

Additional comments from tester:

none provided

------------------------------
PROGRAM OUTPUT
------------------------------

Output from '':

Building and testing HTML-Parser-3.82
cp lib/HTML/TokeParser.pm blib/lib/HTML/TokeParser.pm
cp lib/HTML/HeadParser.pm blib/lib/HTML/HeadParser.pm
cp lib/HTML/Parser.pm blib/lib/HTML/Parser.pm
cp lib/HTML/Entities.pm blib/lib/HTML/Entities.pm
cp lib/HTML/Filter.pm blib/lib/HTML/Filter.pm
cp lib/HTML/PullParser.pm blib/lib/HTML/PullParser.pm
cp lib/HTML/LinkExtor.pm blib/lib/HTML/LinkExtor.pm
Running Mkbootstrap for Parser ()
chmod 644 "Parser.bs"
"/Users/stan/perl5/perlbrew/perls/perl-5.22.4/bin/perl" -MExtUtils::Command::MM -e 'cp_nonempty' -- Parser.bs blib/arch/auto/HTML/Parser/Parser.bs 644
"/Users/stan/perl5/perlbrew/perls/perl-5.22.4/bin/perl" "/Users/stan/perl5/perlbrew/perls/perl-5.22.4/lib/site_perl/5.22.4/ExtUtils/xsubpp"  -typemap '/Users/stan/perl5/perlbrew/perls/perl-5.22.4/lib/5.22.4/ExtUtils/typemap' -typemap '/Users/stan/.cpanm/work/1710535261.93954/HTML-Parser-3.82/typemap'  Parser.xs > Parser.xsc
mv Parser.xsc Parser.c
cc -c   -fno-common -DPERL_DARWIN -mmacosx-version-min=12.2 -fno-strict-aliasing -pipe -fstack-protector-strong -I/usr/local/include -DPERL_USE_SAFE_PUTENV -Wno-error=implicit-function-declaration -O3   -DVERSION=\"3.82\" -DXS_VERSION=\"3.82\"  "-I/Users/stan/perl5/perlbrew/perls/perl-5.22.4/lib/5.22.4/darwin-2level/CORE"  -DMARKED_SECTION Parser.c
In file included from Parser.xs:11:
In file included from /Users/stan/perl5/perlbrew/perls/perl-5.22.4/lib/5.22.4/darwin-2level/CORE/perl.h:3740:
In file included from /Users/stan/perl5/perlbrew/perls/perl-5.22.4/lib/5.22.4/darwin-2level/CORE/hv.h:629:
/Users/stan/perl5/perlbrew/perls/perl-5.22.4/lib/5.22.4/darwin-2level/CORE/hv_func.h:405:7: warning: '(' and '{' tokens introducing statement expression appear in different macro expansion contexts [-Wcompound-token-split-by-macro]
      MURMUR_DOBYTES((int)i, h1, carry, bytes_in_carry, ptr, len);
      ^~~~~~~~~~~~~~~~~~~~~~~~~~~~~~~~~~~~~~~~~~~~~~~~~~~~~~~~~~~
/Users/stan/perl5/perlbrew/perls/perl-5.22.4/lib/5.22.4/darwin-2level/CORE/hv_func.h:360:49: note: expanded from macro 'MURMUR_DOBYTES'
#define MURMUR_DOBYTES(cnt, h1, c, n, ptr, len) STMT_START { \
                                                ^~~~~~~~~~
/Users/stan/perl5/perlbrew/perls/perl-5.22.4/lib/5.22.4/darwin-2level/CORE/perl.h:534:29: note: expanded from macro 'STMT_START'
#   define STMT_START   (void)( /* gcc supports "({ STATEMENTS; })" */
                              ^
/Users/stan/perl5/perlbrew/perls/perl-5.22.4/lib/5.22.4/darwin-2level/CORE/hv_func.h:405:7: note: '{' token is here
      MURMUR_DOBYTES((int)i, h1, carry, bytes_in_carry, ptr, len);
      ^~~~~~~~~~~~~~~~~~~~~~~~~~~~~~~~~~~~~~~~~~~~~~~~~~~~~~~~~~~
/Users/stan/perl5/perlbrew/perls/perl-5.22.4/lib/5.22.4/darwin-2level/CORE/hv_func.h:360:60: note: expanded from macro 'MURMUR_DOBYTES'
#define MURMUR_DOBYTES(cnt, h1, c, n, ptr, len) STMT_START { \
                                                           ^
/Users/stan/perl5/perlbrew/perls/perl-5.22.4/lib/5.22.4/darwin-2level/CORE/hv_func.h:405:7: warning: '(' and '{' tokens introducing statement expression appear in different macro expansion contexts [-Wcompound-token-split-by-macro]
      MURMUR_DOBYTES((int)i, h1, carry, bytes_in_carry, ptr, len);
      ^~~~~~~~~~~~~~~~~~~~~~~~~~~~~~~~~~~~~~~~~~~~~~~~~~~~~~~~~~~
/Users/stan/perl5/perlbrew/perls/perl-5.22.4/lib/5.22.4/darwin-2level/CORE/hv_func.h:366:13: note: expanded from macro 'MURMUR_DOBYTES'
            MURMUR_DOBLOCK(h1, c); \
            ^~~~~~~~~~~~~~~~~~~~~
/Users/stan/perl5/perlbrew/perls/perl-5.22.4/lib/5.22.4/darwin-2level/CORE/hv_func.h:347:32: note: expanded from macro 'MURMUR_DOBLOCK'
#define MURMUR_DOBLOCK(h1, k1) STMT_START { \
                               ^~~~~~~~~~
/Users/stan/perl5/perlbrew/perls/perl-5.22.4/lib/5.22.4/darwin-2level/CORE/perl.h:534:29: note: expanded from macro 'STMT_START'
#   define STMT_START   (void)( /* gcc supports "({ STATEMENTS; })" */
                              ^
/Users/stan/perl5/perlbrew/perls/perl-5.22.4/lib/5.22.4/darwin-2level/CORE/hv_func.h:405:7: note: '{' token is here
      MURMUR_DOBYTES((int)i, h1, carry, bytes_in_carry, ptr, len);
      ^~~~~~~~~~~~~~~~~~~~~~~~~~~~~~~~~~~~~~~~~~~~~~~~~~~~~~~~~~~
/Users/stan/perl5/perlbrew/perls/perl-5.22.4/lib/5.22.4/darwin-2level/CORE/hv_func.h:366:13: note: expanded from macro 'MURMUR_DOBYTES'
            MURMUR_DOBLOCK(h1, c); \
            ^~~~~~~~~~~~~~~~~~~~~
/Users/stan/perl5/perlbrew/perls/perl-5.22.4/lib/5.22.4/darwin-2level/CORE/hv_func.h:347:43: note: expanded from macro 'MURMUR_DOBLOCK'
#define MURMUR_DOBLOCK(h1, k1) STMT_START { \
                                          ^
/Users/stan/perl5/perlbrew/perls/perl-5.22.4/lib/5.22.4/darwin-2level/CORE/hv_func.h:405:7: warning: '}' and ')' tokens terminating statement expression appear in different macro expansion contexts [-Wcompound-token-split-by-macro]
      MURMUR_DOBYTES((int)i, h1, carry, bytes_in_carry, ptr, len);
      ^~~~~~~~~~~~~~~~~~~~~~~~~~~~~~~~~~~~~~~~~~~~~~~~~~~~~~~~~~~
/Users/stan/perl5/perlbrew/perls/perl-5.22.4/lib/5.22.4/darwin-2level/CORE/hv_func.h:366:13: note: expanded from macro 'MURMUR_DOBYTES'
            MURMUR_DOBLOCK(h1, c); \
            ^~~~~~~~~~~~~~~~~~~~~
/Users/stan/perl5/perlbrew/perls/perl-5.22.4/lib/5.22.4/darwin-2level/CORE/hv_func.h:354:30: note: expanded from macro 'MURMUR_DOBLOCK'
    h1 = h1 * 5 + MURMUR_C3; \
                             ^
/Users/stan/perl5/perlbrew/perls/perl-5.22.4/lib/5.22.4/darwin-2level/CORE/hv_func.h:405:7: note: ')' token is here
      MURMUR_DOBYTES((int)i, h1, carry, bytes_in_carry, ptr, len);
      ^~~~~~~~~~~~~~~~~~~~~~~~~~~~~~~~~~~~~~~~~~~~~~~~~~~~~~~~~~~
/Users/stan/perl5/perlbrew/perls/perl-5.22.4/lib/5.22.4/darwin-2level/CORE/hv_func.h:366:13: note: expanded from macro 'MURMUR_DOBYTES'
            MURMUR_DOBLOCK(h1, c); \
            ^~~~~~~~~~~~~~~~~~~~~
/Users/stan/perl5/perlbrew/perls/perl-5.22.4/lib/5.22.4/darwin-2level/CORE/hv_func.h:355:3: note: expanded from macro 'MURMUR_DOBLOCK'
} STMT_END
  ^~~~~~~~
/Users/stan/perl5/perlbrew/perls/perl-5.22.4/lib/5.22.4/darwin-2level/CORE/perl.h:535:21: note: expanded from macro 'STMT_END'
#   define STMT_END     )
                        ^
In file included from Parser.xs:11:
In file included from /Users/stan/perl5/perlbrew/perls/perl-5.22.4/lib/5.22.4/darwin-2level/CORE/perl.h:3740:
In file included from /Users/stan/perl5/perlbrew/perls/perl-5.22.4/lib/5.22.4/darwin-2level/CORE/hv.h:629:
/Users/stan/perl5/perlbrew/perls/perl-5.22.4/lib/5.22.4/darwin-2level/CORE/hv_func.h:405:7: warning: '}' and ')' tokens terminating statement expression appear in different macro expansion contexts [-Wcompound-token-split-by-macro]
      MURMUR_DOBYTES((int)i, h1, carry, bytes_in_carry, ptr, len);
      ^~~~~~~~~~~~~~~~~~~~~~~~~~~~~~~~~~~~~~~~~~~~~~~~~~~~~~~~~~~
/Users/stan/perl5/perlbrew/perls/perl-5.22.4/lib/5.22.4/darwin-2level/CORE/hv_func.h:369:7: note: expanded from macro 'MURMUR_DOBYTES'
    } \
      ^
/Users/stan/perl5/perlbrew/perls/perl-5.22.4/lib/5.22.4/darwin-2level/CORE/hv_func.h:405:7: note: ')' token is here
      MURMUR_DOBYTES((int)i, h1, carry, bytes_in_carry, ptr, len);
      ^~~~~~~~~~~~~~~~~~~~~~~~~~~~~~~~~~~~~~~~~~~~~~~~~~~~~~~~~~~
/Users/stan/perl5/perlbrew/perls/perl-5.22.4/lib/5.22.4/darwin-2level/CORE/hv_func.h:370:3: note: expanded from macro 'MURMUR_DOBYTES'
} STMT_END
  ^~~~~~~~
/Users/stan/perl5/perlbrew/perls/perl-5.22.4/lib/5.22.4/darwin-2level/CORE/perl.h:535:21: note: expanded from macro 'STMT_END'
#   define STMT_END     )
                        ^
In file included from Parser.xs:11:
In file included from /Users/stan/perl5/perlbrew/perls/perl-5.22.4/lib/5.22.4/darwin-2level/CORE/perl.h:3740:
In file included from /Users/stan/perl5/perlbrew/perls/perl-5.22.4/lib/5.22.4/darwin-2level/CORE/hv.h:629:
/Users/stan/perl5/perlbrew/perls/perl-5.22.4/lib/5.22.4/darwin-2level/CORE/hv_func.h:414:13: warning: '(' and '{' tokens introducing statement expression appear in different macro expansion contexts [-Wcompound-token-split-by-macro]
            MURMUR_DOBLOCK(h1, k1);
            ^~~~~~~~~~~~~~~~~~~~~~
/Users/stan/perl5/perlbrew/perls/perl-5.22.4/lib/5.22.4/darwin-2level/CORE/hv_func.h:347:32: note: expanded from macro 'MURMUR_DOBLOCK'
#define MURMUR_DOBLOCK(h1, k1) STMT_START { \
                               ^~~~~~~~~~
/Users/stan/perl5/perlbrew/perls/perl-5.22.4/lib/5.22.4/darwin-2level/CORE/perl.h:534:29: note: expanded from macro 'STMT_START'
#   define STMT_START   (void)( /* gcc supports "({ STATEMENTS; })" */
                              ^
/Users/stan/perl5/perlbrew/perls/perl-5.22.4/lib/5.22.4/darwin-2level/CORE/hv_func.h:414:13: note: '{' token is here
            MURMUR_DOBLOCK(h1, k1);
            ^~~~~~~~~~~~~~~~~~~~~~
/Users/stan/perl5/perlbrew/perls/perl-5.22.4/lib/5.22.4/darwin-2level/CORE/hv_func.h:347:43: note: expanded from macro 'MURMUR_DOBLOCK'
#define MURMUR_DOBLOCK(h1, k1) STMT_START { \
                                          ^
/Users/stan/perl5/perlbrew/perls/perl-5.22.4/lib/5.22.4/darwin-2level/CORE/hv_func.h:414:13: warning: '}' and ')' tokens terminating statement expression appear in different macro expansion contexts [-Wcompound-token-split-by-macro]
            MURMUR_DOBLOCK(h1, k1);
            ^~~~~~~~~~~~~~~~~~~~~~
/Users/stan/perl5/perlbrew/perls/perl-5.22.4/lib/5.22.4/darwin-2level/CORE/hv_func.h:354:30: note: expanded from macro 'MURMUR_DOBLOCK'
    h1 = h1 * 5 + MURMUR_C3; \
                             ^
/Users/stan/perl5/perlbrew/perls/perl-5.22.4/lib/5.22.4/darwin-2level/CORE/hv_func.h:414:13: note: ')' token is here
            MURMUR_DOBLOCK(h1, k1);
            ^~~~~~~~~~~~~~~~~~~~~~
/Users/stan/perl5/perlbrew/perls/perl-5.22.4/lib/5.22.4/darwin-2level/CORE/hv_func.h:355:3: note: expanded from macro 'MURMUR_DOBLOCK'
} STMT_END
  ^~~~~~~~
/Users/stan/perl5/perlbrew/perls/perl-5.22.4/lib/5.22.4/darwin-2level/CORE/perl.h:535:21: note: expanded from macro 'STMT_END'
#   define STMT_END     )
                        ^
In file included from Parser.xs:11:
In file included from /Users/stan/perl5/perlbrew/perls/perl-5.22.4/lib/5.22.4/darwin-2level/CORE/perl.h:3740:
In file included from /Users/stan/perl5/perlbrew/perls/perl-5.22.4/lib/5.22.4/darwin-2level/CORE/hv.h:629:
/Users/stan/perl5/perlbrew/perls/perl-5.22.4/lib/5.22.4/darwin-2level/CORE/hv_func.h:422:13: warning: '(' and '{' tokens introducing statement expression appear in different macro expansion contexts [-Wcompound-token-split-by-macro]
            MURMUR_DOBLOCK(h1, k1);
            ^~~~~~~~~~~~~~~~~~~~~~
/Users/stan/perl5/perlbrew/perls/perl-5.22.4/lib/5.22.4/darwin-2level/CORE/hv_func.h:347:32: note: expanded from macro 'MURMUR_DOBLOCK'
#define MURMUR_DOBLOCK(h1, k1) STMT_START { \
                               ^~~~~~~~~~
/Users/stan/perl5/perlbrew/perls/perl-5.22.4/lib/5.22.4/darwin-2level/CORE/perl.h:534:29: note: expanded from macro 'STMT_START'
#   define STMT_START   (void)( /* gcc supports "({ STATEMENTS; })" */
                              ^
/Users/stan/perl5/perlbrew/perls/perl-5.22.4/lib/5.22.4/darwin-2level/CORE/hv_func.h:422:13: note: '{' token is here
            MURMUR_DOBLOCK(h1, k1);
            ^~~~~~~~~~~~~~~~~~~~~~
/Users/stan/perl5/perlbrew/perls/perl-5.22.4/lib/5.22.4/darwin-2level/CORE/hv_func.h:347:43: note: expanded from macro 'MURMUR_DOBLOCK'
#define MURMUR_DOBLOCK(h1, k1) STMT_START { \
                                          ^
/Users/stan/perl5/perlbrew/perls/perl-5.22.4/lib/5.22.4/darwin-2level/CORE/hv_func.h:422:13: warning: '}' and ')' tokens terminating statement expression appear in different macro expansion contexts [-Wcompound-token-split-by-macro]
            MURMUR_DOBLOCK(h1, k1);
            ^~~~~~~~~~~~~~~~~~~~~~
/Users/stan/perl5/perlbrew/perls/perl-5.22.4/lib/5.22.4/darwin-2level/CORE/hv_func.h:354:30: note: expanded from macro 'MURMUR_DOBLOCK'
    h1 = h1 * 5 + MURMUR_C3; \
                             ^
/Users/stan/perl5/perlbrew/perls/perl-5.22.4/lib/5.22.4/darwin-2level/CORE/hv_func.h:422:13: note: ')' token is here
            MURMUR_DOBLOCK(h1, k1);
            ^~~~~~~~~~~~~~~~~~~~~~
/Users/stan/perl5/perlbrew/perls/perl-5.22.4/lib/5.22.4/darwin-2level/CORE/hv_func.h:355:3: note: expanded from macro 'MURMUR_DOBLOCK'
} STMT_END
  ^~~~~~~~
/Users/stan/perl5/perlbrew/perls/perl-5.22.4/lib/5.22.4/darwin-2level/CORE/perl.h:535:21: note: expanded from macro 'STMT_END'
#   define STMT_END     )
                        ^
In file included from Parser.xs:11:
In file included from /Users/stan/perl5/perlbrew/perls/perl-5.22.4/lib/5.22.4/darwin-2level/CORE/perl.h:3740:
In file included from /Users/stan/perl5/perlbrew/perls/perl-5.22.4/lib/5.22.4/darwin-2level/CORE/hv.h:629:
/Users/stan/perl5/perlbrew/perls/perl-5.22.4/lib/5.22.4/darwin-2level/CORE/hv_func.h:430:13: warning: '(' and '{' tokens introducing statement expression appear in different macro expansion contexts [-Wcompound-token-split-by-macro]
            MURMUR_DOBLOCK(h1, k1);
            ^~~~~~~~~~~~~~~~~~~~~~
/Users/stan/perl5/perlbrew/perls/perl-5.22.4/lib/5.22.4/darwin-2level/CORE/hv_func.h:347:32: note: expanded from macro 'MURMUR_DOBLOCK'
#define MURMUR_DOBLOCK(h1, k1) STMT_START { \
                               ^~~~~~~~~~
/Users/stan/perl5/perlbrew/perls/perl-5.22.4/lib/5.22.4/darwin-2level/CORE/perl.h:534:29: note: expanded from macro 'STMT_START'
#   define STMT_START   (void)( /* gcc supports "({ STATEMENTS; })" */
                              ^
/Users/stan/perl5/perlbrew/perls/perl-5.22.4/lib/5.22.4/darwin-2level/CORE/hv_func.h:430:13: note: '{' token is here
            MURMUR_DOBLOCK(h1, k1);
            ^~~~~~~~~~~~~~~~~~~~~~
/Users/stan/perl5/perlbrew/perls/perl-5.22.4/lib/5.22.4/darwin-2level/CORE/hv_func.h:347:43: note: expanded from macro 'MURMUR_DOBLOCK'
#define MURMUR_DOBLOCK(h1, k1) STMT_START { \
                                          ^
/Users/stan/perl5/perlbrew/perls/perl-5.22.4/lib/5.22.4/darwin-2level/CORE/hv_func.h:430:13: warning: '}' and ')' tokens terminating statement expression appear in different macro expansion contexts [-Wcompound-token-split-by-macro]
            MURMUR_DOBLOCK(h1, k1);
            ^~~~~~~~~~~~~~~~~~~~~~
/Users/stan/perl5/perlbrew/perls/perl-5.22.4/lib/5.22.4/darwin-2level/CORE/hv_func.h:354:30: note: expanded from macro 'MURMUR_DOBLOCK'
    h1 = h1 * 5 + MURMUR_C3; \
                             ^
/Users/stan/perl5/perlbrew/perls/perl-5.22.4/lib/5.22.4/darwin-2level/CORE/hv_func.h:430:13: note: ')' token is here
            MURMUR_DOBLOCK(h1, k1);
            ^~~~~~~~~~~~~~~~~~~~~~
/Users/stan/perl5/perlbrew/perls/perl-5.22.4/lib/5.22.4/darwin-2level/CORE/hv_func.h:355:3: note: expanded from macro 'MURMUR_DOBLOCK'
} STMT_END
  ^~~~~~~~
/Users/stan/perl5/perlbrew/perls/perl-5.22.4/lib/5.22.4/darwin-2level/CORE/perl.h:535:21: note: expanded from macro 'STMT_END'
#   define STMT_END     )
                        ^
In file included from Parser.xs:11:
In file included from /Users/stan/perl5/perlbrew/perls/perl-5.22.4/lib/5.22.4/darwin-2level/CORE/perl.h:3740:
In file included from /Users/stan/perl5/perlbrew/perls/perl-5.22.4/lib/5.22.4/darwin-2level/CORE/hv.h:629:
/Users/stan/perl5/perlbrew/perls/perl-5.22.4/lib/5.22.4/darwin-2level/CORE/hv_func.h:438:13: warning: '(' and '{' tokens introducing statement expression appear in different macro expansion contexts [-Wcompound-token-split-by-macro]
            MURMUR_DOBLOCK(h1, k1);
            ^~~~~~~~~~~~~~~~~~~~~~
/Users/stan/perl5/perlbrew/perls/perl-5.22.4/lib/5.22.4/darwin-2level/CORE/hv_func.h:347:32: note: expanded from macro 'MURMUR_DOBLOCK'
#define MURMUR_DOBLOCK(h1, k1) STMT_START { \
                               ^~~~~~~~~~
/Users/stan/perl5/perlbrew/perls/perl-5.22.4/lib/5.22.4/darwin-2level/CORE/perl.h:534:29: note: expanded from macro 'STMT_START'
#   define STMT_START   (void)( /* gcc supports "({ STATEMENTS; })" */
                              ^
/Users/stan/perl5/perlbrew/perls/perl-5.22.4/lib/5.22.4/darwin-2level/CORE/hv_func.h:438:13: note: '{' token is here
            MURMUR_DOBLOCK(h1, k1);
            ^~~~~~~~~~~~~~~~~~~~~~
/Users/stan/perl5/perlbrew/perls/perl-5.22.4/lib/5.22.4/darwin-2level/CORE/hv_func.h:347:43: note: expanded from macro 'MURMUR_DOBLOCK'
#define MURMUR_DOBLOCK(h1, k1) STMT_START { \
                                          ^
/Users/stan/perl5/perlbrew/perls/perl-5.22.4/lib/5.22.4/darwin-2level/CORE/hv_func.h:438:13: warning: '}' and ')' tokens terminating statement expression appear in different macro expansion contexts [-Wcompound-token-split-by-macro]
            MURMUR_DOBLOCK(h1, k1);
            ^~~~~~~~~~~~~~~~~~~~~~
/Users/stan/perl5/perlbrew/perls/perl-5.22.4/lib/5.22.4/darwin-2level/CORE/hv_func.h:354:30: note: expanded from macro 'MURMUR_DOBLOCK'
    h1 = h1 * 5 + MURMUR_C3; \
                             ^
/Users/stan/perl5/perlbrew/perls/perl-5.22.4/lib/5.22.4/darwin-2level/CORE/hv_func.h:438:13: note: ')' token is here
            MURMUR_DOBLOCK(h1, k1);
            ^~~~~~~~~~~~~~~~~~~~~~
/Users/stan/perl5/perlbrew/perls/perl-5.22.4/lib/5.22.4/darwin-2level/CORE/hv_func.h:355:3: note: expanded from macro 'MURMUR_DOBLOCK'
} STMT_END
  ^~~~~~~~
/Users/stan/perl5/perlbrew/perls/perl-5.22.4/lib/5.22.4/darwin-2level/CORE/perl.h:535:21: note: expanded from macro 'STMT_END'
#   define STMT_END     )
                        ^
In file included from Parser.xs:11:
In file included from /Users/stan/perl5/perlbrew/perls/perl-5.22.4/lib/5.22.4/darwin-2level/CORE/perl.h:3740:
In file included from /Users/stan/perl5/perlbrew/perls/perl-5.22.4/lib/5.22.4/darwin-2level/CORE/hv.h:629:
/Users/stan/perl5/perlbrew/perls/perl-5.22.4/lib/5.22.4/darwin-2level/CORE/hv_func.h:446:5: warning: '(' and '{' tokens introducing statement expression appear in different macro expansion contexts [-Wcompound-token-split-by-macro]
    MURMUR_DOBYTES((int)len, h1, carry, bytes_in_carry, ptr, len);
    ^~~~~~~~~~~~~~~~~~~~~~~~~~~~~~~~~~~~~~~~~~~~~~~~~~~~~~~~~~~~~
/Users/stan/perl5/perlbrew/perls/perl-5.22.4/lib/5.22.4/darwin-2level/CORE/hv_func.h:360:49: note: expanded from macro 'MURMUR_DOBYTES'
#define MURMUR_DOBYTES(cnt, h1, c, n, ptr, len) STMT_START { \
                                                ^~~~~~~~~~
/Users/stan/perl5/perlbrew/perls/perl-5.22.4/lib/5.22.4/darwin-2level/CORE/perl.h:534:29: note: expanded from macro 'STMT_START'
#   define STMT_START   (void)( /* gcc supports "({ STATEMENTS; })" */
                              ^
/Users/stan/perl5/perlbrew/perls/perl-5.22.4/lib/5.22.4/darwin-2level/CORE/hv_func.h:446:5: note: '{' token is here
    MURMUR_DOBYTES((int)len, h1, carry, bytes_in_carry, ptr, len);
    ^~~~~~~~~~~~~~~~~~~~~~~~~~~~~~~~~~~~~~~~~~~~~~~~~~~~~~~~~~~~~
/Users/stan/perl5/perlbrew/perls/perl-5.22.4/lib/5.22.4/darwin-2level/CORE/hv_func.h:360:60: note: expanded from macro 'MURMUR_DOBYTES'
#define MURMUR_DOBYTES(cnt, h1, c, n, ptr, len) STMT_START { \
                                                           ^
/Users/stan/perl5/perlbrew/perls/perl-5.22.4/lib/5.22.4/darwin-2level/CORE/hv_func.h:446:5: warning: '(' and '{' tokens introducing statement expression appear in different macro expansion contexts [-Wcompound-token-split-by-macro]
    MURMUR_DOBYTES((int)len, h1, carry, bytes_in_carry, ptr, len);
    ^~~~~~~~~~~~~~~~~~~~~~~~~~~~~~~~~~~~~~~~~~~~~~~~~~~~~~~~~~~~~
/Users/stan/perl5/perlbrew/perls/perl-5.22.4/lib/5.22.4/darwin-2level/CORE/hv_func.h:366:13: note: expanded from macro 'MURMUR_DOBYTES'
            MURMUR_DOBLOCK(h1, c); \
            ^~~~~~~~~~~~~~~~~~~~~
/Users/stan/perl5/perlbrew/perls/perl-5.22.4/lib/5.22.4/darwin-2level/CORE/hv_func.h:347:32: note: expanded from macro 'MURMUR_DOBLOCK'
#define MURMUR_DOBLOCK(h1, k1) STMT_START { \
                               ^~~~~~~~~~
/Users/stan/perl5/perlbrew/perls/perl-5.22.4/lib/5.22.4/darwin-2level/CORE/perl.h:534:29: note: expanded from macro 'STMT_START'
#   define STMT_START   (void)( /* gcc supports "({ STATEMENTS; })" */
                              ^
/Users/stan/perl5/perlbrew/perls/perl-5.22.4/lib/5.22.4/darwin-2level/CORE/hv_func.h:446:5: note: '{' token is here
    MURMUR_DOBYTES((int)len, h1, carry, bytes_in_carry, ptr, len);
    ^~~~~~~~~~~~~~~~~~~~~~~~~~~~~~~~~~~~~~~~~~~~~~~~~~~~~~~~~~~~~
/Users/stan/perl5/perlbrew/perls/perl-5.22.4/lib/5.22.4/darwin-2level/CORE/hv_func.h:366:13: note: expanded from macro 'MURMUR_DOBYTES'
            MURMUR_DOBLOCK(h1, c); \
            ^~~~~~~~~~~~~~~~~~~~~
/Users/stan/perl5/perlbrew/perls/perl-5.22.4/lib/5.22.4/darwin-2level/CORE/hv_func.h:347:43: note: expanded from macro 'MURMUR_DOBLOCK'
#define MURMUR_DOBLOCK(h1, k1) STMT_START { \
                                          ^
/Users/stan/perl5/perlbrew/perls/perl-5.22.4/lib/5.22.4/darwin-2level/CORE/hv_func.h:446:5: warning: '}' and ')' tokens terminating statement expression appear in different macro expansion contexts [-Wcompound-token-split-by-macro]
    MURMUR_DOBYTES((int)len, h1, carry, bytes_in_carry, ptr, len);
    ^~~~~~~~~~~~~~~~~~~~~~~~~~~~~~~~~~~~~~~~~~~~~~~~~~~~~~~~~~~~~
/Users/stan/perl5/perlbrew/perls/perl-5.22.4/lib/5.22.4/darwin-2level/CORE/hv_func.h:366:13: note: expanded from macro 'MURMUR_DOBYTES'
            MURMUR_DOBLOCK(h1, c); \
            ^~~~~~~~~~~~~~~~~~~~~
/Users/stan/perl5/perlbrew/perls/perl-5.22.4/lib/5.22.4/darwin-2level/CORE/hv_func.h:354:30: note: expanded from macro 'MURMUR_DOBLOCK'
    h1 = h1 * 5 + MURMUR_C3; \
                             ^
/Users/stan/perl5/perlbrew/perls/perl-5.22.4/lib/5.22.4/darwin-2level/CORE/hv_func.h:446:5: note: ')' token is here
    MURMUR_DOBYTES((int)len, h1, carry, bytes_in_carry, ptr, len);
    ^~~~~~~~~~~~~~~~~~~~~~~~~~~~~~~~~~~~~~~~~~~~~~~~~~~~~~~~~~~~~
/Users/stan/perl5/perlbrew/perls/perl-5.22.4/lib/5.22.4/darwin-2level/CORE/hv_func.h:366:13: note: expanded from macro 'MURMUR_DOBYTES'
            MURMUR_DOBLOCK(h1, c); \
            ^~~~~~~~~~~~~~~~~~~~~
/Users/stan/perl5/perlbrew/perls/perl-5.22.4/lib/5.22.4/darwin-2level/CORE/hv_func.h:355:3: note: expanded from macro 'MURMUR_DOBLOCK'
} STMT_END
  ^~~~~~~~
/Users/stan/perl5/perlbrew/perls/perl-5.22.4/lib/5.22.4/darwin-2level/CORE/perl.h:535:21: note: expanded from macro 'STMT_END'
#   define STMT_END     )
                        ^
In file included from Parser.xs:11:
In file included from /Users/stan/perl5/perlbrew/perls/perl-5.22.4/lib/5.22.4/darwin-2level/CORE/perl.h:3740:
In file included from /Users/stan/perl5/perlbrew/perls/perl-5.22.4/lib/5.22.4/darwin-2level/CORE/hv.h:629:
/Users/stan/perl5/perlbrew/perls/perl-5.22.4/lib/5.22.4/darwin-2level/CORE/hv_func.h:446:5: warning: '}' and ')' tokens terminating statement expression appear in different macro expansion contexts [-Wcompound-token-split-by-macro]
    MURMUR_DOBYTES((int)len, h1, carry, bytes_in_carry, ptr, len);
    ^~~~~~~~~~~~~~~~~~~~~~~~~~~~~~~~~~~~~~~~~~~~~~~~~~~~~~~~~~~~~
/Users/stan/perl5/perlbrew/perls/perl-5.22.4/lib/5.22.4/darwin-2level/CORE/hv_func.h:369:7: note: expanded from macro 'MURMUR_DOBYTES'
    } \
      ^
/Users/stan/perl5/perlbrew/perls/perl-5.22.4/lib/5.22.4/darwin-2level/CORE/hv_func.h:446:5: note: ')' token is here
    MURMUR_DOBYTES((int)len, h1, carry, bytes_in_carry, ptr, len);
    ^~~~~~~~~~~~~~~~~~~~~~~~~~~~~~~~~~~~~~~~~~~~~~~~~~~~~~~~~~~~~
/Users/stan/perl5/perlbrew/perls/perl-5.22.4/lib/5.22.4/darwin-2level/CORE/hv_func.h:370:3: note: expanded from macro 'MURMUR_DOBYTES'
} STMT_END
  ^~~~~~~~
/Users/stan/perl5/perlbrew/perls/perl-5.22.4/lib/5.22.4/darwin-2level/CORE/perl.h:535:21: note: expanded from macro 'STMT_END'
#   define STMT_END     )
                        ^
16 warnings generated.
rm -f blib/arch/auto/HTML/Parser/Parser.bundle
cc  -mmacosx-version-min=12.2 -bundle -undefined dynamic_lookup -L/usr/local/lib -fstack-protector-strong  Parser.o  -o blib/arch/auto/HTML/Parser/Parser.bundle  \
	      \
	  
chmod 755 blib/arch/auto/HTML/Parser/Parser.bundle
Manifying 7 pod documents
"/Users/stan/perl5/perlbrew/perls/perl-5.22.4/bin/perl" -MExtUtils::Command::MM -e 'cp_nonempty' -- Parser.bs blib/arch/auto/HTML/Parser/Parser.bs 644
PERL_DL_NONLAZY=1 "/Users/stan/perl5/perlbrew/perls/perl-5.22.4/bin/perl" "-MExtUtils::Command::MM" "-MTest::Harness" "-e" "undef *Test::Harness::Switches; test_harness(0, 'blib/lib', 'blib/arch')" t/*.t
# 
# Versions for all modules listed in MYMETA.json (including optional ones):
# 
# === Configure Requires ===
# 
#     Module               Want     Have
#     ------------------- ----- --------
#     ExtUtils::MakeMaker  6.52     7.70
#     perl                5.008 5.022004
# 
# === Configure Suggests ===
# 
#     Module      Want Have
#     -------- ------- ----
#     JSON::PP 2.27300 4.16
# 
# === Build Requires ===
# 
#     Module              Want Have
#     ------------------- ---- ----
#     ExtUtils::MakeMaker  any 7.70
# 
# === Test Requires ===
# 
#     Module               Want     Have
#     ------------------- ----- --------
#     Config                any 5.022004
#     ExtUtils::MakeMaker   any     7.70
#     File::Spec            any     3.75
#     IO::File              any     1.55
#     SelectSaver           any     1.02
#     Test::More            any 1.302198
#     URI                   any     5.27
#     perl                5.008 5.022004
#     strict                any     1.09
# 
# === Test Recommends ===
# 
#     Module         Want     Have
#     ---------- -------- --------
#     CPAN::Meta 2.120900 2.150010
# 
# === Runtime Requires ===
# 
#     Module         Want     Have
#     ------------- ----- --------
#     Carp            any     1.50
#     Exporter        any     5.78
#     HTML::Tagset    any     3.22
#     HTTP::Headers   any     6.45
#     IO::File        any     1.55
#     URI             any     5.27
#     URI::URL        any     5.27
#     XSLoader        any     0.24
#     perl          5.008 5.022004
#     strict          any     1.09
# 
t/00-report-prereqs.t .. ok
t/api_version.t ........ ok
t/argspec-bad.t ........ ok
t/argspec.t ............ ok
t/argspec2.t ........... ok
t/attr-encoded.t ....... ok
t/callback.t ........... ok
t/case-sensitive.t ..... ok
t/cases.t .............. ok
t/comment.t ............ ok
t/crashme.t ............ ok
t/declaration.t ........ ok
t/default.t ............ ok
t/document.t ........... ok
t/dtext.t .............. ok
t/entities.t ........... ok
t/entities2.t .......... ok
t/filter-methods.t ..... ok
t/filter.t ............. ok
t/free.t ............... ok
t/handler-eof.t ........ ok
t/handler.t ............ ok
t/headparser-http.t .... ok
t/headparser.t ......... ok
t/ignore.t ............. ok
t/largetags.t .......... ok
t/linkextor-base.t ..... ok
t/linkextor-rel.t ...... ok
t/magic.t .............. ok
t/marked-sect.t ........ ok
t/msie-compat.t ........ ok
t/offset.t ............. ok
t/options.t ............ ok
t/parsefile.t .......... ok
t/parser.t ............. ok
t/plaintext.t .......... ok
t/process.t ............ ok
t/pullparser.t ......... ok
t/script.t ............. ok
t/skipped-text.t ....... ok
t/stack-realloc-eof.t .. ok
t/stack-realloc.t ...... ok
t/textarea.t ........... ok
t/threads.t ............ skipped: Not configured for threads
t/tokeparser.t ......... ok
t/uentities.t .......... ok
t/unbroken-text.t ...... ok
t/unicode-bom.t ........ ok
t/unicode.t ............ ok
t/xml-mode.t ........... ok
All tests successful.
Files=50, Tests=452,  3 wallclock secs ( 0.10 usr  0.08 sys +  2.34 cusr  0.47 csys =  2.99 CPU)
Result: PASS

------------------------------
PREREQUISITES
------------------------------

Prerequisite modules loaded:

runtime:

    Module              Need Have
    ------------------- ---- ----
    Carp                0    1.50
    Exporter            0    5.78
    HTML::Tagset        0    3.24
    HTTP::Headers       0    6.45
    IO::File            0    1.55
    strict              0    1.09
    URI                 0    5.27
    URI::URL            0    5.27
    XSLoader            0    0.24

build:

    Module              Need Have
    ------------------- ---- ----
    ExtUtils::MakeMaker 0    7.70

configure:

    Module              Need Have
    ------------------- ---- ----
    ExtUtils::MakeMaker 6.52 7.70


------------------------------
ENVIRONMENT AND OTHER CONTEXT
------------------------------

Environment variables:

    LANG = en_US.UTF-8
    LC_ALL = en_US.UTF-8
    LDFLAGS = -L/usr/local/opt/curl/lib
    PATH = /Users/stan/perl5/perlbrew/bin:/Users/stan/perl5/perlbrew/perls/perl-5.22.4/bin:/Users/stan/perl5/perlbrew/bin:/Users/stan/perl5/perlbrew/perls/perl-5.38.2/bin:/usr/local/opt/mysql-client/bin:/usr/local/opt/curl/bin:/usr/local/bin:/usr/local/sbin:/usr/local/bin:/System/Cryptexes/App/usr/bin:/usr/bin:/bin:/usr/sbin:/sbin:/Applications/Little Snitch.app/Contents/Components:/opt/X11/bin:/var/run/com.apple.security.cryptexd/codex.system/bootstrap/usr/local/bin:/var/run/com.apple.security.cryptexd/codex.system/bootstrap/usr/bin:/var/run/com.apple.security.cryptexd/codex.system/bootstrap/usr/appleinternal/bin:/Users/stan/.vim/bin:/Users/stan/bin:/Users/stan/node_modules/.bin:/usr/local/sbin:/usr/local/opt/mysql-client/bin:/usr/local/opt/curl/bin:/Applications/kitty.app/Contents/MacOS
    PERL5LIB = 
    PERLBREW_HOME = /Users/stan/.perlbrew
    PERLBREW_LIB = 
    PERLBREW_MANPATH = /Users/stan/perl5/perlbrew/perls/perl-5.22.4/man
    PERLBREW_PATH = /Users/stan/perl5/perlbrew/bin:/Users/stan/perl5/perlbrew/perls/perl-5.22.4/bin
    PERLBREW_PERL = perl-5.22.4
    PERLBREW_ROOT = /Users/stan/perl5/perlbrew
    PERLBREW_SHELLRC_VERSION = 0.92
    PERLBREW_VERSION = 0.92
    PERL_LOCAL_LIB_ROOT = 
    PERL_MM_USE_DEFAULT = 1
    SHELL = /usr/local/bin/zsh
    TERM = screen-256color
    TMPDIR = /var/folders/tk/hx6fvpsj3yzbyd1k1br945mc0000gn/T/

Perl special variables (and OS-specific diagnostics, for MSWin32):

    EGID = 20 20 12 61 79 80 81 98 701 33 100 204 250 395 398 101 400
    EUID = 501
    EXECUTABLE_NAME = /Users/stan/perl5/perlbrew/perls/perl-5.22.4/bin/perl
    GID = 20 20 12 61 79 80 81 98 701 33 100 204 250 395 398 101 400
    UID = 501

Perl module toolchain versions installed:

    Module              Have    
    ------------------- --------
    CPAN                2.36    
    CPAN::Meta          2.150010
    Cwd                 3.75    
    ExtUtils::CBuilder  0.280236
    ExtUtils::Command   7.70    
    ExtUtils::Install   2.22    
    ExtUtils::MakeMaker 7.70    
    ExtUtils::Manifest  1.75    
    ExtUtils::ParseXS   3.51    
    File::Spec          3.75    
    JSON                4.10    
    JSON::PP            4.16    
    Module::Build       0.4234  
    Module::Signature   n/a     
    Parse::CPAN::Meta   2.150010
    Test::Harness       3.48    
    Test::More          1.302198
    YAML                1.31    
    YAML::Syck          n/a     
    version             0.9930  


--

Summary of my perl5 (revision 5 version 22 subversion 4) configuration:
   
  Platform:
    osname=darwin, osvers=21.3.0, archname=darwin-2level
    uname='darwin imac.fritz.box 21.3.0 darwin kernel version 21.3.0: wed jan 5 21:37:58 pst 2022; root:xnu-8019.80.24~20release_x86_64 x86_64 '
    config_args='-de -Dprefix=/Users/stan/perl5/perlbrew/perls/perl-5.22.4 -Aeval:scriptdir=/Users/stan/perl5/perlbrew/perls/perl-5.22.4/bin'
    hint=recommended, useposix=true, d_sigaction=define
    useithreads=undef, usemultiplicity=undef
    use64bitint=define, use64bitall=define, uselongdouble=undef
    usemymalloc=n, bincompat5005=undef
  Compiler:
    cc='cc', ccflags ='-fno-common -DPERL_DARWIN -mmacosx-version-min=12.2 -fno-strict-aliasing -pipe -fstack-protector-strong -I/usr/local/include -DPERL_USE_SAFE_PUTENV',
    optimize='-O3',
    cppflags='-fno-common -DPERL_DARWIN -mmacosx-version-min=12.2 -fno-strict-aliasing -pipe -fstack-protector-strong -I/usr/local/include'
    ccversion='', gccversion='Apple LLVM 13.0.0 (clang-1300.0.29.30)', gccosandvers=''
    intsize=4, longsize=8, ptrsize=8, doublesize=8, byteorder=12345678, doublekind=3
    d_longlong=define, longlongsize=8, d_longdbl=define, longdblsize=16, longdblkind=3
    ivtype='long', ivsize=8, nvtype='double', nvsize=8, Off_t='off_t', lseeksize=8
    alignbytes=8, prototype=define
  Linker and Libraries:
    ld='cc', ldflags =' -mmacosx-version-min=12.2 -fstack-protector-strong -L/usr/local/lib'
    libpth=/usr/local/lib /Library/Developer/CommandLineTools/usr/lib/clang/13.0.0/lib /Library/Developer/CommandLineTools/SDKs/MacOSX.sdk/usr/lib /Library/Developer/CommandLineTools/usr/lib /usr/lib
    libs=-lgdbm -ldb
    perllibs=
    libc=, so=dylib, useshrplib=false, libperl=libperl.a
    gnulibc_version=''
  Dynamic Linking:
    dlsrc=dl_dlopen.xs, dlext=bundle, d_dlsymun=undef, ccdlflags=' '
    cccdlflags=' ', lddlflags=' -mmacosx-version-min=12.2 -bundle -undefined dynamic_lookup -L/usr/local/lib -fstack-protector-strong'


Characteristics of this binary (from libperl): 
  Compile-time options: HAS_TIMES PERLIO_LAYERS PERL_DONT_CREATE_GVSV
                        PERL_HASH_FUNC_ONE_AT_A_TIME_HARD PERL_MALLOC_WRAP
                        PERL_NEW_COPY_ON_WRITE PERL_PRESERVE_IVUV
                        PERL_USE_SAFE_PUTENV USE_64_BIT_ALL USE_64_BIT_INT
                        USE_LARGE_FILES USE_LOCALE USE_LOCALE_COLLATE
                        USE_LOCALE_CTYPE USE_LOCALE_NUMERIC USE_LOCALE_TIME
                        USE_PERLIO USE_PERL_ATOF
  Locally applied patches:
	Devel::PatchPerl 2.08
  Built under darwin
  Compiled at Feb 10 2022 22:46:49
  %ENV:
    PERL5LIB=""
    PERLBREW_HOME="/Users/stan/.perlbrew"
    PERLBREW_LIB=""
    PERLBREW_MANPATH="/Users/stan/perl5/perlbrew/perls/perl-5.22.4/man"
    PERLBREW_PATH="/Users/stan/perl5/perlbrew/bin:/Users/stan/perl5/perlbrew/perls/perl-5.22.4/bin"
    PERLBREW_PERL="perl-5.22.4"
    PERLBREW_ROOT="/Users/stan/perl5/perlbrew"
    PERLBREW_SHELLRC_VERSION="0.92"
    PERLBREW_VERSION="0.92"
    PERL_LOCAL_LIB_ROOT=""
    PERL_MM_USE_DEFAULT="1"
  @INC:
    /Users/stan/perl5/perlbrew/perls/perl-5.22.4/lib/site_perl/5.22.4/darwin-2level
    /Users/stan/perl5/perlbrew/perls/perl-5.22.4/lib/site_perl/5.22.4
    /Users/stan/perl5/perlbrew/perls/perl-5.22.4/lib/5.22.4/darwin-2level
    /Users/stan/perl5/perlbrew/perls/perl-5.22.4/lib/5.22.4
    .