Sys-Filesystem v1.408 Perl 5 v5.43.2 x86_64-linux-thread-multi

Status
Pass
From
Carlos Guevara
Dist
Sys-Filesystem v1.408
Platform
Perl 5 v5.43.2 x86_64-linux-thread-multi
Date
2025-08-17 19:50:00
ID
5c2cda40-7ba3-11f0-9d07-f00aeb222519
This distribution has been tested as part of the CPAN Testers
project, supporting the Perl programming language.  See
http://wiki.cpantesters.org/ for more information or email
questions to cpan-testers-discuss@perl.org


--
Dear Jens Rehsack,

This is a computer-generated report for Sys-Filesystem-1.408
on perl 5.43.2, created by CPAN-Reporter-1.2020.

Thank you for uploading your work to CPAN.  Congratulations!
All tests were successful.

Sections of this report:

    * Tester comments
    * Program output
    * Prerequisites
    * Environment and other context

------------------------------
TESTER COMMENTS
------------------------------

Additional comments from tester:

this report is from an automated smoke testing program
and was not reviewed by a human for accuracy

------------------------------
PROGRAM OUTPUT
------------------------------

Output from '/usr/bin/make test':

PERL_DL_NONLAZY=1 "/home/cpan/bin/perl/bin/perl5.43.2" "-MExtUtils::Command::MM" "-MTest::Harness" "-e" "undef *Test::Harness::Switches; test_harness(0, 'blib/lib', 'blib/arch')" t/*.t xt/*.t
# Testing Sys::Filesystem 1.408, Perl 5.043002 (/home/cpan/bin/perl/bin/perl5.43.2) on linux-6.12.0-55.27.1.el10_0.x86_64
t/01_load.t ...... ok
# filesystem - mounted - special - device - options - format - volume - label - type
# / - 1 - 0 - /dev/mapper/rhel-root - rw,seclabel,relatime,attr2,inode64,logbufs=8,logbsize=32k,noquota - xfs - 1 - 1 - xfs
# /boot - 1 - 0 - /dev/vda2 - rw,seclabel,relatime,attr2,inode64,logbufs=8,logbsize=32k,noquota - xfs - 1 - 1 - xfs
# /dev - 1 - 0 - devtmpfs - rw,seclabel,nosuid,size=4096k,nr_inodes=978427,mode=755,inode64 - devtmpfs - 1 - 1 - devtmpfs
# /dev/hugepages - 1 - 0 - hugetlbfs - rw,seclabel,nosuid,nodev,relatime,pagesize=2M - hugetlbfs - 1 - 1 - hugetlbfs
# /dev/mqueue - 1 - 0 - mqueue - rw,seclabel,nosuid,nodev,noexec,relatime - mqueue - 1 - 1 - mqueue
# /dev/pts - 1 - 1 - devpts - rw,seclabel,nosuid,noexec,relatime,gid=5,mode=620,ptmxmode=000 - devpts - 1 - 1 - devpts
# /dev/shm - 1 - 1 - tmpfs - rw,seclabel,nosuid,nodev,inode64 - tmpfs - 1 - 1 - tmpfs
# /proc - 1 - 1 - proc - rw,nosuid,nodev,noexec,relatime - proc - 1 - 1 - proc
# /proc/sys/fs/binfmt_misc - 1 - 1 - binfmt_misc - rw,nosuid,nodev,noexec,relatime - binfmt_misc - 1 - 1 - binfmt_misc
# /run - 1 - 1 - tmpfs - rw,seclabel,nosuid,nodev,size=1572808k,nr_inodes=819200,mode=755,inode64 - tmpfs - 1 - 1 - tmpfs
# /run/credentials/getty@tty1.service - 1 - 1 - tmpfs - ro,seclabel,nosuid,nodev,noexec,relatime,nosymfollow,size=1024k,nr_inodes=1024,mode=700,inode64,noswap - tmpfs - 1 - 1 - tmpfs
# /run/credentials/systemd-journald.service - 1 - 1 - tmpfs - ro,seclabel,nosuid,nodev,noexec,relatime,nosymfollow,size=1024k,nr_inodes=1024,mode=700,inode64,noswap - tmpfs - 1 - 1 - tmpfs
# /run/user/1001 - 1 - 1 - tmpfs - rw,seclabel,nosuid,nodev,relatime,size=786400k,nr_inodes=196600,mode=700,uid=1001,gid=1001,inode64 - tmpfs - 1 - 1 - tmpfs
# /sys - 1 - 1 - sysfs - rw,seclabel,nosuid,nodev,noexec,relatime - sysfs - 1 - 1 - sysfs
# /sys/fs/bpf - 1 - 0 - bpf - rw,nosuid,nodev,noexec,relatime,mode=700 - bpf - 1 - 1 - bpf
# /sys/fs/cgroup - 1 - 0 - cgroup2 - rw,seclabel,nosuid,nodev,noexec,relatime,nsdelegate,memory_recursiveprot - cgroup2 - 1 - 1 - cgroup2
# /sys/fs/fuse/connections - 1 - 1 - fusectl - rw,nosuid,nodev,noexec,relatime - fusectl - 1 - 1 - fusectl
# /sys/fs/pstore - 1 - 0 - pstore - rw,seclabel,nosuid,nodev,noexec,relatime - pstore - 1 - 1 - pstore
# /sys/fs/selinux - 1 - 0 - selinuxfs - rw,nosuid,noexec,relatime - selinuxfs - 1 - 1 - selinuxfs
# /sys/kernel/config - 1 - 0 - configfs - rw,nosuid,nodev,noexec,relatime - configfs - 1 - 1 - configfs
# /sys/kernel/debug - 1 - 1 - debugfs - rw,seclabel,nosuid,nodev,noexec,relatime - debugfs - 1 - 1 - debugfs
# /sys/kernel/security - 1 - 1 - securityfs - rw,nosuid,nodev,noexec,relatime - securityfs - 1 - 1 - securityfs
# /sys/kernel/tracing - 1 - 0 - tracefs - rw,seclabel,nosuid,nodev,noexec,relatime - tracefs - 1 - 1 - tracefs
# none - 0 - 1 - UUID=958233f7-8f13-4dcb-907b-ff6ff8a2b48c - defaults - swap - 1 - 1 - swap
t/02_basic.t ..... ok
t/03_whereami.t .. ok
t/04_special.t ... ok
t/05_error.t ..... ok
t/06_settings.t .. ok
All tests successful.

Test Summary Report
-------------------
t/03_whereami.t (Wstat: 0 Tests: 3 Failed: 0)
  TODO passed:   2-3
Files=6, Tests=305,  0 wallclock secs ( 0.03 usr  0.01 sys +  0.28 cusr  0.05 csys =  0.37 CPU)
Result: PASS

------------------------------
PREREQUISITES
------------------------------

Prerequisite modules loaded:

requires:

    Module              Need     Have    
    ------------------- -------- --------
    Carp                0        1.54    
    Cwd                 0        3.94    
    File::Spec          0        3.94    
    FindBin             0        1.54    
    IO                  0        1.55    
    IPC::Cmd            0.80     1.04    
    Module::Pluggable   4.8      6.3     
    Params::Util        1.00     1.102   
    perl                5.008001 5.043002

build_requires:

    Module              Need     Have    
    ------------------- -------- --------
    Test::More          0.9      1.302214

configure_requires:

    Module              Need     Have    
    ------------------- -------- --------
    Carp                0        1.54    
    Cwd                 0        3.94    
    ExtUtils::MakeMaker 0        7.76    
    File::Spec          0        3.94    
    FindBin             0        1.54    
    IO                  0        1.55    
    IPC::Cmd            0.80     1.04    
    Module::Pluggable   4.8      6.3     
    Params::Util        1.00     1.102   

opt_requires:

    Module              Need     Have    
    ------------------- -------- --------
    perl                5.018001 5.043002


------------------------------
ENVIRONMENT AND OTHER CONTEXT
------------------------------

Environment variables:

    AUTOMATED_TESTING = 1
    DATE_MANIP_TEST_DM5 = 1
    LANG = en_US.UTF-8
    LC_ALL = C
    NONINTERACTIVE_TESTING = 1
    NO_NETWORK_TESTING = 1
    PATH = /home/cpan/bin/perl/bin:/home/cpan/bin:/home/cpan/bin:/usr/local/bin:/usr/bin:/usr/local/sbin:/usr/sbin
    PERL5LIB = 
    PERL5OPT = 
    PERL5_CPANPLUS_IS_RUNNING = 1284341
    PERL5_CPAN_IS_RUNNING = 1284341
    PERL_MM_USE_DEFAULT = 1
    PERL_PERTURB_KEYS = 0
    PERL_USE_UNSAFE_INC = 1
    SHELL = /bin/bash
    TERM = screen
    TMPDIR = /home/cpan/tmp

Perl special variables (and OS-specific diagnostics, for MSWin32):

    $^X = /home/cpan/bin/perl/bin/perl5.43.2
    $UID/$EUID = 1001 / 1001
    $GID = 1001 1001
    $EGID = 1001 1001

Perl module toolchain versions installed:

    Module              Have    
    ------------------- --------
    CPAN                2.38    
    CPAN::Meta          2.150010
    Cwd                 3.94    
    ExtUtils::CBuilder  0.280242
    ExtUtils::Command   7.76    
    ExtUtils::Install   2.22    
    ExtUtils::MakeMaker 7.76    
    ExtUtils::Manifest  1.75    
    ExtUtils::ParseXS   3.59    
    File::Spec          3.94    
    JSON                4.10    
    JSON::PP            4.16    
    Module::Build       0.4234  
    Module::Signature   n/a     
    Parse::CPAN::Meta   2.150010
    Test2               1.302214
    Test::Harness       3.52    
    Test::More          1.302214
    YAML                1.31    
    YAML::Syck          1.34    
    version             0.9933  


--

Summary of my perl5 (revision 5 version 43 subversion 2) configuration:
  Commit id: b70be8dad5c838ae7236218f9a41171e2e0f483b
  Platform:
    osname=linux
    osvers=6.12.0-55.27.1.el10_0.x86_64
    archname=x86_64-linux-thread-multi
    uname='linux cjg-rhel10 6.12.0-55.27.1.el10_0.x86_64 #1 smp preempt_dynamic fri aug 8 05:55:36 edt 2025 x86_64 gnulinux '
    config_args='-des -Dprefix=/home/cpan/bin/perl -Dscriptdir=/home/cpan/bin/perl/bin -Dusedevel -Duse64bitall -Duseithreads'
    hint=recommended
    useposix=true
    d_sigaction=define
    useithreads=define
    usemultiplicity=define
    use64bitint=define
    use64bitall=define
    uselongdouble=undef
    usemymalloc=n
    default_inc_excludes_dot=define
  Compiler:
    cc='cc'
    ccflags ='-D_REENTRANT -D_GNU_SOURCE -fwrapv -fno-strict-aliasing -pipe -fstack-protector-strong -I/usr/local/include -D_LARGEFILE_SOURCE -D_FILE_OFFSET_BITS=64 -D_FORTIFY_SOURCE=2'
    optimize='-O2'
    cppflags='-D_REENTRANT -D_GNU_SOURCE -fwrapv -fno-strict-aliasing -pipe -fstack-protector-strong -I/usr/local/include'
    ccversion=''
    gccversion='14.2.1 20250110 (Red Hat 14.2.1-7)'
    gccosandvers=''
    intsize=4
    longsize=8
    ptrsize=8
    doublesize=8
    byteorder=12345678
    doublekind=3
    d_longlong=define
    longlongsize=8
    d_longdbl=define
    longdblsize=16
    longdblkind=3
    ivtype='long'
    ivsize=8
    nvtype='double'
    nvsize=8
    Off_t='off_t'
    lseeksize=8
    alignbytes=8
    prototype=define
  Linker and Libraries:
    ld='cc'
    ldflags =' -fstack-protector-strong -L/usr/local/lib'
    libpth=/usr/local/lib /usr/lib /usr/lib64 /usr/local/lib64
    libs=-lpthread -ldb -ldl -lm -lcrypt -lutil -lc
    perllibs=-lpthread -ldl -lm -lcrypt -lutil -lc
    libc=/lib/../lib64/libc.so.6
    so=so
    useshrplib=false
    libperl=libperl.a
    gnulibc_version='2.39'
  Dynamic Linking:
    dlsrc=dl_dlopen.xs
    dlext=so
    d_dlsymun=undef
    ccdlflags='-Wl,-E'
    cccdlflags='-fPIC'
    lddlflags='-shared -O2 -L/usr/local/lib -fstack-protector-strong'


Characteristics of this binary (from libperl): 
  Compile-time options:
    HAS_LONG_DOUBLE
    HAS_STRTOLD
    HAS_TIMES
    MULTIPLICITY
    PERLIO_LAYERS
    PERL_COPY_ON_WRITE
    PERL_DONT_CREATE_GVSV
    PERL_HASH_FUNC_SIPHASH13
    PERL_HASH_USE_SBOX32
    PERL_MALLOC_WRAP
    PERL_OP_PARENT
    PERL_PRESERVE_IVUV
    PERL_USE_DEVEL
    PERL_USE_SAFE_PUTENV
    USE_64_BIT_ALL
    USE_64_BIT_INT
    USE_ITHREADS
    USE_LARGE_FILES
    USE_LOCALE
    USE_LOCALE_COLLATE
    USE_LOCALE_CTYPE
    USE_LOCALE_NUMERIC
    USE_LOCALE_TIME
    USE_PERLIO
    USE_PERL_ATOF
    USE_REENTRANT_API
    USE_THREAD_SAFE_LOCALE
  Built under linux
  Compiled at Aug 16 2025 23:34:11
  %ENV:
    PERL5LIB=""
    PERL5OPT=""
    PERL5_CPANPLUS_IS_RUNNING="1284341"
    PERL5_CPAN_IS_RUNNING="1284341"
    PERL_MM_USE_DEFAULT="1"
    PERL_PERTURB_KEYS="0"
    PERL_USE_UNSAFE_INC="1"
  @INC:
    /home/cpan/bin/perl/lib/site_perl/5.43.2/x86_64-linux-thread-multi
    /home/cpan/bin/perl/lib/site_perl/5.43.2
    /home/cpan/bin/perl/lib/5.43.2/x86_64-linux-thread-multi
    /home/cpan/bin/perl/lib/5.43.2
    .