CatalystX-OAuth2 v0.001009 Perl 5 v5.41.6 x86_64-linux

Status
Pass
From
Andreas J. König (ANDK)
Dist
CatalystX-OAuth2 v0.001009
Platform
Perl 5 v5.41.6 x86_64-linux
Date
2024-12-02 18:36:35
ID
5c25f3f2-b0dc-11ef-bf80-716fca69681c
This distribution has been tested as part of the CPAN Testers
project, supporting the Perl programming language.  See
http://wiki.cpantesters.org/ for more information or email
questions to cpan-testers-discuss@perl.org


--
Dear John Napiorkowski,

This is a computer-generated report for CatalystX-OAuth2-0.001009
on perl 5.41.6, created by CPAN-Reporter-1.2020.

Thank you for uploading your work to CPAN.  Congratulations!
All tests were successful.

Sections of this report:

    * Tester comments
    * Program output
    * Prerequisites
    * Environment and other context

------------------------------
TESTER COMMENTS
------------------------------

Additional comments from tester:

this report is from an automated smoke testing program
and was not reviewed by a human for accuracy

------------------------------
PROGRAM OUTPUT
------------------------------

Output from '/usr/bin/make test':

PERL_DL_NONLAZY=1 "/tmp/basesmoker-reloperl-3oIm/bin/perl" "-MExtUtils::Command::MM" "-MTest::Harness" "-e" "undef *Test::Harness::Switches; test_harness(0, 'blib/lib', 'blib/arch')" t/*.t t/integration/*.t t/unit/*.t
t/00-compile.t ........................................ ok
t/author-pod-syntax.t ................................. skipped: these tests are for testing by the author
t/author-synopsis.t ................................... skipped: these tests are for testing by the author
t/integration/100-client-access-protected-resource.t .. ok
[error] Attribute (response_type) is required at /home/sand/src/perl/repoperls/installed-perls/host/k93focal/v5.41.6/b254/lib/site_perl/5.41.6/x86_64-linux/Moose/Object.pm line 24
	Moose::Object::new('CatalystX::OAuth2::Request::RequestAuth') called at /tmp/loop_over_bdir-1765246-QKz53E/CatalystX-OAuth2-0.001009-0/blib/lib/Catalyst/ActionRole/OAuth2/RequestAuth.pm line 21
	Catalyst::ActionRole::OAuth2::RequestAuth::try {...}  at /home/sand/src/perl/repoperls/installed-perls/host/k93focal/v5.41.6/b254/lib/site_perl/5.41.6/Try/Tiny.pm line 102
	eval {...} at /home/sand/src/perl/repoperls/installed-perls/host/k93focal/v5.41.6/b254/lib/site_perl/5.41.6/Try/Tiny.pm line 93
	Try::Tiny::try('CODE(0x565101636808)', 'Try::Tiny::Catch=REF(0x5651015bad38)') called at /tmp/loop_over_bdir-1765246-QKz53E/CatalystX-OAuth2-0.001009-0/blib/lib/Catalyst/ActionRole/OAuth2/RequestAuth.pm line 31
	Catalyst::ActionRole::OAuth2::RequestAuth::build_oauth2_request('Moose::Meta::Class::__ANON__::SERIAL::11=HASH(0x565101353710)', 'AuthServer::Controller::OAuth2::Provider=HASH(0x565100f6f718)', 'AuthServer=HASH(0x56510127fd28)') called at /tmp/loop_over_bdir-1765246-QKz53E/CatalystX-OAuth2-0.001009-0/blib/lib/CatalystX/OAuth2/ActionRole/RequestInjector.pm line 17
	Class::MOP::Class:::before('Moose::Meta::Class::__ANON__::SERIAL::11=HASH(0x565101353710)', 'AuthServer::Controller::OAuth2::Provider=HASH(0x565100f6f718)', 'AuthServer=HASH(0x56510127fd28)') called at /home/sand/src/perl/repoperls/installed-perls/host/k93focal/v5.41.6/b254/lib/site_perl/5.41.6/x86_64-linux/Class/MOP/Method/Wrapped.pm line 27
	Moose::Meta::Class::__ANON__::SERIAL::11::_wrapped_execute('Moose::Meta::Class::__ANON__::SERIAL::11=HASH(0x565101353710)', 'AuthServer::Controller::OAuth2::Provider=HASH(0x565100f6f718)', 'AuthServer=HASH(0x56510127fd28)') called at /home/sand/src/perl/repoperls/installed-perls/host/k93focal/v5.41.6/b254/lib/site_perl/5.41.6/x86_64-linux/Class/MOP/Method/Wrapped.pm line 97
	Moose::Meta::Class::__ANON__::SERIAL::11::execute('Moose::Meta::Class::__ANON__::SERIAL::11=HASH(0x565101353710)', 'AuthServer::Controller::OAuth2::Provider=HASH(0x565100f6f718)', 'AuthServer=HASH(0x56510127fd28)') called at /home/sand/src/perl/repoperls/installed-perls/host/k93focal/v5.41.6/b254/lib/site_perl/5.41.6/Catalyst.pm line 2067
	eval {...} at /home/sand/src/perl/repoperls/installed-perls/host/k93focal/v5.41.6/b254/lib/site_perl/5.41.6/Catalyst.pm line 2067
	Catalyst::execute('AuthServer=HASH(0x56510127fd28)', 'AuthServer::Controller::OAuth2::Provider', 'Moose::Meta::Class::__ANON__::SERIAL::11=HASH(0x565101353710)') called at /home/sand/src/perl/repoperls/installed-perls/host/k93focal/v5.41.6/b254/lib/site_perl/5.41.6/Catalyst/Action.pm line 368
	Catalyst::Action::dispatch('Moose::Meta::Class::__ANON__::SERIAL::11=HASH(0x565101353710)', 'AuthServer=HASH(0x56510127fd28)') called at /home/sand/src/perl/repoperls/installed-perls/host/k93focal/v5.41.6/b254/lib/site_perl/5.41.6/Catalyst/ActionChain.pm line 74
	Catalyst::ActionChain::_dispatch_chain_actions('Catalyst::ActionChain=HASH(0x565101632438)', 'AuthServer=HASH(0x56510127fd28)') called at /home/sand/src/perl/repoperls/installed-perls/host/k93focal/v5.41.6/b254/lib/site_perl/5.41.6/Catalyst/ActionChain.pm line 43
	Catalyst::ActionChain::dispatch('Catalyst::ActionChain=HASH(0x565101632438)', 'AuthServer=HASH(0x56510127fd28)') called at /home/sand/src/perl/repoperls/installed-perls/host/k93focal/v5.41.6/b254/lib/site_perl/5.41.6/Catalyst/Controller.pm line 170
	Catalyst::Controller::_ACTION('AuthServer::Controller::OAuth2::Provider=HASH(0x565100f6f718)', 'AuthServer=HASH(0x56510127fd28)') called at /home/sand/src/perl/repoperls/installed-perls/host/k93focal/v5.41.6/b254/lib/site_perl/5.41.6/Catalyst/Action.pm line 374
	Catalyst::Action::execute('Catalyst::Action=HASH(0x5651012bce00)', 'AuthServer::Controller::OAuth2::Provider=HASH(0x565100f6f718)', 'AuthServer=HASH(0x56510127fd28)') called at /home/sand/src/perl/repoperls/installed-perls/host/k93focal/v5.41.6/b254/lib/site_perl/5.41.6/Catalyst.pm line 2067
	eval {...} at /home/sand/src/perl/repoperls/installed-perls/host/k93focal/v5.41.6/b254/lib/site_perl/5.41.6/Catalyst.pm line 2067
	Catalyst::execute('AuthServer=HASH(0x56510127fd28)', 'AuthServer::Controller::OAuth2::Provider', 'Catalyst::Action=HASH(0x5651012bce00)') called at /home/sand/src/perl/repoperls/installed-perls/host/k93focal/v5.41.6/b254/lib/site_perl/5.41.6/Catalyst/Action.pm line 368
	Catalyst::Action::dispatch('Catalyst::Action=HASH(0x5651012bce00)', 'AuthServer=HASH(0x56510127fd28)') called at /home/sand/src/perl/repoperls/installed-perls/host/k93focal/v5.41.6/b254/lib/site_perl/5.41.6/Catalyst/Dispatcher.pm line 261
	Catalyst::Dispatcher::_do_forward('Catalyst::Dispatcher=HASH(0x5650ff2ae6c0)', 'forward', 'AuthServer=HASH(0x56510127fd28)', '_ACTION') called at /home/sand/src/perl/repoperls/installed-perls/host/k93focal/v5.41.6/b254/lib/site_perl/5.41.6/Catalyst/Dispatcher.pm line 241
	Catalyst::Dispatcher::forward('Catalyst::Dispatcher=HASH(0x5650ff2ae6c0)', 'AuthServer=HASH(0x56510127fd28)', '_ACTION') called at /home/sand/src/perl/repoperls/installed-perls/host/k93focal/v5.41.6/b254/lib/site_perl/5.41.6/Catalyst.pm line 489
	Catalyst::forward('AuthServer=HASH(0x56510127fd28)', '_ACTION') called at /home/sand/src/perl/repoperls/installed-perls/host/k93focal/v5.41.6/b254/lib/site_perl/5.41.6/Catalyst/Controller.pm line 134
	Catalyst::Controller::_DISPATCH('AuthServer::Controller::OAuth2::Provider=HASH(0x565100f6f718)', 'AuthServer=HASH(0x56510127fd28)') called at /home/sand/src/perl/repoperls/installed-perls/host/k93focal/v5.41.6/b254/lib/site_perl/5.41.6/Catalyst/Action.pm line 374
	Catalyst::Action::execute('Catalyst::Action=HASH(0x5651012b7df8)', 'AuthServer::Controller::OAuth2::Provider=HASH(0x565100f6f718)', 'AuthServer=HASH(0x56510127fd28)') called at /home/sand/src/perl/repoperls/installed-perls/host/k93focal/v5.41.6/b254/lib/site_perl/5.41.6/Catalyst.pm line 2067
	eval {...} at /home/sand/src/perl/repoperls/installed-perls/host/k93focal/v5.41.6/b254/lib/site_perl/5.41.6/Catalyst.pm line 2067
	Catalyst::execute('AuthServer=HASH(0x56510127fd28)', 'AuthServer::Controller::OAuth2::Provider', 'Catalyst::Action=HASH(0x5651012b7df8)') called at /home/sand/src/perl/repoperls/installed-perls/host/k93focal/v5.41.6/b254/lib/site_perl/5.41.6/Catalyst/Action.pm line 368
	Catalyst::Action::dispatch('Catalyst::Action=HASH(0x5651012b7df8)', 'AuthServer=HASH(0x56510127fd28)') called at /home/sand/src/perl/repoperls/installed-perls/host/k93focal/v5.41.6/b254/lib/site_perl/5.41.6/Catalyst/Dispatcher.pm line 261
	Catalyst::Dispatcher::_do_forward('Catalyst::Dispatcher=HASH(0x5650ff2ae6c0)', 'forward', 'AuthServer=HASH(0x56510127fd28)', '/oauth2/provider/_DISPATCH') called at /home/sand/src/perl/repoperls/installed-perls/host/k93focal/v5.41.6/b254/lib/site_perl/5.41.6/Catalyst/Dispatcher.pm line 241
	Catalyst::Dispatcher::forward('Catalyst::Dispatcher=HASH(0x5650ff2ae6c0)', 'AuthServer=HASH(0x56510127fd28)', '/oauth2/provider/_DISPATCH') called at /home/sand/src/perl/repoperls/installed-perls/host/k93focal/v5.41.6/b254/lib/site_perl/5.41.6/Catalyst.pm line 489
	Catalyst::forward('AuthServer=HASH(0x56510127fd28)', '/oauth2/provider/_DISPATCH') called at /home/sand/src/perl/repoperls/installed-perls/host/k93focal/v5.41.6/b254/lib/site_perl/5.41.6/Catalyst/Dispatcher.pm line 107
	Catalyst::Dispatcher::dispatch('Catalyst::Dispatcher=HASH(0x5650ff2ae6c0)', 'AuthServer=HASH(0x56510127fd28)') called at /home/sand/src/perl/repoperls/installed-perls/host/k93focal/v5.41.6/b254/lib/site_perl/5.41.6/Catalyst.pm line 2013
	Catalyst::dispatch('AuthServer=HASH(0x56510127fd28)') called at /home/sand/src/perl/repoperls/installed-perls/host/k93focal/v5.41.6/b254/lib/site_perl/5.41.6/x86_64-linux/Class/MOP/Method/Wrapped.pm line 56
	AuthServer::_wrapped_dispatch('AuthServer=HASH(0x56510127fd28)') called at /home/sand/src/perl/repoperls/installed-perls/host/k93focal/v5.41.6/b254/lib/site_perl/5.41.6/x86_64-linux/Class/MOP/Method/Wrapped.pm line 97
	AuthServer::dispatch('AuthServer=HASH(0x56510127fd28)') called at /home/sand/src/perl/repoperls/installed-perls/host/k93focal/v5.41.6/b254/lib/site_perl/5.41.6/Catalyst.pm line 2419
	Catalyst::try {...}  at /home/sand/src/perl/repoperls/installed-perls/host/k93focal/v5.41.6/b254/lib/site_perl/5.41.6/Try/Tiny.pm line 102
	eval {...} at /home/sand/src/perl/repoperls/installed-perls/host/k93focal/v5.41.6/b254/lib/site_perl/5.41.6/Try/Tiny.pm line 93
	Try::Tiny::try('CODE(0x5651013992a0)', 'Try::Tiny::Catch=REF(0x565100ae9240)') called at /home/sand/src/perl/repoperls/installed-perls/host/k93focal/v5.41.6/b254/lib/site_perl/5.41.6/Catalyst.pm line 2428
	Catalyst::handle_request('AuthServer', 'env', 'HASH(0x5650ffe09980)', 'response_cb', 'CODE(0x56510141be18)') called at /home/sand/src/perl/repoperls/installed-perls/host/k93focal/v5.41.6/b254/lib/site_perl/5.41.6/Catalyst/Engine.pm line 808
	Catalyst::Engine::__ANON__('CODE(0x56510141be18)') called at /home/sand/src/perl/repoperls/installed-perls/host/k93focal/v5.41.6/b254/lib/site_perl/5.41.6/Plack/Middleware/HTTPExceptions.pm line 32
	Plack::Middleware::HTTPExceptions::try {...}  at /home/sand/src/perl/repoperls/installed-perls/host/k93focal/v5.41.6/b254/lib/site_perl/5.41.6/Try/Tiny.pm line 102
	eval {...} at /home/sand/src/perl/repoperls/installed-perls/host/k93focal/v5.41.6/b254/lib/site_perl/5.41.6/Try/Tiny.pm line 93
	Try::Tiny::try('CODE(0x5650ff8d5cb0)', 'Try::Tiny::Catch=REF(0x565101528358)') called at /home/sand/src/perl/repoperls/installed-perls/host/k93focal/v5.41.6/b254/lib/site_perl/5.41.6/Plack/Middleware/HTTPExceptions.pm line 41
	Plack::Middleware::HTTPExceptions::__ANON__('CODE(0x565100a41e78)') called at /home/sand/src/perl/repoperls/installed-perls/host/k93focal/v5.41.6/b254/lib/site_perl/5.41.6/Plack/Util.pm line 339
	Plack::Util::__ANON__('CODE(0x565100f8fb50)') called at /home/sand/src/perl/repoperls/installed-perls/host/k93focal/v5.41.6/b254/lib/site_perl/5.41.6/Plack/Util.pm line 339
	Plack::Util::__ANON__('CODE(0x5651012bd490)') called at /home/sand/src/perl/repoperls/installed-perls/host/k93focal/v5.41.6/b254/lib/site_perl/5.41.6/Plack/Util.pm line 339
	Plack::Util::__ANON__('CODE(0x56510094b8c8)') called at /home/sand/src/perl/repoperls/installed-perls/host/k93focal/v5.41.6/b254/lib/site_perl/5.41.6/HTTP/Message/PSGI.pm line 100
	HTTP::Message::PSGI::res_from_psgi('CODE(0x5650fcdd20f0)') called at /home/sand/src/perl/repoperls/installed-perls/host/k93focal/v5.41.6/b254/lib/site_perl/5.41.6/HTTP/Message/PSGI.pm line 157
	HTTP::Response::from_psgi('HTTP::Response', 'CODE(0x5650fcdd20f0)') called at /home/sand/src/perl/repoperls/installed-perls/host/k93focal/v5.41.6/b254/lib/site_perl/5.41.6/Plack/Test/MockHTTP.pm line 24
	Plack::Test::MockHTTP::try {...}  at /home/sand/src/perl/repoperls/installed-perls/host/k93focal/v5.41.6/b254/lib/site_perl/5.41.6/Try/Tiny.pm line 100
	eval {...} at /home/sand/src/perl/repoperls/installed-perls/host/k93focal/v5.41.6/b254/lib/site_perl/5.41.6/Try/Tiny.pm line 93
	Try::Tiny::try('CODE(0x565101208490)', 'Try::Tiny::Catch=REF(0x5651015bdbf8)') called at /home/sand/src/perl/repoperls/installed-perls/host/k93focal/v5.41.6/b254/lib/site_perl/5.41.6/Plack/Test/MockHTTP.pm line 27
	Plack::Test::MockHTTP::request('Plack::Test::MockHTTP=HASH(0x5651015d1180)', 'HTTP::Request=HASH(0x5651015d0d60)') called at /home/sand/src/perl/repoperls/installed-perls/host/k93focal/v5.41.6/b254/lib/site_perl/5.41.6/Plack/Test.pm line 38
	Plack::Test::__ANON__('HTTP::Request=HASH(0x5651015d0d60)') called at /home/sand/src/perl/repoperls/installed-perls/host/k93focal/v5.41.6/b254/lib/site_perl/5.41.6/Catalyst/Test.pm line 290
	Catalyst::Test::__ANON__('CODE(0x5651015d1120)') called at /home/sand/src/perl/repoperls/installed-perls/host/k93focal/v5.41.6/b254/lib/site_perl/5.41.6/Plack/Test.pm line 38
	Plack::Test::test_psgi('app', 'CODE(0x5651015d0970)', 'mangle_response', 'CODE(0x56510155d150)', 'app', 'CODE(0x565101525b00)', 'client', 'CODE(0x5651015d0fb8)') called at /home/sand/src/perl/repoperls/installed-perls/host/k93focal/v5.41.6/b254/lib/site_perl/5.41.6/Catalyst/Test.pm line 293
	Catalyst::Test::_request('HASH(0x5651015baa08)', '/request') called at /home/sand/src/perl/repoperls/installed-perls/host/k93focal/v5.41.6/b254/lib/site_perl/5.41.6/Catalyst/Test.pm line 336
	Catalyst::Test::_local_request('AuthServer', '/request') called at /home/sand/src/perl/repoperls/installed-perls/host/k93focal/v5.41.6/b254/lib/site_perl/5.41.6/Catalyst/Test.pm line 32
	Catalyst::Test::__ANON__('/request') called at /home/sand/src/perl/repoperls/installed-perls/host/k93focal/v5.41.6/b254/lib/site_perl/5.41.6/Catalyst/Test.pm line 72
	Catalyst::Test::__ANON__('/request') called at t/unit/100-controller-role-provider.t line 30
bless( {
  "Plugin::ConfigLoader" => {},
  action => bless( {
    _chain_captures => [],
    _context => $VAR1,
    _current_chain_actions => [],
    args_constraints => [],
    attributes => {
      Args => [
        0,
      ],
      Chained => [
        "/oauth2/provider/base",
      ],
      Does => [
        "Catalyst::ActionRole::OAuth2::RequestAuth",
      ],
      PathPart => [
        bless( do{\(my $o = "request")}, 'URI::_generic' ),
      ],
    },
    chain => [
      bless( {
        attributes => {
          CaptureArgs => [
            0,
          ],
          Chained => [
            "/",
          ],
          PathPart => [
            bless( do{\(my $o = "")}, 'URI::_generic' ),
          ],
        },
        class => "AuthServer::Controller::OAuth2::Provider",
        code => sub {
            package AuthServer::Controller::OAuth2::Provider;
            use warnings;
            use strict;
            
        },
        name => "base",
        namespace => "oauth2/provider",
        number_of_captures => 0,
        reverse => "oauth2/provider/base",
      }, 'Catalyst::Action' ),
      bless( {
        args_constraints => $VAR1->{action}{args_constraints},
        attributes => $VAR1->{action}{attributes},
        class => "AuthServer::Controller::OAuth2::Provider",
        code => sub {
            package AuthServer::Controller::OAuth2::Provider;
            use warnings;
            use strict;
            
        },
        enable_client_secret => 0,
        name => "request",
        namespace => "oauth2/provider",
        number_of_args => 0,
        reverse => "oauth2/provider/request",
      }, 'Moose::Meta::Class::__ANON__::SERIAL::11' ),
    ],
    class => "AuthServer::Controller::OAuth2::Provider",
    code => $VAR1->{action}{chain}[1]{code},
    enable_client_secret => 0,
    name => "request",
    namespace => "oauth2/provider",
    number_of_args => 0,
    reverse => "oauth2/provider/request",
  }, 'Catalyst::ActionChain' ),
  counter => {},
  home => "/tmp/loop_over_bdir-1765246-QKz53E/CatalystX-OAuth2-0.001009-0/t/lib/AuthServer",
  namespace => "oauth2/provider",
  request => bless( {
    _body => 0,
    _log => bless( {
      _body => undef,
      _psgi_errors => *::STDERR,
      abort => undef,
      autoflush => 1,
      level => 31,
    }, 'Catalyst::Log' ),
    _path => "request",
    _read_length => 0,
    _read_position => 0,
    _use_hash_multivalue => 0,
    action => "/oauth2/provider/request",
    address => "127.0.0.1",
    arguments => [],
    base => bless( do{\(my $o = "http://localhost/")}, 'URI::http' ),
    body_parameters => {},
    captures => [],
    cookies => {},
    data_handlers => {
      "application/json" => sub {
          package Catalyst;
          use warnings;
          use strict;
          my($fh, $req) = @_;
          require JSON::MaybeXS;
          my $slurped;
          return eval {
              do {
                  local $/;
                  $slurped = $fh->getline;
                  &JSON::MaybeXS::decode_json($slurped)
              }
          } || 'Catalyst::Exception'->throw(sprintf(q[Error Parsing POST '%s', Error: %s], defined $slurped ? $slurped : 'undef', $@));
      },
      "application/x-www-form-urlencoded" => sub {
          package Catalyst;
          use warnings;
          use strict;
          my($fh, $req) = @_;
          my $params = $req->_use_hash_multivalue ? $req->body_parameters->mixed : $req->body_parameters;
          Class::Load::load_first_existing_class('CGI::Struct::XS', 'CGI::Struct')->can('build_cgi_struct')->($params);
      },
    },
    env => {
      CONTENT_LENGTH => 0,
      "Catalyst.Stash.v2" => sub {
          package Catalyst::Middleware::Stash;
          use warnings;
          use strict;
          if (@_) {
              my $new_stash = @_ > 1 ? {@_} : $_[0];
              croak('stash takes a hash or hashref') unless ref $new_stash;
              foreach my $key (keys %$new_stash) {
                  $stash->{$key} = $new_stash->{$key};
              }
          }
          $stash;
      },
      HTTP_HOST => "localhost",
      PATH_INFO => "/request",
      QUERY_STRING => "",
      REMOTE_ADDR => "127.0.0.1",
      REMOTE_HOST => "localhost",
      REMOTE_PORT => 23501,
      REQUEST_METHOD => "GET",
      REQUEST_URI => "/request",
      SCRIPT_NAME => "",
      SERVER_NAME => "localhost",
      SERVER_PORT => 80,
      SERVER_PROTOCOL => "HTTP/1.1",
      "plack.original_request_method" => "GET",
      "psgi.errors" => *::STDERR,
      "psgi.input" => \*{"HTTP::Message::PSGI::\$input"},
      "psgi.multiprocess" => !!0,
      "psgi.multithread" => !!0,
      "psgi.nonblocking" => !!0,
      "psgi.run_once" => !!1,
      "psgi.streaming" => !!1,
      "psgi.url_scheme" => "http",
      "psgi.version" => [
        1,
        1,
      ],
    },
    headers => bless( {
      "::std_case" => {
        cookie => "Cookie",
      },
      "content-length" => 0,
      host => "localhost",
    }, 'HTTP::Headers' ),
    hostname => "localhost",
    match => "/oauth2/provider/request",
    method => "GET",
    parameters => {},
    protocol => "HTTP/1.1",
    query_parameters => {},
    remote_user => undef,
    secure => 0,
    uploads => {},
    uri => bless( do{\(my $o = "http://localhost/request")}, 'URI::http' ),
  }, 'Catalyst::Request' ),
  response => bless( {
    _context => $VAR1,
    _log => $VAR1->{request}{_log},
    body => "warning: response_type/client_id invalid or missing",
    cookies => {},
    encodable_content_type => qr/text|xml$|javascript$/,
    encoding => bless( {
      Name => "utf-8-strict",
      strict_utf8 => 1,
    }, 'Encode::utf8' ),
    finalized_headers => 1,
    headers => bless( {}, 'HTTP::Headers' ),
    status => 200,
  }, 'Catalyst::Response' ),
  root => bless( {
    dirs => [
      "",
      "tmp",
      "loop_over_bdir-1765246-QKz53E",
      "CatalystX-OAuth2-0.001009-0",
      "t",
      "lib",
      "AuthServer",
      "root",
    ],
    file_spec_class => undef,
    volume => "",
  }, 'Path::Class::Dir' ),
  stack => [],
  stash => {},
  state => 1,
  stats => bless( {
    enable => 0,
    tree => bless( {
      _children => [],
      _depth => -1,
      _height => 1,
      _node => {
        t => [
          1733164545,
          543637,
        ],
      },
      _parent => "root",
      _uid => "0x56510094bac0",
      _width => 1,
    }, 'Tree::Simple' ),
  }, 'Catalyst::Stats' ),
}, 'AuthServer' )
t/unit/100-controller-role-provider.t ................. ok
[error] Attribute (client_id) is required at /home/sand/src/perl/repoperls/installed-perls/host/k93focal/v5.41.6/b254/lib/site_perl/5.41.6/x86_64-linux/Moose/Object.pm line 24
	Moose::Object::new('CatalystX::OAuth2::Request::RequestAuth') called at /tmp/loop_over_bdir-1765246-QKz53E/CatalystX-OAuth2-0.001009-0/blib/lib/Catalyst/ActionRole/OAuth2/RequestAuth.pm line 21
	Catalyst::ActionRole::OAuth2::RequestAuth::try {...}  at /home/sand/src/perl/repoperls/installed-perls/host/k93focal/v5.41.6/b254/lib/site_perl/5.41.6/Try/Tiny.pm line 102
	eval {...} at /home/sand/src/perl/repoperls/installed-perls/host/k93focal/v5.41.6/b254/lib/site_perl/5.41.6/Try/Tiny.pm line 93
	Try::Tiny::try('CODE(0x55f9e7b373e8)', 'Try::Tiny::Catch=REF(0x55f9e6eabec0)') called at /tmp/loop_over_bdir-1765246-QKz53E/CatalystX-OAuth2-0.001009-0/blib/lib/Catalyst/ActionRole/OAuth2/RequestAuth.pm line 31
	Catalyst::ActionRole::OAuth2::RequestAuth::build_oauth2_request('Moose::Meta::Class::__ANON__::SERIAL::11=HASH(0x55f9e78ae0c0)', 'AuthServer::Controller::OAuth2::Provider=HASH(0x55f9e7746740)', 'AuthServer=HASH(0x55f9e7003a30)') called at /tmp/loop_over_bdir-1765246-QKz53E/CatalystX-OAuth2-0.001009-0/blib/lib/CatalystX/OAuth2/ActionRole/RequestInjector.pm line 17
	Class::MOP::Class:::before('Moose::Meta::Class::__ANON__::SERIAL::11=HASH(0x55f9e78ae0c0)', 'AuthServer::Controller::OAuth2::Provider=HASH(0x55f9e7746740)', 'AuthServer=HASH(0x55f9e7003a30)') called at /home/sand/src/perl/repoperls/installed-perls/host/k93focal/v5.41.6/b254/lib/site_perl/5.41.6/x86_64-linux/Class/MOP/Method/Wrapped.pm line 27
	Moose::Meta::Class::__ANON__::SERIAL::11::_wrapped_execute('Moose::Meta::Class::__ANON__::SERIAL::11=HASH(0x55f9e78ae0c0)', 'AuthServer::Controller::OAuth2::Provider=HASH(0x55f9e7746740)', 'AuthServer=HASH(0x55f9e7003a30)') called at /home/sand/src/perl/repoperls/installed-perls/host/k93focal/v5.41.6/b254/lib/site_perl/5.41.6/x86_64-linux/Class/MOP/Method/Wrapped.pm line 97
	Moose::Meta::Class::__ANON__::SERIAL::11::execute('Moose::Meta::Class::__ANON__::SERIAL::11=HASH(0x55f9e78ae0c0)', 'AuthServer::Controller::OAuth2::Provider=HASH(0x55f9e7746740)', 'AuthServer=HASH(0x55f9e7003a30)') called at /home/sand/src/perl/repoperls/installed-perls/host/k93focal/v5.41.6/b254/lib/site_perl/5.41.6/Catalyst.pm line 2067
	eval {...} at /home/sand/src/perl/repoperls/installed-perls/host/k93focal/v5.41.6/b254/lib/site_perl/5.41.6/Catalyst.pm line 2067
	Catalyst::execute('AuthServer=HASH(0x55f9e7003a30)', 'AuthServer::Controller::OAuth2::Provider', 'Moose::Meta::Class::__ANON__::SERIAL::11=HASH(0x55f9e78ae0c0)') called at /home/sand/src/perl/repoperls/installed-perls/host/k93focal/v5.41.6/b254/lib/site_perl/5.41.6/Catalyst/Action.pm line 368
	Catalyst::Action::dispatch('Moose::Meta::Class::__ANON__::SERIAL::11=HASH(0x55f9e78ae0c0)', 'AuthServer=HASH(0x55f9e7003a30)') called at /home/sand/src/perl/repoperls/installed-perls/host/k93focal/v5.41.6/b254/lib/site_perl/5.41.6/Catalyst/ActionChain.pm line 74
	Catalyst::ActionChain::_dispatch_chain_actions('Catalyst::ActionChain=HASH(0x55f9e7b33990)', 'AuthServer=HASH(0x55f9e7003a30)') called at /home/sand/src/perl/repoperls/installed-perls/host/k93focal/v5.41.6/b254/lib/site_perl/5.41.6/Catalyst/ActionChain.pm line 43
	Catalyst::ActionChain::dispatch('Catalyst::ActionChain=HASH(0x55f9e7b33990)', 'AuthServer=HASH(0x55f9e7003a30)') called at /home/sand/src/perl/repoperls/installed-perls/host/k93focal/v5.41.6/b254/lib/site_perl/5.41.6/Catalyst/Controller.pm line 170
	Catalyst::Controller::_ACTION('AuthServer::Controller::OAuth2::Provider=HASH(0x55f9e7746740)', 'AuthServer=HASH(0x55f9e7003a30)') called at /home/sand/src/perl/repoperls/installed-perls/host/k93focal/v5.41.6/b254/lib/site_perl/5.41.6/Catalyst/Action.pm line 374
	Catalyst::Action::execute('Catalyst::Action=HASH(0x55f9e7817f20)', 'AuthServer::Controller::OAuth2::Provider=HASH(0x55f9e7746740)', 'AuthServer=HASH(0x55f9e7003a30)') called at /home/sand/src/perl/repoperls/installed-perls/host/k93focal/v5.41.6/b254/lib/site_perl/5.41.6/Catalyst.pm line 2067
	eval {...} at /home/sand/src/perl/repoperls/installed-perls/host/k93focal/v5.41.6/b254/lib/site_perl/5.41.6/Catalyst.pm line 2067
	Catalyst::execute('AuthServer=HASH(0x55f9e7003a30)', 'AuthServer::Controller::OAuth2::Provider', 'Catalyst::Action=HASH(0x55f9e7817f20)') called at /home/sand/src/perl/repoperls/installed-perls/host/k93focal/v5.41.6/b254/lib/site_perl/5.41.6/Catalyst/Action.pm line 368
	Catalyst::Action::dispatch('Catalyst::Action=HASH(0x55f9e7817f20)', 'AuthServer=HASH(0x55f9e7003a30)') called at /home/sand/src/perl/repoperls/installed-perls/host/k93focal/v5.41.6/b254/lib/site_perl/5.41.6/Catalyst/Dispatcher.pm line 261
	Catalyst::Dispatcher::_do_forward('Catalyst::Dispatcher=HASH(0x55f9e5809e48)', 'forward', 'AuthServer=HASH(0x55f9e7003a30)', '_ACTION') called at /home/sand/src/perl/repoperls/installed-perls/host/k93focal/v5.41.6/b254/lib/site_perl/5.41.6/Catalyst/Dispatcher.pm line 241
	Catalyst::Dispatcher::forward('Catalyst::Dispatcher=HASH(0x55f9e5809e48)', 'AuthServer=HASH(0x55f9e7003a30)', '_ACTION') called at /home/sand/src/perl/repoperls/installed-perls/host/k93focal/v5.41.6/b254/lib/site_perl/5.41.6/Catalyst.pm line 489
	Catalyst::forward('AuthServer=HASH(0x55f9e7003a30)', '_ACTION') called at /home/sand/src/perl/repoperls/installed-perls/host/k93focal/v5.41.6/b254/lib/site_perl/5.41.6/Catalyst/Controller.pm line 134
	Catalyst::Controller::_DISPATCH('AuthServer::Controller::OAuth2::Provider=HASH(0x55f9e7746740)', 'AuthServer=HASH(0x55f9e7003a30)') called at /home/sand/src/perl/repoperls/installed-perls/host/k93focal/v5.41.6/b254/lib/site_perl/5.41.6/Catalyst/Action.pm line 374
	Catalyst::Action::execute('Catalyst::Action=HASH(0x55f9e7811c78)', 'AuthServer::Controller::OAuth2::Provider=HASH(0x55f9e7746740)', 'AuthServer=HASH(0x55f9e7003a30)') called at /home/sand/src/perl/repoperls/installed-perls/host/k93focal/v5.41.6/b254/lib/site_perl/5.41.6/Catalyst.pm line 2067
	eval {...} at /home/sand/src/perl/repoperls/installed-perls/host/k93focal/v5.41.6/b254/lib/site_perl/5.41.6/Catalyst.pm line 2067
	Catalyst::execute('AuthServer=HASH(0x55f9e7003a30)', 'AuthServer::Controller::OAuth2::Provider', 'Catalyst::Action=HASH(0x55f9e7811c78)') called at /home/sand/src/perl/repoperls/installed-perls/host/k93focal/v5.41.6/b254/lib/site_perl/5.41.6/Catalyst/Action.pm line 368
	Catalyst::Action::dispatch('Catalyst::Action=HASH(0x55f9e7811c78)', 'AuthServer=HASH(0x55f9e7003a30)') called at /home/sand/src/perl/repoperls/installed-perls/host/k93focal/v5.41.6/b254/lib/site_perl/5.41.6/Catalyst/Dispatcher.pm line 261
	Catalyst::Dispatcher::_do_forward('Catalyst::Dispatcher=HASH(0x55f9e5809e48)', 'forward', 'AuthServer=HASH(0x55f9e7003a30)', '/oauth2/provider/_DISPATCH') called at /home/sand/src/perl/repoperls/installed-perls/host/k93focal/v5.41.6/b254/lib/site_perl/5.41.6/Catalyst/Dispatcher.pm line 241
	Catalyst::Dispatcher::forward('Catalyst::Dispatcher=HASH(0x55f9e5809e48)', 'AuthServer=HASH(0x55f9e7003a30)', '/oauth2/provider/_DISPATCH') called at /home/sand/src/perl/repoperls/installed-perls/host/k93focal/v5.41.6/b254/lib/site_perl/5.41.6/Catalyst.pm line 489
	Catalyst::forward('AuthServer=HASH(0x55f9e7003a30)', '/oauth2/provider/_DISPATCH') called at /home/sand/src/perl/repoperls/installed-perls/host/k93focal/v5.41.6/b254/lib/site_perl/5.41.6/Catalyst/Dispatcher.pm line 107
	Catalyst::Dispatcher::dispatch('Catalyst::Dispatcher=HASH(0x55f9e5809e48)', 'AuthServer=HASH(0x55f9e7003a30)') called at /home/sand/src/perl/repoperls/installed-perls/host/k93focal/v5.41.6/b254/lib/site_perl/5.41.6/Catalyst.pm line 2013
	Catalyst::dispatch('AuthServer=HASH(0x55f9e7003a30)') called at /home/sand/src/perl/repoperls/installed-perls/host/k93focal/v5.41.6/b254/lib/site_perl/5.41.6/x86_64-linux/Class/MOP/Method/Wrapped.pm line 56
	AuthServer::_wrapped_dispatch('AuthServer=HASH(0x55f9e7003a30)') called at /home/sand/src/perl/repoperls/installed-perls/host/k93focal/v5.41.6/b254/lib/site_perl/5.41.6/x86_64-linux/Class/MOP/Method/Wrapped.pm line 97
	AuthServer::dispatch('AuthServer=HASH(0x55f9e7003a30)') called at /home/sand/src/perl/repoperls/installed-perls/host/k93focal/v5.41.6/b254/lib/site_perl/5.41.6/Catalyst.pm line 2419
	Catalyst::try {...}  at /home/sand/src/perl/repoperls/installed-perls/host/k93focal/v5.41.6/b254/lib/site_perl/5.41.6/Try/Tiny.pm line 102
	eval {...} at /home/sand/src/perl/repoperls/installed-perls/host/k93focal/v5.41.6/b254/lib/site_perl/5.41.6/Try/Tiny.pm line 93
	Try::Tiny::try('CODE(0x55f9e79b51c0)', 'Try::Tiny::Catch=REF(0x55f9e791b2b8)') called at /home/sand/src/perl/repoperls/installed-perls/host/k93focal/v5.41.6/b254/lib/site_perl/5.41.6/Catalyst.pm line 2428
	Catalyst::handle_request('AuthServer', 'env', 'HASH(0x55f9e6c04e78)', 'response_cb', 'CODE(0x55f9e792c998)') called at /home/sand/src/perl/repoperls/installed-perls/host/k93focal/v5.41.6/b254/lib/site_perl/5.41.6/Catalyst/Engine.pm line 808
	Catalyst::Engine::__ANON__('CODE(0x55f9e792c998)') called at /home/sand/src/perl/repoperls/installed-perls/host/k93focal/v5.41.6/b254/lib/site_perl/5.41.6/Plack/Middleware/HTTPExceptions.pm line 32
	Plack::Middleware::HTTPExceptions::try {...}  at /home/sand/src/perl/repoperls/installed-perls/host/k93focal/v5.41.6/b254/lib/site_perl/5.41.6/Try/Tiny.pm line 102
	eval {...} at /home/sand/src/perl/repoperls/installed-perls/host/k93focal/v5.41.6/b254/lib/site_perl/5.41.6/Try/Tiny.pm line 93
	Try::Tiny::try('CODE(0x55f9e686c000)', 'Try::Tiny::Catch=REF(0x55f9e63189b8)') called at /home/sand/src/perl/repoperls/installed-perls/host/k93focal/v5.41.6/b254/lib/site_perl/5.41.6/Plack/Middleware/HTTPExceptions.pm line 41
	Plack::Middleware::HTTPExceptions::__ANON__('CODE(0x55f9e78f9e50)') called at /home/sand/src/perl/repoperls/installed-perls/host/k93focal/v5.41.6/b254/lib/site_perl/5.41.6/Plack/Util.pm line 339
	Plack::Util::__ANON__('CODE(0x55f9e78ffc88)') called at /home/sand/src/perl/repoperls/installed-perls/host/k93focal/v5.41.6/b254/lib/site_perl/5.41.6/Plack/Util.pm line 339
	Plack::Util::__ANON__('CODE(0x55f9e74caf80)') called at /home/sand/src/perl/repoperls/installed-perls/host/k93focal/v5.41.6/b254/lib/site_perl/5.41.6/Plack/Util.pm line 339
	Plack::Util::__ANON__('CODE(0x55f9e6ed2538)') called at /home/sand/src/perl/repoperls/installed-perls/host/k93focal/v5.41.6/b254/lib/site_perl/5.41.6/HTTP/Message/PSGI.pm line 100
	HTTP::Message::PSGI::res_from_psgi('CODE(0x55f9e7a82958)') called at /home/sand/src/perl/repoperls/installed-perls/host/k93focal/v5.41.6/b254/lib/site_perl/5.41.6/HTTP/Message/PSGI.pm line 157
	HTTP::Response::from_psgi('HTTP::Response', 'CODE(0x55f9e7a82958)') called at /home/sand/src/perl/repoperls/installed-perls/host/k93focal/v5.41.6/b254/lib/site_perl/5.41.6/Plack/Test/MockHTTP.pm line 24
	Plack::Test::MockHTTP::try {...}  at /home/sand/src/perl/repoperls/installed-perls/host/k93focal/v5.41.6/b254/lib/site_perl/5.41.6/Try/Tiny.pm line 100
	eval {...} at /home/sand/src/perl/repoperls/installed-perls/host/k93focal/v5.41.6/b254/lib/site_perl/5.41.6/Try/Tiny.pm line 93
	Try::Tiny::try('CODE(0x55f9e72356c0)', 'Try::Tiny::Catch=REF(0x55f9e3307e78)') called at /home/sand/src/perl/repoperls/installed-perls/host/k93focal/v5.41.6/b254/lib/site_perl/5.41.6/Plack/Test/MockHTTP.pm line 27
	Plack::Test::MockHTTP::request('Plack::Test::MockHTTP=HASH(0x55f9e7acb468)', 'HTTP::Request=HASH(0x55f9e7acb030)') called at /home/sand/src/perl/repoperls/installed-perls/host/k93focal/v5.41.6/b254/lib/site_perl/5.41.6/Plack/Test.pm line 38
	Plack::Test::__ANON__('HTTP::Request=HASH(0x55f9e7acb030)') called at /home/sand/src/perl/repoperls/installed-perls/host/k93focal/v5.41.6/b254/lib/site_perl/5.41.6/Catalyst/Test.pm line 290
	Catalyst::Test::__ANON__('CODE(0x55f9e7acb3f0)') called at /home/sand/src/perl/repoperls/installed-perls/host/k93focal/v5.41.6/b254/lib/site_perl/5.41.6/Plack/Test.pm line 38
	Plack::Test::test_psgi('mangle_response', 'CODE(0x55f9e4bdda28)', 'app', 'CODE(0x55f9e7acac40)', 'app', 'CODE(0x55f9e7a800d8)', 'client', 'CODE(0x55f9e7acb288)') called at /home/sand/src/perl/repoperls/installed-perls/host/k93focal/v5.41.6/b254/lib/site_perl/5.41.6/Catalyst/Test.pm line 293
	Catalyst::Test::_request('HASH(0x55f9e7ab9e48)', '/request') called at /home/sand/src/perl/repoperls/installed-perls/host/k93focal/v5.41.6/b254/lib/site_perl/5.41.6/Catalyst/Test.pm line 336
	Catalyst::Test::_local_request('AuthServer', '/request') called at /home/sand/src/perl/repoperls/installed-perls/host/k93focal/v5.41.6/b254/lib/site_perl/5.41.6/Catalyst/Test.pm line 32
	Catalyst::Test::__ANON__('/request') called at /home/sand/src/perl/repoperls/installed-perls/host/k93focal/v5.41.6/b254/lib/site_perl/5.41.6/Catalyst/Test.pm line 72
	Catalyst::Test::__ANON__('/request') called at t/unit/200-actionrole-request-auth.t line 15
[error] Attribute (client_id) is required at /home/sand/src/perl/repoperls/installed-perls/host/k93focal/v5.41.6/b254/lib/site_perl/5.41.6/x86_64-linux/Moose/Object.pm line 24
	Moose::Object::new('CatalystX::OAuth2::Request::RequestAuth') called at /tmp/loop_over_bdir-1765246-QKz53E/CatalystX-OAuth2-0.001009-0/blib/lib/Catalyst/ActionRole/OAuth2/RequestAuth.pm line 21
	Catalyst::ActionRole::OAuth2::RequestAuth::try {...}  at /home/sand/src/perl/repoperls/installed-perls/host/k93focal/v5.41.6/b254/lib/site_perl/5.41.6/Try/Tiny.pm line 102
	eval {...} at /home/sand/src/perl/repoperls/installed-perls/host/k93focal/v5.41.6/b254/lib/site_perl/5.41.6/Try/Tiny.pm line 93
	Try::Tiny::try('CODE(0x55f9e7bf2fa0)', 'Try::Tiny::Catch=REF(0x55f9e7b46730)') called at /tmp/loop_over_bdir-1765246-QKz53E/CatalystX-OAuth2-0.001009-0/blib/lib/Catalyst/ActionRole/OAuth2/RequestAuth.pm line 31
	Catalyst::ActionRole::OAuth2::RequestAuth::build_oauth2_request('Moose::Meta::Class::__ANON__::SERIAL::11=HASH(0x55f9e78ae0c0)', 'AuthServer::Controller::OAuth2::Provider=HASH(0x55f9e7746740)', 'AuthServer=HASH(0x55f9e7003a30)') called at /tmp/loop_over_bdir-1765246-QKz53E/CatalystX-OAuth2-0.001009-0/blib/lib/CatalystX/OAuth2/ActionRole/RequestInjector.pm line 17
	Class::MOP::Class:::before('Moose::Meta::Class::__ANON__::SERIAL::11=HASH(0x55f9e78ae0c0)', 'AuthServer::Controller::OAuth2::Provider=HASH(0x55f9e7746740)', 'AuthServer=HASH(0x55f9e7003a30)') called at /home/sand/src/perl/repoperls/installed-perls/host/k93focal/v5.41.6/b254/lib/site_perl/5.41.6/x86_64-linux/Class/MOP/Method/Wrapped.pm line 27
	Moose::Meta::Class::__ANON__::SERIAL::11::_wrapped_execute('Moose::Meta::Class::__ANON__::SERIAL::11=HASH(0x55f9e78ae0c0)', 'AuthServer::Controller::OAuth2::Provider=HASH(0x55f9e7746740)', 'AuthServer=HASH(0x55f9e7003a30)') called at /home/sand/src/perl/repoperls/installed-perls/host/k93focal/v5.41.6/b254/lib/site_perl/5.41.6/x86_64-linux/Class/MOP/Method/Wrapped.pm line 97
	Moose::Meta::Class::__ANON__::SERIAL::11::execute('Moose::Meta::Class::__ANON__::SERIAL::11=HASH(0x55f9e78ae0c0)', 'AuthServer::Controller::OAuth2::Provider=HASH(0x55f9e7746740)', 'AuthServer=HASH(0x55f9e7003a30)') called at /home/sand/src/perl/repoperls/installed-perls/host/k93focal/v5.41.6/b254/lib/site_perl/5.41.6/Catalyst.pm line 2067
	eval {...} at /home/sand/src/perl/repoperls/installed-perls/host/k93focal/v5.41.6/b254/lib/site_perl/5.41.6/Catalyst.pm line 2067
	Catalyst::execute('AuthServer=HASH(0x55f9e7003a30)', 'AuthServer::Controller::OAuth2::Provider', 'Moose::Meta::Class::__ANON__::SERIAL::11=HASH(0x55f9e78ae0c0)') called at /home/sand/src/perl/repoperls/installed-perls/host/k93focal/v5.41.6/b254/lib/site_perl/5.41.6/Catalyst/Action.pm line 368
	Catalyst::Action::dispatch('Moose::Meta::Class::__ANON__::SERIAL::11=HASH(0x55f9e78ae0c0)', 'AuthServer=HASH(0x55f9e7003a30)') called at /home/sand/src/perl/repoperls/installed-perls/host/k93focal/v5.41.6/b254/lib/site_perl/5.41.6/Catalyst/ActionChain.pm line 74
	Catalyst::ActionChain::_dispatch_chain_actions('Catalyst::ActionChain=HASH(0x55f9e7b33990)', 'AuthServer=HASH(0x55f9e7003a30)') called at /home/sand/src/perl/repoperls/installed-perls/host/k93focal/v5.41.6/b254/lib/site_perl/5.41.6/Catalyst/ActionChain.pm line 43
	Catalyst::ActionChain::dispatch('Catalyst::ActionChain=HASH(0x55f9e7b33990)', 'AuthServer=HASH(0x55f9e7003a30)') called at /home/sand/src/perl/repoperls/installed-perls/host/k93focal/v5.41.6/b254/lib/site_perl/5.41.6/Catalyst/Controller.pm line 170
	Catalyst::Controller::_ACTION('AuthServer::Controller::OAuth2::Provider=HASH(0x55f9e7746740)', 'AuthServer=HASH(0x55f9e7003a30)') called at /home/sand/src/perl/repoperls/installed-perls/host/k93focal/v5.41.6/b254/lib/site_perl/5.41.6/Catalyst/Action.pm line 374
	Catalyst::Action::execute('Catalyst::Action=HASH(0x55f9e7817f20)', 'AuthServer::Controller::OAuth2::Provider=HASH(0x55f9e7746740)', 'AuthServer=HASH(0x55f9e7003a30)') called at /home/sand/src/perl/repoperls/installed-perls/host/k93focal/v5.41.6/b254/lib/site_perl/5.41.6/Catalyst.pm line 2067
	eval {...} at /home/sand/src/perl/repoperls/installed-perls/host/k93focal/v5.41.6/b254/lib/site_perl/5.41.6/Catalyst.pm line 2067
	Catalyst::execute('AuthServer=HASH(0x55f9e7003a30)', 'AuthServer::Controller::OAuth2::Provider', 'Catalyst::Action=HASH(0x55f9e7817f20)') called at /home/sand/src/perl/repoperls/installed-perls/host/k93focal/v5.41.6/b254/lib/site_perl/5.41.6/Catalyst/Action.pm line 368
	Catalyst::Action::dispatch('Catalyst::Action=HASH(0x55f9e7817f20)', 'AuthServer=HASH(0x55f9e7003a30)') called at /home/sand/src/perl/repoperls/installed-perls/host/k93focal/v5.41.6/b254/lib/site_perl/5.41.6/Catalyst/Dispatcher.pm line 261
	Catalyst::Dispatcher::_do_forward('Catalyst::Dispatcher=HASH(0x55f9e5809e48)', 'forward', 'AuthServer=HASH(0x55f9e7003a30)', '_ACTION') called at /home/sand/src/perl/repoperls/installed-perls/host/k93focal/v5.41.6/b254/lib/site_perl/5.41.6/Catalyst/Dispatcher.pm line 241
	Catalyst::Dispatcher::forward('Catalyst::Dispatcher=HASH(0x55f9e5809e48)', 'AuthServer=HASH(0x55f9e7003a30)', '_ACTION') called at /home/sand/src/perl/repoperls/installed-perls/host/k93focal/v5.41.6/b254/lib/site_perl/5.41.6/Catalyst.pm line 489
	Catalyst::forward('AuthServer=HASH(0x55f9e7003a30)', '_ACTION') called at /home/sand/src/perl/repoperls/installed-perls/host/k93focal/v5.41.6/b254/lib/site_perl/5.41.6/Catalyst/Controller.pm line 134
	Catalyst::Controller::_DISPATCH('AuthServer::Controller::OAuth2::Provider=HASH(0x55f9e7746740)', 'AuthServer=HASH(0x55f9e7003a30)') called at /home/sand/src/perl/repoperls/installed-perls/host/k93focal/v5.41.6/b254/lib/site_perl/5.41.6/Catalyst/Action.pm line 374
	Catalyst::Action::execute('Catalyst::Action=HASH(0x55f9e7811c78)', 'AuthServer::Controller::OAuth2::Provider=HASH(0x55f9e7746740)', 'AuthServer=HASH(0x55f9e7003a30)') called at /home/sand/src/perl/repoperls/installed-perls/host/k93focal/v5.41.6/b254/lib/site_perl/5.41.6/Catalyst.pm line 2067
	eval {...} at /home/sand/src/perl/repoperls/installed-perls/host/k93focal/v5.41.6/b254/lib/site_perl/5.41.6/Catalyst.pm line 2067
	Catalyst::execute('AuthServer=HASH(0x55f9e7003a30)', 'AuthServer::Controller::OAuth2::Provider', 'Catalyst::Action=HASH(0x55f9e7811c78)') called at /home/sand/src/perl/repoperls/installed-perls/host/k93focal/v5.41.6/b254/lib/site_perl/5.41.6/Catalyst/Action.pm line 368
	Catalyst::Action::dispatch('Catalyst::Action=HASH(0x55f9e7811c78)', 'AuthServer=HASH(0x55f9e7003a30)') called at /home/sand/src/perl/repoperls/installed-perls/host/k93focal/v5.41.6/b254/lib/site_perl/5.41.6/Catalyst/Dispatcher.pm line 261
	Catalyst::Dispatcher::_do_forward('Catalyst::Dispatcher=HASH(0x55f9e5809e48)', 'forward', 'AuthServer=HASH(0x55f9e7003a30)', '/oauth2/provider/_DISPATCH') called at /home/sand/src/perl/repoperls/installed-perls/host/k93focal/v5.41.6/b254/lib/site_perl/5.41.6/Catalyst/Dispatcher.pm line 241
	Catalyst::Dispatcher::forward('Catalyst::Dispatcher=HASH(0x55f9e5809e48)', 'AuthServer=HASH(0x55f9e7003a30)', '/oauth2/provider/_DISPATCH') called at /home/sand/src/perl/repoperls/installed-perls/host/k93focal/v5.41.6/b254/lib/site_perl/5.41.6/Catalyst.pm line 489
	Catalyst::forward('AuthServer=HASH(0x55f9e7003a30)', '/oauth2/provider/_DISPATCH') called at /home/sand/src/perl/repoperls/installed-perls/host/k93focal/v5.41.6/b254/lib/site_perl/5.41.6/Catalyst/Dispatcher.pm line 107
	Catalyst::Dispatcher::dispatch('Catalyst::Dispatcher=HASH(0x55f9e5809e48)', 'AuthServer=HASH(0x55f9e7003a30)') called at /home/sand/src/perl/repoperls/installed-perls/host/k93focal/v5.41.6/b254/lib/site_perl/5.41.6/Catalyst.pm line 2013
	Catalyst::dispatch('AuthServer=HASH(0x55f9e7003a30)') called at /home/sand/src/perl/repoperls/installed-perls/host/k93focal/v5.41.6/b254/lib/site_perl/5.41.6/x86_64-linux/Class/MOP/Method/Wrapped.pm line 56
	AuthServer::_wrapped_dispatch('AuthServer=HASH(0x55f9e7003a30)') called at /home/sand/src/perl/repoperls/installed-perls/host/k93focal/v5.41.6/b254/lib/site_perl/5.41.6/x86_64-linux/Class/MOP/Method/Wrapped.pm line 97
	AuthServer::dispatch('AuthServer=HASH(0x55f9e7003a30)') called at t/unit/200-actionrole-request-auth.t line 19
[warn] Useless setting a header value after finalize_headers and the response callback has been called. Since we don't support tail headers this will not work as you might expect.
[warn] Useless setting a header value after finalize_headers and the response callback has been called. Since we don't support tail headers this will not work as you might expect.
t/unit/200-actionrole-request-auth.t .................. ok
[warn] Useless setting a header value after finalize_headers and the response callback has been called. Since we don't support tail headers this will not work as you might expect.
[warn] Useless setting a header value after finalize_headers and the response callback has been called. Since we don't support tail headers this will not work as you might expect.
[warn] Useless setting a header value after finalize_headers and the response callback has been called. Since we don't support tail headers this will not work as you might expect.
t/unit/300-actionrole-grant-auth.t .................... ok
t/unit/400-actionrole-auth-token-via-auth-grant.t ..... ok
t/unit/500-actionrole-auth-token-via-refresh-token.t .. ok
[warn] Useless setting a header value after finalize_headers and the response callback has been called. Since we don't support tail headers this will not work as you might expect.
t/unit/600-actionrole-protected-resource.t ............ ok
[error] No default action defined
[warn] Useless setting a header value after finalize_headers and the response callback has been called. Since we don't support tail headers this will not work as you might expect.
[error] No default action defined
t/unit/700-client.t ................................... ok
All tests successful.
Files=11, Tests=153, 18 wallclock secs ( 0.05 usr  0.01 sys + 16.57 cusr  1.43 csys = 18.06 CPU)
Result: PASS

------------------------------
PREREQUISITES
------------------------------

Prerequisite modules loaded:

requires:

    Module                                   Need    Have      
    ---------------------------------------- ------- ----------
    base                                     0       2.27      
    Class::Load                              0       0.25      
    DBIx::Class                              0       0.082843  
    DBIx::Class::ResultSet                   0       0         
    DBIx::Class::Schema                      0       0         
    HTTP::Request::Common                    0       7.00      
    JSON::Any                                0       1.40      
    LWP::UserAgent                           0       6.77      
    Moose                                    0       2.2207    
    Moose::Role                              0       2.2207    
    Moose::Util                              0       2.2207    
    Moose::Util::TypeConstraints             0       2.2207    
    MooseX::NonMoose                         0       0.26      
    MooseX::SetOnce                          0       0.203     
    MooseX::Types::Common::String            0       0.001014  
    parent                                   0       0.242_001 
    perl                                     5.006   5.041006  
    Scalar::Util                             0       1.68_01   
    strict                                   0       1.13      
    Try::Tiny                                0       0.32      
    URI                                      0       5.31      
    warnings                                 0       1.71      

build_requires:

    Module                                   Need    Have      
    ---------------------------------------- ------- ----------
    blib                                     1.01    1.07      
    Catalyst                                 0       5.90132   
    Catalyst::Controller                     0       0         
    Catalyst::Controller::ActionRole         0       0.17      
    Catalyst::Model::DBIC::Schema            0       0.66      
    Catalyst::Plugin::Authentication         0       0.10024   
    Catalyst::Plugin::ConfigLoader           0       0.35      
    Catalyst::Plugin::Session                0       0.43      
    Catalyst::Plugin::Session::State::Cookie 0       0.18      
    Catalyst::Test                           0       0         
    Devel::Dwarn                             0       0         
    ExtUtils::MakeMaker                      0       7.70      
    File::Spec                               0       3.93      
    HTTP::Request                            0       7.00      
    IO::Handle                               0       1.55      
    IPC::Open3                               0       1.24      
    lib                                      0       0.65      
    namespace::autoclean                     0       0.31      
    Plack::Builder                           0       0         
    Plack::Test                              0       0         
    SQL::Translator                          0.11006 1.66      
    strictures                               1       2.000006  
    Test::Exception                          0       0.43      
    Test::MockObject                         0       1.20200122
    Test::More                               0       1.302204  
    Test::WWW::Mechanize::PSGI               0       0.39      

configure_requires:

    Module                                   Need    Have      
    ---------------------------------------- ------- ----------
    ExtUtils::MakeMaker                      0       7.70      


------------------------------
ENVIRONMENT AND OTHER CONTEXT
------------------------------

Environment variables:

    AUTOMATED_TESTING = 1
    LANG = en_US.UTF-8
    PATH = /home/sand/bin:/usr/local/bin:/usr/local/sbin:/usr/sbin:/usr/bin:/sbin:/bin:/usr/games:/usr/local/games:/snap/bin:/usr/local/perl/bin:/usr/X11/bin
    PERL = /tmp/basesmoker-reloperl-3oIm/bin/perl
    PERL5LIB = /tmp/loop_over_bdir-1765246-QKz53E/LiquidWeb-Storm-CLI-1.03-0/blib/arch:/tmp/loop_over_bdir-1765246-QKz53E/LiquidWeb-Storm-CLI-1.03-0/blib/lib:/tmp/loop_over_bdir-1765246-QKz53E/Debian-Packages-0.03-0/blib/arch:/tmp/loop_over_bdir-1765246-QKz53E/Debian-Packages-0.03-0/blib/lib:/tmp/loop_over_bdir-1765246-QKz53E/Module-ScanDeps-Static-1.7.1-0/blib/arch:/tmp/loop_over_bdir-1765246-QKz53E/Module-ScanDeps-Static-1.7.1-0/blib/lib:/tmp/loop_over_bdir-1765246-QKz53E/Simulation-Automate-1.0.1-0/blib/arch:/tmp/loop_over_bdir-1765246-QKz53E/Simulation-Automate-1.0.1-0/blib/lib
    PERL5OPT = 
    PERL5_CPANPLUS_IS_RUNNING = 1765259
    PERL5_CPAN_IS_RUNNING = 1765259
    PERL_CANARY_STABILITY_NOPROMPT = 1
    PERL_MM_USE_DEFAULT = 1
    PERL_USE_UNSAFE_INC = 1
    SHELL = /usr/bin/zsh
    TERM = screen

Perl special variables (and OS-specific diagnostics, for MSWin32):

    $^X = /tmp/basesmoker-reloperl-3oIm/bin/perl
    $UID/$EUID = 1005 / 1005
    $GID = 1005 1005
    $EGID = 1005 1005

Perl module toolchain versions installed:

    Module              Have    
    ------------------- --------
    CPAN                2.38    
    CPAN::Meta          2.150010
    Cwd                 3.92    
    ExtUtils::CBuilder  0.280240
    ExtUtils::Command   7.70    
    ExtUtils::Install   2.22    
    ExtUtils::MakeMaker 7.70    
    ExtUtils::Manifest  1.75    
    ExtUtils::ParseXS   3.56    
    File::Spec          3.93    
    JSON                4.10    
    JSON::PP            4.16    
    Module::Build       0.4234  
    Module::Signature   0.89    
    Parse::CPAN::Meta   2.150010
    Test2               1.302204
    Test::Harness       3.50    
    Test::More          1.302204
    YAML                1.31    
    YAML::Syck          1.34    
    version             0.9933  


--

Summary of my perl5 (revision 5 version 41 subversion 6) configuration:
  Commit id: 5ae25c7756bbd08831a5a3900da1d60b7ba2c19a
  Platform:
    osname=linux
    osvers=5.4.0-200-generic
    archname=x86_64-linux
    uname='linux k93focal 5.4.0-200-generic #220-ubuntu smp fri sep 27 13:19:16 utc 2024 x86_64 x86_64 x86_64 gnulinux '
    config_args='-Dprefix=/home/sand/src/perl/repoperls/installed-perls/host/k93focal/v5.41.6/b254 -Dmyhostname=k93focal -Dinstallusrbinperl=n -Uversiononly -Dusedevel -des -Ui_db -Dlibswanted=cl pthread socket inet nsl gdbm dbm malloc dl ld sun m crypt sec util c cposix posix ucb BSD gdbm_compat -Uuseithreads -Uuselongdouble -DEBUGGING=both'
    hint=recommended
    useposix=true
    d_sigaction=define
    useithreads=undef
    usemultiplicity=undef
    use64bitint=define
    use64bitall=define
    uselongdouble=undef
    usemymalloc=n
    default_inc_excludes_dot=define
  Compiler:
    cc='cc'
    ccflags ='-fwrapv -DDEBUGGING -fno-strict-aliasing -pipe -fstack-protector-strong -I/usr/local/include -D_LARGEFILE_SOURCE -D_FILE_OFFSET_BITS=64'
    optimize='-O2 -g'
    cppflags='-fwrapv -DDEBUGGING -fno-strict-aliasing -pipe -fstack-protector-strong -I/usr/local/include'
    ccversion=''
    gccversion='9.4.0'
    gccosandvers=''
    intsize=4
    longsize=8
    ptrsize=8
    doublesize=8
    byteorder=12345678
    doublekind=3
    d_longlong=define
    longlongsize=8
    d_longdbl=define
    longdblsize=16
    longdblkind=3
    ivtype='long'
    ivsize=8
    nvtype='double'
    nvsize=8
    Off_t='off_t'
    lseeksize=8
    alignbytes=8
    prototype=define
  Linker and Libraries:
    ld='cc'
    ldflags =' -fstack-protector-strong -L/usr/local/lib'
    libpth=/usr/local/lib /usr/lib/x86_64-linux-gnu /usr/lib /usr/lib64
    libs=-lpthread -lnsl -ldl -lm -lcrypt -lutil -lc
    perllibs=-lpthread -lnsl -ldl -lm -lcrypt -lutil -lc
    libc=libc-2.31.so
    so=so
    useshrplib=false
    libperl=libperl.a
    gnulibc_version='2.31'
  Dynamic Linking:
    dlsrc=dl_dlopen.xs
    dlext=so
    d_dlsymun=undef
    ccdlflags='-Wl,-E'
    cccdlflags='-fPIC'
    lddlflags='-shared -O2 -g -L/usr/local/lib -fstack-protector-strong'


Characteristics of this binary (from libperl): 
  Compile-time options:
    DEBUGGING
    HAS_LONG_DOUBLE
    HAS_STRTOLD
    HAS_TIMES
    PERLIO_LAYERS
    PERL_COPY_ON_WRITE
    PERL_DONT_CREATE_GVSV
    PERL_HASH_FUNC_SIPHASH13
    PERL_HASH_USE_SBOX32
    PERL_MALLOC_WRAP
    PERL_OP_PARENT
    PERL_PRESERVE_IVUV
    PERL_USE_DEVEL
    PERL_USE_SAFE_PUTENV
    USE_64_BIT_ALL
    USE_64_BIT_INT
    USE_LARGE_FILES
    USE_LOCALE
    USE_LOCALE_COLLATE
    USE_LOCALE_CTYPE
    USE_LOCALE_NUMERIC
    USE_LOCALE_TIME
    USE_PERLIO
    USE_PERL_ATOF
  Built under linux
  Compiled at Nov 21 2024 13:42:59
  %ENV:
    PERL="/tmp/basesmoker-reloperl-3oIm/bin/perl"
    PERL5LIB="/tmp/loop_over_bdir-1765246-QKz53E/LiquidWeb-Storm-CLI-1.03-0/blib/arch:/tmp/loop_over_bdir-1765246-QKz53E/LiquidWeb-Storm-CLI-1.03-0/blib/lib:/tmp/loop_over_bdir-1765246-QKz53E/Debian-Packages-0.03-0/blib/arch:/tmp/loop_over_bdir-1765246-QKz53E/Debian-Packages-0.03-0/blib/lib:/tmp/loop_over_bdir-1765246-QKz53E/Module-ScanDeps-Static-1.7.1-0/blib/arch:/tmp/loop_over_bdir-1765246-QKz53E/Module-ScanDeps-Static-1.7.1-0/blib/lib:/tmp/loop_over_bdir-1765246-QKz53E/Simulation-Automate-1.0.1-0/blib/arch:/tmp/loop_over_bdir-1765246-QKz53E/Simulation-Automate-1.0.1-0/blib/lib"
    PERL5OPT=""
    PERL5_CPANPLUS_IS_RUNNING="1765259"
    PERL5_CPAN_IS_RUNNING="1765259"
    PERL_CANARY_STABILITY_NOPROMPT="1"
    PERL_MM_USE_DEFAULT="1"
    PERL_USE_UNSAFE_INC="1"
  @INC:
    /tmp/loop_over_bdir-1765246-QKz53E/LiquidWeb-Storm-CLI-1.03-0/blib/arch
    /tmp/loop_over_bdir-1765246-QKz53E/LiquidWeb-Storm-CLI-1.03-0/blib/lib
    /tmp/loop_over_bdir-1765246-QKz53E/Debian-Packages-0.03-0/blib/arch
    /tmp/loop_over_bdir-1765246-QKz53E/Debian-Packages-0.03-0/blib/lib
    /tmp/loop_over_bdir-1765246-QKz53E/Module-ScanDeps-Static-1.7.1-0/blib/arch
    /tmp/loop_over_bdir-1765246-QKz53E/Module-ScanDeps-Static-1.7.1-0/blib/lib
    /tmp/loop_over_bdir-1765246-QKz53E/Simulation-Automate-1.0.1-0/blib/arch
    /tmp/loop_over_bdir-1765246-QKz53E/Simulation-Automate-1.0.1-0/blib/lib
    /home/sand/src/perl/repoperls/installed-perls/host/k93focal/v5.41.6/b254/lib/site_perl/5.41.6/x86_64-linux
    /home/sand/src/perl/repoperls/installed-perls/host/k93focal/v5.41.6/b254/lib/site_perl/5.41.6
    /home/sand/src/perl/repoperls/installed-perls/host/k93focal/v5.41.6/b254/lib/5.41.6/x86_64-linux
    /home/sand/src/perl/repoperls/installed-perls/host/k93focal/v5.41.6/b254/lib/5.41.6
    .