POE v1.367 Perl 5 v5.24.2 darwin-2level

Status
Pass
From
Slaven Rezić (SREZIC)
Dist
POE v1.367
Platform
Perl 5 v5.24.2 darwin-2level
Date
2018-07-04 14:27:19
ID
5bdc79da-7f96-11e8-ad25-d8bf710853d3
This distribution has been tested as part of the CPAN Testers
project, supporting the Perl programming language.  See
http://wiki.cpantesters.org/ for more information or email
questions to cpan-testers-discuss@perl.org


--
Dear Rocco Caputo,

This is a computer-generated report for POE-1.367
on perl 5.24.2, created by CPAN-Reporter-1.2018.

Thank you for uploading your work to CPAN.  Congratulations!
All tests were successful.

Sections of this report:

    * Tester comments
    * Program output
    * Prerequisites
    * Environment and other context

------------------------------
TESTER COMMENTS
------------------------------

Additional comments from tester:

none provided

------------------------------
PROGRAM OUTPUT
------------------------------

Output from '/usr/bin/make test':

"/opt/perl-5.24.2/bin/perl" mylib/gen-tests.perl lib/POE.pm
PERL_DL_NONLAZY=1 "/opt/perl-5.24.2/bin/perl" "-MExtUtils::Command::MM" "-MTest::Harness" "-e" "undef *Test::Harness::Switches; test_harness(0, 'blib/lib', 'blib/arch')" t/*.t t/*/*.t t/*/*/*.t
# Testing POE 1.367, POE::Test::Loops 1.360, Perl 5.024002, /opt/perl-5.24.2/bin/perl on darwin
# pogomips: 52086744
t/00_info.t ........................................ ok
t/10_units/01_pod/01_pod.t ......................... skipped: enable by setting RELEASE_TESTING
t/10_units/01_pod/02_pod_coverage.t ................ skipped: enable by setting RELEASE_TESTING
t/10_units/01_pod/03_pod_no404s.t .................. skipped: enable by setting RELEASE_TESTING
t/10_units/01_pod/04_pod_linkcheck.t ............... skipped: enable by setting RELEASE_TESTING
t/10_units/02_pipes/01_base.t ...................... skipped: not implemented yet
t/10_units/02_pipes/02_oneway.t .................... ok
t/10_units/02_pipes/03_twoway.t .................... ok
t/10_units/03_base/01_poe.t ........................ ok
t/10_units/03_base/03_component.t .................. ok
t/10_units/03_base/04_driver.t ..................... ok
t/10_units/03_base/05_filter.t ..................... ok
t/10_units/03_base/06_loop.t ....................... ok
t/10_units/03_base/07_queue.t ...................... ok
t/10_units/03_base/08_resource.t ................... ok
t/10_units/03_base/09_resources.t .................. ok
t/10_units/03_base/10_wheel.t ...................... ok
t/10_units/03_base/11_assert_usage.t ............... ok
t/10_units/03_base/12_assert_retval.t .............. ok
t/10_units/03_base/13_assert_data.t ................ ok
t/10_units/03_base/14_kernel.t ..................... ok
t/10_units/03_base/15_kernel_internal.t ............ ok
t/10_units/03_base/16_nfa_usage.t .................. ok
t/10_units/03_base/17_detach_start.t ............... ok
t/10_units/04_drivers/01_sysrw.t ................... ok
t/10_units/05_filters/01_block.t ................... ok
t/10_units/05_filters/02_grep.t .................... ok
Downgrading wide characters in HTTP header. Consider installing Email::MIME::RFC2047::Encoder at /Users/slaven.rezic/.cpan/build/2018070415/POE-1.367-Oy6FMZ/blib/lib/POE/Filter/HTTPD.pm line 73.
	POE::Filter::HTTPD::__ANON__("En \x{e9}t\x{e9}") called at /Users/slaven.rezic/.cpan/build/2018070415/POE-1.367-Oy6FMZ/blib/lib/POE/Filter/HTTPD.pm line 449
	POE::Filter::HTTPD::headers_as_strings(POE::Filter::HTTPD=ARRAY(0x7fcb7113a618), HTTP::Headers=HASH(0x7fcb6f843360), "\x{d}\x{a}") called at /Users/slaven.rezic/.cpan/build/2018070415/POE-1.367-Oy6FMZ/blib/lib/POE/Filter/HTTPD.pm line 411
	POE::Filter::HTTPD::put(POE::Filter::HTTPD=ARRAY(0x7fcb7113a618), ARRAY(0x7fcb7113a9d8)) called at t/10_units/05_filters/03_http.t line 426
t/10_units/05_filters/03_http.t .................... ok
t/10_units/05_filters/04_line.t .................... ok
t/10_units/05_filters/05_map.t ..................... ok
t/10_units/05_filters/06_recordblock.t ............. ok
t/10_units/05_filters/07_reference.t ............... ok
t/10_units/05_filters/08_stream.t .................. ok
t/10_units/05_filters/50_stackable.t ............... ok
t/10_units/05_filters/51_reference_die.t ........... ok
t/10_units/05_filters/99_filterchange.t ............ ok
t/10_units/06_queues/01_array.t .................... ok
t/10_units/07_exceptions/01_normal.t ............... ok
t/10_units/07_exceptions/02_turn_off.t ............. ok
t/10_units/07_exceptions/03_not_handled.t .......... ok
t/10_units/08_loops/01_explicit_loop.t ............. ok
t/10_units/08_loops/02_explicit_loop_fail.t ........ ok
t/10_units/08_loops/03_explicit_loop_poll.t ........ ok
t/10_units/08_loops/04_explicit_loop_envvar.t ...... ok
t/10_units/08_loops/05_kernel_loop.t ............... ok
t/10_units/08_loops/06_kernel_loop_poll.t .......... ok
t/10_units/08_loops/07_kernel_loop_fail.t .......... ok
t/10_units/08_loops/08_kernel_loop_search_poll.t ... ok
t/10_units/08_loops/09_naive_loop_load.t ........... ok
t/10_units/08_loops/10_naive_loop_load_poll.t ...... ok
t/10_units/08_loops/11_double_loop.t ............... ok
t/20_resources/10_perl/aliases.t ................... ok
t/20_resources/10_perl/caller_state.t .............. ok
t/20_resources/10_perl/events.t .................... ok
t/20_resources/10_perl/extrefs.t ................... ok
t/20_resources/10_perl/extrefs_gc.t ................ ok
t/20_resources/10_perl/filehandles.t ............... ok
t/20_resources/10_perl/sessions.t .................. ok
t/20_resources/10_perl/sids.t ...................... ok
t/20_resources/10_perl/signals.t ................... ok
# Testing POE 1.367, POE::Test::Loops 1.360, Using Loop(POE::Loop::IO_Poll), Perl 5.024002, /opt/perl-5.24.2/bin/perl on darwin
t/30_loops/io_poll/00_info.t ....................... ok
t/30_loops/io_poll/all_errors.t .................... skipped: most of these should move into other test files
t/30_loops/io_poll/comp_tcp.t ...................... ok
# You might see a 'disconnect' error during this test.
# It may be ignored.
t/30_loops/io_poll/comp_tcp_concurrent.t ........... ok
t/30_loops/io_poll/connect_errors.t ................ ok
t/30_loops/io_poll/k_alarms.t ...................... ok
t/30_loops/io_poll/k_aliases.t ..................... ok
t/30_loops/io_poll/k_detach.t ...................... ok
t/30_loops/io_poll/k_run_returns.t ................. ok
t/30_loops/io_poll/k_selects.t ..................... ok
t/30_loops/io_poll/k_sig_child.t ................... ok
t/30_loops/io_poll/k_signals.t ..................... ok
t/30_loops/io_poll/k_signals_rerun.t ............... ok
t/30_loops/io_poll/sbk_signal_init.t ............... ok
t/30_loops/io_poll/ses_nfa.t ....................... ok
# This test generates some STDERR during trace testing.
=== 46115 === 23 -> _start (from /Users/slaven.rezic/.cpan/build/2018070415/POE-1.367-Oy6FMZ/blib/lib/POE/Kernel.pm at 1497)
=== 46115 === 23 -> woot (from /Users/slaven.rezic/.cpan/build/2018070415/POE-Test-Loops-1.360-3xRra5/blib/lib/POE/Test/Loops/ses_session.pm at 691)
=== 46115 === 23 -> narf (from /Users/slaven.rezic/.cpan/build/2018070415/POE-Test-Loops-1.360-3xRra5/blib/lib/POE/Test/Loops/ses_session.pm at 692)
=== 46115 === 23 -> _stop (from /Users/slaven.rezic/.cpan/build/2018070415/POE-1.367-Oy6FMZ/blib/lib/POE/Resource/Sessions.pm at 571)
t/30_loops/io_poll/ses_session.t ................... ok
t/30_loops/io_poll/wheel_accept.t .................. ok
t/30_loops/io_poll/wheel_curses.t .................. skipped: Curses not available
t/30_loops/io_poll/wheel_readline.t ................ ok
t/30_loops/io_poll/wheel_readwrite.t ............... ok
t/30_loops/io_poll/wheel_run.t ..................... ok
t/30_loops/io_poll/wheel_run_size.t ................ skipped: This test requires Term::Size
t/30_loops/io_poll/wheel_sf_ipv6.t ................. skipped: Socket::GetAddrInfo is needed for IPv6 tests
t/30_loops/io_poll/wheel_sf_tcp.t .................. ok
t/30_loops/io_poll/wheel_sf_udp.t .................. ok
t/30_loops/io_poll/wheel_sf_unix.t ................. ok
t/30_loops/io_poll/wheel_tail.t .................... ok
t/30_loops/io_poll/z_kogman_sig_order.t ............ ok
t/30_loops/io_poll/z_leolo_wheel_run.t ............. ok
# Using '/usr/bin/true' as our thing to run under system()
t/30_loops/io_poll/z_merijn_sigchld_system.t ....... ok
t/30_loops/io_poll/z_rt39872_sigchld.t ............. ok
# Parent 46157 waiting 3sec for slow systems to settle.
# sending sigusr1
# sent sigusr1
t/30_loops/io_poll/z_rt39872_sigchld_stop.t ........ ok
t/30_loops/io_poll/z_rt53302_fh_watchers.t ......... ok
t/30_loops/io_poll/z_rt54319_bazerka_followtail.t .. ok
t/30_loops/io_poll/z_steinert_signal_integrity.t ... ok
# Testing POE 1.367, POE::Test::Loops 1.360, Using Loop(POE::Loop::Select), Perl 5.024002, /opt/perl-5.24.2/bin/perl on darwin
t/30_loops/select/00_info.t ........................ ok
t/30_loops/select/all_errors.t ..................... skipped: most of these should move into other test files
t/30_loops/select/comp_tcp.t ....................... ok
# You might see a 'disconnect' error during this test.
# It may be ignored.
t/30_loops/select/comp_tcp_concurrent.t ............ ok
t/30_loops/select/connect_errors.t ................. ok
t/30_loops/select/k_alarms.t ....................... ok
t/30_loops/select/k_aliases.t ...................... ok
t/30_loops/select/k_detach.t ....................... ok
t/30_loops/select/k_run_returns.t .................. ok
t/30_loops/select/k_selects.t ...................... ok
t/30_loops/select/k_sig_child.t .................... ok
t/30_loops/select/k_signals.t ...................... ok
t/30_loops/select/k_signals_rerun.t ................ ok
t/30_loops/select/sbk_signal_init.t ................ ok
t/30_loops/select/ses_nfa.t ........................ ok
# This test generates some STDERR during trace testing.
=== 46207 === 23 -> _start (from /Users/slaven.rezic/.cpan/build/2018070415/POE-1.367-Oy6FMZ/blib/lib/POE/Kernel.pm at 1497)
=== 46207 === 23 -> woot (from /Users/slaven.rezic/.cpan/build/2018070415/POE-Test-Loops-1.360-3xRra5/blib/lib/POE/Test/Loops/ses_session.pm at 691)
=== 46207 === 23 -> narf (from /Users/slaven.rezic/.cpan/build/2018070415/POE-Test-Loops-1.360-3xRra5/blib/lib/POE/Test/Loops/ses_session.pm at 692)
=== 46207 === 23 -> _stop (from /Users/slaven.rezic/.cpan/build/2018070415/POE-1.367-Oy6FMZ/blib/lib/POE/Resource/Sessions.pm at 571)
t/30_loops/select/ses_session.t .................... ok
t/30_loops/select/wheel_accept.t ................... ok
t/30_loops/select/wheel_curses.t ................... skipped: Curses not available
t/30_loops/select/wheel_readline.t ................. ok
t/30_loops/select/wheel_readwrite.t ................ ok
t/30_loops/select/wheel_run.t ...................... ok
t/30_loops/select/wheel_run_size.t ................. skipped: This test requires Term::Size
t/30_loops/select/wheel_sf_ipv6.t .................. skipped: Socket::GetAddrInfo is needed for IPv6 tests
t/30_loops/select/wheel_sf_tcp.t ................... ok
t/30_loops/select/wheel_sf_udp.t ................... ok
t/30_loops/select/wheel_sf_unix.t .................. ok
t/30_loops/select/wheel_tail.t ..................... ok
t/30_loops/select/z_kogman_sig_order.t ............. ok
t/30_loops/select/z_leolo_wheel_run.t .............. ok
# Using '/usr/bin/true' as our thing to run under system()
t/30_loops/select/z_merijn_sigchld_system.t ........ ok
t/30_loops/select/z_rt39872_sigchld.t .............. ok
# Parent 46252 waiting 3sec for slow systems to settle.
# sending sigusr1
# sent sigusr1
t/30_loops/select/z_rt39872_sigchld_stop.t ......... ok
t/30_loops/select/z_rt53302_fh_watchers.t .......... ok
t/30_loops/select/z_rt54319_bazerka_followtail.t ... ok
t/30_loops/select/z_steinert_signal_integrity.t .... ok
t/90_regression/agaran-filter-httpd.t .............. ok
t/90_regression/averell-callback-ret.t ............. ok
t/90_regression/bingos-followtail.t ................ ok
t/90_regression/broeren-win32-nbio.t ............... skipped: This test examines ActiveState Perl behavior.
t/90_regression/cfedde-filter-httpd.t .............. ok
t/90_regression/ferrari-server-unix.t .............. ok
t/90_regression/grinnz-die-in-die.t ................ ok
Died at t/90_regression/hinrik-wheel-run-die.t line 21.
t/90_regression/hinrik-wheel-run-die.t ............. ok
# This test can take up to 10 seconds
t/90_regression/kjeldahl-stop-start-polling.t ...... ok
# This test can take up to 10 seconds
t/90_regression/kjeldahl-stop-start-sig-nopipe.t ... ok
# This test can take up to 10 seconds
t/90_regression/kjeldahl-stop-start-sig-pipe.t ..... ok
t/90_regression/leolo-sig-die.t .................... ok
t/90_regression/meh-startstop-return.t ............. ok
t/90_regression/neyuki_detach.t .................... ok
t/90_regression/pipe-followtail.t .................. ok
t/90_regression/prumike-win32-stat.t ............... skipped: This test examines Strawberry/ActiveState Perl behavior.
t/90_regression/rt14444-arg1.t ..................... ok
t/90_regression/rt1648-tied-stderr.t ............... ok
t/90_regression/rt19908-merlyn-stop.t .............. ok
t/90_regression/rt23181-sigchld-rc.t ............... ok
t/90_regression/rt47966-sigchld.t .................. skipped: enable by setting RELEASE_TESTING
t/90_regression/rt56417-wheel-run.t ................ ok
t/90_regression/rt65460-forking.t .................. skipped: enable by setting (AUTOMATED|RELEASE)_TESTING
t/90_regression/socketfactory-timeout.t ............ ok
t/90_regression/somni-poco-server-tcp.t ............ ok
t/90_regression/steinert-passed-wheel.t ............ ok
t/90_regression/suzman_windows.t ................... ok
t/90_regression/ton-stop-corruption.t .............. ok
t/90_regression/tracing-sane-exit.t ................ ok
t/90_regression/whelan-dieprop.t ................... ok
t/90_regression/whjackson-followtail.t ............. ok
All tests successful.

Test Summary Report
-------------------
t/10_units/05_filters/03_http.t                  (Wstat: 0 Tests: 137 Failed: 0)
  TODO passed:   85
Files=161, Tests=4221, 78 wallclock secs ( 0.64 usr  0.31 sys + 14.29 cusr  3.28 csys = 18.52 CPU)
Result: PASS

------------------------------
PREREQUISITES
------------------------------

Prerequisite modules loaded:

requires:

    Module           Need  Have    
    ---------------- ----- --------
    Carp             0     1.40    
    Errno            1.09  1.25    
    Exporter         0     5.72    
    File::Spec       0.87  3.63_01 
    IO               1.24  1.36_01 
    IO::Handle       1.27  1.36    
    IO::Pipely       0.005 0.005   
    IO::Tty          1.08  1.12    
    POE::Test::Loops 1.360 1.360   
    POSIX            1.02  1.65    
    Socket           1.7   2.020_03
    Storable         2.16  2.56_01 
    Test::Harness    2.26  3.36_01 
    Time::HiRes      1.59  1.9733  

build_requires:

    Module           Need  Have    
    ---------------- ----- --------
    POE::Test::Loops 1.360 1.360   

configure_requires:

    Module           Need  Have    
    ---------------- ----- --------
    POE::Test::Loops 1.360 1.360   


------------------------------
ENVIRONMENT AND OTHER CONTEXT
------------------------------

Environment variables:

    LANG = de_DE.UTF-8
    PATH = /usr/local/opt/gnupg@1.4/libexec/gpgbin:/usr/local/bin:/usr/bin:/bin:/usr/local/sbin:/usr/sbin:/sbin:/Users/slaven.rezic/bin/darwin17.0:/Users/slaven.rezic/bin/sh:/Users/slaven.rezic/bin:/Users/slaven.rezic/bin/pistachio-perl/bin:/usr/games:/Users/slaven.rezic/devel:/Users/slaven.rezic/work/drafts-slaven.rezic/misc:/Users/slaven.rezic/src/srezic-misc/scripts
    PERL5LIB = /Users/slaven.rezic/.cpan/build/2018070415/IO-Pipely-0.005-Q0wqTu/blib/arch:/Users/slaven.rezic/.cpan/build/2018070415/IO-Pipely-0.005-Q0wqTu/blib/lib:/Users/slaven.rezic/.cpan/build/2018070415/POE-Test-Loops-1.360-3xRra5/blib/arch:/Users/slaven.rezic/.cpan/build/2018070415/POE-Test-Loops-1.360-3xRra5/blib/lib:/Users/slaven.rezic/.cpan/build/2018070415/AnyEvent-7.14-U1llQ8/blib/arch:/Users/slaven.rezic/.cpan/build/2018070415/AnyEvent-7.14-U1llQ8/blib/lib:/Users/slaven.rezic/.cpan/build/2018070415/Net-Curl-0.39-Ryqcrm/blib/arch:/Users/slaven.rezic/.cpan/build/2018070415/Net-Curl-0.39-Ryqcrm/blib/lib:/Users/slaven.rezic/.cpan/build/2018070415/EV-4.22-COwckG/blib/arch:/Users/slaven.rezic/.cpan/build/2018070415/EV-4.22-COwckG/blib/lib
    PERL5OPT = 
    PERL5_CPANPLUS_IS_RUNNING = 44736
    PERL5_CPAN_IS_RUNNING = 44736
    PERL5_CPAN_IS_RUNNING_IN_RECURSION = 37612,44736
    PERLDOC = -MPod::Perldoc::ToTextOverstrike
    PERL_BATCH = yes
    PERL_CANARY_STABILITY_NOPROMPT = 1
    PERL_CPAN_REPORTER_CONFIG = /var/tmp/cpansmoker-501/2018070415/cpanreporter_000_config.ini
    PERL_EXTUTILS_AUTOINSTALL = --defaultdeps
    SHELL = /bin/zsh
    TERM = screen
    TMPDIR = /var/tmp/cpansmoker-501/2018070415

Perl special variables (and OS-specific diagnostics, for MSWin32):

    $^X = /opt/perl-5.24.2/bin/perl
    $UID/$EUID = 501 / 501
    $GID = 20 20 701 12 61 80 702 33 98 100 204 250 395 398 703
    $EGID = 20 20 701 12 61 80 702 33 98 100 204 250 395 398 703

Perl module toolchain versions installed:

    Module              Have      
    ------------------- ----------
    CPAN                2.11_01   
    CPAN::Meta          2.150005  
    Cwd                 3.63_01   
    ExtUtils::CBuilder  0.280225  
    ExtUtils::Command   7.10_02   
    ExtUtils::Install   2.04      
    ExtUtils::MakeMaker 7.10_02   
    ExtUtils::Manifest  1.70      
    ExtUtils::ParseXS   3.31      
    File::Spec          3.63_01   
    JSON                2.94      
    JSON::PP            2.27300_01
    Module::Build       0.4224    
    Module::Signature   0.81      
    Parse::CPAN::Meta   1.4417_001
    Test::Harness       3.36_01   
    Test::More          1.302086  
    YAML                1.23      
    YAML::Syck          1.30      
    version             0.9916    


--

Summary of my perl5 (revision 5 version 24 subversion 2) configuration:
   
  Platform:
    osname=darwin, osvers=16.7.0, archname=darwin-2level
    uname='darwin macbook.herceg.de 16.7.0 darwin kernel version 16.7.0: thu jun 15 17:36:27 pdt 2017; root:xnu-3789.70.16~2release_x86_64 x86_64 '
    config_args='-ds -e -Dprefix=/opt/perl-5.24.2 -Dcf_email=srezic@cpan.org'
    hint=previous, useposix=true, d_sigaction=define
    useithreads=undef, usemultiplicity=undef
    use64bitint=define, use64bitall=define, uselongdouble=undef
    usemymalloc=n, bincompat5005=undef
  Compiler:
    cc='cc', ccflags ='-fno-common -DPERL_DARWIN -mmacosx-version-min=10.12 -fno-strict-aliasing -pipe -fstack-protector-strong -I/usr/local/include -DPERL_USE_SAFE_PUTENV',
    optimize='-O3',
    cppflags='-fno-common -DPERL_DARWIN -mmacosx-version-min=10.12 -fno-strict-aliasing -pipe -fstack-protector-strong -I/usr/local/include'
    ccversion='', gccversion='4.2.1 Compatible Apple LLVM 8.1.0 (clang-802.0.42)', gccosandvers=''
    intsize=4, longsize=8, ptrsize=8, doublesize=8, byteorder=12345678, doublekind=3
    d_longlong=define, longlongsize=8, d_longdbl=define, longdblsize=16, longdblkind=3
    ivtype='long', ivsize=8, nvtype='double', nvsize=8, Off_t='off_t', lseeksize=8
    alignbytes=8, prototype=define
  Linker and Libraries:
    ld='cc', ldflags =' -mmacosx-version-min=10.12 -fstack-protector-strong -L/usr/local/lib'
    libpth=/usr/local/lib /Library/Developer/CommandLineTools/usr/bin/../lib/clang/8.1.0/lib /Library/Developer/CommandLineTools/usr/lib /usr/lib /usr/local/lib /Library/Developer/CommandLineTools/usr/bin/../lib/clang/8.1.0/lib /Library/Developer/CommandLineTools/usr/lib /usr/lib
    libs=-lpthread -ldbm -ldb -ldl -lm -lutil -lc
    perllibs=-lpthread -ldl -lm -lutil -lc
    libc=, so=dylib, useshrplib=false, libperl=libperl.a
    gnulibc_version=''
  Dynamic Linking:
    dlsrc=dl_dlopen.xs, dlext=bundle, d_dlsymun=undef, ccdlflags=' '
    cccdlflags=' ', lddlflags=' -mmacosx-version-min=10.12 -bundle -undefined dynamic_lookup -L/usr/local/lib -fstack-protector-strong'


Characteristics of this binary (from libperl): 
  Compile-time options: HAS_TIMES PERLIO_LAYERS PERL_COPY_ON_WRITE
                        PERL_DONT_CREATE_GVSV
                        PERL_HASH_FUNC_ONE_AT_A_TIME_HARD PERL_MALLOC_WRAP
                        PERL_PRESERVE_IVUV PERL_USE_SAFE_PUTENV
                        USE_64_BIT_ALL USE_64_BIT_INT USE_LARGE_FILES
                        USE_LOCALE USE_LOCALE_COLLATE USE_LOCALE_CTYPE
                        USE_LOCALE_NUMERIC USE_LOCALE_TIME USE_PERLIO
                        USE_PERL_ATOF
  Built under darwin
  Compiled at Aug 19 2017 09:09:15
  %ENV:
    PERL5LIB="/Users/slaven.rezic/.cpan/build/2018070415/IO-Pipely-0.005-Q0wqTu/blib/arch:/Users/slaven.rezic/.cpan/build/2018070415/IO-Pipely-0.005-Q0wqTu/blib/lib:/Users/slaven.rezic/.cpan/build/2018070415/POE-Test-Loops-1.360-3xRra5/blib/arch:/Users/slaven.rezic/.cpan/build/2018070415/POE-Test-Loops-1.360-3xRra5/blib/lib:/Users/slaven.rezic/.cpan/build/2018070415/AnyEvent-7.14-U1llQ8/blib/arch:/Users/slaven.rezic/.cpan/build/2018070415/AnyEvent-7.14-U1llQ8/blib/lib:/Users/slaven.rezic/.cpan/build/2018070415/Net-Curl-0.39-Ryqcrm/blib/arch:/Users/slaven.rezic/.cpan/build/2018070415/Net-Curl-0.39-Ryqcrm/blib/lib:/Users/slaven.rezic/.cpan/build/2018070415/EV-4.22-COwckG/blib/arch:/Users/slaven.rezic/.cpan/build/2018070415/EV-4.22-COwckG/blib/lib"
    PERL5OPT=""
    PERL5_CPANPLUS_IS_RUNNING="44736"
    PERL5_CPAN_IS_RUNNING="44736"
    PERL5_CPAN_IS_RUNNING_IN_RECURSION="37612,44736"
    PERLDOC="-MPod::Perldoc::ToTextOverstrike"
    PERL_BATCH="yes"
    PERL_CANARY_STABILITY_NOPROMPT="1"
    PERL_CPAN_REPORTER_CONFIG="/var/tmp/cpansmoker-501/2018070415/cpanreporter_000_config.ini"
    PERL_EXTUTILS_AUTOINSTALL="--defaultdeps"
  @INC:
    /Users/slaven.rezic/.cpan/build/2018070415/IO-Pipely-0.005-Q0wqTu/blib/arch
    /Users/slaven.rezic/.cpan/build/2018070415/IO-Pipely-0.005-Q0wqTu/blib/lib
    /Users/slaven.rezic/.cpan/build/2018070415/POE-Test-Loops-1.360-3xRra5/blib/arch
    /Users/slaven.rezic/.cpan/build/2018070415/POE-Test-Loops-1.360-3xRra5/blib/lib
    /Users/slaven.rezic/.cpan/build/2018070415/AnyEvent-7.14-U1llQ8/blib/arch
    /Users/slaven.rezic/.cpan/build/2018070415/AnyEvent-7.14-U1llQ8/blib/lib
    /Users/slaven.rezic/.cpan/build/2018070415/Net-Curl-0.39-Ryqcrm/blib/arch
    /Users/slaven.rezic/.cpan/build/2018070415/Net-Curl-0.39-Ryqcrm/blib/lib
    /Users/slaven.rezic/.cpan/build/2018070415/EV-4.22-COwckG/blib/arch
    /Users/slaven.rezic/.cpan/build/2018070415/EV-4.22-COwckG/blib/lib
    /opt/perl-5.24.2/lib/site_perl/5.24.2/darwin-2level
    /opt/perl-5.24.2/lib/site_perl/5.24.2
    /opt/perl-5.24.2/lib/5.24.2/darwin-2level
    /opt/perl-5.24.2/lib/5.24.2
    .