Report for Spike-2.0004

Back
From: metabase:user:a0e144f2-373b-11e6-8edd-c6848980b093
Subject: PASS Spike-2.0004 v5.25.1 GNU/Linux
Date: 2016-06-23T04:31:30Z

This distribution has been tested as part of the CPAN Testers
project, supporting the Perl programming language.  See
http://wiki.cpantesters.org/ for more information or email
questions to cpan-testers-discuss@perl.org


--
Dear Aleksandr Aleshin,

This is a computer-generated report for Spike-2.0004
on perl 5.25.1, created by CPAN-Reporter-1.2017.

Thank you for uploading your work to CPAN.  Congratulations!
All tests were successful.

Sections of this report:

    * Tester comments
    * Program output
    * Prerequisites
    * Environment and other context

------------------------------
TESTER COMMENTS
------------------------------

Additional comments from tester:

none provided

------------------------------
PROGRAM OUTPUT
------------------------------

Output from '/usr/bin/make test':

Skip blib/lib/auto/share/dist/Spike/template/default/conf/deadbeef.devel.conf (unchanged)
Skip blib/lib/auto/share/dist/Spike/template/default/tmpl/deadbeef/#keep (unchanged)
Skip blib/lib/auto/share/dist/Spike/template/default/script/deadbeef.psgi (unchanged)
Skip blib/lib/auto/share/dist/Spike/template/default/lib/DeadBeef/Site.pm (unchanged)
Skip blib/lib/auto/share/dist/Spike/template/default/conf/deadbeef.conf (unchanged)
Skip blib/lib/auto/share/dist/Spike/template/default/conf/deadbeef.prod.conf (unchanged)
Skip blib/lib/auto/share/dist/Spike/template/default/web/deadbeef/#keep (unchanged)
PERL_DL_NONLAZY=1 "/usr/bin/perl5.25.1" "-MExtUtils::Command::MM" "-MTest::Harness" "-e" "undef *Test::Harness::Switches; test_harness(0, 'blib/lib', 'blib/arch')" t/*.t
t/author-pod-syntax.t .. skipped: these tests are for testing by the author
t/Route.t .............. ok
t/Spike.t .............. ok
All tests successful.
Files=3, Tests=46,  0 wallclock secs ( 0.01 usr  0.00 sys +  0.10 cusr  0.00 csys =  0.11 CPU)
Result: PASS

------------------------------
PREREQUISITES
------------------------------

Prerequisite modules loaded:

requires:

    Module                  Need     Have    
    ----------------------- -------- --------
    base                    0        2.23    
    Carp                    0        1.41    
    Date::Parse             0        2.30    
    feature                 0        1.43    
    File::ShareDir          0        1.102   
    FindBin                 0        1.51    
    HTTP::Status            0        6.11    
    List::MoreUtils         0        0.415   
    List::Util              1.45     1.45_03 
    perl                    5.010001 5.025001
    Plack                   1.0030   1.0039  
    Plack::MIME             0        0       
    Plack::Request          0        1.0039  
    Plack::Response         0        1.0039  
    POSIX                   0        1.69    
    Scalar::Util            0        1.45_03 
    strict                  0        1.11    
    Time::HiRes             0        1.9733  
    warnings                0        1.36    

build_requires:

    Module                  Need     Have    
    ----------------------- -------- --------
    ExtUtils::MakeMaker     0        7.18    
    Test::More              0        1.302030

configure_requires:

    Module                  Need     Have    
    ----------------------- -------- --------
    ExtUtils::MakeMaker     0        7.18    
    File::ShareDir::Install 0.06     0.10    


------------------------------
ENVIRONMENT AND OTHER CONTEXT
------------------------------

Environment variables:

    LANG = en_US.UTF-8
    PATH = /usr/local/bin:/usr/bin:/bin:/usr/local/games:/usr/games
    PERL5LIB = /home/dcollins/toolchain/.afl2/.cpan/build/Ado-0.930-0TcwOG/blib/arch:/home/dcollins/toolchain/.afl2/.cpan/build/Ado-0.930-0TcwOG/blib/lib:/home/dcollins/toolchain/.afl2/.cpan/build/Math-BigInt-FastCalc-0.42-ogRiDE/blib/arch:/home/dcollins/toolchain/.afl2/.cpan/build/Math-BigInt-FastCalc-0.42-ogRiDE/blib/lib:/home/dcollins/toolchain/.afl2/.cpan/build/Math-BigRat-0.260804-VDQPxm/blib/arch:/home/dcollins/toolchain/.afl2/.cpan/build/Math-BigRat-0.260804-VDQPxm/blib/lib
    PERL5OPT = 
    PERL5_CPANPLUS_IS_RUNNING = 17433
    PERL5_CPAN_IS_RUNNING = 17433
    SHELL = /bin/bash
    TERM = screen

Perl special variables (and OS-specific diagnostics, for MSWin32):

    $^X = /usr/bin/perl5.25.1
    $UID/$EUID = 1002 / 1002
    $GID = 1005 1005
    $EGID = 1005 1005

Perl module toolchain versions installed:

    Module              Have    
    ------------------- --------
    CPAN                2.11    
    CPAN::Meta          2.150005
    Cwd                 3.63    
    ExtUtils::CBuilder  0.280225
    ExtUtils::Command   7.18    
    ExtUtils::Install   2.04    
    ExtUtils::MakeMaker 7.18    
    ExtUtils::Manifest  1.70    
    ExtUtils::ParseXS   3.31    
    File::Spec          3.63    
    JSON                2.90    
    JSON::PP            2.27400 
    Module::Build       0.4218  
    Module::Signature   0.80    
    Parse::CPAN::Meta   1.4419  
    Test::Harness       3.36    
    Test::More          1.302030
    YAML                1.15    
    YAML::Syck          1.29    
    version             0.9917  


--

Summary of my perl5 (revision 5 version 25 subversion 1) configuration:
  Commit id: 5b145eb412326b9b57276229cfde0ef09e7ca2bc
  Platform:
    osname=linux, osvers=4.6.0-1-amd64, archname=x86_64-linux-ld
    uname='linux nightshade64 4.6.0-1-amd64 #1 smp debian 4.6.1-1 (2016-06-06) x86_64 gnulinux '
    config_args='-Dusedevel -Dprefix=/usr -Dcc=ccache gcc-6 -Duselongdouble -Duse64bitall -Doptimize=-O3 -Dversiononly -Uman1dir -Uman3dir -Dsiteprefix=/home/dcollins/toolchain/local -des'
    hint=recommended, useposix=true, d_sigaction=define
    useithreads=undef, usemultiplicity=undef
    use64bitint=define, use64bitall=define, uselongdouble=define
    usemymalloc=n, bincompat5005=undef
  Compiler:
    cc='ccache gcc-6', ccflags ='-fwrapv -fno-strict-aliasing -pipe -fstack-protector-strong -I/usr/local/include -D_LARGEFILE_SOURCE -D_FILE_OFFSET_BITS=64',
    optimize='-O3',
    cppflags='-fwrapv -fno-strict-aliasing -pipe -fstack-protector-strong -I/usr/local/include'
    ccversion='', gccversion='6.1.1 20160519', gccosandvers=''
    intsize=4, longsize=8, ptrsize=8, doublesize=8, byteorder=12345678, doublekind=3
    d_longlong=define, longlongsize=8, d_longdbl=define, longdblsize=16, longdblkind=3
    ivtype='long', ivsize=8, nvtype='long double', nvsize=16, Off_t='off_t', lseeksize=8
    alignbytes=16, prototype=define
  Linker and Libraries:
    ld='ccache gcc-6', ldflags =' -fstack-protector-strong -L/usr/local/lib'
    libpth=/usr/local/lib /usr/lib/gcc/x86_64-linux-gnu/6/include-fixed /usr/include/x86_64-linux-gnu /usr/lib /lib/x86_64-linux-gnu /lib/../lib /usr/lib/x86_64-linux-gnu /usr/lib/../lib /lib
    libs=-lpthread -lnsl -ldl -lm -lcrypt -lutil -lc
    perllibs=-lpthread -lnsl -ldl -lm -lcrypt -lutil -lc
    libc=libc-2.22.so, so=so, useshrplib=false, libperl=libperl.a
    gnulibc_version='2.22'
  Dynamic Linking:
    dlsrc=dl_dlopen.xs, dlext=so, d_dlsymun=undef, ccdlflags='-Wl,-E'
    cccdlflags='-fPIC', lddlflags='-shared -O3 -L/usr/local/lib -fstack-protector-strong'


Characteristics of this binary (from libperl): 
  Compile-time options: HAS_TIMES PERLIO_LAYERS PERL_COPY_ON_WRITE
                        PERL_DONT_CREATE_GVSV
                        PERL_HASH_FUNC_ONE_AT_A_TIME_HARD PERL_MALLOC_WRAP
                        PERL_OP_PARENT PERL_PRESERVE_IVUV PERL_USE_DEVEL
                        USE_64_BIT_ALL USE_64_BIT_INT USE_LARGE_FILES
                        USE_LOCALE USE_LOCALE_COLLATE USE_LOCALE_CTYPE
                        USE_LOCALE_NUMERIC USE_LOCALE_TIME USE_LONG_DOUBLE
                        USE_PERLIO USE_PERL_ATOF
  Built under linux
  Compiled at Jan  1 1970 00:00:00
  %ENV:
    PERL5LIB="/home/dcollins/toolchain/.afl2/.cpan/build/Ado-0.930-0TcwOG/blib/arch:/home/dcollins/toolchain/.afl2/.cpan/build/Ado-0.930-0TcwOG/blib/lib:/home/dcollins/toolchain/.afl2/.cpan/build/Math-BigInt-FastCalc-0.42-ogRiDE/blib/arch:/home/dcollins/toolchain/.afl2/.cpan/build/Math-BigInt-FastCalc-0.42-ogRiDE/blib/lib:/home/dcollins/toolchain/.afl2/.cpan/build/Math-BigRat-0.260804-VDQPxm/blib/arch:/home/dcollins/toolchain/.afl2/.cpan/build/Math-BigRat-0.260804-VDQPxm/blib/lib"
    PERL5OPT=""
    PERL5_CPANPLUS_IS_RUNNING="17433"
    PERL5_CPAN_IS_RUNNING="17433"
  @INC:
    /home/dcollins/toolchain/.afl2/.cpan/build/Ado-0.930-0TcwOG/blib/arch
    /home/dcollins/toolchain/.afl2/.cpan/build/Ado-0.930-0TcwOG/blib/lib
    /home/dcollins/toolchain/.afl2/.cpan/build/Math-BigInt-FastCalc-0.42-ogRiDE/blib/arch
    /home/dcollins/toolchain/.afl2/.cpan/build/Math-BigInt-FastCalc-0.42-ogRiDE/blib/lib
    /home/dcollins/toolchain/.afl2/.cpan/build/Math-BigRat-0.260804-VDQPxm/blib/arch
    /home/dcollins/toolchain/.afl2/.cpan/build/Math-BigRat-0.260804-VDQPxm/blib/lib
    /home/dcollins/toolchain/local/lib/perl5/site_perl/5.25.1/x86_64-linux-ld
    /home/dcollins/toolchain/local/lib/perl5/site_perl/5.25.1
    /usr/lib/perl5/5.25.1/x86_64-linux-ld
    /usr/lib/perl5/5.25.1
    .