Back
From: metabase:user:30f4dfbe-2aae-11df-837a-5e0a49663a4f
Subject: PASS Curses-UI-0.9608 v5.6.2 GNU/Linux
Date: 2011-09-01T13:36:12Z
This distribution has been tested as part of the CPAN Testers
project, supporting the Perl programming language. See
http://wiki.cpantesters.org/ for more information or email
questions to cpan-testers-discuss@perl.org
--
Dear Shawn Boyette,
This is a computer-generated report for Curses-UI-0.9608
on perl 5.6.2, created by CPAN-Reporter-1.1902.
Thank you for uploading your work to CPAN. Congratulations!
All tests were successful.
Sections of this report:
* Tester comments
* Program output
* Prerequisites
* Environment and other context
------------------------------
TESTER COMMENTS
------------------------------
Additional comments from tester:
this report is from an automated smoke testing program
and was not reviewed by a human for accuracy
------------------------------
PROGRAM OUTPUT
------------------------------
Output from '/usr/bin/make test':
PERL_DL_NONLAZY=1 /usr/local/bin/perl5.6.2 "-MExtUtils::Command::MM" "-e" "test_harness(0, 'inc', 'blib/lib', 'blib/arch')" t/01base_classes.t t/02widget_classes.t t/03dialog_classes.t t/04language_classes.t t/05pod.t t/06ui.t t/07widget.t t/08common.t t/09label.t t/10texteditor.t t/11listbox.t t/12gpm_handler.t t/13notebook.t t/99misc.t
t/01base_classes.t ...... ok
t/02widget_classes.t .... ok
t/03dialog_classes.t .... ok
t/04language_classes.t .. ok
t/05pod.t ............... skipped: Test::Pod required for testing POD
t/06ui.t ................ ok
t/07widget.t ............ ok
t/08common.t ............ ok
t/09label.t ............. ok
t/10texteditor.t ........ ok
t/11listbox.t ........... ok
t/12gpm_handler.t ....... ok
t/13notebook.t .......... ok
t/99misc.t .............. ok
All tests successful.
Files=14, Tests=124, 1 wallclock secs ( 0.05 usr 0.03 sys + 0.98 cusr 0.10 csys = 1.16 CPU)
Result: PASS
------------------------------
PREREQUISITES
------------------------------
Prerequisite modules loaded:
requires:
Module Need Have
------------------- ---- ----
Curses 0 1.28
ExtUtils::MakeMaker 6.42 6.56
Term::ReadKey 0 2.30
configure_requires:
Module Need Have
------------------- ---- ----
ExtUtils::MakeMaker 6.42 6.56
------------------------------
ENVIRONMENT AND OTHER CONTEXT
------------------------------
Environment variables:
AUTOMATED_TESTING = 1
LANG = en_GB.UTF-8
PATH = /usr/bin:/bin
PERL5LIB = /home/njh/.cpan/build/Curses-1.28-W5HTPZ/blib/arch:/home/njh/.cpan/build/Curses-1.28-W5HTPZ/blib/lib
PERL5OPT =
PERL5_CPANPLUS_IS_RUNNING = 5313
PERL5_CPAN_IS_RUNNING = 5313
PERL5_MINISMOKEBOX = 0.54
PERL_EXTUTILS_AUTOINSTALL = --defaultdeps
PERL_MM_USE_DEFAULT = 1
SHELL = /bin/sh
Perl special variables (and OS-specific diagnostics, for MSWin32):
$^X = /usr/local/bin/perl5.6.2
$UID/$EUID = 1000 / 1000
$GID = 1000 1000 46 44 29 25 24 20
$EGID = 1000 1000 46 44 29 25 24 20
Perl module toolchain versions installed:
Module Have
------------------- ------
CPAN 1.9402
Cwd 3.33
ExtUtils::CBuilder 0.2703
ExtUtils::Command 1.16
ExtUtils::Install 1.54
ExtUtils::MakeMaker 6.56
ExtUtils::Manifest 1.58
ExtUtils::ParseXS 2.2206
File::Spec 3.33
Module::Build n/a
Module::Signature 0.66
Test::Harness 3.23
Test::More 0.98
YAML broken
YAML::Syck 1.17
version 0.91
--
Summary of my perl5 (revision 5.0 version 6 subversion 2) configuration:
Platform:
osname=linux, osvers=2.6.32-5-686, archname=i686-linux-64int-ld
uname='linux gateway.bandsman.co.uk 2.6.32-5-686 #1 smp thu nov 25 18:43:34 utc 2010 i686 gnulinux '
config_args='-de'
hint=previous, useposix=true, d_sigaction=define
usethreads=undef use5005threads=undef useithreads=undef usemultiplicity=undef
useperlio=undef d_sfio=undef uselargefiles=define usesocks=undef
use64bitint=define use64bitall=undef uselongdouble=define
Compiler:
cc='cc', ccflags ='-DDEBUGGING -fno-strict-aliasing -I/usr/local/include -D_LARGEFILE_SOURCE -D_FILE_OFFSET_BITS=64',
optimize='-O2',
cppflags='-DDEBUGGING -fno-strict-aliasing -I/usr/local/include -D_LARGEFILE_SOURCE -D_FILE_OFFSET_BITS=64'
ccversion='', gccversion='4.4.5', gccosandvers=''
intsize=4, longsize=4, ptrsize=4, doublesize=8, byteorder=12345678
d_longlong=define, longlongsize=8, d_longdbl=define, longdblsize=12
ivtype='long long', ivsize=8, nvtype='long double', nvsize=12, Off_t='off_t', lseeksize=8
alignbytes=4, usemymalloc=n, prototype=define
Linker and Libraries:
ld='cc', ldflags =' -L/usr/local/lib'
libpth=/usr/local/lib /lib /usr/lib
libs=-lnsl -lgdbm -ldb -ldl -lm -lc -lcrypt -lutil
perllibs=-lnsl -ldl -lm -lc -lcrypt -lutil
libc=/lib/libc-2.11.2.so, so=so, useshrplib=false, libperl=libperl.a
Dynamic Linking:
dlsrc=dl_dlopen.xs, dlext=so, d_dlsymun=undef, ccdlflags='-rdynamic'
cccdlflags='-fpic', lddlflags='-shared -L/usr/local/lib'
Characteristics of this binary (from libperl):
Compile-time options: DEBUGGING USE_64_BIT_INT USE_LONG_DOUBLE USE_LARGE_FILES
Locally applied patches:
SMOKE2bce2321552345ccb985b6a4b87542c3eaefbac5
Built under linux
Compiled at Dec 1 2010 15:18:01
%ENV:
PERL5LIB="/home/njh/.cpan/build/Curses-1.28-W5HTPZ/blib/arch:/home/njh/.cpan/build/Curses-1.28-W5HTPZ/blib/lib"
PERL5OPT=""
PERL5_CPANPLUS_IS_RUNNING="5313"
PERL5_CPAN_IS_RUNNING="5313"
PERL5_MINISMOKEBOX="0.54"
PERL_EXTUTILS_AUTOINSTALL="--defaultdeps"
PERL_MM_USE_DEFAULT="1"
@INC:
/home/njh/.cpan/build/Curses-1.28-W5HTPZ/blib/arch
/home/njh/.cpan/build/Curses-1.28-W5HTPZ/blib/lib
/usr/local/lib/perl5/5.6.2/i686-linux-64int-ld
/usr/local/lib/perl5/5.6.2
/usr/local/lib/perl5/site_perl/5.6.2/i686-linux-64int-ld
/usr/local/lib/perl5/site_perl/5.6.2
/usr/local/lib/perl5/site_perl/5.13.7
/usr/local/lib/perl5/site_perl/5.13.6
/usr/local/lib/perl5/site_perl/5.13.5
/usr/local/lib/perl5/site_perl/5.13.4
/usr/local/lib/perl5/site_perl
.