Module-Install v1.21 Perl 5 v5.41.14 OpenBSD.amd64-openbsd-thread-multi

Status
Pass
From
Carlos Guevara
Dist
Module-Install v1.21
Platform
Perl 5 v5.41.14 OpenBSD.amd64-openbsd-thread-multi
Date
2025-06-04 19:23:13
ID
5ba85b08-4179-11f0-a8db-d74a56253caf
This distribution has been tested as part of the CPAN Testers
project, supporting the Perl programming language.  See
http://wiki.cpantesters.org/ for more information or email
questions to cpan-testers-discuss@perl.org


--
Dear Karen Etheridge,

This is a computer-generated report for Module-Install-1.21
on perl 5.41.14, created by CPAN-Reporter-1.2020.

Thank you for uploading your work to CPAN.  Congratulations!
All tests were successful.

Sections of this report:

    * Tester comments
    * Program output
    * Prerequisites
    * Environment and other context

------------------------------
TESTER COMMENTS
------------------------------

Additional comments from tester:

this report is from an automated smoke testing program
and was not reviewed by a human for accuracy

------------------------------
PROGRAM OUTPUT
------------------------------

Output from '/usr/bin/make test':

PERL_DL_NONLAZY=1 "/home/cpan/bin/perl/bin/perl5.41.14" "-MExtUtils::Command::MM" "-MTest::Harness" "-e" "undef *Test::Harness::Switches; test_harness(0, 'inc', 'blib/lib', 'blib/arch')" t/*.t t/recursive/*.t
t/01_compile.t .......................... ok
t/02_mymeta.t ........................... skipped: New EU::MM has own MYMETA support
t/03_autoinstall.t ...................... skipped: Skipping dangerous test
t/04_version.t .......................... ok
t/05_share.t ............................ ok
t/06_ppport.t ........................... ok
t/07_perl_version.t ..................... ok
t/09_read.t ............................. ok
t/10_test.t ............................. ok
t/11_extraction.t ....................... ok
t/12_eumm_params.t ...................... ok
t/13_author_tests.t ..................... ok
t/13_author_tests_ext.t ................. skipped: requires Module::Install::AuthorTests
t/13_author_tests_ext2.t ................ skipped: requires Module::Install::ExtraTests 0.007
t/14_auto_include_deps_with_version.t ... skipped: your perl is new enough to have File::Spec 3.30 in core
t/15_wrong_usage.t ...................... ok
t/16_require.t .......................... ok
t/17_sign.t ............................. ok
t/18_all_from.t ......................... ok
t/19_authors.t .......................... ok
t/20_authors_with_special_characters.t .. ok
t/21_makemaker_args.t ................... ok
Use of uninitialized value $cmd in substitution (s///) at /home/cpan/bin/perl/lib/5.41.14/ExtUtils/MM_Any.pm line 348.
Use of uninitialized value $mandir in pattern match (m//) at /home/cpan/bin/perl/lib/5.41.14/ExtUtils/MM_Unix.pm line 1560.
Use of uninitialized value $mandir in pattern match (m//) at /home/cpan/bin/perl/lib/5.41.14/ExtUtils/MM_Unix.pm line 1560.
Use of uninitialized value $mandir in pattern match (m//) at /home/cpan/bin/perl/lib/5.41.14/ExtUtils/MM_Unix.pm line 1560.
Use of uninitialized value $mandir in pattern match (m//) at /home/cpan/bin/perl/lib/5.41.14/ExtUtils/MM_Unix.pm line 1560.
Use of uninitialized value $mandir in pattern match (m//) at /home/cpan/bin/perl/lib/5.41.14/ExtUtils/MM_Unix.pm line 1560.
Use of uninitialized value $mandir in pattern match (m//) at /home/cpan/bin/perl/lib/5.41.14/ExtUtils/MM_Unix.pm line 1560.
Use of uninitialized value $mandir in pattern match (m//) at /home/cpan/bin/perl/lib/5.41.14/ExtUtils/MM_Unix.pm line 1560.
Use of uninitialized value $mandir in pattern match (m//) at /home/cpan/bin/perl/lib/5.41.14/ExtUtils/MM_Unix.pm line 1560.
Use of uninitialized value $mandir in pattern match (m//) at /home/cpan/bin/perl/lib/5.41.14/ExtUtils/MM_Unix.pm line 1560.
Use of uninitialized value $cmd in substitution (s///) at /home/cpan/bin/perl/lib/5.41.14/ExtUtils/MM_Any.pm line 348.
Use of uninitialized value $mandir in pattern match (m//) at /home/cpan/bin/perl/lib/5.41.14/ExtUtils/MM_Unix.pm line 1560.
Use of uninitialized value $mandir in pattern match (m//) at /home/cpan/bin/perl/lib/5.41.14/ExtUtils/MM_Unix.pm line 1560.
Use of uninitialized value $mandir in pattern match (m//) at /home/cpan/bin/perl/lib/5.41.14/ExtUtils/MM_Unix.pm line 1560.
Use of uninitialized value $mandir in pattern match (m//) at /home/cpan/bin/perl/lib/5.41.14/ExtUtils/MM_Unix.pm line 1560.
Use of uninitialized value $mandir in pattern match (m//) at /home/cpan/bin/perl/lib/5.41.14/ExtUtils/MM_Unix.pm line 1560.
Use of uninitialized value $mandir in pattern match (m//) at /home/cpan/bin/perl/lib/5.41.14/ExtUtils/MM_Unix.pm line 1560.
Use of uninitialized value $mandir in pattern match (m//) at /home/cpan/bin/perl/lib/5.41.14/ExtUtils/MM_Unix.pm line 1560.
Use of uninitialized value $mandir in pattern match (m//) at /home/cpan/bin/perl/lib/5.41.14/ExtUtils/MM_Unix.pm line 1560.
Use of uninitialized value $mandir in pattern match (m//) at /home/cpan/bin/perl/lib/5.41.14/ExtUtils/MM_Unix.pm line 1560.
Use of uninitialized value $cmd in substitution (s///) at /home/cpan/bin/perl/lib/5.41.14/ExtUtils/MM_Any.pm line 348.
Use of uninitialized value $mandir in pattern match (m//) at /home/cpan/bin/perl/lib/5.41.14/ExtUtils/MM_Unix.pm line 1560.
Use of uninitialized value $mandir in pattern match (m//) at /home/cpan/bin/perl/lib/5.41.14/ExtUtils/MM_Unix.pm line 1560.
Use of uninitialized value $mandir in pattern match (m//) at /home/cpan/bin/perl/lib/5.41.14/ExtUtils/MM_Unix.pm line 1560.
Use of uninitialized value $mandir in pattern match (m//) at /home/cpan/bin/perl/lib/5.41.14/ExtUtils/MM_Unix.pm line 1560.
Use of uninitialized value $mandir in pattern match (m//) at /home/cpan/bin/perl/lib/5.41.14/ExtUtils/MM_Unix.pm line 1560.
Use of uninitialized value $mandir in pattern match (m//) at /home/cpan/bin/perl/lib/5.41.14/ExtUtils/MM_Unix.pm line 1560.
Use of uninitialized value $mandir in pattern match (m//) at /home/cpan/bin/perl/lib/5.41.14/ExtUtils/MM_Unix.pm line 1560.
Use of uninitialized value $mandir in pattern match (m//) at /home/cpan/bin/perl/lib/5.41.14/ExtUtils/MM_Unix.pm line 1560.
Use of uninitialized value $mandir in pattern match (m//) at /home/cpan/bin/perl/lib/5.41.14/ExtUtils/MM_Unix.pm line 1560.
Use of uninitialized value $cmd in substitution (s///) at /home/cpan/bin/perl/lib/5.41.14/ExtUtils/MM_Any.pm line 348.
Use of uninitialized value $mandir in pattern match (m//) at /home/cpan/bin/perl/lib/5.41.14/ExtUtils/MM_Unix.pm line 1560.
Use of uninitialized value $mandir in pattern match (m//) at /home/cpan/bin/perl/lib/5.41.14/ExtUtils/MM_Unix.pm line 1560.
Use of uninitialized value $mandir in pattern match (m//) at /home/cpan/bin/perl/lib/5.41.14/ExtUtils/MM_Unix.pm line 1560.
Use of uninitialized value $mandir in pattern match (m//) at /home/cpan/bin/perl/lib/5.41.14/ExtUtils/MM_Unix.pm line 1560.
Use of uninitialized value $mandir in pattern match (m//) at /home/cpan/bin/perl/lib/5.41.14/ExtUtils/MM_Unix.pm line 1560.
Use of uninitialized value $mandir in pattern match (m//) at /home/cpan/bin/perl/lib/5.41.14/ExtUtils/MM_Unix.pm line 1560.
Use of uninitialized value $mandir in pattern match (m//) at /home/cpan/bin/perl/lib/5.41.14/ExtUtils/MM_Unix.pm line 1560.
Use of uninitialized value $mandir in pattern match (m//) at /home/cpan/bin/perl/lib/5.41.14/ExtUtils/MM_Unix.pm line 1560.
Use of uninitialized value $mandir in pattern match (m//) at /home/cpan/bin/perl/lib/5.41.14/ExtUtils/MM_Unix.pm line 1560.
old INSTALLDIRS (probably set by makemaker_args) is overriden by installdirs
Use of uninitialized value $cmd in substitution (s///) at /home/cpan/bin/perl/lib/5.41.14/ExtUtils/MM_Any.pm line 348.
Use of uninitialized value $mandir in pattern match (m//) at /home/cpan/bin/perl/lib/5.41.14/ExtUtils/MM_Unix.pm line 1560.
Use of uninitialized value $mandir in pattern match (m//) at /home/cpan/bin/perl/lib/5.41.14/ExtUtils/MM_Unix.pm line 1560.
Use of uninitialized value $mandir in pattern match (m//) at /home/cpan/bin/perl/lib/5.41.14/ExtUtils/MM_Unix.pm line 1560.
Use of uninitialized value $mandir in pattern match (m//) at /home/cpan/bin/perl/lib/5.41.14/ExtUtils/MM_Unix.pm line 1560.
Use of uninitialized value $mandir in pattern match (m//) at /home/cpan/bin/perl/lib/5.41.14/ExtUtils/MM_Unix.pm line 1560.
Use of uninitialized value $mandir in pattern match (m//) at /home/cpan/bin/perl/lib/5.41.14/ExtUtils/MM_Unix.pm line 1560.
Use of uninitialized value $mandir in pattern match (m//) at /home/cpan/bin/perl/lib/5.41.14/ExtUtils/MM_Unix.pm line 1560.
Use of uninitialized value $mandir in pattern match (m//) at /home/cpan/bin/perl/lib/5.41.14/ExtUtils/MM_Unix.pm line 1560.
Use of uninitialized value $mandir in pattern match (m//) at /home/cpan/bin/perl/lib/5.41.14/ExtUtils/MM_Unix.pm line 1560.
Use of uninitialized value $cmd in substitution (s///) at /home/cpan/bin/perl/lib/5.41.14/ExtUtils/MM_Any.pm line 348.
Use of uninitialized value $mandir in pattern match (m//) at /home/cpan/bin/perl/lib/5.41.14/ExtUtils/MM_Unix.pm line 1560.
Use of uninitialized value $mandir in pattern match (m//) at /home/cpan/bin/perl/lib/5.41.14/ExtUtils/MM_Unix.pm line 1560.
Use of uninitialized value $mandir in pattern match (m//) at /home/cpan/bin/perl/lib/5.41.14/ExtUtils/MM_Unix.pm line 1560.
Use of uninitialized value $mandir in pattern match (m//) at /home/cpan/bin/perl/lib/5.41.14/ExtUtils/MM_Unix.pm line 1560.
Use of uninitialized value $mandir in pattern match (m//) at /home/cpan/bin/perl/lib/5.41.14/ExtUtils/MM_Unix.pm line 1560.
Use of uninitialized value $mandir in pattern match (m//) at /home/cpan/bin/perl/lib/5.41.14/ExtUtils/MM_Unix.pm line 1560.
Use of uninitialized value $mandir in pattern match (m//) at /home/cpan/bin/perl/lib/5.41.14/ExtUtils/MM_Unix.pm line 1560.
Use of uninitialized value $mandir in pattern match (m//) at /home/cpan/bin/perl/lib/5.41.14/ExtUtils/MM_Unix.pm line 1560.
Use of uninitialized value $mandir in pattern match (m//) at /home/cpan/bin/perl/lib/5.41.14/ExtUtils/MM_Unix.pm line 1560.
t/22_installdirs.t ...................... ok
t/23_pl_files.t ......................... ok
t/24_multiple_license_blocks.t .......... ok
t/25_perl_version_from.t ................ ok
t/26_unknown_func.t ..................... ok
Warning: prerequisite Test::More 9999 not found. We have 1.302214.
t/27_build_requires_and_include.t ....... ok
t/28_makemaker_args.t ................... ok
t/29_requires_from.t .................... ok
t/30_build_subdirs.t .................... ok
t/31_add_metadata.t ..................... ok
t/32_module_name.t ...................... ok
t/33_copy.t ............................. ok
t/34_readwrite.t ........................ ok
t/recursive/test.t ...................... ok
All tests successful.
Files=36, Tests=547, 28 wallclock secs ( 0.17 usr  0.12 sys + 20.76 cusr  4.69 csys = 25.74 CPU)
Result: PASS

------------------------------
PREREQUISITES
------------------------------

Prerequisite modules loaded:

requires:

    Module              Need   Have      
    ------------------- ------ ----------
    Devel::PPPort       3.16   3.73      
    ExtUtils::Install   1.52   2.22      
    ExtUtils::MakeMaker 6.59   7.76      
    ExtUtils::ParseXS   2.19   3.57      
    File::Path          0      2.18      
    File::Remove        1.42   1.61      
    File::Spec          3.28   3.94      
    Module::Build       0.29   0.4234    
    Module::CoreList    2.17   5.20250620
    Module::ScanDeps    1.09   1.37      
    Parse::CPAN::Meta   1.4413 2.150010  
    perl                5.006  5.041014  
    YAML::Tiny          1.38   1.76      

build_requires:

    Module              Need   Have      
    ------------------- ------ ----------
    autodie             0      2.37      
    ExtUtils::MakeMaker 6.59   7.76      
    Test::Harness       3.13   3.50      
    Test::More          0.86   1.302214  
    YAML::Tiny          1.33   1.76      

configure_requires:

    Module              Need   Have      
    ------------------- ------ ----------
    ExtUtils::MakeMaker 6.59   7.76      
    YAML::Tiny          1.33   1.76      

opt_requires:

    Module              Need   Have      
    ------------------- ------ ----------
    Archive::Zip        1.37   1.68      
    File::HomeDir       1      1.006     
    JSON                2.9    4.10      
    LWP::Simple         6.00   6.78      
    LWP::UserAgent      6.05   6.78      
  ! PAR::Dist           0.29   n/a       


------------------------------
ENVIRONMENT AND OTHER CONTEXT
------------------------------

Environment variables:

    AUTOMATED_TESTING = 1
    DATE_MANIP_TEST_DM5 = 1
    LC_ALL = C
    NONINTERACTIVE_TESTING = 1
    NO_NETWORK_TESTING = 1
    PATH = /home/cpan/bin/perl/bin:/home/cpan/bin:/home/cpan/bin:/bin:/sbin:/usr/bin:/usr/sbin:/usr/X11R6/bin:/usr/local/bin:/usr/local/sbin
    PERL5LIB = 
    PERL5OPT = 
    PERL5_CPANPLUS_IS_RUNNING = 29207
    PERL5_CPAN_IS_RUNNING = 29207
    PERL_MM_USE_DEFAULT = 1
    PERL_USE_UNSAFE_INC = 1
    SHELL = /usr/local/bin/bash
    TERM = screen
    TMPDIR = /home/cpan/tmp

Perl special variables (and OS-specific diagnostics, for MSWin32):

    $^X = /home/cpan/bin/perl/bin/perl5.41.14
    $UID/$EUID = 1001 / 1001
    $GID = 1001 1001
    $EGID = 1001 1001

Perl module toolchain versions installed:

    Module              Have    
    ------------------- --------
    CPAN                2.38    
    CPAN::Meta          2.150010
    Cwd                 3.94    
    ExtUtils::CBuilder  0.280241
    ExtUtils::Command   7.76    
    ExtUtils::Install   2.22    
    ExtUtils::MakeMaker 7.76    
    ExtUtils::Manifest  1.75    
    ExtUtils::ParseXS   3.57    
    File::Spec          3.94    
    JSON                4.10    
    JSON::PP            4.16    
    Module::Build       0.4234  
    Module::Signature   0.89    
    Parse::CPAN::Meta   2.150010
    Test2               1.302214
    Test::Harness       3.50    
    Test::More          1.302214
    YAML                1.31    
    YAML::Syck          1.34    
    version             0.9933  


--

Summary of my perl5 (revision 5 version 41 subversion 14) configuration:
  Commit id: 6fbe2c7e05ae0e078795b74815bcefd10be12c56
  Platform:
    osname=openbsd
    osvers=7.7
    archname=OpenBSD.amd64-openbsd-thread-multi
    uname='openbsd cjg-openbsd7 7.7 generic#0 amd64 '
    config_args='-des -Dprefix=/home/cpan/bin/perl -Dscriptdir=/home/cpan/bin/perl/bin -Dusedevel -Duse64bitall -Duseithreads'
    hint=recommended
    useposix=true
    d_sigaction=define
    useithreads=define
    usemultiplicity=define
    use64bitint=define
    use64bitall=define
    uselongdouble=undef
    usemymalloc=n
    default_inc_excludes_dot=define
  Compiler:
    cc='cc'
    ccflags ='-pthread -DNO_LOCALE_NUMERIC -DNO_LOCALE_COLLATE -DNO_LOCALE_MONETARY -DNO_LOCALE_TIME -DNO_LOCALE_MESSAGES -DLIBC_HANDLES_MISMATCHED_CTYPE -fno-strict-aliasing -pipe -fstack-protector-strong -I/usr/local/include'
    optimize='-O2'
    cppflags='-pthread -DNO_LOCALE_NUMERIC -DNO_LOCALE_COLLATE -DNO_LOCALE_MONETARY -DNO_LOCALE_TIME -DNO_LOCALE_MESSAGES -DLIBC_HANDLES_MISMATCHED_CTYPE -fno-strict-aliasing -pipe -fstack-protector-strong -I/usr/local/include'
    ccversion=''
    gccversion='OpenBSD Clang 16.0.6'
    gccosandvers=''
    intsize=4
    longsize=8
    ptrsize=8
    doublesize=8
    byteorder=12345678
    doublekind=3
    d_longlong=define
    longlongsize=8
    d_longdbl=define
    longdblsize=16
    longdblkind=3
    ivtype='long'
    ivsize=8
    nvtype='double'
    nvsize=8
    Off_t='off_t'
    lseeksize=8
    alignbytes=8
    prototype=define
  Linker and Libraries:
    ld='cc'
    ldflags ='-pthread -Wl,-E  -fstack-protector-strong -L/usr/local/lib'
    libpth=/usr/lib/clang/16/lib /usr/lib /usr/local/lib
    libs=-lpthread -lm -lutil -lc
    perllibs=-lpthread -lm -lutil -lc
    libc=/usr/lib/libc.so.100.3
    so=so
    useshrplib=false
    libperl=libperl.a
    gnulibc_version=''
  Dynamic Linking:
    dlsrc=dl_dlopen.xs
    dlext=so
    d_dlsymun=undef
    ccdlflags=' '
    cccdlflags='-DPIC -fPIC '
    lddlflags='-shared -fPIC  -L/usr/local/lib -fstack-protector-strong'


Characteristics of this binary (from libperl): 
  Compile-time options:
    HAS_LONG_DOUBLE
    HAS_STRTOLD
    HAS_TIMES
    MULTIPLICITY
    PERLIO_LAYERS
    PERL_COPY_ON_WRITE
    PERL_DONT_CREATE_GVSV
    PERL_HASH_FUNC_SIPHASH13
    PERL_HASH_USE_SBOX32
    PERL_MALLOC_WRAP
    PERL_OP_PARENT
    PERL_PRESERVE_IVUV
    PERL_USE_DEVEL
    PERL_USE_SAFE_PUTENV
    USE_64_BIT_ALL
    USE_64_BIT_INT
    USE_ITHREADS
    USE_LARGE_FILES
    USE_LOCALE
    USE_LOCALE_CTYPE
    USE_PERLIO
    USE_PERL_ATOF
    USE_REENTRANT_API
    USE_THREAD_SAFE_LOCALE
  Built under openbsd
  Compiled at Jun  4 2025 10:22:18
  %ENV:
    PERL5LIB=""
    PERL5OPT=""
    PERL5_CPANPLUS_IS_RUNNING="29207"
    PERL5_CPAN_IS_RUNNING="29207"
    PERL_MM_USE_DEFAULT="1"
    PERL_USE_UNSAFE_INC="1"
  @INC:
    /home/cpan/bin/perl/lib/site_perl/5.41.14/OpenBSD.amd64-openbsd-thread-multi
    /home/cpan/bin/perl/lib/site_perl/5.41.14
    /home/cpan/bin/perl/lib/5.41.14/OpenBSD.amd64-openbsd-thread-multi
    /home/cpan/bin/perl/lib/5.41.14
    .