CLI-Driver v0.77 Perl 5 v5.34.0 x86_64-linux
- Status
- Pass
- From
- Slaven Rezić
- Dist
-
CLI-Driver v0.77
- Platform
- Perl 5 v5.34.0 x86_64-linux
- Date
- 2021-12-17 03:21:00
- ID
- 5b8e5e8c-5ee8-11ec-8adc-19831f24ea8f
This distribution has been tested as part of the CPAN Testers
project, supporting the Perl programming language. See
http://wiki.cpantesters.org/ for more information or email
questions to cpan-testers-discuss@perl.org
--
Dear John Gravatt,
This is a computer-generated report for CLI-Driver-0.77
on perl 5.34.0, created by CPAN-Reporter-1.2018.
Thank you for uploading your work to CPAN. Congratulations!
All tests were successful.
Sections of this report:
* Tester comments
* Program output
* Prerequisites
* Environment and other context
------------------------------
TESTER COMMENTS
------------------------------
Additional comments from tester:
none provided
------------------------------
PROGRAM OUTPUT
------------------------------
Output from '/usr/bin/make test':
Skip blib/lib/auto/share/dist/CLI-Driver/templates/app.pl (unchanged)
Skip blib/lib/auto/share/dist/CLI-Driver/templates/app-sharedir.pl (unchanged)
Skip blib/lib/auto/share/dist/CLI-Driver/cli-driver.yml (unchanged)
Skip blib/lib/auto/share/dist/CLI-Driver/templates/cli-driver.yml (unchanged)
PERL_DL_NONLAZY=1 "/opt/perl-5.34.0/bin/perl" "-MExtUtils::Command::MM" "-MTest::Harness" "-e" "undef *Test::Harness::Switches; test_harness(0, 'blib/lib', 'blib/arch')" t/*.t
# Testing CLI::Driver 0.77, Perl 5.034000, /opt/perl-5.34.0/bin/perl
t/00-load.t .......... ok
t/01-test1.t ......... ok
t/02-test2.t ......... ok
t/03-test3.t ......... ok
t/04-test4.t ......... ok
t/05-test5.t ......... ok
t/06-test6.t ......... ok
t/07-test7.t ......... ok
t/08-test8.t ......... ok
t/09-test9.t ......... ok
t/10-test10.t ........ ok
t/11-test11.t ........ ok
t/11-use-argv-map.t .. ok
t/12-test12.t ........ ok
t/13-test13.t ........ ok
t/14-test14.t ........ ok
t/15-test15.t ........ ok
t/16-test16.t ........ ok
t/manifest.t ......... skipped: Author tests not required for installation
t/pod-coverage.t ..... skipped: Author tests not required for installation
t/pod.t .............. skipped: Author tests not required for installation
All tests successful.
Files=21, Tests=95, 12 wallclock secs ( 0.10 usr 0.02 sys + 10.82 cusr 0.73 csys = 11.67 CPU)
Result: PASS
------------------------------
PREREQUISITES
------------------------------
Prerequisite modules loaded:
requires:
Module Need Have
----------------------- ----- ----------
Capture::Tiny 0 0.48
Data::Printer 0 1.000004
Devel::Confess 0 0.009004
File::Basename 0 2.85
File::ShareDir 0 1.118
Kavorka 0 0.039
Modern::Perl 0 1.20200211
Module::Load 0 0.36
Moose 0 2.2201
namespace::autoclean 0 0.29
perl 5.006 5.034000
Sort::Naturally 0 1.03
Time::localtime 0 1.03
YAML::Syck 1.31 1.34
build_requires:
Module Need Have
----------------------- ----- ----------
Test::More 0 1.302188
configure_requires:
Module Need Have
----------------------- ----- ----------
ExtUtils::MakeMaker 0 7.62
File::ShareDir::Install 0 0.13
------------------------------
ENVIRONMENT AND OTHER CONTEXT
------------------------------
Environment variables:
LANG = C
PATH = /usr/local/bin:/usr/bin:/bin:/usr/local/sbin:/usr/sbin:/sbin:/home/cpansand/bin/linux-gnu:/home/cpansand/bin/sh:/home/cpansand/bin:/usr/games:/home/cpansand/devel:/home/eserte/src/srezic-misc/scripts
PERL5LIB =
PERL5OPT =
PERL5_CPANPLUS_IS_RUNNING = 28928
PERL5_CPAN_IS_RUNNING = 28928
PERL5_CPAN_IS_RUNNING_IN_RECURSION = 22304,28928
PERLDOC = -MPod::Perldoc::ToTextOverstrike
PERL_BATCH = yes
PERL_CANARY_STABILITY_NOPROMPT = 1
PERL_CPAN_REPORTER_CONFIG = /var/tmp/cpansmoker-1023/2021121704/cpanreporter_000_config.ini
PERL_EXTUTILS_AUTOINSTALL = --defaultdeps
PERL_USE_UNSAFE_INC = 1
SHELL = /usr/bin/zsh
TERM = screen
TMPDIR = /var/tmp/cpansmoker-1023/2021121704
Perl special variables (and OS-specific diagnostics, for MSWin32):
$^X = /opt/perl-5.34.0/bin/perl
$UID/$EUID = 1023 / 1023
$GID = 1023 1023
$EGID = 1023 1023
Perl module toolchain versions installed:
Module Have
------------------- --------
CPAN 2.29
CPAN::Meta 2.150010
Cwd 3.80
ExtUtils::CBuilder 0.280236
ExtUtils::Command 7.62
ExtUtils::Install 2.20
ExtUtils::MakeMaker 7.62
ExtUtils::Manifest 1.73
ExtUtils::ParseXS 3.43
File::Spec 3.80
JSON 4.03
JSON::PP 4.06
Module::Build 0.4231
Module::Signature 0.87
Parse::CPAN::Meta 2.150010
Test::Harness 3.43
Test::More 1.302188
YAML 1.30
YAML::Syck 1.34
version 0.9928
--
Summary of my perl5 (revision 5 version 34 subversion 0) configuration:
Platform:
osname=linux
osvers=4.19.0-17-amd64
archname=x86_64-linux
uname='linux cloud12.bbbike.org 4.19.0-17-amd64 #1 smp debian 4.19.194-3 (2021-07-18) x86_64 gnulinux '
config_args='-ds -e -Dprefix=/opt/perl-5.34.0 -Dcf_email=srezic@cpan.org'
hint=recommended
useposix=true
d_sigaction=define
useithreads=undef
usemultiplicity=undef
use64bitint=define
use64bitall=define
uselongdouble=undef
usemymalloc=n
default_inc_excludes_dot=define
Compiler:
cc='cc'
ccflags ='-fwrapv -fno-strict-aliasing -pipe -fstack-protector-strong -I/usr/local/include -D_LARGEFILE_SOURCE -D_FILE_OFFSET_BITS=64 -D_FORTIFY_SOURCE=2'
optimize='-O2'
cppflags='-fwrapv -fno-strict-aliasing -pipe -fstack-protector-strong -I/usr/local/include'
ccversion=''
gccversion='8.3.0'
gccosandvers=''
intsize=4
longsize=8
ptrsize=8
doublesize=8
byteorder=12345678
doublekind=3
d_longlong=define
longlongsize=8
d_longdbl=define
longdblsize=16
longdblkind=3
ivtype='long'
ivsize=8
nvtype='double'
nvsize=8
Off_t='off_t'
lseeksize=8
alignbytes=8
prototype=define
Linker and Libraries:
ld='cc'
ldflags =' -fstack-protector-strong -L/usr/local/lib'
libpth=/usr/local/lib /usr/lib/x86_64-linux-gnu /usr/lib /usr/lib64
libs=-lpthread -lnsl -ldl -lm -lcrypt -lutil -lc
perllibs=-lpthread -lnsl -ldl -lm -lcrypt -lutil -lc
libc=libc-2.28.so
so=so
useshrplib=false
libperl=libperl.a
gnulibc_version='2.28'
Dynamic Linking:
dlsrc=dl_dlopen.xs
dlext=so
d_dlsymun=undef
ccdlflags='-Wl,-E'
cccdlflags='-fPIC'
lddlflags='-shared -O2 -L/usr/local/lib -fstack-protector-strong'
Characteristics of this binary (from libperl):
Compile-time options:
HAS_TIMES
PERLIO_LAYERS
PERL_COPY_ON_WRITE
PERL_DONT_CREATE_GVSV
PERL_MALLOC_WRAP
PERL_OP_PARENT
PERL_PRESERVE_IVUV
USE_64_BIT_ALL
USE_64_BIT_INT
USE_LARGE_FILES
USE_LOCALE
USE_LOCALE_COLLATE
USE_LOCALE_CTYPE
USE_LOCALE_NUMERIC
USE_LOCALE_TIME
USE_PERLIO
USE_PERL_ATOF
Built under linux
Compiled at Sep 4 2021 12:02:49
%ENV:
PERL5LIB=""
PERL5OPT=""
PERL5_CPANPLUS_IS_RUNNING="28928"
PERL5_CPAN_IS_RUNNING="28928"
PERL5_CPAN_IS_RUNNING_IN_RECURSION="22304,28928"
PERLDOC="-MPod::Perldoc::ToTextOverstrike"
PERL_BATCH="yes"
PERL_CANARY_STABILITY_NOPROMPT="1"
PERL_CPAN_REPORTER_CONFIG="/var/tmp/cpansmoker-1023/2021121704/cpanreporter_000_config.ini"
PERL_EXTUTILS_AUTOINSTALL="--defaultdeps"
PERL_USE_UNSAFE_INC="1"
@INC:
/opt/perl-5.34.0/lib/site_perl/5.34.0/x86_64-linux
/opt/perl-5.34.0/lib/site_perl/5.34.0
/opt/perl-5.34.0/lib/5.34.0/x86_64-linux
/opt/perl-5.34.0/lib/5.34.0
.