signatures v0.14 Perl 5 v5.24.2 i686-linux-thread-multi
- Status
- Pass
- From
- Nigel Horne
- Dist
-
signatures v0.14
- Platform
- Perl 5 v5.24.2 i686-linux-thread-multi
- Date
- 2019-05-03 06:47:45
- ID
- 5b8c9c68-6d6f-11e9-bf31-80c71e9d5857
This distribution has been tested as part of the CPAN Testers
project, supporting the Perl programming language. See
http://wiki.cpantesters.org/ for more information or email
questions to cpan-testers-discuss@perl.org
--
Dear Karen Etheridge,
This is a computer-generated report for signatures-0.14
on perl 5.24.2, created by CPAN-Reporter-1.2018.
Thank you for uploading your work to CPAN. Congratulations!
All tests were successful.
Sections of this report:
* Tester comments
* Program output
* Prerequisites
* Environment and other context
------------------------------
TESTER COMMENTS
------------------------------
Additional comments from tester:
this report is from an automated smoke testing program
and was not reviewed by a human for accuracy
------------------------------
PROGRAM OUTPUT
------------------------------
Output from '/usr/bin/make test':
"/home/njh/perl5/perlbrew/perls/perl-5.24.2/bin/perl5.24.2" -MExtUtils::Command::MM -e 'cp_nonempty' -- signatures.bs blib/arch/auto/signatures/signatures.bs 644
PERL_DL_NONLAZY=1 "/home/njh/perl5/perlbrew/perls/perl-5.24.2/bin/perl5.24.2" "-MExtUtils::Command::MM" "-MTest::Harness" "-e" "undef *Test::Harness::Switches; test_harness(0, 'blib/lib', 'blib/arch')" t/*.t
t/anon.t ............... ok
#
# Versions for all modules listed in MYMETA.json (including optional ones):
#
# === Configure Requires ===
#
# Module Want Have
# -------------------- ----- ------
# B::Hooks::OP::Check 0.17 0.22
# B::Hooks::OP::PPAddr 0.03 0.06
# B::Hooks::Parser 0.15 0.21
# ExtUtils::Depends 0.302 0.8000
# ExtUtils::MakeMaker any 7.30
#
# === Build Requires ===
#
# Module Want Have
# ------------------- ---- ----
# ExtUtils::MakeMaker any 7.30
#
# === Test Requires ===
#
# Module Want Have
# ------------------- ---- --------
# B::Deparse any 1.37
# ExtUtils::MakeMaker any 7.30
# File::Spec any 3.74
# Test::More 0.88 1.302120
# base any 2.23_01
# vars any 1.03
#
# === Test Recommends ===
#
# Module Want Have
# ---------- -------- --------
# CPAN::Meta 2.120900 2.150005
#
# === Runtime Requires ===
#
# Module Want Have
# -------------------- ---- ----
# B::Hooks::EndOfScope 0.08 0.21
# B::Hooks::OP::Check 0.17 0.22
# B::Hooks::OP::PPAddr 0.03 0.06
# B::Hooks::Parser 0.12 0.21
# XSLoader any 0.22
# strict any 1.11
# warnings any 1.36
#
# === Other Modules ===
#
# Module Have
# --------------- ----------
# DynaLoader 1.38
# Encode 2.80_01
# File::Temp 0.2304
# JSON::PP 2.27300_01
# Module::Runtime 0.016
# Pod::Coverage 0.23
# Sub::Name 0.21
# YAML 1.27
# autodie 2.29
#
t/00-report-prereqs.t .. ok
t/attribute-failure.t .. ok
t/basic.t .............. ok
t/bug_junctions.t ...... skipped: Perl6::Junction required
t/eval.t ............... ok
t/proto.t .............. ok
t/subclass.t ........... ok
t/warnings.t ........... ok
t/weird.t .............. ok
All tests successful.
Files=10, Tests=31, 1 wallclock secs ( 0.08 usr 0.02 sys + 1.26 cusr 0.13 csys = 1.49 CPU)
Result: PASS
------------------------------
PREREQUISITES
------------------------------
Prerequisite modules loaded:
requires:
Module Need Have
-------------------- ----- --------
B::Hooks::EndOfScope 0.08 0.21
B::Hooks::OP::Check 0.17 0.22
B::Hooks::OP::PPAddr 0.03 0.06
B::Hooks::Parser 0.12 0.21
perl 5.006 5.024002
strict 0 1.11
warnings 0 1.36
XSLoader 0 0.22
build_requires:
Module Need Have
-------------------- ----- --------
B::Deparse 0 1.37
base 0 2.23_01
ExtUtils::MakeMaker 0 7.30
File::Spec 0 3.74
Test::More 0.88 1.302120
vars 0 1.03
configure_requires:
Module Need Have
-------------------- ----- --------
B::Hooks::OP::Check 0.17 0.22
B::Hooks::OP::PPAddr 0.03 0.06
B::Hooks::Parser 0.15 0.21
ExtUtils::Depends 0.302 0.8000
ExtUtils::MakeMaker 0 7.30
perl 5.006 5.024002
------------------------------
ENVIRONMENT AND OTHER CONTEXT
------------------------------
Environment variables:
AUTOMATED_TESTING = 1
HARNESS_OPTIONS = j2
LANG = en_US.UTF-8
PATH = /home/njh/perl5/perlbrew/bin:/home/njh/perl5/perlbrew/perls/perl-5.24.2/bin:/home/njh/src/njh/smoker/bin:/usr/bin:/bin
PERL5LIB = /home/njh/.cpan/build/B-Hooks-Parser-0.21-1/blib/arch:/home/njh/.cpan/build/B-Hooks-Parser-0.21-1/blib/lib:/home/njh/.cpan/build/B-Hooks-OP-PPAddr-0.06-1/blib/arch:/home/njh/.cpan/build/B-Hooks-OP-PPAddr-0.06-1/blib/lib:/home/njh/.cpan/build/B-Hooks-OP-Check-0.22-1/blib/arch:/home/njh/.cpan/build/B-Hooks-OP-Check-0.22-1/blib/lib:/home/njh/.cpan/build/ExtUtils-Depends-0.8000-1/blib/arch:/home/njh/.cpan/build/ExtUtils-Depends-0.8000-1/blib/lib
PERL5OPT =
PERL5_CPANPLUS_IS_RUNNING = 17708
PERL5_CPAN_IS_RUNNING = 17708
PERLBREW_HOME = /home/njh/.perlbrew
PERLBREW_MANPATH = /home/njh/perl5/perlbrew/perls/perl-5.24.2/man
PERLBREW_PATH = /home/njh/perl5/perlbrew/bin:/home/njh/perl5/perlbrew/perls/perl-5.24.2/bin
PERLBREW_PERL = perl-5.24.2
PERLBREW_ROOT = /home/njh/perl5/perlbrew
PERLBREW_SHELLRC_VERSION = 0.84
PERLBREW_VERSION = 0.84
PERL_USE_UNSAFE_INC = 1
SHELL = /bin/sh
TEMP = /tmp/user/1000
TMPDIR = /tmp/user/1000/testwrapper.17695
Perl special variables (and OS-specific diagnostics, for MSWin32):
$^X = /home/njh/perl5/perlbrew/perls/perl-5.24.2/bin/perl5.24.2
$UID/$EUID = 1000 / 1000
$GID = 1000 4 24 25 29 30 44 46 108 1000
$EGID = 1000 4 24 25 29 30 44 46 108 1000
Perl module toolchain versions installed:
Module Have
------------------- ----------
CPAN 2.25
CPAN::Meta 2.150005
Cwd 3.74
ExtUtils::CBuilder 0.280225
ExtUtils::Command 7.30
ExtUtils::Install 2.06
ExtUtils::MakeMaker 7.30
ExtUtils::Manifest 1.70
ExtUtils::ParseXS 3.31
File::Spec 3.74
JSON 2.97001
JSON::PP 2.27300_01
Module::Build 0.4224
Module::Signature n/a
Parse::CPAN::Meta 1.4417_001
Test::Harness 3.36_01
Test::More 1.302120
YAML 1.27
YAML::Syck 1.31
version 0.9916
--
Summary of my perl5 (revision 5 version 24 subversion 2) configuration:
Platform:
osname=linux, osvers=4.3.0-1-686-pae, archname=i686-linux-thread-multi
uname='linux zack 4.3.0-1-686-pae #1 smp debian 4.3.5-1 (2016-02-06) i686 gnulinux '
config_args='-de -Dprefix=/home/njh/perl5/perlbrew/perls/perl-5.24.2 -Duseithreads -Dusemultiplicity -Dusedevel -Accflags= -Aeval:scriptdir=/home/njh/perl5/perlbrew/perls/perl-5.24.2/bin'
hint=recommended, useposix=true, d_sigaction=define
useithreads=define, usemultiplicity=define
use64bitint=undef, use64bitall=undef, uselongdouble=undef
usemymalloc=n, bincompat5005=undef
Compiler:
cc='cc', ccflags ='-D_REENTRANT -D_GNU_SOURCE -fwrapv -fno-strict-aliasing -pipe -fstack-protector-strong -I/usr/local/include -D_LARGEFILE_SOURCE -D_FILE_OFFSET_BITS=64',
optimize='-O2',
cppflags='-D_REENTRANT -D_GNU_SOURCE -fwrapv -fno-strict-aliasing -pipe -fstack-protector-strong -I/usr/local/include'
ccversion='', gccversion='6.4.0 20170704', gccosandvers=''
intsize=4, longsize=4, ptrsize=4, doublesize=8, byteorder=1234, doublekind=3
d_longlong=define, longlongsize=8, d_longdbl=define, longdblsize=12, longdblkind=3
ivtype='long', ivsize=4, nvtype='double', nvsize=8, Off_t='off_t', lseeksize=8
alignbytes=4, prototype=define
Linker and Libraries:
ld='cc', ldflags =' -fstack-protector-strong -L/usr/local/lib'
libpth=/usr/local/lib /usr/lib/gcc/i686-linux-gnu/6/include-fixed /usr/include/i386-linux-gnu /usr/lib /lib/i386-linux-gnu /lib/../lib /usr/lib/i386-linux-gnu /usr/lib/../lib /lib
libs=-lpthread -lnsl -lgdbm -ldb -ldl -lm -lcrypt -lutil -lc -lgdbm_compat
perllibs=-lpthread -lnsl -ldl -lm -lcrypt -lutil -lc
libc=libc-2.24.so, so=so, useshrplib=false, libperl=libperl.a
gnulibc_version='2.24'
Dynamic Linking:
dlsrc=dl_dlopen.xs, dlext=so, d_dlsymun=undef, ccdlflags='-Wl,-E'
cccdlflags='-fPIC', lddlflags='-shared -O2 -L/usr/local/lib -fstack-protector-strong'
Characteristics of this binary (from libperl):
Compile-time options: HAS_TIMES MULTIPLICITY PERLIO_LAYERS
PERL_COPY_ON_WRITE PERL_DONT_CREATE_GVSV
PERL_HASH_FUNC_ONE_AT_A_TIME_HARD
PERL_IMPLICIT_CONTEXT PERL_MALLOC_WRAP
PERL_PRESERVE_IVUV PERL_USE_DEVEL USE_ITHREADS
USE_LARGE_FILES USE_LOCALE USE_LOCALE_COLLATE
USE_LOCALE_CTYPE USE_LOCALE_NUMERIC USE_LOCALE_TIME
USE_PERLIO USE_PERL_ATOF USE_REENTRANT_API
Locally applied patches:
Devel::PatchPerl 1.38
Built under linux
Compiled at Jul 20 2017 00:34:24
%ENV:
PERL5LIB="/home/njh/.cpan/build/B-Hooks-Parser-0.21-1/blib/arch:/home/njh/.cpan/build/B-Hooks-Parser-0.21-1/blib/lib:/home/njh/.cpan/build/B-Hooks-OP-PPAddr-0.06-1/blib/arch:/home/njh/.cpan/build/B-Hooks-OP-PPAddr-0.06-1/blib/lib:/home/njh/.cpan/build/B-Hooks-OP-Check-0.22-1/blib/arch:/home/njh/.cpan/build/B-Hooks-OP-Check-0.22-1/blib/lib:/home/njh/.cpan/build/ExtUtils-Depends-0.8000-1/blib/arch:/home/njh/.cpan/build/ExtUtils-Depends-0.8000-1/blib/lib"
PERL5OPT=""
PERL5_CPANPLUS_IS_RUNNING="17708"
PERL5_CPAN_IS_RUNNING="17708"
PERLBREW_HOME="/home/njh/.perlbrew"
PERLBREW_MANPATH="/home/njh/perl5/perlbrew/perls/perl-5.24.2/man"
PERLBREW_PATH="/home/njh/perl5/perlbrew/bin:/home/njh/perl5/perlbrew/perls/perl-5.24.2/bin"
PERLBREW_PERL="perl-5.24.2"
PERLBREW_ROOT="/home/njh/perl5/perlbrew"
PERLBREW_SHELLRC_VERSION="0.84"
PERLBREW_VERSION="0.84"
PERL_USE_UNSAFE_INC="1"
@INC:
/home/njh/.cpan/build/B-Hooks-Parser-0.21-1/blib/arch
/home/njh/.cpan/build/B-Hooks-Parser-0.21-1/blib/lib
/home/njh/.cpan/build/B-Hooks-OP-PPAddr-0.06-1/blib/arch
/home/njh/.cpan/build/B-Hooks-OP-PPAddr-0.06-1/blib/lib
/home/njh/.cpan/build/B-Hooks-OP-Check-0.22-1/blib/arch
/home/njh/.cpan/build/B-Hooks-OP-Check-0.22-1/blib/lib
/home/njh/.cpan/build/ExtUtils-Depends-0.8000-1/blib/arch
/home/njh/.cpan/build/ExtUtils-Depends-0.8000-1/blib/lib
/home/njh/perl5/perlbrew/perls/perl-5.24.2/lib/site_perl/5.24.2/i686-linux-thread-multi
/home/njh/perl5/perlbrew/perls/perl-5.24.2/lib/site_perl/5.24.2
/home/njh/perl5/perlbrew/perls/perl-5.24.2/lib/5.24.2/i686-linux-thread-multi
/home/njh/perl5/perlbrew/perls/perl-5.24.2/lib/5.24.2
.