XString v0.005 Perl 5 v5.41.12 MSWin32-x64-multi-thread

Status
Pass
From
twata
Dist
XString v0.005
Platform
Perl 5 v5.41.12 MSWin32-x64-multi-thread
Date
2025-05-17 15:28:26
ID
5b7b6bba-6e47-1014-982d-e967d3b084c5
This distribution has been tested as part of the CPAN Testers
project, supporting the Perl programming language.  See
http://wiki.cpantesters.org/ for more information or email
questions to cpan-testers-discuss@perl.org


--
Dear ATOOMIC,

This is a computer-generated report for XString-0.005
on perl 5.41.12, created by App::cpanminus::reporter 0.18 (1.7048).

Thank you for uploading your work to CPAN.  Congratulations!
All tests were successful.

Sections of this report:

    * Tester comments
    * Program output
    * Prerequisites
    * Environment and other context

------------------------------
TESTER COMMENTS
------------------------------

Additional comments from tester:

none provided

------------------------------
PROGRAM OUTPUT
------------------------------

Output from '':

Building and testing XString-0.005
cp lib/XString.pm blib\lib\XString.pm
Running Mkbootstrap for XString ()
"C:\WinLibs\Perl-5.41.12\bin\perl.exe" -MExtUtils::Command -e chmod -- 644 "XString.bs"
"C:\WinLibs\Perl-5.41.12\bin\perl.exe" -MExtUtils::Command::MM -e cp_nonempty -- XString.bs blib\arch\auto\XString\XString.bs 644
"C:\WinLibs\Perl-5.41.12\bin\perl.exe" "C:\WinLibs\Perl-5.41.12\lib\ExtUtils/xsubpp"  -typemap C:\WinLibs\Perl-5.41.12\lib\ExtUtils\typemap  XString.xs > XString.xsc
Please specify prototyping behavior for XString.xs (see perlxs manual)
"C:\WinLibs\Perl-5.41.12\bin\perl.exe" -MExtUtils::Command -e mv -- XString.xsc XString.c
gcc -c   -std=c99 -DWIN32 -DWIN64 -DPERL_TEXTMODE_SCRIPTS -DMULTIPLICITY -DPERL_IMPLICIT_SYS -DUSE_PERLIO -D__USE_MINGW_ANSI_STDIO -fwrapv -fno-strict-aliasing -mms-bitfields -Os   -DVERSION=\"0.005\" -DXS_VERSION=\"0.005\"  "-IC:\WinLibs\Perl-5.41.12\lib\CORE"   XString.c
"C:\WinLibs\Perl-5.41.12\bin\perl.exe" -MExtUtils::Mksymlists \
     -e "Mksymlists('NAME'=>\"XString\", 'DLBASE' => 'XString', 'DL_FUNCS' => {  }, 'FUNCLIST' => [], 'IMPORTS' => {  }, 'DL_VARS' => []);"
g++ XString.def -o blib\arch\auto\XString\XString.dll -shared -s -L"C:\WinLibs\Perl-5.41.12\lib\CORE" -L"C:\winlibs-x86_64-posix-seh-gcc-14.2.0-llvm-19.1.1-mingw-w64msvcrt-12.0.0-r2\mingw64\lib" -L"C:\winlibs-x86_64-posix-seh-gcc-14.2.0-llvm-19.1.1-mingw-w64msvcrt-12.0.0-r2\mingw64\x86_64-w64-mingw32\lib" -L"C:\winlibs-x86_64-posix-seh-gcc-14.2.0-llvm-19.1.1-mingw-w64msvcrt-12.0.0-r2\mingw64\lib\gcc\x86_64-w64-mingw32\14.2.0" XString.o   "C:\WinLibs\Perl-5.41.12\lib\CORE\libperl541.a" -lmoldname -lkernel32 -luser32 -lgdi32 -lwinspool -lcomdlg32 -ladvapi32 -lshell32 -lole32 -loleaut32 -lnetapi32 -luuid -lws2_32 -lmpr -lwinmm -lversion -lodbc32 -lodbccp32 -lcomctl32 -Wl,--enable-auto-image-base
"C:\WinLibs\Perl-5.41.12\bin\perl.exe" -MExtUtils::Command -e chmod -- 755 blib\arch\auto\XString\XString.dll
"C:\WinLibs\Perl-5.41.12\bin\perl.exe" -MExtUtils::Command::MM -e cp_nonempty -- XString.bs blib\arch\auto\XString\XString.bs 644
"C:\WinLibs\Perl-5.41.12\bin\perl.exe" "-MExtUtils::Command::MM" "-MTest::Harness" "-e" "undef *Test::Harness::Switches; test_harness(0, 'blib\lib', 'blib\arch')" t/*.t
t/00-load.t ............ ok
# 
# Versions for all modules listed in MYMETA.json (including optional ones):
# 
# === Configure Requires ===
# 
#     Module              Want Have
#     ------------------- ---- ----
#     ExtUtils::MakeMaker  any 7.74
# 
# === Build Requires ===
# 
#     Module              Want Have
#     ------------------- ---- ----
#     ExtUtils::MakeMaker  any 7.74
# 
# === Test Requires ===
# 
#     Module              Want     Have
#     ------------------- ---- --------
#     ExtUtils::MakeMaker  any     7.74
#     File::Spec           any     3.94
#     File::Temp           any   0.2311
#     Test::More          0.87 1.302210
# 
# === Test Recommends ===
# 
#     Module         Want     Have
#     ---------- -------- --------
#     CPAN::Meta 2.120900 2.150010
# 
# === Runtime Requires ===
# 
#     Module Want Have
#     ------ ---- ----
# 
t/00-report-prereqs.t .. ok
t/cstring.t ............ ok
t/perlstring.t ......... ok
All tests successful.
Files=4, Tests=282,  1 wallclock secs ( 0.09 usr +  0.00 sys =  0.09 CPU)
Result: PASS

------------------------------
PREREQUISITES
------------------------------

Prerequisite modules loaded:

    No requirements found

------------------------------
ENVIRONMENT AND OTHER CONTEXT
------------------------------

Environment variables:

    COMSPEC = C:\WINDOWS\system32\cmd.exe
    LC_ALL = C
    NUMBER_OF_PROCESSORS = 4
    PATH = C:\OracleXE\product\18.0.0\dbhomeXE\bin;C:\Progra~1\Firebird\Firebird_3_0;c:\mysql\bin;C:\Program Files\PostgreSQL\13\bin;C:\home\vega54112\perl5\bin;C:\WinLibs\ext2\bin;C:\patch-2.5.9-7-bin\bin;C:\WinLibs\Perl-5.41.12\bin;C:\winlibs-x86_64-posix-seh-gcc-14.2.0-llvm-19.1.1-mingw-w64msvcrt-12.0.0-r2\mingw64\bin;C:\WinLibs\build-libressl\aab\bin;C:\WINDOWS\system32;C:\WINDOWS;C:\WINDOWS\System32\Wbem;C:\WINDOWS\System32\WindowsPowerShell\v1.0
    PERL5LIB = C:\home\vega54112\perl5\lib\perl5
    PERL_LOCAL_LIB_ROOT = C:\home\vega54112\perl5
    PERL_MB_OPT = --install_base "C:\\home\\vega54112\\perl5"
    PERL_MM_OPT = INSTALL_BASE=C:\\home\\vega54112\\perl5
    PROCESSOR_IDENTIFIER = Intel64 Family 6 Model 58 Stepping 9, GenuineIntel
    SQITCH_TEST_ALT_ORACLE_REGISTRY = oreore
    SQITCH_TEST_MYSQL_URI = db:mysql://root:mymymy0@127.0.0.1/information_schema
    SQITCH_TEST_ORACLE_URI = db:oracle://system:momongaaa@/127.0.0.1/XEPDB1
    SQITCH_TEST_PG_URI = db:pg://pguser:aiue0kakikukek0@127.0.0.1:5432/pgtest13
    TEMP = C:\Users\USER\AppData\Local\Temp
    TERM = dumb

Perl special variables (and OS-specific diagnostics, for MSWin32):

    EGID = 0
    EUID = 0
    EXECUTABLE_NAME = C:\WinLibs\Perl-5.41.12\bin\perl.exe
    GID = 0
    UID = 0
    Win32::FsType = NTFS
    Win32::GetOSName = Win8.1
    Win32::GetOSVersion = , 6, 3, 9600, 2, 0, 0, 256, 1
    Win32::IsAdminUser = 0

Perl module toolchain versions installed:

    Module              Have    
    ------------------- --------
    CPAN                2.38    
    CPAN::Meta          2.150010
    Cwd                 3.94    
    ExtUtils::CBuilder  0.280240
    ExtUtils::Command   7.74    
    ExtUtils::Install   2.22    
    ExtUtils::MakeMaker 7.74    
    ExtUtils::Manifest  1.75    
    ExtUtils::ParseXS   3.57    
    File::Spec          3.94    
    JSON                n/a     
    JSON::PP            4.16    
    Module::Build       0.4234  
    Module::Signature   n/a     
    Parse::CPAN::Meta   2.150010
    Test::Harness       3.50    
    Test::More          1.302210
    YAML                n/a     
    YAML::Syck          n/a     
    version             0.9933  


--

Summary of my perl5 (revision 5 version 41 subversion 12) configuration:
   
  Platform:
    osname=MSWin32
    osvers=6.3.9600
    archname=MSWin32-x64-multi-thread
    uname=''
    config_args='undef'
    hint=recommended
    useposix=true
    d_sigaction=undef
    useithreads=define
    usemultiplicity=define
    use64bitint=define
    use64bitall=undef
    uselongdouble=undef
    usemymalloc=n
    default_inc_excludes_dot=define
  Compiler:
    cc='gcc'
    ccflags ='-std=c99 -DWIN32 -DWIN64 -DPERL_TEXTMODE_SCRIPTS -DMULTIPLICITY -DPERL_IMPLICIT_SYS -DUSE_PERLIO -D__USE_MINGW_ANSI_STDIO -fwrapv -fno-strict-aliasing -mms-bitfields'
    optimize='-Os'
    cppflags='-DWIN32'
    ccversion=''
    gccversion='14.2.0'
    gccosandvers=''
    intsize=4
    longsize=4
    ptrsize=8
    doublesize=8
    byteorder=12345678
    doublekind=3
    d_longlong=define
    longlongsize=8
    d_longdbl=define
    longdblsize=16
    longdblkind=3
    ivtype='long long'
    ivsize=8
    nvtype='double'
    nvsize=8
    Off_t='long long'
    lseeksize=8
    alignbytes=8
    prototype=define
  Linker and Libraries:
    ld='g++'
    ldflags ='-s -L"C:\WinLibs\Perl-5.41.12\lib\CORE" -L"C:\winlibs-x86_64-posix-seh-gcc-14.2.0-llvm-19.1.1-mingw-w64msvcrt-12.0.0-r2\mingw64\lib" -L"C:\winlibs-x86_64-posix-seh-gcc-14.2.0-llvm-19.1.1-mingw-w64msvcrt-12.0.0-r2\mingw64\x86_64-w64-mingw32\lib" -L"C:\winlibs-x86_64-posix-seh-gcc-14.2.0-llvm-19.1.1-mingw-w64msvcrt-12.0.0-r2\mingw64\lib\gcc\x86_64-w64-mingw32\14.2.0"'
    libpth=C:\winlibs-x86_64-posix-seh-gcc-14.2.0-llvm-19.1.1-mingw-w64msvcrt-12.0.0-r2\mingw64\lib C:\winlibs-x86_64-posix-seh-gcc-14.2.0-llvm-19.1.1-mingw-w64msvcrt-12.0.0-r2\mingw64\x86_64-w64-mingw32\lib C:\winlibs-x86_64-posix-seh-gcc-14.2.0-llvm-19.1.1-mingw-w64msvcrt-12.0.0-r2\mingw64\lib\gcc\x86_64-w64-mingw32\14.2.0
    libs= -lmoldname -lkernel32 -luser32 -lgdi32 -lwinspool -lcomdlg32 -ladvapi32 -lshell32 -lole32 -loleaut32 -lnetapi32 -luuid -lws2_32 -lmpr -lwinmm -lversion -lodbc32 -lodbccp32 -lcomctl32
    perllibs= -lmoldname -lkernel32 -luser32 -lgdi32 -lwinspool -lcomdlg32 -ladvapi32 -lshell32 -lole32 -loleaut32 -lnetapi32 -luuid -lws2_32 -lmpr -lwinmm -lversion -lodbc32 -lodbccp32 -lcomctl32
    libc=-lmsvcrt
    so=dll
    useshrplib=true
    libperl=libperl541.a
    gnulibc_version=''
  Dynamic Linking:
    dlsrc=dl_win32.xs
    dlext=dll
    d_dlsymun=undef
    ccdlflags=' '
    cccdlflags=' '
    lddlflags='-shared -s -L"C:\WinLibs\Perl-5.41.12\lib\CORE" -L"C:\winlibs-x86_64-posix-seh-gcc-14.2.0-llvm-19.1.1-mingw-w64msvcrt-12.0.0-r2\mingw64\lib" -L"C:\winlibs-x86_64-posix-seh-gcc-14.2.0-llvm-19.1.1-mingw-w64msvcrt-12.0.0-r2\mingw64\x86_64-w64-mingw32\lib" -L"C:\winlibs-x86_64-posix-seh-gcc-14.2.0-llvm-19.1.1-mingw-w64msvcrt-12.0.0-r2\mingw64\lib\gcc\x86_64-w64-mingw32\14.2.0"'


Characteristics of this binary (from libperl): 
  Compile-time options:
    HAS_LONG_DOUBLE
    HAS_TIMES
    HAVE_INTERP_INTERN
    MULTIPLICITY
    PERLIO_LAYERS
    PERL_COPY_ON_WRITE
    PERL_DONT_CREATE_GVSV
    PERL_HASH_FUNC_SIPHASH13
    PERL_HASH_USE_SBOX32
    PERL_IMPLICIT_SYS
    PERL_MALLOC_WRAP
    PERL_OP_PARENT
    PERL_PRESERVE_IVUV
    PERL_USE_SAFE_PUTENV
    USE_64_BIT_INT
    USE_ITHREADS
    USE_LARGE_FILES
    USE_LOCALE
    USE_LOCALE_COLLATE
    USE_LOCALE_CTYPE
    USE_LOCALE_NUMERIC
    USE_LOCALE_TIME
    USE_PERLIO
    USE_PERL_ATOF
  Built under MSWin32
  Compiled at Apr 23 2025 02:08:55
  %ENV:
    PERL5LIB="C:\home\vega54112\perl5\lib\perl5"
    PERL_LOCAL_LIB_ROOT="C:\home\vega54112\perl5"
    PERL_MB_OPT="--install_base "C:\\home\\vega54112\\perl5""
    PERL_MM_OPT="INSTALL_BASE=C:\\home\\vega54112\\perl5"
  @INC:
    C:\home\vega54112\perl5\lib\perl5/MSWin32-x64-multi-thread
    C:\home\vega54112\perl5\lib\perl5
    C:/WinLibs/Perl-5.41.12/site/lib
    C:/WinLibs/Perl-5.41.12/lib