Spreadsheet-WriteExcel v2.37 Perl 5 v5.8.4 i86pc-solaris-64int

Status
Pass
From
Nigel Horne
Dist
Spreadsheet-WriteExcel v2.37
Platform
Perl 5 v5.8.4 i86pc-solaris-64int
Date
2010-08-17 12:17:08
ID
5b5e611a-a9f9-11df-bc57-bc716fd33ed5
This distribution has been tested as part of the CPAN Testers
project, supporting the Perl programming language.  See
http://wiki.cpantesters.org/ for more information or email
questions to cpan-testers-discuss@perl.org


--
Dear John McNamara,

This is a computer-generated report for Spreadsheet-WriteExcel-2.37
on perl 5.8.4, created by CPAN-Reporter-1.18.

Thank you for uploading your work to CPAN.  Congratulations!
All tests were successful.

Sections of this report:

    * Tester comments
    * Program output
    * Prerequisites
    * Environment and other context

------------------------------
TESTER COMMENTS
------------------------------

Additional comments from tester:

none provided

------------------------------
PROGRAM OUTPUT
------------------------------

Output from '/usr/sfw/bin/gmake test':

PERL_DL_NONLAZY=1 /usr/bin/perl "-MExtUtils::Command::MM" "-e" "test_harness(0, 'blib/lib', 'blib/arch')" t/*.t
t/00_IEEE_double.t ............ ok
t/01_add_worksheet.t .......... ok
t/02_merge_formats.t .......... ok
t/03_cleanup.t ................ ok
t/04_dimensions.t ............. ok
t/05_rows.t ................... ok
t/06_extsst.t ................. ok
t/07_set_propertes.t .......... ok
t/11_date_time.t .............. ok
t/12_date_only.t .............. ok
t/13_date_seconds.t ........... ok
t/21_escher.t ................. ok
t/22_mso_drawing_group.t ...... ok
t/23_note.t ................... ok
t/24_txo.t .................... ok
t/25_position_object.t ........ ok
t/26_autofilter.t ............. ok
t/27_autofilter.t ............. ok
t/28_autofilter.t ............. ok
t/29_process_jpg.t ............ ok
t/30_validation_dval.t ........ ok
t/31_validation_dv_strings.t .. ok
t/32_validation_dv_formula.t .. ok
t/33_validation_dv.t .......... ok
t/40_property_types.t ......... ok
t/41_properties.t ............. ok
t/42_set_properties.t ......... ok
t/50_name_stored.t ............ ok
t/51_name_print_area.t ........ ok
t/52_name_print_titles.t ...... ok
t/53_name_autofilter.t ........ ok
t/60_chart_generic.t .......... ok
t/61_chart_subclasses.t ....... ok
t/62_chart_formats.t .......... ok
t/63_chart_area_formats.t ..... ok
t/90_pod.t .................... skipped: Author tests not required for installation
t/91_minimumversion.t ......... skipped: Author tests not required for installation
t/92_meta.t ................... skipped: Author tests not required for installation
All tests successful.
Files=38, Tests=1254, 159 wallclock secs ( 5.36 usr  1.21 sys + 139.41 cusr 10.08 csys = 156.06 CPU)
Result: PASS

------------------------------
PREREQUISITES
------------------------------

Prerequisite modules loaded:

requires:

    Module              Need Have    
    ------------------- ---- --------
    File::Temp          0    0.22    
    OLE::Storage_Lite   0.19 0.19    
    Parse::RecDescent   0    1.965001

configure_requires:

    Module              Need Have    
    ------------------- ---- --------
    ExtUtils::MakeMaker 0    6.56    


------------------------------
ENVIRONMENT AND OTHER CONTEXT
------------------------------

Environment variables:

    PATH = /usr/sbin:/usr/bin:/opt/SUNWspro/bin:/usr/ccs/bin:/usr/local/bin
    PERL5LIB = 
    PERL5OPT = 
    PERL5_CPANPLUS_IS_RUNNING = 563
    PERL5_CPAN_IS_RUNNING = 563
    SHELL = /bin/bash
    TERM = sun-color

Perl special variables (and OS-specific diagnostics, for MSWin32):

    $^X = /usr/bin/perl
    $UID/$EUID = 0 / 0
    $GID = 0 12 9 8 7 6 5 4 3 2 1 0
    $EGID = 0 12 9 8 7 6 5 4 3 2 1 0

Perl module toolchain versions installed:

    Module              Have  
    ------------------- ------
    CPAN                1.9402
    Cwd                 3.31  
    ExtUtils::CBuilder  0.2703
    ExtUtils::Command   1.16  
    ExtUtils::Install   1.54  
    ExtUtils::MakeMaker 6.56  
    ExtUtils::Manifest  1.58  
    ExtUtils::ParseXS   2.2206
    File::Spec          3.31  
    Module::Build       0.3607
    Module::Signature   0.55  
    Test::Harness       3.21  
    Test::More          0.96  
    YAML                0.71  
    YAML::Syck          1.12  
    version             0.82  


--

Summary of my perl5 (revision 5 version 8 subversion 4) configuration:
  Platform:
    osname=solaris, osvers=2.10, archname=i86pc-solaris-64int
    uname='sunos localhost 5.10 i86pc i386 i86pc'
    config_args=''
    hint=recommended, useposix=true, d_sigaction=define
    usethreads=undef use5005threads=undef useithreads=undef usemultiplicity=undef
    useperlio=define d_sfio=undef uselargefiles=define usesocks=undef
    use64bitint=define use64bitall=undef uselongdouble=undef
    usemymalloc=n, bincompat5005=undef
  Compiler:
    cc='cc', ccflags ='-D_LARGEFILE_SOURCE -D_FILE_OFFSET_BITS=64 -D_TS_ERRNO',
    optimize='-xO3 -xspace -xildoff',
    cppflags=''
    ccversion='Sun WorkShop', gccversion='', gccosandvers=''
    intsize=4, longsize=4, ptrsize=4, doublesize=8, byteorder=12345678
    d_longlong=define, longlongsize=8, d_longdbl=define, longdblsize=12
    ivtype='long long', ivsize=8, nvtype='double', nvsize=8, Off_t='off_t', lseeksize=8
    alignbytes=4, prototype=define
  Linker and Libraries:
    ld='cc', ldflags =''
    libpth=/lib /usr/lib /usr/ccs/lib
    libs=-lsocket -lnsl -ldl -lm -lc
    perllibs=-lsocket -lnsl -ldl -lm -lc
    libc=/lib/libc.so, so=so, useshrplib=true, libperl=libperl.so
    gnulibc_version=''
  Dynamic Linking:
    dlsrc=dl_dlopen.xs, dlext=so, d_dlsymun=undef, ccdlflags='-R /usr/perl5/5.8.4/lib/i86pc-solaris-64int/CORE'
    cccdlflags='-KPIC', lddlflags='-G'


Characteristics of this binary (from libperl): 
  Compile-time options: USE_64_BIT_INT USE_LARGE_FILES
  Locally applied patches:
	22667 The optree builder was looping when constructing the ops ...
	22715 Upgrade to FileCache 1.04
	22733 Missing copyright in the README.
	22746 fix a coredump caused by rv2gv not fully converting a PV ...
	22755 Fix 29149 - another UTF8 cache bug hit by substr.
	22774 [perl #28938] split could leave an array without ...
	22775 [perl #29127] scalar delete of empty slice returned garbage
	22776 [perl #28986] perl -e "open m" crashes Perl
	22777 add test for change #22776 ("open m" crashes Perl)
	22778 add test for change #22746 ([perl #29102] Crash on assign ...
	22781 [perl #29340] Bizarre copy of ARRAY make sure a pad op's ...
	22796 [perl #29346] Double warning for int(undef) and abs(undef) ...
	22818 BOM-marked and (BOMless) UTF-16 scripts not working
	22823 [perl #29581] glob() misses a lot of matches
	22827 Smoke [5.9.2] 22818 FAIL(F) MSWin32 WinXP/.Net SP1 (x86/1 cpu)
	22830 [perl #29637] Thread creation time is hypersensitive
	22831 improve hashing algorithm for ptr tables in perl_clone: ...
	22839 [perl #29790] Optimization busted: '@a = "b", sort @a' ...
	22850 [PATCH] 'perl -v' fails if local_patches contains code snippets
	22852 TEST needs to ignore SCM files
	22886 Pod::Find should ignore SCM files and dirs
	22888 Remove redundant %SIG assignments from FileCache
	23006 [perl #30509] use encoding and "eq" cause memory leak
	23074 Segfault using HTML::Entities
	23106 Numeric comparison operators mustn't compare addresses of ...
	23320 [perl #30066] Memory leak in nested shared data structures ...
	23321 [perl #31459] Bug in read()
  Built under solaris
  Compiled at Jan 21 2005 15:48:11
  %ENV:
    PERL5LIB=""
    PERL5OPT=""
    PERL5_CPANPLUS_IS_RUNNING="563"
    PERL5_CPAN_IS_RUNNING="563"
  @INC:
    /usr/perl5/5.8.4/lib/i86pc-solaris-64int
    /usr/perl5/5.8.4/lib
    /usr/perl5/site_perl/5.8.4/i86pc-solaris-64int
    /usr/perl5/site_perl/5.8.4
    /usr/perl5/site_perl
    /usr/perl5/vendor_perl/5.8.4/i86pc-solaris-64int
    /usr/perl5/vendor_perl/5.8.4
    /usr/perl5/vendor_perl
    .