App-TimeTracker v3.010 Perl 5 v5.26.0 amd64-freebsd

Status
Pass
From
Slaven Rezić
Dist
App-TimeTracker v3.010
Platform
Perl 5 v5.26.0 amd64-freebsd
Date
2021-09-23 22:41:13
ID
5b554932-1cbf-11ec-9b47-a26e1f24ea8f
This distribution has been tested as part of the CPAN Testers
project, supporting the Perl programming language.  See
http://wiki.cpantesters.org/ for more information or email
questions to cpan-testers-discuss@perl.org


--
Dear Thomas Klausner,

This is a computer-generated report for App-TimeTracker-3.010
on perl 5.26.0, created by CPAN-Reporter-1.2018.

Thank you for uploading your work to CPAN.  Congratulations!
All tests were successful.

Sections of this report:

    * Tester comments
    * Program output
    * Prerequisites
    * Environment and other context

------------------------------
TESTER COMMENTS
------------------------------

Additional comments from tester:

none provided

------------------------------
PROGRAM OUTPUT
------------------------------

Output from './Build test':

Unable to get Terminal Size. The TIOCGWINSZ ioctl didn't work. The COLUMNS and LINES environment variables didn't work. The resize program didn't work. The stty program didn't work. at /usr/perl5.26.0p/lib/site_perl/5.26.0/Getopt/Long/Descriptive.pm line 295.
Unable to get Terminal Size. The TIOCGWINSZ ioctl didn't work. The COLUMNS and LINES environment variables didn't work. The resize program didn't work. The stty program didn't work. at /usr/perl5.26.0p/lib/site_perl/5.26.0/Getopt/Long/Descriptive.pm line 295.
Unable to get Terminal Size. The TIOCGWINSZ ioctl didn't work. The COLUMNS and LINES environment variables didn't work. The resize program didn't work. The stty program didn't work. at /usr/perl5.26.0p/lib/site_perl/5.26.0/Getopt/Long/Descriptive.pm line 295.
Unable to get Terminal Size. The TIOCGWINSZ ioctl didn't work. The COLUMNS and LINES environment variables didn't work. The resize program didn't work. The stty program didn't work. at /usr/perl5.26.0p/lib/site_perl/5.26.0/Getopt/Long/Descriptive.pm line 295. at t/00-compile.t line 95, <GEN24> line 2.
t/00-compile.t ................... ok
t/00-load.t ...................... ok
t/Command/core.t ................. ok
# Test initial bug report
# Test de facto bug
t/Command/rt_73859_daychange.t ... ok
t/Command/rt_88867_start_help.t .. ok
t/Proto/config.t ................. ok
t/Proto/run.t .................... ok
t/Task/current.t ................. ok
t/Task/helpers.t ................. ok
t/Task/start.t ................... ok
t/Task/storage_location.t ........ ok
t/TimeTracker/datetime_coerce.t .. ok
t/TimeTracker/find_task_files.t .. ok
t/TimeTracker/helpers.t .......... ok
All tests successful.
Files=14, Tests=150, 13 wallclock secs ( 0.01 usr  0.13 sys +  2.90 cusr  7.31 csys = 10.35 CPU)
Result: PASS

------------------------------
PREREQUISITES
------------------------------

Prerequisite modules loaded:

requires:

    Module                          Need  Have    
    ------------------------------- ----- --------
    Carp                            0     1.50    
    constant                        0     1.33    
    Data::Dumper                    0     2.183   
    DateTime                        0     1.54    
    DateTime::Format::Duration      0     1.04    
    DateTime::Format::ISO8601       0     0.15    
    Exporter                        0     5.74    
    File::Copy                      0     2.32    
    File::Find::Rule                0     0.34    
    File::HomeDir                   0     1.006   
    Hash::Merge                     0     0.302   
    JSON::XS                        0     4.03    
    Moose                           0     2.2015  
    Moose::Role                     0     2.2015  
    Moose::Util::TypeConstraints    0     2.2015  
    MooseX::Getopt                  0     0.74    
    MooseX::Storage                 0     0.53    
    MooseX::Storage::Format::JSONpm 0     0.093093
    MooseX::Types::Path::Class      0     0.09    
    namespace::autoclean            0     0.29    
    parent                          0     0.238   
    Path::Class                     0     0.37    
    Path::Class::Iterator           0     0.07    
    perl                            5.010 5.026000
    Scalar::Util                    0     1.56    
    Term::ANSIColor                 0     5.01    
    Text::Table                     0     1.133   
    Try::Tiny                       0     0.30    
    User::pwent                     0     1.00    

build_requires:

    Module                          Need  Have    
    ------------------------------- ----- --------
    File::Copy::Recursive           0     0.45    
    File::Spec                      0     3.75    
    File::Temp                      0     0.2311  
    IO::Capture::Stdout             0     0       
    IO::Handle                      0     1.45    
    IPC::Open3                      0     1.20    
    lib                             0     0.64    
    Module::Build                   0.28  0.4229  
    Module::Pluggable               0     5.2     
    Test::File                      0     1.448   
    Test::MockTime                  0     0.16    
    Test::More                      0     1.302186
    Test::Most                      0     0.37    
    Test::Trap                      0     0.3.4   


------------------------------
ENVIRONMENT AND OTHER CONTEXT
------------------------------

Environment variables:

    LC_ALL = de_DE.ISO8859-1
    PATH = /usr/local/bin:/usr/bin:/bin:/usr/local/sbin:/usr/sbin:/sbin:/home/cpansand/bin/freebsd10.3:/home/cpansand/bin/sh:/home/cpansand/bin:/usr/games:/home/cpansand/devel:/home/eserte/src/srezic-misc/scripts
    PERL5LIB = 
    PERL5OPT = 
    PERL5_CPANPLUS_IS_RUNNING = 16929
    PERL5_CPAN_IS_RUNNING = 16929
    PERL5_CPAN_IS_RUNNING_IN_RECURSION = 13179,16929
    PERLDOC = -MPod::Perldoc::ToTextOverstrike
    PERL_BATCH = yes
    PERL_CANARY_STABILITY_NOPROMPT = 1
    PERL_CPAN_REPORTER_CONFIG = /var/tmp/cpansmoker-1023/2021092400/cpanreporter_000_config.ini
    PERL_EXTUTILS_AUTOINSTALL = --defaultdeps
    PERL_USE_UNSAFE_INC = 1
    SHELL = /usr/local/bin/zsh
    TERM = screen
    TMPDIR = /var/tmp/cpansmoker-1023/2021092400

Perl special variables (and OS-specific diagnostics, for MSWin32):

    $^X = /usr/perl5.26.0p/bin/perl5.26.0
    $UID/$EUID = 1023 / 1023
    $GID = 1023 1023
    $EGID = 1023 1023

Perl module toolchain versions installed:

    Module              Have    
    ------------------- --------
    CPAN                2.28    
    CPAN::Meta          2.150010
    Cwd                 3.75    
    ExtUtils::CBuilder  0.280235
    ExtUtils::Command   7.62    
    ExtUtils::Install   2.16    
    ExtUtils::MakeMaker 7.62    
    ExtUtils::Manifest  1.70    
    ExtUtils::ParseXS   3.35    
    File::Spec          3.75    
    JSON                4.03    
    JSON::PP            4.05    
    Module::Build       0.4229  
    Module::Signature   0.87    
    Parse::CPAN::Meta   2.150010
    Test::Harness       3.42    
    Test::More          1.302186
    YAML                1.30    
    YAML::Syck          1.34    
    version             0.9928  


--

Summary of my perl5 (revision 5 version 26 subversion 0) configuration:
   
  Platform:
    osname=freebsd
    osvers=10.3-release-p11
    archname=amd64-freebsd
    uname='freebsd cvrsnica-freebsd-101.herceg.de 10.3-release-p11 freebsd 10.3-release-p11 #0: mon oct 24 18:49:24 utc 2016 root@amd64-builder.daemonology.net:usrobjusrsrcsysgeneric amd64 '
    config_args='-ds -e -Dprefix=/usr/perl5.26.0p -Dcf_email=srezic@cpan.org -Doptimize=-O2 -pipe'
    hint=recommended
    useposix=true
    d_sigaction=define
    useithreads=undef
    usemultiplicity=undef
    use64bitint=define
    use64bitall=define
    uselongdouble=undef
    usemymalloc=n
    default_inc_excludes_dot=define
    bincompat5005=undef
  Compiler:
    cc='cc'
    ccflags ='-DHAS_FPSETMASK -DHAS_FLOATINGPOINT_H -fno-strict-aliasing -pipe -fstack-protector -I/usr/local/include -D_FORTIFY_SOURCE=2'
    optimize='-O2 -pipe'
    cppflags='-DHAS_FPSETMASK -DHAS_FLOATINGPOINT_H -fno-strict-aliasing -pipe -fstack-protector -I/usr/local/include'
    ccversion=''
    gccversion='4.2.1 Compatible FreeBSD Clang 3.4.1 (tags/RELEASE_34/dot1-final 208032)'
    gccosandvers=''
    intsize=4
    longsize=8
    ptrsize=8
    doublesize=8
    byteorder=12345678
    doublekind=3
    d_longlong=define
    longlongsize=8
    d_longdbl=define
    longdblsize=16
    longdblkind=3
    ivtype='long'
    ivsize=8
    nvtype='double'
    nvsize=8
    Off_t='off_t'
    lseeksize=8
    alignbytes=8
    prototype=define
  Linker and Libraries:
    ld='cc'
    ldflags ='-pthread -Wl,-E  -fstack-protector -L/usr/local/lib'
    libpth=/usr/lib /usr/local/lib /usr/include/clang/3.4.1 /usr/lib
    libs=-lpthread -lgdbm -lm -lcrypt -lutil -lc -lelf
    perllibs=-lpthread -lm -lcrypt -lutil -lc -lelf
    libc=
    so=so
    useshrplib=false
    libperl=libperl.a
    gnulibc_version=''
  Dynamic Linking:
    dlsrc=dl_dlopen.xs
    dlext=so
    d_dlsymun=undef
    ccdlflags=' '
    cccdlflags='-DPIC -fPIC'
    lddlflags='-shared  -L/usr/local/lib -fstack-protector'


Characteristics of this binary (from libperl): 
  Compile-time options:
    HAS_TIMES
    PERLIO_LAYERS
    PERL_COPY_ON_WRITE
    PERL_DONT_CREATE_GVSV
    PERL_MALLOC_WRAP
    PERL_OP_PARENT
    PERL_PRESERVE_IVUV
    USE_64_BIT_ALL
    USE_64_BIT_INT
    USE_LARGE_FILES
    USE_LOCALE
    USE_LOCALE_COLLATE
    USE_LOCALE_CTYPE
    USE_LOCALE_NUMERIC
    USE_LOCALE_TIME
    USE_PERLIO
    USE_PERL_ATOF
  Built under freebsd
  Compiled at Jun  3 2017 22:58:33
  %ENV:
    PERL5LIB=""
    PERL5OPT=""
    PERL5_CPANPLUS_IS_RUNNING="16929"
    PERL5_CPAN_IS_RUNNING="16929"
    PERL5_CPAN_IS_RUNNING_IN_RECURSION="13179,16929"
    PERLDOC="-MPod::Perldoc::ToTextOverstrike"
    PERL_BATCH="yes"
    PERL_CANARY_STABILITY_NOPROMPT="1"
    PERL_CPAN_REPORTER_CONFIG="/var/tmp/cpansmoker-1023/2021092400/cpanreporter_000_config.ini"
    PERL_EXTUTILS_AUTOINSTALL="--defaultdeps"
    PERL_USE_UNSAFE_INC="1"
  @INC:
    /usr/perl5.26.0p/lib/site_perl/5.26.0/amd64-freebsd
    /usr/perl5.26.0p/lib/site_perl/5.26.0
    /usr/perl5.26.0p/lib/5.26.0/amd64-freebsd
    /usr/perl5.26.0p/lib/5.26.0
    .