Report for Module-Install-ReadmeFromPod-0.22

Back
From: metabase:user:2c8bec1f-6c36-1014-85bc-03dde1a937ad
Subject: PASS Module-Install-ReadmeFromPod-0.22 v5.22.0 
Date: 2015-07-22T21:26:26Z

This distribution has been tested as part of the CPAN Testers
project, supporting the Perl programming language.  See
http://wiki.cpantesters.org/ for more information or email
questions to cpan-testers-discuss@perl.org


--
Dear Chris Williams,

This is a computer-generated report for Module-Install-ReadmeFromPod-0.22
on perl 5.22.0, created by CPAN-Reporter-1.2014.

Thank you for uploading your work to CPAN.  Congratulations!
All tests were successful.

Sections of this report:

    * Tester comments
    * Program output
    * Prerequisites
    * Environment and other context

------------------------------
TESTER COMMENTS
------------------------------

Additional comments from tester:

none provided

------------------------------
PROGRAM OUTPUT
------------------------------

Output from 'C:\Lang\Perl32\c\bin\dmake.exe test':

"C:\Lang\Perl32\perl\bin\perl.exe" "-MExtUtils::Command::MM" "-MTest::Harness" "-e" "undef *Test::Harness::Switches; test_harness(0, 'inc', 'blib\lib', 'blib\arch')" t/*.t
# Testing Module::Install::ReadmeFromPod 0.22, Perl 5.022000, C:\Lang\Perl32\perl\bin\perl.exe
t/00_compile.t ....... ok
# include C:/Lang/Perl32/cpan/build/Module-Install-ReadmeFromPod-0.22-oGU71F/dist/14RQtjq512/inc/Module/Install.pm
# include inc/Module/Install/Metadata.pm
# include inc/Module/Install/Base.pm
# include inc/Module/Install/ReadmeFromPod.pm
# readme_from README.pm to txt
# readme_from README.pm to htm
# readme_from README.pm to man
# include inc/Module/Install/WriteAll.pm
# include inc/Module/Install/Makefile.pm
# include inc/Module/Install/Win32.pm
# include inc/Module/Install/Can.pm
# include inc/Module/Install/Fetch.pm
# Generating a dmake-style Makefile
# Writing Makefile for Foo::Bar
# Writing MYMETA.yml and MYMETA.json
# Writing META.yml
# "C:\Lang\Perl32\perl\bin\perl.exe" "-Iinc" -MExtUtils::Command -e rm_f -- \
# 	  Bar.bso Bar.def \
# 	  Bar.exp Bar.x \
# 	   blib\arch\auto\Foo\Bar\extralibs.all \
# 	  blib\arch\auto\Foo\Bar\extralibs.ld Makefile.aperl \
# 	  *.a *.o \
# 	  *perl.core MYMETA.json \
# 	  MYMETA.yml blibdirs.ts \
# 	  core core.*perl.*.? \
# 	  core.[0-9] core.[0-9][0-9] \
# 	  core.[0-9][0-9][0-9] core.[0-9][0-9][0-9][0-9] \
# 	  core.[0-9][0-9][0-9][0-9][0-9] libBar.def \
# 	  mon.out perl \
# 	  perl.exe perl.exe \
# 	  perlmain.c pm_to_blib \
# 	  pm_to_blib.ts so_locations \
# 	  tmon.out 
# "C:\Lang\Perl32\perl\bin\perl.exe" "-Iinc" -MExtUtils::Command -e rm_rf -- \
# 	  blib dll.base \
# 	  dll.exp 
# "C:\Lang\Perl32\perl\bin\perl.exe" "-Iinc" -MExtUtils::Command -e mv -- Makefile Makefile.old > NUL
# "C:\Lang\Perl32\perl\bin\perl.exe" "-Iinc" -MExtUtils::Command -e rm_f -- \
# 	  Makefile.old Makefile 
# "C:\Lang\Perl32\perl\bin\perl.exe" "-Iinc" -MExtUtils::Command -e rm_rf -- \
# 	  Foo-Bar-0.01 MYMETA.yml 
# "C:\Lang\Perl32\perl\bin\perl.exe" "-Iinc" -MExtUtils::Command -e rm_f -- Foo-Bar-0.01.tar.gz
# "C:\Lang\Perl32\perl\bin\perl.exe" "-Iinc" -MExtUtils::Command -e rm_f -- MANIFEST.bak _build
# "C:\Lang\Perl32\perl\bin\perl.exe" "-Iinc" "-Ilib" "-MModule::Install::Admin" -e "remove_meta()"
# "C:\Lang\Perl32\perl\bin\perl.exe" "-Iinc" -MExtUtils::Command -e rm_rf -- inc
# "C:\Lang\Perl32\perl\bin\perl.exe" "-Iinc" "-MExtUtils::Manifest=fullcheck" -e fullcheck
# Problem opening MANIFEST: No such file or directory at C:/Lang/Perl32/perl/lib/ExtUtils/Manifest.pm line 349.
# Problem opening MANIFEST: No such file or directory at C:/Lang/Perl32/perl/lib/ExtUtils/Manifest.pm line 349.
# Not in MANIFEST: Makefile.PL
# Not in MANIFEST: README
# Not in MANIFEST: README.1
# Not in MANIFEST: README.htm
# Not in MANIFEST: README.pm
t/01_dist.t .......... ok
# include C:/Lang/Perl32/cpan/build/Module-Install-ReadmeFromPod-0.22-oGU71F/dist/iVDMbLlhOX/inc/Module/Install.pm
# include inc/Module/Install/Metadata.pm
# include inc/Module/Install/Base.pm
# include inc/Module/Install/ReadmeFromPod.pm
# readme_from README.pm to text
# include inc/Module/Install/Makefile.pm
# readme_from README.pm to html
# readme_from README.pm to man
# include inc/Module/Install/WriteAll.pm
# include inc/Module/Install/Win32.pm
# include inc/Module/Install/Can.pm
# include inc/Module/Install/Fetch.pm
# Generating a dmake-style Makefile
# Writing Makefile for Foo::Bar
# Writing MYMETA.yml and MYMETA.json
# Writing META.yml
# "C:\Lang\Perl32\perl\bin\perl.exe" "-Iinc" -MExtUtils::Command -e rm_f -- \
# 	  Bar.bso Bar.def \
# 	  Bar.exp Bar.x \
# 	   blib\arch\auto\Foo\Bar\extralibs.all \
# 	  blib\arch\auto\Foo\Bar\extralibs.ld Makefile.aperl \
# 	  *.a *.o \
# 	  *perl.core MYMETA.json \
# 	  MYMETA.yml blibdirs.ts \
# 	  core core.*perl.*.? \
# 	  core.[0-9] core.[0-9][0-9] \
# 	  core.[0-9][0-9][0-9] core.[0-9][0-9][0-9][0-9] \
# 	  core.[0-9][0-9][0-9][0-9][0-9] libBar.def \
# 	  mon.out perl \
# 	  perl.exe perl.exe \
# 	  perlmain.c pm_to_blib \
# 	  pm_to_blib.ts so_locations \
# 	  tmon.out 
# "C:\Lang\Perl32\perl\bin\perl.exe" "-Iinc" -MExtUtils::Command -e rm_rf -- \
# 	  Foobar.htm Foobar.man \
# 	  Foobar.txt blib \
# 	  dll.base dll.exp 
# "C:\Lang\Perl32\perl\bin\perl.exe" "-Iinc" -MExtUtils::Command -e mv -- Makefile Makefile.old > NUL
# "C:\Lang\Perl32\perl\bin\perl.exe" "-Iinc" -MExtUtils::Command -e rm_f -- \
# 	  Makefile.old Makefile 
# "C:\Lang\Perl32\perl\bin\perl.exe" "-Iinc" -MExtUtils::Command -e rm_rf -- \
# 	  Foo-Bar-0.01 MYMETA.yml 
# "C:\Lang\Perl32\perl\bin\perl.exe" "-Iinc" -MExtUtils::Command -e rm_f -- Foo-Bar-0.01.tar.gz
# "C:\Lang\Perl32\perl\bin\perl.exe" "-Iinc" -MExtUtils::Command -e rm_f -- MANIFEST.bak _build
# "C:\Lang\Perl32\perl\bin\perl.exe" "-Iinc" "-Ilib" "-MModule::Install::Admin" -e "remove_meta()"
# "C:\Lang\Perl32\perl\bin\perl.exe" "-Iinc" -MExtUtils::Command -e rm_rf -- inc
# "C:\Lang\Perl32\perl\bin\perl.exe" "-Iinc" "-MExtUtils::Manifest=fullcheck" -e fullcheck
# Problem opening MANIFEST: No such file or directory at C:/Lang/Perl32/perl/lib/ExtUtils/Manifest.pm line 349.
# Problem opening MANIFEST: No such file or directory at C:/Lang/Perl32/perl/lib/ExtUtils/Manifest.pm line 349.
# Not in MANIFEST: Makefile.PL
# Not in MANIFEST: README.pm
t/02_clean.t ......... ok
# include C:/Lang/Perl32/cpan/build/Module-Install-ReadmeFromPod-0.22-oGU71F/dist/im_CJkpoad/inc/Module/Install.pm
# include inc/Module/Install/Metadata.pm
# include inc/Module/Install/Base.pm
# include inc/Module/Install/Makefile.pm
# include inc/Module/Install/ReadmeFromPod.pm
# readme_from README.pm to txt
# include inc/Module/Install/WriteAll.pm
# include inc/Module/Install/Win32.pm
# include inc/Module/Install/Can.pm
# include inc/Module/Install/Fetch.pm
# Generating a dmake-style Makefile
# Writing Makefile for Foo::Bar
# Writing MYMETA.yml and MYMETA.json
# Writing META.yml
# "C:\Lang\Perl32\perl\bin\perl.exe" "-Iinc" -MExtUtils::Command -e rm_f -- \
# 	  Bar.bso Bar.def \
# 	  Bar.exp Bar.x \
# 	   blib\arch\auto\Foo\Bar\extralibs.all \
# 	  blib\arch\auto\Foo\Bar\extralibs.ld Makefile.aperl \
# 	  *.a *.o \
# 	  *perl.core MYMETA.json \
# 	  MYMETA.yml blibdirs.ts \
# 	  core core.*perl.*.? \
# 	  core.[0-9] core.[0-9][0-9] \
# 	  core.[0-9][0-9][0-9] core.[0-9][0-9][0-9][0-9] \
# 	  core.[0-9][0-9][0-9][0-9][0-9] libBar.def \
# 	  mon.out perl \
# 	  perl.exe perl.exe \
# 	  perlmain.c pm_to_blib \
# 	  pm_to_blib.ts so_locations \
# 	  tmon.out 
# "C:\Lang\Perl32\perl\bin\perl.exe" "-Iinc" -MExtUtils::Command -e rm_rf -- \
# 	  blib dll.base \
# 	  dll.exp 
# "C:\Lang\Perl32\perl\bin\perl.exe" "-Iinc" -MExtUtils::Command -e mv -- Makefile Makefile.old > NUL
# "C:\Lang\Perl32\perl\bin\perl.exe" "-Iinc" -MExtUtils::Command -e rm_f -- \
# 	  Makefile.old Makefile 
# "C:\Lang\Perl32\perl\bin\perl.exe" "-Iinc" -MExtUtils::Command -e rm_rf -- \
# 	  MYMETA.yml Foo-Bar-0.01 
# "C:\Lang\Perl32\perl\bin\perl.exe" "-Iinc" -MExtUtils::Command -e rm_f -- Foo-Bar-0.01.tar.gz
# "C:\Lang\Perl32\perl\bin\perl.exe" "-Iinc" -MExtUtils::Command -e rm_f -- MANIFEST.bak _build
# "C:\Lang\Perl32\perl\bin\perl.exe" "-Iinc" "-Ilib" "-MModule::Install::Admin" -e "remove_meta()"
# "C:\Lang\Perl32\perl\bin\perl.exe" "-Iinc" -MExtUtils::Command -e rm_rf -- inc
# "C:\Lang\Perl32\perl\bin\perl.exe" "-Iinc" "-MExtUtils::Manifest=fullcheck" -e fullcheck
# Problem opening MANIFEST: No such file or directory at C:/Lang/Perl32/perl/lib/ExtUtils/Manifest.pm line 349.
# Problem opening MANIFEST: No such file or directory at C:/Lang/Perl32/perl/lib/ExtUtils/Manifest.pm line 349.
# Not in MANIFEST: Makefile.PL
# Not in MANIFEST: README
# Not in MANIFEST: README.pm
t/03_all_from.t ...... ok
t/04_distpdf.t ....... skipped: App::pod2pdf not installed
t/05_cleanpdf.t ...... skipped: App::pod2pdf not installed
t/99_pod.t ........... ok
t/99_pod_coverage.t .. ok
All tests successful.
Files=8, Tests=20,  4 wallclock secs ( 0.03 usr +  0.03 sys =  0.06 CPU)
Result: PASS

------------------------------
PREREQUISITES
------------------------------

Prerequisite modules loaded:

requires:

    Module              Need  Have    
    ------------------- ----- --------
    Module::Install     1     1.16    
    perl                5.006 5.022000
    Pod::Html           0     1.22    
    Pod::Man            0     2.28    
    Pod::Text           3.13  3.18    

build_requires:

    Module              Need  Have    
    ------------------- ----- --------
    Capture::Tiny       0.05  0.30    
    ExtUtils::MakeMaker 6.59  7.04_01 
    File::Temp          0     0.2304  
    Test::More          0.47  1.001014

configure_requires:

    Module              Need  Have    
    ------------------- ----- --------
    ExtUtils::MakeMaker 6.59  7.04_01 

opt_requires:

    Module              Need  Have    
    ------------------- ----- --------
  ! App::pod2pdf        0     n/a     


------------------------------
ENVIRONMENT AND OTHER CONTEXT
------------------------------

Environment variables:

    COMSPEC = C:\Windows\system32\cmd.exe
    NUMBER_OF_PROCESSORS = 2
    PATH = C:\BAT;K:\BAT;L:\BAT;N:\BAT;C:\ProgramData\Oracle\Java\javapath;C:\Windows\system32;C:\Windows;C:\Windows\System32\Wbem;C:\Windows\System32\WindowsPowerShell\v1.0\;P:\ALL\CloverView;C:\Program Files (x86)\Calibre2\;C:\Windows\System32\Windows System Resource Manager\bin;C:\Windows\idmu\common;Q:\BatchFiles;C:\Program Files (x86)\GitExtensions\;C:\Lang\Perl32\c\bin;C:\Lang\Perl32\perl\site\bin;C:\Lang\Perl32\perl\bin;C:\LANG\PBCC60\BIN
    PERL5LIB = 
    PERL5OPT = 
    PERL5_CPANPLUS_IS_RUNNING = 4144
    PERL5_CPAN_IS_RUNNING = 4144
    PROCESSOR_IDENTIFIER = Intel64 Family 6 Model 13 Stepping 3, GenuineIntel
    TEMP = C:\Users\BILLY~1.SCH\AppData\Local\Temp

Perl special variables (and OS-specific diagnostics, for MSWin32):

    $^X = C:\Lang\Perl32\perl\bin\perl.exe
    $UID/$EUID = 0 / 0
    $GID = 0
    $EGID = 0
    Win32::GetOSName = Win7
    Win32::GetOSVersion = Service Pack 1, 6, 1, 7601, 2, 1, 0, 256, 1
    Win32::FsType = NTFS
    Win32::IsAdminUser = 1

Perl module toolchain versions installed:

    Module              Have    
    ------------------- --------
    CPAN                2.11    
    CPAN::Meta          2.150005
    Cwd                 3.56    
    ExtUtils::CBuilder  0.280223
    ExtUtils::Command   1.20    
    ExtUtils::Install   2.04    
    ExtUtils::MakeMaker 7.04_01 
    ExtUtils::Manifest  1.70    
    ExtUtils::ParseXS   3.28    
    File::Spec          3.56    
    JSON                2.90    
    JSON::PP            2.27300 
    Module::Build       0.4214  
    Module::Signature   0.79    
    Parse::CPAN::Meta   1.4417  
    Test::Harness       3.35    
    Test::More          1.001014
    YAML                1.15    
    YAML::Syck          n/a     
    version             0.9912  


--

Summary of my perl5 (revision 5 version 22 subversion 0) configuration:
   
  Platform:
    osname=MSWin32, osvers=6.3, archname=MSWin32-x86-multi-thread-64int
    uname='Win32 strawberry-perl 5.22.0.1 #1 Mon Jun  1 20:04:50 2015 i386'
    config_args='undef'
    hint=recommended, useposix=true, d_sigaction=undef
    useithreads=define, usemultiplicity=define
    use64bitint=define, use64bitall=undef, uselongdouble=undef
    usemymalloc=n, bincompat5005=undef
  Compiler:
    cc='gcc', ccflags =' -s -O2 -DWIN32  -DPERL_TEXTMODE_SCRIPTS -DPERL_IMPLICIT_CONTEXT -DPERL_IMPLICIT_SYS -fwrapv -fno-strict-aliasing -mms-bitfields',
    optimize='-s -O2',
    cppflags='-DWIN32'
    ccversion='', gccversion='4.9.2', gccosandvers=''
    intsize=4, longsize=4, ptrsize=4, doublesize=8, byteorder=12345678, doublekind=3
    d_longlong=define, longlongsize=8, d_longdbl=define, longdblsize=8, longdblkind=3
    ivtype='long long', ivsize=8, nvtype='double', nvsize=8, Off_t='long long', lseeksize=8
    alignbytes=8, prototype=define
  Linker and Libraries:
    ld='g++', ldflags ='-s -L"C:\Lang\Perl32\perl\lib\CORE" -L"C:\Lang\Perl32\c\lib"'
    libpth=C:\Lang\Perl32\c\lib C:\Lang\Perl32\c\i686-w64-mingw32\lib C:\Lang\Perl32\c\lib\gcc\i686-w64-mingw32\4.9.2
    libs=-lmoldname -lkernel32 -luser32 -lgdi32 -lwinspool -lcomdlg32 -ladvapi32 -lshell32 -lole32 -loleaut32 -lnetapi32 -luuid -lws2_32 -lmpr -lwinmm -lversion -lodbc32 -lodbccp32 -lcomctl32
    perllibs=-lmoldname -lkernel32 -luser32 -lgdi32 -lwinspool -lcomdlg32 -ladvapi32 -lshell32 -lole32 -loleaut32 -lnetapi32 -luuid -lws2_32 -lmpr -lwinmm -lversion -lodbc32 -lodbccp32 -lcomctl32
    libc=, so=dll, useshrplib=true, libperl=libperl522.a
    gnulibc_version=''
  Dynamic Linking:
    dlsrc=dl_win32.xs, dlext=xs.dll, d_dlsymun=undef, ccdlflags=' '
    cccdlflags=' ', lddlflags='-mdll -s -L"C:\Lang\Perl32\perl\lib\CORE" -L"C:\Lang\Perl32\c\lib"'


Characteristics of this binary (from libperl): 
  Compile-time options: HAS_TIMES HAVE_INTERP_INTERN MULTIPLICITY
                        PERLIO_LAYERS PERL_DONT_CREATE_GVSV
                        PERL_HASH_FUNC_ONE_AT_A_TIME_HARD
                        PERL_IMPLICIT_CONTEXT PERL_IMPLICIT_SYS
                        PERL_MALLOC_WRAP PERL_NEW_COPY_ON_WRITE
                        PERL_PRESERVE_IVUV USE_64_BIT_INT USE_ITHREADS
                        USE_LARGE_FILES USE_LOCALE USE_LOCALE_COLLATE
                        USE_LOCALE_CTYPE USE_LOCALE_NUMERIC USE_LOCALE_TIME
                        USE_PERLIO USE_PERL_ATOF
  Built under MSWin32
  Compiled at Jun  1 2015 20:09:13
  %ENV:
    PERL5_CPANPLUS_IS_RUNNING="4144"
    PERL5_CPAN_IS_RUNNING="4144"
  @INC:
    C:/Lang/Perl32/perl/site/lib
    C:/Lang/Perl32/perl/vendor/lib
    C:/Lang/Perl32/perl/lib
    .