Report for Strehler-1.6.8

Back
From: metabase:user:320bfe00-2aae-11df-837a-5e0a49663a4f
Subject: PASS Strehler-1.6.8 v5.20.3 GNU/Linux
Date: 2016-01-30T17:10:26Z

This distribution has been tested as part of the CPAN Testers
project, supporting the Perl programming language.  See
http://wiki.cpantesters.org/ for more information or email
questions to cpan-testers-discuss@perl.org


--
Dear Simone Fare,

This is a computer-generated report for Strehler-1.6.8
on perl 5.20.3, created by CPAN-Reporter-1.2015.

Thank you for uploading your work to CPAN.  Congratulations!
All tests were successful.

Sections of this report:

    * Tester comments
    * Program output
    * Prerequisites
    * Environment and other context

------------------------------
TESTER COMMENTS
------------------------------

Additional comments from tester:

this report is from an automated smoke testing program
and was not reviewed by a human for accuracy

------------------------------
PROGRAM OUTPUT
------------------------------

Output from '/usr/bin/make test':

PERL_DL_NONLAZY=1 "/home/sand/src/perl/repoperls/installed-perls/perl/v5.20.3/79cc/bin/perl" "-MExtUtils::Command::MM" "-MTest::Harness" "-e" "undef *Test::Harness::Switches; test_harness(0, 'blib/lib', 'blib/arch')" t/*.t
t/001_login.t ........ ok
t/002_permissions.t .. ok
t/004_categories.t ... ok
t/005_articles.t ..... ok
t/006_frontend.t ..... ok
t/007_images.t ....... ok
t/008_tags.t ......... ok
t/009_extra.t ........ ok
t/010_api.t .......... ok
t/011_ex.t ........... ok
t/012_users.t ........ ok
t/013_dashboard.t .... ok
t/author-critic.t .... skipped: these tests are for testing by the author
All tests successful.
Files=13, Tests=140, 42 wallclock secs ( 0.07 usr  0.08 sys + 28.76 cusr  3.66 csys = 32.57 CPU)
Result: PASS

------------------------------
PREREQUISITES
------------------------------

Prerequisite modules loaded:

requires:

    Module                               Need     Have        
    ------------------------------------ -------- ------------
    Authen::Passphrase::BlowfishCrypt    0        0.008       
    Carp                                 0        1.3301      
    Cwd                                  0        3.60        
    Dancer2                              0.166001 0.166001    
    Dancer2::Core::App                   0        0.166001    
    Dancer2::Core::Runner                0        0.166001    
    Dancer2::Plugin                      0        0.166001    
    Dancer2::Plugin::Ajax                0        0.200000    
    Dancer2::Plugin::DBIC                0        0.0011      
    Dancer2::Serializer::JSON            0        0.166001    
    DateTime::Format::SQLite             0        0.11        
    DateTime::Format::Strptime           0        1.63        
    DBI                                  0        1.634       
    DBIx::Class::Core                    0        0           
    DBIx::Class::Schema                  0        0           
    DBIx::Class::Schema::Loader          0        0.07045     
    DBIx::Class::TimeStamp               0        0.14        
    File::Copy                           0        2.30        
    File::Copy::Recursive                0        0.38        
    File::Path                           0        2.09        
    HTML::FormFu                         1.00     2.01        
    HTML::FormFu::Element::Block         0        2.01        
    HTML::FormFu::Element::Fieldset      0        2.01        
    HTML::FormFu::Element::Label         0        2.01        
    HTML::FormFu::Element::Select        0        2.01        
    HTML::FormFu::Element::Text          0        2.01        
    HTML::FormFu::Validator              0        2.01        
    IO::Prompt                           0        0.997003    
    Lingua::EN::Inflect                  0        1.899       
    Module::Load                         0        0.32        
    Moo                                  0        2.000002    
    Moo::Role                            0        2.000002    
    Moose                                0        2.1604      
    SQL::Translator                      0        0.11021     
    SQL::Translator::Parser::DBIx::Class 0        1.10        
    Term::ReadKey                        0        2.33        
    Text::Unidecode                      0        1.27        
    Time::localtime                      0        1.02        
    Try::Tiny                            0        0.24        
    Unicode::Normalize                   0        1.25        
    YAML::XS                             0        0.59        

build_requires:

    Module                               Need     Have        
    ------------------------------------ -------- ------------
    ExtUtils::MakeMaker                  0        7.10        
    FindBin                              0        1.51        
    HTTP::Cookies                        0        6.01        
    HTTP::Request                        0        6.11        
    HTTP::Request::Common                0        6.11        
    JSON                                 0        2.90        
    Plack::Builder                       0        0           
    Plack::Test                          0        0           
    Test::More                           0        1.302013_012

configure_requires:

    Module                               Need     Have        
    ------------------------------------ -------- ------------
    ExtUtils::MakeMaker                  0        7.10        


------------------------------
ENVIRONMENT AND OTHER CONTEXT
------------------------------

Environment variables:

    AUTOMATED_TESTING = 1
    LANG = en_US.UTF-8
    LANGUAGE = en_US:en
    PATH = /home/sand/bin:/usr/local/bin:/usr/bin:/bin:/usr/games:/usr/local/perl/bin:/usr/X11/bin:/sbin:/usr/sbin
    PERL5LIB = 
    PERL5OPT = 
    PERL5_CPANPLUS_IS_RUNNING = 1316
    PERL5_CPAN_IS_RUNNING = 1316
    PERL_MM_USE_DEFAULT = 1
    SHELL = /usr/bin/zsh
    TERM = screen

Perl special variables (and OS-specific diagnostics, for MSWin32):

    $^X = /home/sand/src/perl/repoperls/installed-perls/perl/v5.20.3/79cc/bin/perl
    $UID/$EUID = 1005 / 1005
    $GID = 1005 1005
    $EGID = 1005 1005

Perl module toolchain versions installed:

    Module              Have        
    ------------------- ------------
    CPAN                2.10        
    CPAN::Meta          2.150005    
    Cwd                 3.60        
    ExtUtils::CBuilder  0.280224    
    ExtUtils::Command   7.10        
    ExtUtils::Install   1.67        
    ExtUtils::MakeMaker 7.10        
    ExtUtils::Manifest  1.70        
    ExtUtils::ParseXS   3.24        
    File::Spec          3.60        
    JSON                2.90        
    JSON::PP            2.27300     
    Module::Build       0.4216      
    Module::Signature   0.79        
    Parse::CPAN::Meta   1.4417      
    Test::Harness       3.36        
    Test::More          1.302013_012
    YAML                1.15        
    YAML::Syck          1.29        
    version             0.9912_03   


--

Summary of my perl5 (revision 5 version 20 subversion 3) configuration:
  Derived from: b67331aafd6eff33e3fd904c45e811f69cbfb0b2
  Platform:
    osname=linux, osvers=4.3.0-1-amd64, archname=x86_64-linux
    uname='linux k83 4.3.0-1-amd64 #1 smp debian 4.3.3-2 (2015-12-17) x86_64 gnulinux '
    config_args='-Dprefix=/home/sand/src/perl/repoperls/installed-perls/perl/v5.20.3/79cc -Dmyhostname=k83 -Dinstallusrbinperl=n -Uversiononly -Dusedevel -des -Ui_db -Dlibswanted=cl pthread socket inet nsl gdbm dbm malloc dl ld sun m crypt sec util c cposix posix ucb BSD gdbm_compat -Uuseithreads -Uuselongdouble -DDEBUGGING=-g'
    hint=recommended, useposix=true, d_sigaction=define
    useithreads=undef, usemultiplicity=undef
    use64bitint=define, use64bitall=define, uselongdouble=undef
    usemymalloc=n, bincompat5005=undef
  Compiler:
    cc='cc', ccflags ='-fwrapv -fno-strict-aliasing -pipe -fstack-protector -I/usr/local/include -D_LARGEFILE_SOURCE -D_FILE_OFFSET_BITS=64',
    optimize='-O2 -g',
    cppflags='-fwrapv -fno-strict-aliasing -pipe -fstack-protector -I/usr/local/include'
    ccversion='', gccversion='5.3.1 20160101', gccosandvers=''
    intsize=4, longsize=8, ptrsize=8, doublesize=8, byteorder=12345678
    d_longlong=define, longlongsize=8, d_longdbl=define, longdblsize=16
    ivtype='long', ivsize=8, nvtype='double', nvsize=8, Off_t='off_t', lseeksize=8
    alignbytes=8, prototype=define
  Linker and Libraries:
    ld='cc', ldflags =' -fstack-protector -L/usr/local/lib'
    libpth=/usr/local/lib /usr/lib/gcc/x86_64-linux-gnu/5/include-fixed /usr/include/x86_64-linux-gnu /usr/lib /lib/x86_64-linux-gnu /lib/../lib /usr/lib/x86_64-linux-gnu /usr/lib/../lib /lib
    libs=-lpthread -lnsl -lgdbm -ldl -lm -lcrypt -lutil -lc -lgdbm_compat
    perllibs=-lpthread -lnsl -ldl -lm -lcrypt -lutil -lc
    libc=libc-2.21.so, so=so, useshrplib=false, libperl=libperl.a
    gnulibc_version='2.21'
  Dynamic Linking:
    dlsrc=dl_dlopen.xs, dlext=so, d_dlsymun=undef, ccdlflags='-Wl,-E'
    cccdlflags='-fPIC', lddlflags='-shared -O2 -g -L/usr/local/lib -fstack-protector'


Characteristics of this binary (from libperl): 
  Compile-time options: HAS_TIMES PERLIO_LAYERS PERL_DONT_CREATE_GVSV
                        PERL_HASH_FUNC_ONE_AT_A_TIME_HARD PERL_MALLOC_WRAP
                        PERL_NEW_COPY_ON_WRITE PERL_PRESERVE_IVUV
                        PERL_USE_DEVEL USE_64_BIT_ALL USE_64_BIT_INT
                        USE_LARGE_FILES USE_LOCALE USE_LOCALE_COLLATE
                        USE_LOCALE_CTYPE USE_LOCALE_NUMERIC USE_PERLIO
                        USE_PERL_ATOF
  Locally applied patches:
	uncommitted-changes
	Devel::PatchPerl 1.38
  Built under linux
  Compiled at Jan  4 2016 01:00:34
  %ENV:
    PERL5LIB=""
    PERL5OPT=""
    PERL5_CPANPLUS_IS_RUNNING="1316"
    PERL5_CPAN_IS_RUNNING="1316"
    PERL_MM_USE_DEFAULT="1"
  @INC:
    /home/sand/src/perl/repoperls/installed-perls/perl/v5.20.3/79cc/lib/site_perl/5.20.3/x86_64-linux
    /home/sand/src/perl/repoperls/installed-perls/perl/v5.20.3/79cc/lib/site_perl/5.20.3
    /home/sand/src/perl/repoperls/installed-perls/perl/v5.20.3/79cc/lib/5.20.3/x86_64-linux
    /home/sand/src/perl/repoperls/installed-perls/perl/v5.20.3/79cc/lib/5.20.3
    .