Report for DataFlow-Proc-YAML-1.112100

Back
From: metabase:user:30ae4450-2aae-11df-837a-5e0a49663a4f
Subject: PASS DataFlow-Proc-YAML-1.112100 v5.17.10 
Date: 2013-04-29T21:28:19Z

This distribution has been tested as part of the CPAN Testers
project, supporting the Perl programming language.  See
http://wiki.cpantesters.org/ for more information or email
questions to cpan-testers-discuss@perl.org


--
Dear Alexei Znamensky,

This is a computer-generated report for DataFlow-Proc-YAML-1.112100
on perl 5.17.10, created by CPAN-Reporter-1.2010.

Thank you for uploading your work to CPAN.  Congratulations!
All tests were successful.

Sections of this report:

    * Tester comments
    * Program output
    * Prerequisites
    * Environment and other context

------------------------------
TESTER COMMENTS
------------------------------

Additional comments from tester:

this report is from an automated smoke testing program
and was not reviewed by a human for accuracy

------------------------------
PROGRAM OUTPUT
------------------------------

Output from 'C:\strawberry\c\bin\dmake.exe test':

C:\strawberry\perl\bin\perl.exe "-MExtUtils::Command::MM" "-e" "test_harness(0, 'blib\lib', 'blib\arch')" t/*.t
t/00-compile.t ................ skipped: no tests to run
t/00-load.t ................... ok
# 
# 
# perl: v5.17.10 (wanted 5.006) on MSWin32 from C:\strawberry\perl\bin\perl.exe
# 
# DataFlow                                      => 1.121830   (want 1.112100)
# DataFlow::Proc::Converter                     => 1.121830   (want any version)
# English                                       => 1.06       (want any version)
# ExtUtils::MakeMaker                           => 6.6501     (want 6.30)   
# File::Find                                    => 1.23       (want any version)
# File::Temp                                    => 0.2301     (want any version)
# Moose                                         => 2.0801     (want any version)
# Test::More                                    => 0.98       (want 0.88)   
# Test::UseAllModules                           => 0.14       (want any version)
# YAML::Any                                     => 0.84       (want any version)
# namespace::autoclean                          => 0.13       (want any version)
# 
# Thanks for using my code.  I hope it works for you.
# If not, please try and include this output in the bug report.
# That will help me reproduce the issue and solve you problem.
# 
t/000-report-versions-tiny.t .. ok
t/author-critic.t ............. skipped: these tests are for testing by the author
t/release-dist-manifest.t ..... skipped: these tests are for release candidate testing
t/release-distmeta.t .......... skipped: these tests are for release candidate testing
t/release-eol.t ............... skipped: these tests are for release candidate testing
t/release-kwalitee.t .......... skipped: these tests are for release candidate testing
t/release-meta-json.t ......... skipped: these tests are for release candidate testing
t/release-minimum-version.t ... skipped: these tests are for release candidate testing
t/release-mojibake.t .......... skipped: these tests are for release candidate testing
t/release-no-tabs.t ........... skipped: these tests are for release candidate testing
t/release-pod-coverage.t ...... skipped: these tests are for release candidate testing
t/release-pod-linkcheck.t ..... skipped: these tests are for release candidate testing
t/release-pod-syntax.t ........ skipped: these tests are for release candidate testing
t/release-portability.t ....... skipped: these tests are for release candidate testing
t/release-test-version.t ...... skipped: these tests are for release candidate testing
t/release-unused-vars.t ....... skipped: these tests are for release candidate testing
All tests successful.
Files=18, Tests=2,  5 wallclock secs ( 0.06 usr +  0.10 sys =  0.16 CPU)
Result: PASS

------------------------------
PREREQUISITES
------------------------------

Prerequisite modules loaded:

requires:

    Module                    Need     Have    
    ------------------------- -------- --------
    DataFlow                  1.112100 1.121830
    DataFlow::Proc::Converter 0        1.121830
    Moose                     0        2.0801  
    namespace::autoclean      0        0.13    
    YAML::Any                 0        0.84    

build_requires:

    Module                    Need     Have    
    ------------------------- -------- --------
    English                   0        1.06    
    File::Find                0        1.23    
    File::Temp                0        0.2301  
    perl                      5.006    5.017010
    Test::More                0.88     0.98    
    Test::UseAllModules       0        0.14    

configure_requires:

    Module                    Need     Have    
    ------------------------- -------- --------
    ExtUtils::MakeMaker       6.30     6.65_01 


------------------------------
ENVIRONMENT AND OTHER CONTEXT
------------------------------

Environment variables:

    AUTOMATED_TESTING = 1
    COMSPEC = C:\WINDOWS\system32\cmd.exe
    NUMBER_OF_PROCESSORS = 1
    PATH = C:\Program Files\Far Manager\;C:\WINDOWS\system32;C:\WINDOWS;C:\WINDOWS\System32\Wbem;C:\strawberry\c\bin;C:\strawberry\perl\site\bin;C:\strawberry\perl\bin;C:\Git\cmd
    PERL5LIB = C:\strawberry\cpan\build\DataFlow-Proc-DBF-0.03-7Mgt_R/blib/arch;C:\strawberry\cpan\build\DataFlow-Proc-DBF-0.03-7Mgt_R/blib/lib;C:\strawberry\cpan\build\DataFlow-Proc-HTMLFilter-1.112100-_TmgOu/blib/arch;C:\strawberry\cpan\build\DataFlow-Proc-HTMLFilter-1.112100-_TmgOu/blib/lib;C:\strawberry\cpan\build\DataFlow-Proc-URLRetriever-1.121690-7LFNuc/blib/arch;C:\strawberry\cpan\build\DataFlow-Proc-URLRetriever-1.121690-7LFNuc/blib/lib;C:\strawberry\cpan\build\DataFlow-Proc-JSON-1.112100-esP3TD/blib/arch;C:\strawberry\cpan\build\DataFlow-Proc-JSON-1.112100-esP3TD/blib/lib;C:\strawberry\cpan\build\DataFlow-Proc-MessagePack-1.112100-0S3GPo/blib/arch;C:\strawberry\cpan\build\DataFlow-Proc-MessagePack-1.112100-0S3GPo/blib/lib;C:\strawberry\cpan\build\DataFlow-Proc-DPath-1.112100-kJUzzX/blib/arch;C:\strawberry\cpan\build\DataFlow-Proc-DPath-1.112100-kJUzzX/blib/lib;C:\strawberry\cpan\build\DataFlow-1.121830-xszzc6/blib/arch;C:\strawberry\cpan\build\DataFlow-1.121830-xszzc6/blib/lib;C:\strawberry\cpan\build\Text-CSV-Encoded-0.10-jsN7RV/blib/arch;C:\strawberry\cpan\build\Text-CSV-Encoded-0.10-jsN7RV/blib/lib;C:\strawberry\cpan\build\Queue-Base-2.203-fsv5dY/blib/arch;C:\strawberry\cpan\build\Queue-Base-2.203-fsv5dY/blib/lib;C:\strawberry\cpan\build\MooseX-Types-IO-0.03-JQiDiU/blib/arch;C:\strawberry\cpan\build\MooseX-Types-IO-0.03-JQiDiU/blib/lib
    PERL5OPT = 
    PERL5_CPANPLUS_IS_RUNNING = 432
    PERL5_CPAN_IS_RUNNING = 432
    PERL5_CPAN_IS_RUNNING_IN_RECURSION = 1732,432
    PERL_CR_SMOKER_CURRENT = Task-DataFlow-0.008
    PERL_EXTUTILS_AUTOINSTALL = --defaultdeps
    PERL_MM_USE_DEFAULT = 1
    PROCESSOR_IDENTIFIER = x86 Family 16 Model 5 Stepping 3, AuthenticAMD
    TEMP = C:\DOCUME~1\c\LOCALS~1\Temp
    TERM = dumb

Perl special variables (and OS-specific diagnostics, for MSWin32):

    $^X = C:\strawberry\perl\bin\perl.exe
    $UID/$EUID = 0 / 0
    $GID = 0
    $EGID = 0
    Win32::GetOSName = WinXP/.Net
    Win32::GetOSVersion = Service Pack 3, 5, 1, 2600, 2, 3, 0, 256, 1
    Win32::FsType = NTFS
    Win32::IsAdminUser = 1

Perl module toolchain versions installed:

    Module              Have    
    ------------------- --------
    CPAN                2.00    
    CPAN::Meta          2.130880
    Cwd                 3.40    
    ExtUtils::CBuilder  0.280209
    ExtUtils::Command   1.17    
    ExtUtils::Install   1.59    
    ExtUtils::MakeMaker 6.65_01 
    ExtUtils::Manifest  1.63    
    ExtUtils::ParseXS   3.18    
    File::Spec          3.40    
    JSON                2.53    
    JSON::PP            2.27202 
    Module::Build       0.4004  
    Module::Signature   n/a     
    Parse::CPAN::Meta   1.4404  
    Test::Harness       3.26    
    Test::More          0.98    
    YAML                0.84    
    YAML::Syck          1.25    
    version             0.9902  


--

Summary of my perl5 (revision 5 version 17 subversion 10) configuration:
   
  Platform:
    osname=MSWin32, osvers=4.0, archname=MSWin32-x86-multi-thread-64int
    uname='Win32 strawberry-perl 5.18.0.1-beta1 #1 Mon Apr  1 23:03:07 2013 i386'
    config_args='undef'
    hint=recommended, useposix=true, d_sigaction=undef
    useithreads=define, usemultiplicity=define
    useperlio=define, d_sfio=undef, uselargefiles=define, usesocks=undef
    use64bitint=define, use64bitall=undef, uselongdouble=undef
    usemymalloc=n, bincompat5005=undef
  Compiler:
    cc='gcc', ccflags =' -s -O2 -DWIN32  -DPERL_TEXTMODE_SCRIPTS -DPERL_IMPLICIT_CONTEXT -DPERL_IMPLICIT_SYS -fno-strict-aliasing -mms-bitfields',
    optimize='-s -O2',
    cppflags='-DWIN32'
    ccversion='', gccversion='4.6.3', gccosandvers=''
    intsize=4, longsize=4, ptrsize=4, doublesize=8, byteorder=12345678
    d_longlong=define, longlongsize=8, d_longdbl=define, longdblsize=12
    ivtype='long long', ivsize=8, nvtype='double', nvsize=8, Off_t='long long', lseeksize=8
    alignbytes=8, prototype=define
  Linker and Libraries:
    ld='g++', ldflags ='-s -L"C:\strawberry\perl\lib\CORE" -L"C:\strawberry\c\lib"'
    libpth=C:\strawberry\c\lib C:\strawberry\c\i686-w64-mingw32\lib
    libs=-lmoldname -lkernel32 -luser32 -lgdi32 -lwinspool -lcomdlg32 -ladvapi32 -lshell32 -lole32 -loleaut32 -lnetapi32 -luuid -lws2_32 -lmpr -lwinmm -lversion -lodbc32 -lodbccp32 -lcomctl32
    perllibs=-lmoldname -lkernel32 -luser32 -lgdi32 -lwinspool -lcomdlg32 -ladvapi32 -lshell32 -lole32 -loleaut32 -lnetapi32 -luuid -lws2_32 -lmpr -lwinmm -lversion -lodbc32 -lodbccp32 -lcomctl32
    libc=, so=dll, useshrplib=true, libperl=libperl517.a
    gnulibc_version=''
  Dynamic Linking:
    dlsrc=dl_win32.xs, dlext=dll, d_dlsymun=undef, ccdlflags=' '
    cccdlflags=' ', lddlflags='-mdll -s -L"C:\strawberry\perl\lib\CORE" -L"C:\strawberry\c\lib"'


Characteristics of this binary (from libperl): 
  Compile-time options: HAS_TIMES HAVE_INTERP_INTERN MULTIPLICITY
                        PERLIO_LAYERS PERL_DONT_CREATE_GVSV
                        PERL_IMPLICIT_CONTEXT PERL_IMPLICIT_SYS
                        PERL_MALLOC_WRAP PERL_PRESERVE_IVUV PERL_SAWAMPERSAND
                        USE_64_BIT_INT USE_ITHREADS USE_LARGE_FILES
                        USE_LOCALE USE_LOCALE_COLLATE USE_LOCALE_CTYPE
                        USE_LOCALE_NUMERIC USE_PERLIO USE_PERL_ATOF
  Built under MSWin32
  Compiled at Apr  1 2013 23:13:43
  %ENV:
    PERL5LIB="C:\strawberry\cpan\build\DataFlow-Proc-DBF-0.03-7Mgt_R/blib/arch;C:\strawberry\cpan\build\DataFlow-Proc-DBF-0.03-7Mgt_R/blib/lib;C:\strawberry\cpan\build\DataFlow-Proc-HTMLFilter-1.112100-_TmgOu/blib/arch;C:\strawberry\cpan\build\DataFlow-Proc-HTMLFilter-1.112100-_TmgOu/blib/lib;C:\strawberry\cpan\build\DataFlow-Proc-URLRetriever-1.121690-7LFNuc/blib/arch;C:\strawberry\cpan\build\DataFlow-Proc-URLRetriever-1.121690-7LFNuc/blib/lib;C:\strawberry\cpan\build\DataFlow-Proc-JSON-1.112100-esP3TD/blib/arch;C:\strawberry\cpan\build\DataFlow-Proc-JSON-1.112100-esP3TD/blib/lib;C:\strawberry\cpan\build\DataFlow-Proc-MessagePack-1.112100-0S3GPo/blib/arch;C:\strawberry\cpan\build\DataFlow-Proc-MessagePack-1.112100-0S3GPo/blib/lib;C:\strawberry\cpan\build\DataFlow-Proc-DPath-1.112100-kJUzzX/blib/arch;C:\strawberry\cpan\build\DataFlow-Proc-DPath-1.112100-kJUzzX/blib/lib;C:\strawberry\cpan\build\DataFlow-1.121830-xszzc6/blib/arch;C:\strawberry\cpan\build\DataFlow-1.121830-xszzc6/blib/lib;C:\strawberry\cpan\build\Text-CSV-Encoded-0.10-jsN7RV/blib/arch;C:\strawberry\cpan\build\Text-CSV-Encoded-0.10-jsN7RV/blib/lib;C:\strawberry\cpan\build\Queue-Base-2.203-fsv5dY/blib/arch;C:\strawberry\cpan\build\Queue-Base-2.203-fsv5dY/blib/lib;C:\strawberry\cpan\build\MooseX-Types-IO-0.03-JQiDiU/blib/arch;C:\strawberry\cpan\build\MooseX-Types-IO-0.03-JQiDiU/blib/lib"
    PERL5_CPANPLUS_IS_RUNNING="432"
    PERL5_CPAN_IS_RUNNING="432"
    PERL5_CPAN_IS_RUNNING_IN_RECURSION="1732,432"
    PERL_CR_SMOKER_CURRENT="Task-DataFlow-0.008"
    PERL_EXTUTILS_AUTOINSTALL="--defaultdeps"
    PERL_MM_USE_DEFAULT="1"
  @INC:
    C:\strawberry\cpan\build\DataFlow-Proc-DBF-0.03-7Mgt_R/blib/arch
    C:\strawberry\cpan\build\DataFlow-Proc-DBF-0.03-7Mgt_R/blib/lib
    C:\strawberry\cpan\build\DataFlow-Proc-HTMLFilter-1.112100-_TmgOu/blib/arch
    C:\strawberry\cpan\build\DataFlow-Proc-HTMLFilter-1.112100-_TmgOu/blib/lib
    C:\strawberry\cpan\build\DataFlow-Proc-URLRetriever-1.121690-7LFNuc/blib/arch
    C:\strawberry\cpan\build\DataFlow-Proc-URLRetriever-1.121690-7LFNuc/blib/lib
    C:\strawberry\cpan\build\DataFlow-Proc-JSON-1.112100-esP3TD/blib/arch
    C:\strawberry\cpan\build\DataFlow-Proc-JSON-1.112100-esP3TD/blib/lib
    C:\strawberry\cpan\build\DataFlow-Proc-MessagePack-1.112100-0S3GPo/blib/arch
    C:\strawberry\cpan\build\DataFlow-Proc-MessagePack-1.112100-0S3GPo/blib/lib
    C:\strawberry\cpan\build\DataFlow-Proc-DPath-1.112100-kJUzzX/blib/arch
    C:\strawberry\cpan\build\DataFlow-Proc-DPath-1.112100-kJUzzX/blib/lib
    C:\strawberry\cpan\build\DataFlow-1.121830-xszzc6/blib/arch
    C:\strawberry\cpan\build\DataFlow-1.121830-xszzc6/blib/lib
    C:\strawberry\cpan\build\Text-CSV-Encoded-0.10-jsN7RV/blib/arch
    C:\strawberry\cpan\build\Text-CSV-Encoded-0.10-jsN7RV/blib/lib
    C:\strawberry\cpan\build\Queue-Base-2.203-fsv5dY/blib/arch
    C:\strawberry\cpan\build\Queue-Base-2.203-fsv5dY/blib/lib
    C:\strawberry\cpan\build\MooseX-Types-IO-0.03-JQiDiU/blib/arch
    C:\strawberry\cpan\build\MooseX-Types-IO-0.03-JQiDiU/blib/lib
    C:/strawberry/perl/site/lib
    C:/strawberry/perl/vendor/lib
    C:/strawberry/perl/lib
    .