Report for XML-Writer-Compiler-1.112060

Back
From: metabase:user:314402c4-2aae-11df-837a-5e0a49663a4f
Subject: PASS XML-Writer-Compiler-1.112060 v5.12.3 FreeBSD
Date: 2011-08-01T21:15:17Z

This distribution has been tested as part of the CPAN Testers
project, supporting the Perl programming language.  See
http://wiki.cpantesters.org/ for more information or email
questions to cpan-testers-discuss@perl.org


--
Dear Terrence Brannon,

This is a computer-generated report for XML-Writer-Compiler-1.112060
on perl 5.12.3, created by CPAN-Reporter-1.1902.

Thank you for uploading your work to CPAN.  Congratulations!
All tests were successful.

Sections of this report:

    * Tester comments
    * Program output
    * Prerequisites
    * Environment and other context

------------------------------
TESTER COMMENTS
------------------------------

Additional comments from tester:

none provided

------------------------------
PROGRAM OUTPUT
------------------------------

Output from '/usr/bin/make test':

PERL_DL_NONLAZY=1 /usr/perl5.12.3/bin/perl5.12.3 "-MExtUtils::Command::MM" "-e" "test_harness(0, 'blib/lib', 'blib/arch')" t/*.t
t/00.load.t ..... ok
METHODNAME: _tag_QBXML... derefchain:  at /var/tmp/CPAN-build/XML-Writer-Compiler-1.112060-_E2Hc2/blib/lib/XML/Writer/Compiler.pm line 173.
METHODNAME: _tag_QBXMLMsgsRq... derefchain:  at /var/tmp/CPAN-build/XML-Writer-Compiler-1.112060-_E2Hc2/blib/lib/XML/Writer/Compiler.pm line 173.
METHODNAME: _tag_InvoiceAddRq... derefchain:  at /var/tmp/CPAN-build/XML-Writer-Compiler-1.112060-_E2Hc2/blib/lib/XML/Writer/Compiler.pm line 173.
METHODNAME: _tag_InvoiceAdd... derefchain:  at /var/tmp/CPAN-build/XML-Writer-Compiler-1.112060-_E2Hc2/blib/lib/XML/Writer/Compiler.pm line 173.
METHODNAME: _tag_CustomerRef... derefchain: CustomerRef at /var/tmp/CPAN-build/XML-Writer-Compiler-1.112060-_E2Hc2/blib/lib/XML/Writer/Compiler.pm line 173.
METHODNAME: _tag_CustomerRef_ListID... derefchain: CustomerRef ListID at /var/tmp/CPAN-build/XML-Writer-Compiler-1.112060-_E2Hc2/blib/lib/XML/Writer/Compiler.pm line 173.
METHODNAME: _tag_CustomerRef_FullName... derefchain: CustomerRef FullName at /var/tmp/CPAN-build/XML-Writer-Compiler-1.112060-_E2Hc2/blib/lib/XML/Writer/Compiler.pm line 173.
METHODNAME: _tag_ClassRef... derefchain: ClassRef at /var/tmp/CPAN-build/XML-Writer-Compiler-1.112060-_E2Hc2/blib/lib/XML/Writer/Compiler.pm line 173.
METHODNAME: _tag_ClassRef_ListID... derefchain: ClassRef ListID at /var/tmp/CPAN-build/XML-Writer-Compiler-1.112060-_E2Hc2/blib/lib/XML/Writer/Compiler.pm line 173.
METHODNAME: _tag_ClassRef_FullName... derefchain: ClassRef FullName at /var/tmp/CPAN-build/XML-Writer-Compiler-1.112060-_E2Hc2/blib/lib/XML/Writer/Compiler.pm line 173.
METHODNAME: _tag_ARAccountRef... derefchain: ARAccountRef at /var/tmp/CPAN-build/XML-Writer-Compiler-1.112060-_E2Hc2/blib/lib/XML/Writer/Compiler.pm line 173.
METHODNAME: _tag_ARAccountRef_ListID... derefchain: ARAccountRef ListID at /var/tmp/CPAN-build/XML-Writer-Compiler-1.112060-_E2Hc2/blib/lib/XML/Writer/Compiler.pm line 173.
METHODNAME: _tag_ARAccountRef_FullName... derefchain: ARAccountRef FullName at /var/tmp/CPAN-build/XML-Writer-Compiler-1.112060-_E2Hc2/blib/lib/XML/Writer/Compiler.pm line 173.
METHODNAME: _tag_TemplateRef... derefchain: TemplateRef at /var/tmp/CPAN-build/XML-Writer-Compiler-1.112060-_E2Hc2/blib/lib/XML/Writer/Compiler.pm line 173.
METHODNAME: _tag_TemplateRef_ListID... derefchain: TemplateRef ListID at /var/tmp/CPAN-build/XML-Writer-Compiler-1.112060-_E2Hc2/blib/lib/XML/Writer/Compiler.pm line 173.
METHODNAME: _tag_TemplateRef_FullName... derefchain: TemplateRef FullName at /var/tmp/CPAN-build/XML-Writer-Compiler-1.112060-_E2Hc2/blib/lib/XML/Writer/Compiler.pm line 173.
METHODNAME: _tag_TxnDate... derefchain: TxnDate at /var/tmp/CPAN-build/XML-Writer-Compiler-1.112060-_E2Hc2/blib/lib/XML/Writer/Compiler.pm line 173.
METHODNAME: _tag_RefNumber... derefchain: RefNumber at /var/tmp/CPAN-build/XML-Writer-Compiler-1.112060-_E2Hc2/blib/lib/XML/Writer/Compiler.pm line 173.
METHODNAME: _tag_BillAddress... derefchain: BillAddress at /var/tmp/CPAN-build/XML-Writer-Compiler-1.112060-_E2Hc2/blib/lib/XML/Writer/Compiler.pm line 173.
METHODNAME: _tag_BillAddress_Addr1... derefchain: BillAddress Addr1 at /var/tmp/CPAN-build/XML-Writer-Compiler-1.112060-_E2Hc2/blib/lib/XML/Writer/Compiler.pm line 173.
METHODNAME: _tag_BillAddress_Addr2... derefchain: BillAddress Addr2 at /var/tmp/CPAN-build/XML-Writer-Compiler-1.112060-_E2Hc2/blib/lib/XML/Writer/Compiler.pm line 173.
METHODNAME: _tag_BillAddress_Addr3... derefchain: BillAddress Addr3 at /var/tmp/CPAN-build/XML-Writer-Compiler-1.112060-_E2Hc2/blib/lib/XML/Writer/Compiler.pm line 173.
METHODNAME: _tag_BillAddress_Addr4... derefchain: BillAddress Addr4 at /var/tmp/CPAN-build/XML-Writer-Compiler-1.112060-_E2Hc2/blib/lib/XML/Writer/Compiler.pm line 173.
METHODNAME: _tag_BillAddress_Addr5... derefchain: BillAddress Addr5 at /var/tmp/CPAN-build/XML-Writer-Compiler-1.112060-_E2Hc2/blib/lib/XML/Writer/Compiler.pm line 173.
METHODNAME: _tag_BillAddress_City... derefchain: BillAddress City at /var/tmp/CPAN-build/XML-Writer-Compiler-1.112060-_E2Hc2/blib/lib/XML/Writer/Compiler.pm line 173.
METHODNAME: _tag_BillAddress_State... derefchain: BillAddress State at /var/tmp/CPAN-build/XML-Writer-Compiler-1.112060-_E2Hc2/blib/lib/XML/Writer/Compiler.pm line 173.
METHODNAME: _tag_BillAddress_PostalCode... derefchain: BillAddress PostalCode at /var/tmp/CPAN-build/XML-Writer-Compiler-1.112060-_E2Hc2/blib/lib/XML/Writer/Compiler.pm line 173.
METHODNAME: _tag_BillAddress_Country... derefchain: BillAddress Country at /var/tmp/CPAN-build/XML-Writer-Compiler-1.112060-_E2Hc2/blib/lib/XML/Writer/Compiler.pm line 173.
METHODNAME: _tag_BillAddress_Note... derefchain: BillAddress Note at /var/tmp/CPAN-build/XML-Writer-Compiler-1.112060-_E2Hc2/blib/lib/XML/Writer/Compiler.pm line 173.
METHODNAME: _tag_ShipAddress... derefchain: ShipAddress at /var/tmp/CPAN-build/XML-Writer-Compiler-1.112060-_E2Hc2/blib/lib/XML/Writer/Compiler.pm line 173.
METHODNAME: _tag_ShipAddress_Addr1... derefchain: ShipAddress Addr1 at /var/tmp/CPAN-build/XML-Writer-Compiler-1.112060-_E2Hc2/blib/lib/XML/Writer/Compiler.pm line 173.
METHODNAME: _tag_ShipAddress_Addr2... derefchain: ShipAddress Addr2 at /var/tmp/CPAN-build/XML-Writer-Compiler-1.112060-_E2Hc2/blib/lib/XML/Writer/Compiler.pm line 173.
METHODNAME: _tag_ShipAddress_Addr3... derefchain: ShipAddress Addr3 at /var/tmp/CPAN-build/XML-Writer-Compiler-1.112060-_E2Hc2/blib/lib/XML/Writer/Compiler.pm line 173.
METHODNAME: _tag_ShipAddress_Addr4... derefchain: ShipAddress Addr4 at /var/tmp/CPAN-build/XML-Writer-Compiler-1.112060-_E2Hc2/blib/lib/XML/Writer/Compiler.pm line 173.
METHODNAME: _tag_ShipAddress_Addr5... derefchain: ShipAddress Addr5 at /var/tmp/CPAN-build/XML-Writer-Compiler-1.112060-_E2Hc2/blib/lib/XML/Writer/Compiler.pm line 173.
METHODNAME: _tag_ShipAddress_City... derefchain: ShipAddress City at /var/tmp/CPAN-build/XML-Writer-Compiler-1.112060-_E2Hc2/blib/lib/XML/Writer/Compiler.pm line 173.
METHODNAME: _tag_ShipAddress_State... derefchain: ShipAddress State at /var/tmp/CPAN-build/XML-Writer-Compiler-1.112060-_E2Hc2/blib/lib/XML/Writer/Compiler.pm line 173.
METHODNAME: _tag_ShipAddress_PostalCode... derefchain: ShipAddress PostalCode at /var/tmp/CPAN-build/XML-Writer-Compiler-1.112060-_E2Hc2/blib/lib/XML/Writer/Compiler.pm line 173.
METHODNAME: _tag_ShipAddress_Country... derefchain: ShipAddress Country at /var/tmp/CPAN-build/XML-Writer-Compiler-1.112060-_E2Hc2/blib/lib/XML/Writer/Compiler.pm line 173.
METHODNAME: _tag_ShipAddress_Note... derefchain: ShipAddress Note at /var/tmp/CPAN-build/XML-Writer-Compiler-1.112060-_E2Hc2/blib/lib/XML/Writer/Compiler.pm line 173.
METHODNAME: _tag_IsPending... derefchain: IsPending at /var/tmp/CPAN-build/XML-Writer-Compiler-1.112060-_E2Hc2/blib/lib/XML/Writer/Compiler.pm line 173.
METHODNAME: _tag_IsFinanceCharge... derefchain: IsFinanceCharge at /var/tmp/CPAN-build/XML-Writer-Compiler-1.112060-_E2Hc2/blib/lib/XML/Writer/Compiler.pm line 173.
METHODNAME: _tag_PONumber... derefchain: PONumber at /var/tmp/CPAN-build/XML-Writer-Compiler-1.112060-_E2Hc2/blib/lib/XML/Writer/Compiler.pm line 173.
METHODNAME: _tag_TermsRef... derefchain: TermsRef at /var/tmp/CPAN-build/XML-Writer-Compiler-1.112060-_E2Hc2/blib/lib/XML/Writer/Compiler.pm line 173.
METHODNAME: _tag_TermsRef_ListID... derefchain: TermsRef ListID at /var/tmp/CPAN-build/XML-Writer-Compiler-1.112060-_E2Hc2/blib/lib/XML/Writer/Compiler.pm line 173.
METHODNAME: _tag_TermsRef_FullName... derefchain: TermsRef FullName at /var/tmp/CPAN-build/XML-Writer-Compiler-1.112060-_E2Hc2/blib/lib/XML/Writer/Compiler.pm line 173.
METHODNAME: _tag_DueDate... derefchain: DueDate at /var/tmp/CPAN-build/XML-Writer-Compiler-1.112060-_E2Hc2/blib/lib/XML/Writer/Compiler.pm line 173.
METHODNAME: _tag_SalesRepRef... derefchain: SalesRepRef at /var/tmp/CPAN-build/XML-Writer-Compiler-1.112060-_E2Hc2/blib/lib/XML/Writer/Compiler.pm line 173.
METHODNAME: _tag_SalesRepRef_ListID... derefchain: SalesRepRef ListID at /var/tmp/CPAN-build/XML-Writer-Compiler-1.112060-_E2Hc2/blib/lib/XML/Writer/Compiler.pm line 173.
METHODNAME: _tag_SalesRepRef_FullName... derefchain: SalesRepRef FullName at /var/tmp/CPAN-build/XML-Writer-Compiler-1.112060-_E2Hc2/blib/lib/XML/Writer/Compiler.pm line 173.
METHODNAME: _tag_FOB... derefchain: FOB at /var/tmp/CPAN-build/XML-Writer-Compiler-1.112060-_E2Hc2/blib/lib/XML/Writer/Compiler.pm line 173.
METHODNAME: _tag_ShipDate... derefchain: ShipDate at /var/tmp/CPAN-build/XML-Writer-Compiler-1.112060-_E2Hc2/blib/lib/XML/Writer/Compiler.pm line 173.
METHODNAME: _tag_ShipMethodRef... derefchain: ShipMethodRef at /var/tmp/CPAN-build/XML-Writer-Compiler-1.112060-_E2Hc2/blib/lib/XML/Writer/Compiler.pm line 173.
METHODNAME: _tag_ShipMethodRef_ListID... derefchain: ShipMethodRef ListID at /var/tmp/CPAN-build/XML-Writer-Compiler-1.112060-_E2Hc2/blib/lib/XML/Writer/Compiler.pm line 173.
METHODNAME: _tag_ShipMethodRef_FullName... derefchain: ShipMethodRef FullName at /var/tmp/CPAN-build/XML-Writer-Compiler-1.112060-_E2Hc2/blib/lib/XML/Writer/Compiler.pm line 173.
METHODNAME: _tag_ItemSalesTaxRef... derefchain: ItemSalesTaxRef at /var/tmp/CPAN-build/XML-Writer-Compiler-1.112060-_E2Hc2/blib/lib/XML/Writer/Compiler.pm line 173.
METHODNAME: _tag_ItemSalesTaxRef_ListID... derefchain: ItemSalesTaxRef ListID at /var/tmp/CPAN-build/XML-Writer-Compiler-1.112060-_E2Hc2/blib/lib/XML/Writer/Compiler.pm line 173.
METHODNAME: _tag_ItemSalesTaxRef_FullName... derefchain: ItemSalesTaxRef FullName at /var/tmp/CPAN-build/XML-Writer-Compiler-1.112060-_E2Hc2/blib/lib/XML/Writer/Compiler.pm line 173.
METHODNAME: _tag_Memo... derefchain: Memo at /var/tmp/CPAN-build/XML-Writer-Compiler-1.112060-_E2Hc2/blib/lib/XML/Writer/Compiler.pm line 173.
METHODNAME: _tag_CustomerMsgRef... derefchain: CustomerMsgRef at /var/tmp/CPAN-build/XML-Writer-Compiler-1.112060-_E2Hc2/blib/lib/XML/Writer/Compiler.pm line 173.
METHODNAME: _tag_CustomerMsgRef_ListID... derefchain: CustomerMsgRef ListID at /var/tmp/CPAN-build/XML-Writer-Compiler-1.112060-_E2Hc2/blib/lib/XML/Writer/Compiler.pm line 173.
METHODNAME: _tag_CustomerMsgRef_FullName... derefchain: CustomerMsgRef FullName at /var/tmp/CPAN-build/XML-Writer-Compiler-1.112060-_E2Hc2/blib/lib/XML/Writer/Compiler.pm line 173.
METHODNAME: _tag_IsToBePrinted... derefchain: IsToBePrinted at /var/tmp/CPAN-build/XML-Writer-Compiler-1.112060-_E2Hc2/blib/lib/XML/Writer/Compiler.pm line 173.
METHODNAME: _tag_IsToBeEmailed... derefchain: IsToBeEmailed at /var/tmp/CPAN-build/XML-Writer-Compiler-1.112060-_E2Hc2/blib/lib/XML/Writer/Compiler.pm line 173.
METHODNAME: _tag_CustomerSalesTaxCodeRef... derefchain: CustomerSalesTaxCodeRef at /var/tmp/CPAN-build/XML-Writer-Compiler-1.112060-_E2Hc2/blib/lib/XML/Writer/Compiler.pm line 173.
METHODNAME: _tag_CustomerSalesTaxCodeRef_ListID... derefchain: CustomerSalesTaxCodeRef ListID at /var/tmp/CPAN-build/XML-Writer-Compiler-1.112060-_E2Hc2/blib/lib/XML/Writer/Compiler.pm line 173.
METHODNAME: _tag_CustomerSalesTaxCodeRef_FullName... derefchain: CustomerSalesTaxCodeRef FullName at /var/tmp/CPAN-build/XML-Writer-Compiler-1.112060-_E2Hc2/blib/lib/XML/Writer/Compiler.pm line 173.
METHODNAME: _tag_Other... derefchain: Other at /var/tmp/CPAN-build/XML-Writer-Compiler-1.112060-_E2Hc2/blib/lib/XML/Writer/Compiler.pm line 173.
METHODNAME: _tag_ExchangeRate... derefchain: ExchangeRate at /var/tmp/CPAN-build/XML-Writer-Compiler-1.112060-_E2Hc2/blib/lib/XML/Writer/Compiler.pm line 173.
METHODNAME: _tag_ExternalGUID... derefchain: ExternalGUID at /var/tmp/CPAN-build/XML-Writer-Compiler-1.112060-_E2Hc2/blib/lib/XML/Writer/Compiler.pm line 173.
METHODNAME: _tag_LinkToTxnID... derefchain: LinkToTxnID at /var/tmp/CPAN-build/XML-Writer-Compiler-1.112060-_E2Hc2/blib/lib/XML/Writer/Compiler.pm line 173.
METHODNAME: _tag_SetCredit... derefchain: SetCredit at /var/tmp/CPAN-build/XML-Writer-Compiler-1.112060-_E2Hc2/blib/lib/XML/Writer/Compiler.pm line 173.
METHODNAME: _tag_SetCredit_CreditTxnID... derefchain: SetCredit CreditTxnID at /var/tmp/CPAN-build/XML-Writer-Compiler-1.112060-_E2Hc2/blib/lib/XML/Writer/Compiler.pm line 173.
METHODNAME: _tag_SetCredit_AppliedAmount... derefchain: SetCredit AppliedAmount at /var/tmp/CPAN-build/XML-Writer-Compiler-1.112060-_E2Hc2/blib/lib/XML/Writer/Compiler.pm line 173.
METHODNAME: _tag_SetCredit_Override... derefchain: SetCredit Override at /var/tmp/CPAN-build/XML-Writer-Compiler-1.112060-_E2Hc2/blib/lib/XML/Writer/Compiler.pm line 173.
METHODNAME: _tag_InvoiceLineAdd... derefchain: InvoiceLineAdd at /var/tmp/CPAN-build/XML-Writer-Compiler-1.112060-_E2Hc2/blib/lib/XML/Writer/Compiler.pm line 173.
METHODNAME: _tag_InvoiceLineAdd_ItemRef... derefchain: InvoiceLineAdd ItemRef at /var/tmp/CPAN-build/XML-Writer-Compiler-1.112060-_E2Hc2/blib/lib/XML/Writer/Compiler.pm line 173.
METHODNAME: _tag_InvoiceLineAdd_ItemRef_ListID... derefchain: InvoiceLineAdd ItemRef ListID at /var/tmp/CPAN-build/XML-Writer-Compiler-1.112060-_E2Hc2/blib/lib/XML/Writer/Compiler.pm line 173.
METHODNAME: _tag_InvoiceLineAdd_ItemRef_FullName... derefchain: InvoiceLineAdd ItemRef FullName at /var/tmp/CPAN-build/XML-Writer-Compiler-1.112060-_E2Hc2/blib/lib/XML/Writer/Compiler.pm line 173.
METHODNAME: _tag_InvoiceLineAdd_Desc... derefchain: InvoiceLineAdd Desc at /var/tmp/CPAN-build/XML-Writer-Compiler-1.112060-_E2Hc2/blib/lib/XML/Writer/Compiler.pm line 173.
METHODNAME: _tag_InvoiceLineAdd_Quantity... derefchain: InvoiceLineAdd Quantity at /var/tmp/CPAN-build/XML-Writer-Compiler-1.112060-_E2Hc2/blib/lib/XML/Writer/Compiler.pm line 173.
METHODNAME: _tag_InvoiceLineAdd_UnitOfMeasure... derefchain: InvoiceLineAdd UnitOfMeasure at /var/tmp/CPAN-build/XML-Writer-Compiler-1.112060-_E2Hc2/blib/lib/XML/Writer/Compiler.pm line 173.
METHODNAME: _tag_InvoiceLineAdd_Rate... derefchain: InvoiceLineAdd Rate at /var/tmp/CPAN-build/XML-Writer-Compiler-1.112060-_E2Hc2/blib/lib/XML/Writer/Compiler.pm line 173.
METHODNAME: _tag_InvoiceLineAdd_RatePercent... derefchain: InvoiceLineAdd RatePercent at /var/tmp/CPAN-build/XML-Writer-Compiler-1.112060-_E2Hc2/blib/lib/XML/Writer/Compiler.pm line 173.
METHODNAME: _tag_InvoiceLineAdd_PriceLevelRef... derefchain: InvoiceLineAdd PriceLevelRef at /var/tmp/CPAN-build/XML-Writer-Compiler-1.112060-_E2Hc2/blib/lib/XML/Writer/Compiler.pm line 173.
METHODNAME: _tag_InvoiceLineAdd_PriceLevelRef_ListID... derefchain: InvoiceLineAdd PriceLevelRef ListID at /var/tmp/CPAN-build/XML-Writer-Compiler-1.112060-_E2Hc2/blib/lib/XML/Writer/Compiler.pm line 173.
METHODNAME: _tag_InvoiceLineAdd_PriceLevelRef_FullName... derefchain: InvoiceLineAdd PriceLevelRef FullName at /var/tmp/CPAN-build/XML-Writer-Compiler-1.112060-_E2Hc2/blib/lib/XML/Writer/Compiler.pm line 173.
METHODNAME: _tag_InvoiceLineAdd_ClassRef... derefchain: InvoiceLineAdd ClassRef at /var/tmp/CPAN-build/XML-Writer-Compiler-1.112060-_E2Hc2/blib/lib/XML/Writer/Compiler.pm line 173.
METHODNAME: _tag_InvoiceLineAdd_ClassRef_ListID... derefchain: InvoiceLineAdd ClassRef ListID at /var/tmp/CPAN-build/XML-Writer-Compiler-1.112060-_E2Hc2/blib/lib/XML/Writer/Compiler.pm line 173.
METHODNAME: _tag_InvoiceLineAdd_ClassRef_FullName... derefchain: InvoiceLineAdd ClassRef FullName at /var/tmp/CPAN-build/XML-Writer-Compiler-1.112060-_E2Hc2/blib/lib/XML/Writer/Compiler.pm line 173.
METHODNAME: _tag_InvoiceLineAdd_Amount... derefchain: InvoiceLineAdd Amount at /var/tmp/CPAN-build/XML-Writer-Compiler-1.112060-_E2Hc2/blib/lib/XML/Writer/Compiler.pm line 173.
METHODNAME: _tag_InvoiceLineAdd_InventorySiteRef... derefchain: InvoiceLineAdd InventorySiteRef at /var/tmp/CPAN-build/XML-Writer-Compiler-1.112060-_E2Hc2/blib/lib/XML/Writer/Compiler.pm line 173.
METHODNAME: _tag_InvoiceLineAdd_InventorySiteRef_ListID... derefchain: InvoiceLineAdd InventorySiteRef ListID at /var/tmp/CPAN-build/XML-Writer-Compiler-1.112060-_E2Hc2/blib/lib/XML/Writer/Compiler.pm line 173.
METHODNAME: _tag_InvoiceLineAdd_InventorySiteRef_FullName... derefchain: InvoiceLineAdd InventorySiteRef FullName at /var/tmp/CPAN-build/XML-Writer-Compiler-1.112060-_E2Hc2/blib/lib/XML/Writer/Compiler.pm line 173.
METHODNAME: _tag_InvoiceLineAdd_ServiceDate... derefchain: InvoiceLineAdd ServiceDate at /var/tmp/CPAN-build/XML-Writer-Compiler-1.112060-_E2Hc2/blib/lib/XML/Writer/Compiler.pm line 173.
METHODNAME: _tag_InvoiceLineAdd_SalesTaxCodeRef... derefchain: InvoiceLineAdd SalesTaxCodeRef at /var/tmp/CPAN-build/XML-Writer-Compiler-1.112060-_E2Hc2/blib/lib/XML/Writer/Compiler.pm line 173.
METHODNAME: _tag_InvoiceLineAdd_SalesTaxCodeRef_ListID... derefchain: InvoiceLineAdd SalesTaxCodeRef ListID at /var/tmp/CPAN-build/XML-Writer-Compiler-1.112060-_E2Hc2/blib/lib/XML/Writer/Compiler.pm line 173.
METHODNAME: _tag_InvoiceLineAdd_SalesTaxCodeRef_FullName... derefchain: InvoiceLineAdd SalesTaxCodeRef FullName at /var/tmp/CPAN-build/XML-Writer-Compiler-1.112060-_E2Hc2/blib/lib/XML/Writer/Compiler.pm line 173.
METHODNAME: _tag_InvoiceLineAdd_OverrideItemAccountRef... derefchain: InvoiceLineAdd OverrideItemAccountRef at /var/tmp/CPAN-build/XML-Writer-Compiler-1.112060-_E2Hc2/blib/lib/XML/Writer/Compiler.pm line 173.
METHODNAME: _tag_InvoiceLineAdd_OverrideItemAccountRef_ListID... derefchain: InvoiceLineAdd OverrideItemAccountRef ListID at /var/tmp/CPAN-build/XML-Writer-Compiler-1.112060-_E2Hc2/blib/lib/XML/Writer/Compiler.pm line 173.
METHODNAME: _tag_InvoiceLineAdd_OverrideItemAccountRef_FullName... derefchain: InvoiceLineAdd OverrideItemAccountRef FullName at /var/tmp/CPAN-build/XML-Writer-Compiler-1.112060-_E2Hc2/blib/lib/XML/Writer/Compiler.pm line 173.
METHODNAME: _tag_InvoiceLineAdd_Other1... derefchain: InvoiceLineAdd Other1 at /var/tmp/CPAN-build/XML-Writer-Compiler-1.112060-_E2Hc2/blib/lib/XML/Writer/Compiler.pm line 173.
METHODNAME: _tag_InvoiceLineAdd_Other2... derefchain: InvoiceLineAdd Other2 at /var/tmp/CPAN-build/XML-Writer-Compiler-1.112060-_E2Hc2/blib/lib/XML/Writer/Compiler.pm line 173.
METHODNAME: _tag_InvoiceLineAdd_LinkToTxn... derefchain: InvoiceLineAdd LinkToTxn at /var/tmp/CPAN-build/XML-Writer-Compiler-1.112060-_E2Hc2/blib/lib/XML/Writer/Compiler.pm line 173.
METHODNAME: _tag_InvoiceLineAdd_LinkToTxn_TxnID... derefchain: InvoiceLineAdd LinkToTxn TxnID at /var/tmp/CPAN-build/XML-Writer-Compiler-1.112060-_E2Hc2/blib/lib/XML/Writer/Compiler.pm line 173.
METHODNAME: _tag_InvoiceLineAdd_LinkToTxn_TxnLineID... derefchain: InvoiceLineAdd LinkToTxn TxnLineID at /var/tmp/CPAN-build/XML-Writer-Compiler-1.112060-_E2Hc2/blib/lib/XML/Writer/Compiler.pm line 173.
METHODNAME: _tag_InvoiceLineAdd_DataExt... derefchain: InvoiceLineAdd DataExt at /var/tmp/CPAN-build/XML-Writer-Compiler-1.112060-_E2Hc2/blib/lib/XML/Writer/Compiler.pm line 173.
METHODNAME: _tag_InvoiceLineAdd_DataExt_OwnerID... derefchain: InvoiceLineAdd DataExt OwnerID at /var/tmp/CPAN-build/XML-Writer-Compiler-1.112060-_E2Hc2/blib/lib/XML/Writer/Compiler.pm line 173.
METHODNAME: _tag_InvoiceLineAdd_DataExt_DataExtName... derefchain: InvoiceLineAdd DataExt DataExtName at /var/tmp/CPAN-build/XML-Writer-Compiler-1.112060-_E2Hc2/blib/lib/XML/Writer/Compiler.pm line 173.
METHODNAME: _tag_InvoiceLineAdd_DataExt_DataExtValue... derefchain: InvoiceLineAdd DataExt DataExtValue at /var/tmp/CPAN-build/XML-Writer-Compiler-1.112060-_E2Hc2/blib/lib/XML/Writer/Compiler.pm line 173.
METHODNAME: _tag_InvoiceLineGroupAdd... derefchain: InvoiceLineGroupAdd at /var/tmp/CPAN-build/XML-Writer-Compiler-1.112060-_E2Hc2/blib/lib/XML/Writer/Compiler.pm line 173.
METHODNAME: _tag_InvoiceLineGroupAdd_ItemGroupRef... derefchain: InvoiceLineGroupAdd ItemGroupRef at /var/tmp/CPAN-build/XML-Writer-Compiler-1.112060-_E2Hc2/blib/lib/XML/Writer/Compiler.pm line 173.
METHODNAME: _tag_InvoiceLineGroupAdd_ItemGroupRef_ListID... derefchain: InvoiceLineGroupAdd ItemGroupRef ListID at /var/tmp/CPAN-build/XML-Writer-Compiler-1.112060-_E2Hc2/blib/lib/XML/Writer/Compiler.pm line 173.
METHODNAME: _tag_InvoiceLineGroupAdd_ItemGroupRef_FullName... derefchain: InvoiceLineGroupAdd ItemGroupRef FullName at /var/tmp/CPAN-build/XML-Writer-Compiler-1.112060-_E2Hc2/blib/lib/XML/Writer/Compiler.pm line 173.
METHODNAME: _tag_InvoiceLineGroupAdd_Quantity... derefchain: InvoiceLineGroupAdd Quantity at /var/tmp/CPAN-build/XML-Writer-Compiler-1.112060-_E2Hc2/blib/lib/XML/Writer/Compiler.pm line 173.
METHODNAME: _tag_InvoiceLineGroupAdd_UnitOfMeasure... derefchain: InvoiceLineGroupAdd UnitOfMeasure at /var/tmp/CPAN-build/XML-Writer-Compiler-1.112060-_E2Hc2/blib/lib/XML/Writer/Compiler.pm line 173.
METHODNAME: _tag_InvoiceLineGroupAdd_InventorySiteRef... derefchain: InvoiceLineGroupAdd InventorySiteRef at /var/tmp/CPAN-build/XML-Writer-Compiler-1.112060-_E2Hc2/blib/lib/XML/Writer/Compiler.pm line 173.
METHODNAME: _tag_InvoiceLineGroupAdd_InventorySiteRef_ListID... derefchain: InvoiceLineGroupAdd InventorySiteRef ListID at /var/tmp/CPAN-build/XML-Writer-Compiler-1.112060-_E2Hc2/blib/lib/XML/Writer/Compiler.pm line 173.
METHODNAME: _tag_InvoiceLineGroupAdd_InventorySiteRef_FullName... derefchain: InvoiceLineGroupAdd InventorySiteRef FullName at /var/tmp/CPAN-build/XML-Writer-Compiler-1.112060-_E2Hc2/blib/lib/XML/Writer/Compiler.pm line 173.
METHODNAME: _tag_InvoiceLineGroupAdd_DataExt... derefchain: InvoiceLineGroupAdd DataExt at /var/tmp/CPAN-build/XML-Writer-Compiler-1.112060-_E2Hc2/blib/lib/XML/Writer/Compiler.pm line 173.
METHODNAME: _tag_InvoiceLineGroupAdd_DataExt_OwnerID... derefchain: InvoiceLineGroupAdd DataExt OwnerID at /var/tmp/CPAN-build/XML-Writer-Compiler-1.112060-_E2Hc2/blib/lib/XML/Writer/Compiler.pm line 173.
METHODNAME: _tag_InvoiceLineGroupAdd_DataExt_DataExtName... derefchain: InvoiceLineGroupAdd DataExt DataExtName at /var/tmp/CPAN-build/XML-Writer-Compiler-1.112060-_E2Hc2/blib/lib/XML/Writer/Compiler.pm line 173.
METHODNAME: _tag_InvoiceLineGroupAdd_DataExt_DataExtValue... derefchain: InvoiceLineGroupAdd DataExt DataExtValue at /var/tmp/CPAN-build/XML-Writer-Compiler-1.112060-_E2Hc2/blib/lib/XML/Writer/Compiler.pm line 173.
METHODNAME: _tag_IncludeRetElement... derefchain:  at /var/tmp/CPAN-build/XML-Writer-Compiler-1.112060-_E2Hc2/blib/lib/XML/Writer/Compiler.pm line 173.
PKG:t::lib::InvoiceAdd at /var/tmp/CPAN-build/XML-Writer-Compiler-1.112060-_E2Hc2/blib/lib/XML/Writer/Compiler.pm line 30.
PART:t lib InvoiceAdd at /var/tmp/CPAN-build/XML-Writer-Compiler-1.112060-_E2Hc2/blib/lib/XML/Writer/Compiler.pm line 34.
PATH:t/lib at /var/tmp/CPAN-build/XML-Writer-Compiler-1.112060-_E2Hc2/blib/lib/XML/Writer/Compiler.pm line 39.
FILE:t/lib/InvoiceAdd.pm at /var/tmp/CPAN-build/XML-Writer-Compiler-1.112060-_E2Hc2/blib/lib/XML/Writer/Compiler.pm line 44.
t/01.compile.t .. ok
Assuming firstdepth == 0 at /var/tmp/CPAN-build/XML-Writer-Compiler-1.112060-_E2Hc2/blib/lib/XML/Writer/Compiler.pm line 55
	XML::Writer::Compiler::mklol('XML::Writer::Compiler', 'XML::TreeBuilder=HASH(0x27e54800)', 0) called at /var/tmp/CPAN-build/XML-Writer-Compiler-1.112060-_E2Hc2/blib/lib/XML/Writer/Compiler.pm line 23
	XML::Writer::Compiler::buildclass('XML::Writer::Compiler=HASH(0x27dfbd10)', 't::lib::My::Pkg', 'XML::TreeBuilder=HASH(0x27e54800)', 0, '') called at t/11.basic.t line 13
METHODNAME: _tag_note... derefchain: note at /var/tmp/CPAN-build/XML-Writer-Compiler-1.112060-_E2Hc2/blib/lib/XML/Writer/Compiler.pm line 173.
METHODNAME: _tag_note_to... derefchain: note to at /var/tmp/CPAN-build/XML-Writer-Compiler-1.112060-_E2Hc2/blib/lib/XML/Writer/Compiler.pm line 173.
METHODNAME: _tag_note_to_person... derefchain: note to person at /var/tmp/CPAN-build/XML-Writer-Compiler-1.112060-_E2Hc2/blib/lib/XML/Writer/Compiler.pm line 173.
METHODNAME: _tag_note_from... derefchain: note from at /var/tmp/CPAN-build/XML-Writer-Compiler-1.112060-_E2Hc2/blib/lib/XML/Writer/Compiler.pm line 173.
METHODNAME: _tag_note_heading... derefchain: note heading at /var/tmp/CPAN-build/XML-Writer-Compiler-1.112060-_E2Hc2/blib/lib/XML/Writer/Compiler.pm line 173.
METHODNAME: _tag_note_body... derefchain: note body at /var/tmp/CPAN-build/XML-Writer-Compiler-1.112060-_E2Hc2/blib/lib/XML/Writer/Compiler.pm line 173.
PKG:t::lib::My::Pkg at /var/tmp/CPAN-build/XML-Writer-Compiler-1.112060-_E2Hc2/blib/lib/XML/Writer/Compiler.pm line 30.
PART:t lib My Pkg at /var/tmp/CPAN-build/XML-Writer-Compiler-1.112060-_E2Hc2/blib/lib/XML/Writer/Compiler.pm line 34.
PATH:t/lib/My at /var/tmp/CPAN-build/XML-Writer-Compiler-1.112060-_E2Hc2/blib/lib/XML/Writer/Compiler.pm line 39.
FILE:t/lib/My/Pkg.pm at /var/tmp/CPAN-build/XML-Writer-Compiler-1.112060-_E2Hc2/blib/lib/XML/Writer/Compiler.pm line 44.
t/11.basic.t .... ok
"my" variable $xml masks earlier declaration in same scope at t/12.repeat.t line 42.
Assuming firstdepth == 0 at /var/tmp/CPAN-build/XML-Writer-Compiler-1.112060-_E2Hc2/blib/lib/XML/Writer/Compiler.pm line 55
	XML::Writer::Compiler::mklol('XML::Writer::Compiler', 'XML::TreeBuilder=HASH(0x2776f190)', 0) called at /var/tmp/CPAN-build/XML-Writer-Compiler-1.112060-_E2Hc2/blib/lib/XML/Writer/Compiler.pm line 23
	XML::Writer::Compiler::buildclass('XML::Writer::Compiler=HASH(0x27752500)', 't::lib::My::Shopping', 'XML::TreeBuilder=HASH(0x2776f190)', 0) called at t/12.repeat.t line 21
METHODNAME: _tag_shopping... derefchain: shopping at /var/tmp/CPAN-build/XML-Writer-Compiler-1.112060-_E2Hc2/blib/lib/XML/Writer/Compiler.pm line 173.
METHODNAME: _tag_shopping_item... derefchain: shopping item at /var/tmp/CPAN-build/XML-Writer-Compiler-1.112060-_E2Hc2/blib/lib/XML/Writer/Compiler.pm line 173.
PKG:t::lib::My::Shopping at /var/tmp/CPAN-build/XML-Writer-Compiler-1.112060-_E2Hc2/blib/lib/XML/Writer/Compiler.pm line 30.
PART:t lib My Shopping at /var/tmp/CPAN-build/XML-Writer-Compiler-1.112060-_E2Hc2/blib/lib/XML/Writer/Compiler.pm line 34.
PATH:t/lib/My at /var/tmp/CPAN-build/XML-Writer-Compiler-1.112060-_E2Hc2/blib/lib/XML/Writer/Compiler.pm line 39.
FILE:t/lib/My/Shopping.pm at /var/tmp/CPAN-build/XML-Writer-Compiler-1.112060-_E2Hc2/blib/lib/XML/Writer/Compiler.pm line 44.
t/12.repeat.t ... ok
All tests successful.
Files=4, Tests=6,  9 wallclock secs ( 0.02 usr  0.02 sys +  6.20 cusr  0.16 csys =  6.41 CPU)
Result: PASS

------------------------------
PREREQUISITES
------------------------------

Prerequisite modules loaded:

requires:

    Module                 Need Have    
    ---------------------- ---- --------
    autodie                0    2.10    
    Carp                   0    1.17    
    Data::Diver            0    1.0101  
    Data::Dumper           0    2.128   
    File::Path             0    2.08_01 
    File::Spec             0    3.33    
    Moose                  0    2.0009  
    Moose::Role            0    2.0009  
    Perl::Tidy             0    20101217
    XML::TreeBuilder       0    4.1     
    XML::Writer            0    0.612   
    XML::Writer::String    0    0.1     

build_requires:

    Module                 Need Have    
    ---------------------- ---- --------
    Class::MOP             0    2.0009  
    HTML::Element          0    4.2     
    HTML::Element::Library 0    4.3     
  ! t::lib::My::Shopping   0    broken  
    t::lib::T              0    0       
  ! t::lib::U              0    broken  
    Test::Kit              0    0.101   
    Test::More             0    0.98    
    Test::XML              0    0.08    
    XML::Element           0    4.1     

configure_requires:

    Module                 Need Have    
    ---------------------- ---- --------
    ExtUtils::MakeMaker    6.30 6.58    


------------------------------
ENVIRONMENT AND OTHER CONTEXT
------------------------------

Environment variables:

    DBIC_NO_WARN_BAD_PERL = 1
    PATH = /usr/local/bin:/usr/X11R6/bin:/usr/X11/bin:/usr/perl5.8.0/bin:/usr/bin:/bin:/usr/local/sbin:/usr/sbin:/sbin:/usr/local/pilot/bin:/home/cpansand/bin/freebsd8.0:/home/cpansand/bin/sh:/home/cpansand/bin:/usr/X386/bin:/usr/games:/home/cpansand/devel:/usr/home/e/eserte/work/srezic-misc/scripts
    PERL5LIB = 
    PERL5OPT = 
    PERL5_CPANPLUS_IS_RUNNING = 82995
    PERL5_CPAN_IS_RUNNING = 82995
    PERL5_CPAN_IS_RUNNING_IN_RECURSION = 72980,82995
    PERL_BATCH = yes
    PERL_CPAN_REPORTER_CONFIG = /var/tmp/cpansmoker-1023/ZCMXOC1pwP_config.ini
    PERL_EXTUTILS_AUTOINSTALL = --defaultdeps
    PERL_HTML_DISPLAY_CLASS = HTML::Display::Mozilla
    SHELL = /usr/local/bin/zsh
    TERM = screen
    TMPDIR = /var/tmp/cpansmoker-1023

Perl special variables (and OS-specific diagnostics, for MSWin32):

    $^X = /usr/perl5.12.3/bin/perl5.12.3
    $UID/$EUID = 1023 / 1023
    $GID = 1023 1023
    $EGID = 1023 1023

Perl module toolchain versions installed:

    Module              Have    
    ------------------- --------
    CPAN                1.9600  
    Cwd                 3.33    
    ExtUtils::CBuilder  0.280202
    ExtUtils::Command   1.17    
    ExtUtils::Install   1.55    
    ExtUtils::MakeMaker 6.58    
    ExtUtils::Manifest  1.58    
    ExtUtils::ParseXS   2.2206  
    File::Spec          3.33    
    Module::Build       0.3800  
    Module::Signature   0.68    
    Test::Harness       3.23    
    Test::More          0.98    
    YAML                0.73    
    YAML::Syck          1.17    
    version             0.91    


--

Summary of my perl5 (revision 5 version 12 subversion 3) configuration:
   
  Platform:
    osname=freebsd, osvers=8.0-release, archname=i386-freebsd
    uname='freebsd biokovo.herceg.de 8.0-release freebsd 8.0-release #0: sat nov 21 15:48:17 utc 2009 root@almeida.cse.buffalo.edu:usrobjusrsrcsysgeneric i386 '
    config_args='-Dprefix=/usr/perl5.12.3 -Dusemymalloc=n -D cc=ccache cc -Dgccansipedantic -Duse64bit -de -D hintfile=myfreebsd'
    hint=recommended, useposix=true, d_sigaction=define
    useithreads=undef, usemultiplicity=undef
    useperlio=define, d_sfio=undef, uselargefiles=define, usesocks=undef
    use64bitint=undef, use64bitall=undef, uselongdouble=undef
    usemymalloc=n, bincompat5005=undef
  Compiler:
    cc='ccache cc', ccflags ='-DHAS_FPSETMASK -DHAS_FLOATINGPOINT_H -fno-strict-aliasing -pipe -fstack-protector -I/usr/local/include',
    optimize='-O2 -mtune=athlon64 -pipe',
    cppflags='-DHAS_FPSETMASK -DHAS_FLOATINGPOINT_H -fno-strict-aliasing -pipe -fstack-protector -I/usr/local/include'
    ccversion='', gccversion='4.2.1 20070719  [FreeBSD]', gccosandvers=''
    intsize=4, longsize=4, ptrsize=4, doublesize=8, byteorder=1234
    d_longlong=define, longlongsize=8, d_longdbl=define, longdblsize=12
    ivtype='long', ivsize=4, nvtype='double', nvsize=8, Off_t='off_t', lseeksize=8
    alignbytes=4, prototype=define
  Linker and Libraries:
    ld='ccache cc', ldflags ='-Wl,-E  -fstack-protector -L/usr/local/lib'
    libpth=/usr/lib /usr/local/lib
    libs=-lgdbm -lm -lcrypt -lutil -lc
    perllibs=-lm -lcrypt -lutil -lc
    libc=, so=so, useshrplib=false, libperl=libperl.a
    gnulibc_version=''
  Dynamic Linking:
    dlsrc=dl_dlopen.xs, dlext=so, d_dlsymun=undef, ccdlflags=' '
    cccdlflags='-DPIC -fPIC', lddlflags='-shared  -L/usr/local/lib -fstack-protector'


Characteristics of this binary (from libperl): 
  Compile-time options: PERL_DONT_CREATE_GVSV PERL_MALLOC_WRAP PERL_USE_DEVEL
                        USE_LARGE_FILES USE_PERLIO USE_PERL_ATOF
  Built under freebsd
  Compiled at Jan 25 2011 22:50:03
  %ENV:
    PERL5LIB=""
    PERL5OPT=""
    PERL5_CPANPLUS_IS_RUNNING="82995"
    PERL5_CPAN_IS_RUNNING="82995"
    PERL5_CPAN_IS_RUNNING_IN_RECURSION="72980,82995"
    PERL_BATCH="yes"
    PERL_CPAN_REPORTER_CONFIG="/var/tmp/cpansmoker-1023/ZCMXOC1pwP_config.ini"
    PERL_EXTUTILS_AUTOINSTALL="--defaultdeps"
    PERL_HTML_DISPLAY_CLASS="HTML::Display::Mozilla"
  @INC:
    /usr/perl5.12.3/lib/site_perl/5.12.3/i386-freebsd
    /usr/perl5.12.3/lib/site_perl/5.12.3
    /usr/perl5.12.3/lib/5.12.3/i386-freebsd
    /usr/perl5.12.3/lib/5.12.3
    .