Report for Data-Model-0.00008

Back
From: metabase:user:314402c4-2aae-11df-837a-5e0a49663a4f
Subject: PASS Data-Model-0.00008 v5.8.9 FreeBSD
Date: 2013-07-08T14:33:28Z

This distribution has been tested as part of the CPAN Testers
project, supporting the Perl programming language.  See
http://wiki.cpantesters.org/ for more information or email
questions to cpan-testers-discuss@perl.org


--
Dear Kazuhiro Osawa,

This is a computer-generated report for Data-Model-0.00008
on perl 5.8.9, created by CPAN-Reporter-1.2006.

Thank you for uploading your work to CPAN.  Congratulations!
All tests were successful.

Sections of this report:

    * Tester comments
    * Program output
    * Prerequisites
    * Environment and other context

------------------------------
TESTER COMMENTS
------------------------------

Additional comments from tester:

none provided

------------------------------
PROGRAM OUTPUT
------------------------------

Output from './Build test':

t/00_compile.t ...................................................................................... ok
t/010_core/add_method.t ............................................................................. ok
t/010_core/iterator.t ............................................................................... ok
t/010_core/set_base_driver.t ........................................................................ ok
t/010_core/sql.t .................................................................................... ok
t/010_core/validate_column_options-pp.t ............................................................. ok
t/010_core/validate_column_options.t ................................................................ ok
t/010_core/validate_query_param-pp.t ................................................................ ok
t/010_core/validate_query_param.t ................................................................... ok
t/020_mock/cache-driver-memcached.t ................................................................. skipped: Set TEST_MEMCACHED_ADDRESS or TEST_MEMCACHED_BIN environment variable to run this test
t/020_mock/create-mysql-sql.t ....................................................................... skipped: Set TEST_MYSQL environment variable to run this test
t/020_mock/create-sql.t ............................................................................. ok
t/020_mock/dbi-mysql-OnDuplicateKeyUpdate.t ......................................................... skipped: Set TEST_MYSQL environment variable to run this test
t/020_mock/dbi-mysql/alias_column-suger-rename.t .................................................... skipped: Set TEST_MYSQL environment variable to run this test
t/020_mock/dbi-mysql/alias_column-suger.t ........................................................... skipped: Set TEST_MYSQL environment variable to run this test
t/020_mock/dbi-mysql/alias_column.t ................................................................. skipped: Set TEST_MYSQL environment variable to run this test
t/020_mock/dbi-mysql/basic.t ........................................................................ skipped: Set TEST_MYSQL environment variable to run this test
t/020_mock/dbi-mysql/bigint.t ....................................................................... skipped: Set TEST_MYSQL environment variable to run this test
t/020_mock/dbi-mysql/binary.t ....................................................................... skipped: Set TEST_MYSQL environment variable to run this test
t/020_mock/dbi-mysql/cache-alias_column-suger-rename.t .............................................. skipped: Set TEST_MYSQL environment variable to run this test
t/020_mock/dbi-mysql/cache-alias_column-suger.t ..................................................... skipped: Set TEST_MYSQL environment variable to run this test
t/020_mock/dbi-mysql/cache-alias_column.t ........................................................... skipped: Set TEST_MYSQL environment variable to run this test
t/020_mock/dbi-mysql/cache-basic.t .................................................................. skipped: Set TEST_MYSQL environment variable to run this test
t/020_mock/dbi-mysql/cache-bigint.t ................................................................. skipped: Set TEST_MYSQL environment variable to run this test
t/020_mock/dbi-mysql/cache-binary.t ................................................................. skipped: Set TEST_MYSQL environment variable to run this test
t/020_mock/dbi-mysql/cache-default.t ................................................................ skipped: Set TEST_MYSQL environment variable to run this test
t/020_mock/dbi-mysql/cache-for_cache.t .............................................................. skipped: Set TEST_MYSQL environment variable to run this test
t/020_mock/dbi-mysql/cache-index.t .................................................................. skipped: Set TEST_MYSQL environment variable to run this test
t/020_mock/dbi-mysql/cache-inflate.t ................................................................ skipped: Set TEST_MYSQL environment variable to run this test
t/020_mock/dbi-mysql/cache-inflate_column-suger.t ................................................... skipped: Set TEST_MYSQL environment variable to run this test
t/020_mock/dbi-mysql/cache-iterator.t ............................................................... skipped: Set TEST_MYSQL environment variable to run this test
t/020_mock/dbi-mysql/cache-memcached-alias_column-suger-rename.t .................................... skipped: Set TEST_MYSQL environment variable to run this test
t/020_mock/dbi-mysql/cache-memcached-alias_column-suger.t ........................................... skipped: Set TEST_MYSQL environment variable to run this test
t/020_mock/dbi-mysql/cache-memcached-alias_column.t ................................................. skipped: Set TEST_MYSQL environment variable to run this test
t/020_mock/dbi-mysql/cache-memcached-basic.t ........................................................ skipped: Set TEST_MYSQL environment variable to run this test
t/020_mock/dbi-mysql/cache-memcached-bigint.t ....................................................... skipped: Set TEST_MYSQL environment variable to run this test
t/020_mock/dbi-mysql/cache-memcached-binary.t ....................................................... skipped: Set TEST_MYSQL environment variable to run this test
t/020_mock/dbi-mysql/cache-memcached-default.t ...................................................... skipped: Set TEST_MYSQL environment variable to run this test
t/020_mock/dbi-mysql/cache-memcached-for_cache.t .................................................... skipped: Set TEST_MYSQL environment variable to run this test
t/020_mock/dbi-mysql/cache-memcached-index.t ........................................................ skipped: Set TEST_MYSQL environment variable to run this test
t/020_mock/dbi-mysql/cache-memcached-inflate.t ...................................................... skipped: Set TEST_MYSQL environment variable to run this test
t/020_mock/dbi-mysql/cache-memcached-inflate_column-suger.t ......................................... skipped: Set TEST_MYSQL environment variable to run this test
t/020_mock/dbi-mysql/cache-memcached-iterator.t ..................................................... skipped: Set TEST_MYSQL environment variable to run this test
t/020_mock/dbi-mysql/cache-memcached-no_key.t ....................................................... skipped: Set TEST_MYSQL environment variable to run this test
t/020_mock/dbi-mysql/cache-memcached-transaction.t .................................................. skipped: Set TEST_MYSQL environment variable to run this test
t/020_mock/dbi-mysql/cache-no_key.t ................................................................. skipped: Set TEST_MYSQL environment variable to run this test
t/020_mock/dbi-mysql/cache-transaction.t ............................................................ skipped: Set TEST_MYSQL environment variable to run this test
t/020_mock/dbi-mysql/default.t ...................................................................... skipped: Set TEST_MYSQL environment variable to run this test
t/020_mock/dbi-mysql/for_cache.t .................................................................... skipped: Set TEST_MYSQL environment variable to run this test
t/020_mock/dbi-mysql/index.t ........................................................................ skipped: Set TEST_MYSQL environment variable to run this test
t/020_mock/dbi-mysql/inflate.t ...................................................................... skipped: Set TEST_MYSQL environment variable to run this test
t/020_mock/dbi-mysql/inflate_column-suger.t ......................................................... skipped: Set TEST_MYSQL environment variable to run this test
t/020_mock/dbi-mysql/iterator.t ..................................................................... skipped: Set TEST_MYSQL environment variable to run this test
t/020_mock/dbi-mysql/no_key.t ....................................................................... skipped: Set TEST_MYSQL environment variable to run this test
t/020_mock/dbi-mysql/transaction.t .................................................................. skipped: Set TEST_MYSQL environment variable to run this test
t/020_mock/dbi/alias_column-suger-rename.t .......................................................... ok
t/020_mock/dbi/alias_column-suger.t ................................................................. ok
t/020_mock/dbi/alias_column.t ....................................................................... ok
t/020_mock/dbi/basic.t .............................................................................. ok
t/020_mock/dbi/bigint.t ............................................................................. ok
t/020_mock/dbi/binary.t ............................................................................. ok
t/020_mock/dbi/cache-alias_column-suger-rename.t .................................................... ok
t/020_mock/dbi/cache-alias_column-suger.t ........................................................... ok
t/020_mock/dbi/cache-alias_column.t ................................................................. ok
t/020_mock/dbi/cache-basic.t ........................................................................ ok
t/020_mock/dbi/cache-bigint.t ....................................................................... ok
t/020_mock/dbi/cache-binary.t ....................................................................... ok
t/020_mock/dbi/cache-default.t ...................................................................... ok
t/020_mock/dbi/cache-for_cache.t .................................................................... ok
t/020_mock/dbi/cache-index.t ........................................................................ ok
t/020_mock/dbi/cache-inflate.t ...................................................................... ok
t/020_mock/dbi/cache-inflate_column-suger.t ......................................................... ok
t/020_mock/dbi/cache-iterator.t ..................................................................... ok
t/020_mock/dbi/cache-memcached-alias_column-suger-rename.t .......................................... skipped: Set TEST_MEMCACHED_BIN environment variable to run this test
t/020_mock/dbi/cache-memcached-alias_column-suger.t ................................................. skipped: Set TEST_MEMCACHED_BIN environment variable to run this test
t/020_mock/dbi/cache-memcached-alias_column.t ....................................................... skipped: Set TEST_MEMCACHED_BIN environment variable to run this test
t/020_mock/dbi/cache-memcached-basic.t .............................................................. skipped: Set TEST_MEMCACHED_BIN environment variable to run this test
t/020_mock/dbi/cache-memcached-bigint.t ............................................................. skipped: Set TEST_MEMCACHED_BIN environment variable to run this test
t/020_mock/dbi/cache-memcached-binary.t ............................................................. skipped: Set TEST_MEMCACHED_BIN environment variable to run this test
t/020_mock/dbi/cache-memcached-default.t ............................................................ skipped: Set TEST_MEMCACHED_BIN environment variable to run this test
t/020_mock/dbi/cache-memcached-for_cache.t .......................................................... skipped: Set TEST_MEMCACHED_BIN environment variable to run this test
t/020_mock/dbi/cache-memcached-index.t .............................................................. skipped: Set TEST_MEMCACHED_BIN environment variable to run this test
t/020_mock/dbi/cache-memcached-inflate.t ............................................................ skipped: Set TEST_MEMCACHED_BIN environment variable to run this test
t/020_mock/dbi/cache-memcached-inflate_column-suger.t ............................................... skipped: Set TEST_MEMCACHED_BIN environment variable to run this test
t/020_mock/dbi/cache-memcached-iterator.t ........................................................... skipped: Set TEST_MEMCACHED_BIN environment variable to run this test
t/020_mock/dbi/cache-memcached-no_key.t ............................................................. skipped: Set TEST_MEMCACHED_BIN environment variable to run this test
t/020_mock/dbi/cache-memcached-transaction.t ........................................................ skipped: Set TEST_MEMCACHED_BIN environment variable to run this test
t/020_mock/dbi/cache-no_key.t ....................................................................... ok
t/020_mock/dbi/cache-transaction.t .................................................................. ok
t/020_mock/dbi/default.t ............................................................................ ok
t/020_mock/dbi/for_cache.t .......................................................................... ok
t/020_mock/dbi/index.t .............................................................................. ok
t/020_mock/dbi/inflate.t ............................................................................ ok
t/020_mock/dbi/inflate_column-suger.t ............................................................... ok
t/020_mock/dbi/iterator.t ........................................................................... ok
t/020_mock/dbi/no_key.t ............................................................................. ok
t/020_mock/dbi/transaction.t ........................................................................ ok
t/020_mock/driver-memcached/basic.t ................................................................. skipped: Set TEST_MEMCACHED_ADDRESS or TEST_MEMCACHED_BIN environment variable to run this test
t/020_mock/driver-memcached/changed-serializer-with-ignore_undef_value.t ............................ skipped: Set TEST_MEMCACHED_ADDRESS or TEST_MEMCACHED_BIN environment variable to run this test
t/020_mock/driver-memcached/changed-serializer-with-strip-ignore_undef_value.t ...................... skipped: Set TEST_MEMCACHED_ADDRESS or TEST_MEMCACHED_BIN environment variable to run this test
t/020_mock/driver-memcached/changed-serializer-with-strip.t ......................................... skipped: Set TEST_MEMCACHED_ADDRESS or TEST_MEMCACHED_BIN environment variable to run this test
t/020_mock/driver-memcached/changed-serializer.t .................................................... skipped: Set TEST_MEMCACHED_ADDRESS or TEST_MEMCACHED_BIN environment variable to run this test
t/020_mock/driver-memcached/column_model_rename-changed-serializer-with-ignore_undef_value.t ........ skipped: Set TEST_MEMCACHED_ADDRESS or TEST_MEMCACHED_BIN environment variable to run this test
t/020_mock/driver-memcached/column_model_rename-changed-serializer-with-strip-ignore_undef_value.t .. skipped: Set TEST_MEMCACHED_ADDRESS or TEST_MEMCACHED_BIN environment variable to run this test
t/020_mock/driver-memcached/column_model_rename-changed-serializer-with-strip.t ..................... skipped: Set TEST_MEMCACHED_ADDRESS or TEST_MEMCACHED_BIN environment variable to run this test
t/020_mock/driver-memcached/column_model_rename-changed-serializer.t ................................ skipped: Set TEST_MEMCACHED_ADDRESS or TEST_MEMCACHED_BIN environment variable to run this test
t/020_mock/driver-memcached/column_model_rename-ignore_undef_value.t ................................ skipped: Set TEST_MEMCACHED_ADDRESS or TEST_MEMCACHED_BIN environment variable to run this test
t/020_mock/driver-memcached/column_model_rename-strip-ignore_undef_value.t .......................... skipped: Set TEST_MEMCACHED_ADDRESS or TEST_MEMCACHED_BIN environment variable to run this test
t/020_mock/driver-memcached/column_model_rename-strip.t ............................................. skipped: Set TEST_MEMCACHED_ADDRESS or TEST_MEMCACHED_BIN environment variable to run this test
t/020_mock/driver-memcached/column_model_rename.t ................................................... skipped: Set TEST_MEMCACHED_ADDRESS or TEST_MEMCACHED_BIN environment variable to run this test
t/020_mock/driver-memcached/column_rename-changed-serializer-with-ignore_undef_value.t .............. skipped: Set TEST_MEMCACHED_ADDRESS or TEST_MEMCACHED_BIN environment variable to run this test
t/020_mock/driver-memcached/column_rename-changed-serializer-with-strip-ignore_undef_value.t ........ skipped: Set TEST_MEMCACHED_ADDRESS or TEST_MEMCACHED_BIN environment variable to run this test
t/020_mock/driver-memcached/column_rename-changed-serializer-with-strip.t ........................... skipped: Set TEST_MEMCACHED_ADDRESS or TEST_MEMCACHED_BIN environment variable to run this test
t/020_mock/driver-memcached/column_rename-changed-serializer.t ...................................... skipped: Set TEST_MEMCACHED_ADDRESS or TEST_MEMCACHED_BIN environment variable to run this test
t/020_mock/driver-memcached/column_rename-ignore_undef_value.t ...................................... skipped: Set TEST_MEMCACHED_ADDRESS or TEST_MEMCACHED_BIN environment variable to run this test
t/020_mock/driver-memcached/column_rename-strip-ignore_undef_value.t ................................ skipped: Set TEST_MEMCACHED_ADDRESS or TEST_MEMCACHED_BIN environment variable to run this test
t/020_mock/driver-memcached/column_rename-strip.t ................................................... skipped: Set TEST_MEMCACHED_ADDRESS or TEST_MEMCACHED_BIN environment variable to run this test
t/020_mock/driver-memcached/column_rename.t ......................................................... skipped: Set TEST_MEMCACHED_ADDRESS or TEST_MEMCACHED_BIN environment variable to run this test
t/020_mock/driver-memcached/ignore_undef_value.t .................................................... skipped: Set TEST_MEMCACHED_ADDRESS or TEST_MEMCACHED_BIN environment variable to run this test
t/020_mock/driver-memcached/model_rename-changed-serializer-with-ignore_undef_value.t ............... skipped: Set TEST_MEMCACHED_ADDRESS or TEST_MEMCACHED_BIN environment variable to run this test
t/020_mock/driver-memcached/model_rename-changed-serializer-with-strip-ignore_undef_value.t ......... skipped: Set TEST_MEMCACHED_ADDRESS or TEST_MEMCACHED_BIN environment variable to run this test
t/020_mock/driver-memcached/model_rename-changed-serializer-with-strip.t ............................ skipped: Set TEST_MEMCACHED_ADDRESS or TEST_MEMCACHED_BIN environment variable to run this test
t/020_mock/driver-memcached/model_rename-changed-serializer.t ....................................... skipped: Set TEST_MEMCACHED_ADDRESS or TEST_MEMCACHED_BIN environment variable to run this test
t/020_mock/driver-memcached/model_rename-ignore_undef_value.t ....................................... skipped: Set TEST_MEMCACHED_ADDRESS or TEST_MEMCACHED_BIN environment variable to run this test
t/020_mock/driver-memcached/model_rename-strip-ignore_undef_value.t ................................. skipped: Set TEST_MEMCACHED_ADDRESS or TEST_MEMCACHED_BIN environment variable to run this test
t/020_mock/driver-memcached/model_rename-strip.t .................................................... skipped: Set TEST_MEMCACHED_ADDRESS or TEST_MEMCACHED_BIN environment variable to run this test
t/020_mock/driver-memcached/model_rename.t .......................................................... skipped: Set TEST_MEMCACHED_ADDRESS or TEST_MEMCACHED_BIN environment variable to run this test
t/020_mock/driver-memcached/strip-ignore_undef_value.t .............................................. skipped: Set TEST_MEMCACHED_ADDRESS or TEST_MEMCACHED_BIN environment variable to run this test
t/020_mock/driver-memcached/strip.t ................................................................. skipped: Set TEST_MEMCACHED_ADDRESS or TEST_MEMCACHED_BIN environment variable to run this test
t/020_mock/instance.t ............................................................................... ok
t/020_mock/logic-simple.t ........................................................................... ok
t/020_mock/memcached/bigint.t ....................................................................... skipped: Set TEST_MEMCACHED_ADDRESS or TEST_MEMCACHED_BIN environment variable to run this test
t/020_mock/memcached/cache-bigint.t ................................................................. skipped: Set TEST_MEMCACHED_ADDRESS or TEST_MEMCACHED_BIN environment variable to run this test
t/020_mock/memcached/cache-memcached-bigint.t ....................................................... skipped: Set TEST_MEMCACHED_ADDRESS or TEST_MEMCACHED_BIN environment variable to run this test
t/020_mock/memory/alias_column-suger-rename.t ....................................................... ok
t/020_mock/memory/alias_column-suger.t .............................................................. ok
t/020_mock/memory/alias_column.t .................................................................... ok
t/020_mock/memory/basic.t ........................................................................... ok
t/020_mock/memory/bigint.t .......................................................................... ok
t/020_mock/memory/binary.t .......................................................................... ok
t/020_mock/memory/cache-alias_column-suger-rename.t ................................................. ok
t/020_mock/memory/cache-alias_column-suger.t ........................................................ ok
t/020_mock/memory/cache-alias_column.t .............................................................. ok
t/020_mock/memory/cache-basic.t ..................................................................... ok
t/020_mock/memory/cache-bigint.t .................................................................... ok
t/020_mock/memory/cache-binary.t .................................................................... ok
t/020_mock/memory/cache-default.t ................................................................... ok
t/020_mock/memory/cache-for_cache.t ................................................................. ok
t/020_mock/memory/cache-index.t ..................................................................... ok
t/020_mock/memory/cache-inflate.t ................................................................... ok
t/020_mock/memory/cache-inflate_column-suger.t ...................................................... ok
t/020_mock/memory/cache-iterator.t .................................................................. ok
t/020_mock/memory/cache-memcached-alias_column-suger-rename.t ....................................... skipped: Set TEST_MEMCACHED_BIN environment variable to run this test
t/020_mock/memory/cache-memcached-alias_column-suger.t .............................................. skipped: Set TEST_MEMCACHED_BIN environment variable to run this test
t/020_mock/memory/cache-memcached-alias_column.t .................................................... skipped: Set TEST_MEMCACHED_BIN environment variable to run this test
t/020_mock/memory/cache-memcached-basic.t ........................................................... skipped: Set TEST_MEMCACHED_BIN environment variable to run this test
t/020_mock/memory/cache-memcached-bigint.t .......................................................... skipped: Set TEST_MEMCACHED_BIN environment variable to run this test
t/020_mock/memory/cache-memcached-binary.t .......................................................... skipped: Set TEST_MEMCACHED_BIN environment variable to run this test
t/020_mock/memory/cache-memcached-default.t ......................................................... skipped: Set TEST_MEMCACHED_BIN environment variable to run this test
t/020_mock/memory/cache-memcached-for_cache.t ....................................................... skipped: Set TEST_MEMCACHED_BIN environment variable to run this test
t/020_mock/memory/cache-memcached-index.t ........................................................... skipped: Set TEST_MEMCACHED_BIN environment variable to run this test
t/020_mock/memory/cache-memcached-inflate.t ......................................................... skipped: Set TEST_MEMCACHED_BIN environment variable to run this test
t/020_mock/memory/cache-memcached-inflate_column-suger.t ............................................ skipped: Set TEST_MEMCACHED_BIN environment variable to run this test
t/020_mock/memory/cache-memcached-iterator.t ........................................................ skipped: Set TEST_MEMCACHED_BIN environment variable to run this test
t/020_mock/memory/cache-memcached-no_key.t .......................................................... skipped: Set TEST_MEMCACHED_BIN environment variable to run this test
t/020_mock/memory/cache-no_key.t .................................................................... ok
t/020_mock/memory/default.t ......................................................................... ok
t/020_mock/memory/for_cache.t ....................................................................... ok
t/020_mock/memory/index.t ........................................................................... ok
t/020_mock/memory/inflate.t ......................................................................... ok
t/020_mock/memory/inflate_column-suger.t ............................................................ ok
t/020_mock/memory/iterator.t ........................................................................ ok
t/020_mock/memory/no_key.t .......................................................................... ok
t/030_dbi/master_slave.t ............................................................................ ok
t/030_dbi/q4m.t ..................................................................................... skipped: Set TEST_Q4M environment variable to run this test
t/030_dbi/reuse_dbh-with-mysql_auto_reconnect.t ..................................................... skipped: Set TEST_MYSQL environment variable to run this test
t/030_dbi/reuse_dbh.t ............................................................................... ok
t/030_dbi/sqlite_collate_binary.t ................................................................... ok
t/030_dbi/stack_trace.t ............................................................................. ok
t/030_dbi/update-scalarref.t ........................................................................ ok
t/040_inflate/uuid.t ................................................................................ ok
t/050_mixin/base.t .................................................................................. ok
t/050_mixin/find_or_create.t ........................................................................ ok
t/060_driver/memcached/column_name-rename.t ......................................................... skipped: Set TEST_MEMCACHED_BIN environment variable to run this test
t/060_driver/memcached/ignore_undef_value.t ......................................................... ok
t/060_driver/memcached/model_name-rename.t .......................................................... skipped: Set TEST_MEMCACHED_BIN environment variable to run this test
t/060_driver/memcached/serializer.t ................................................................. ok
t/060_driver/memcached/strip_keys.t ................................................................. ok
t/060_driver/memcached/with_server.t ................................................................ skipped: Set TEST_MEMCACHED_BIN environment variable to run this test
t/release-pod-syntax.t .............................................................................. skipped: these tests are for release candidate testing
All tests successful.
Files=190, Tests=5425, 824 wallclock secs ( 1.38 usr  0.75 sys + 23.93 cusr 16.92 csys = 42.98 CPU)
Result: PASS

------------------------------
PREREQUISITES
------------------------------

Prerequisite modules loaded:

requires:

    Module              Need     Have    
    ------------------- -------- --------
    Carp                0        1.26    
    Class::Trigger      0        0.14    
    DBD::SQLite         0        1.37    
    DBI                 0        1.627   
    Encode              0        2.49    
    Params::Validate    0        1.05    
    perl                5.008005 5.008009
    Storable            0        2.39    
    URI                 0        1.60    

build_requires:

    Module              Need     Have    
    ------------------- -------- --------
    IO::Socket::INET    0        1.31    
    Path::Class         0        0.26    
    Test::Class         0.34     0.36    
    Test::Exception     0        0.31    
    Test::More          0        0.98    

configure_requires:

    Module              Need     Have    
    ------------------- -------- --------
    Module::Build::Tiny 0.020    0.023   


------------------------------
ENVIRONMENT AND OTHER CONTEXT
------------------------------

Environment variables:

    DBIC_NO_WARN_BAD_PERL = 1
    PATH = /usr/local/bin:/usr/X11R6/bin:/usr/X11/bin:/usr/perl5.8.0/bin:/usr/bin:/bin:/usr/local/sbin:/usr/sbin:/sbin:/usr/local/pilot/bin:/home2/cpansand/bin/freebsd8.0:/home2/cpansand/bin/sh:/home2/cpansand/bin:/usr/X386/bin:/usr/games:/home2/cpansand/devel:/usr/home/e/eserte/work/srezic-misc/scripts
    PERL5LIB = /usr/local/src/CPAN/build/Bio_AssemblyImprovement-1.131890-GivzN0/blib/arch:/usr/local/src/CPAN/build/Bio_AssemblyImprovement-1.131890-GivzN0/blib/lib:/usr/local/src/CPAN/build/Business-PayPal-0.11-LHOomR/blib/arch:/usr/local/src/CPAN/build/Business-PayPal-0.11-LHOomR/blib/lib:/usr/local/src/CPAN/build/Net-DNS-AutoDNS-0.1-6S2AXV/blib/arch:/usr/local/src/CPAN/build/Net-DNS-AutoDNS-0.1-6S2AXV/blib/lib:/usr/local/src/CPAN/build/Ormlette-0.005-HRrl7B/blib/arch:/usr/local/src/CPAN/build/Ormlette-0.005-HRrl7B/blib/lib:/usr/local/src/CPAN/build/Acme-CPANAuthors-0.23-a4lCiK/blib/arch:/usr/local/src/CPAN/build/Acme-CPANAuthors-0.23-a4lCiK/blib/lib:/usr/local/src/CPAN/build/Dist-Surveyor-0.011-kIw64m/blib/arch:/usr/local/src/CPAN/build/Dist-Surveyor-0.011-kIw64m/blib/lib:/usr/local/src/CPAN/build/Devel-PatchPerl-0.96-6uCLKc/blib/arch:/usr/local/src/CPAN/build/Devel-PatchPerl-0.96-6uCLKc/blib/lib:/usr/local/src/CPAN/build/Parse-RecDescent-1.967_010-2uZcQA/blib/arch:/usr/local/src/CPAN/build/Parse-RecDescent-1.967_010-2uZcQA/blib/lib:/usr/local/src/CPAN/build/App-dropboxapi-1.13-XcDgMW/blib/arch:/usr/local/src/CPAN/build/App-dropboxapi-1.13-XcDgMW/blib/lib:/usr/local/src/CPAN/build/WebService-Dropbox-1.17-CzF8Sq/blib/arch:/usr/local/src/CPAN/build/WebService-Dropbox-1.17-CzF8Sq/blib/lib:/usr/local/src/CPAN/build/Mail-Toaster-5.42-6XlW3j/blib/arch:/usr/local/src/CPAN/build/Mail-Toaster-5.42-6XlW3j/blib/lib:/usr/local/src/CPAN/build/Template-Reverse-0.141-x97j1o/blib/arch:/usr/local/src/CPAN/build/Template-Reverse-0.141-x97j1o/blib/lib:/usr/local/src/CPAN/build/Path-Tiny-0.024-gmEZDr/blib/arch:/usr/local/src/CPAN/build/Path-Tiny-0.024-gmEZDr/blib/lib:/usr/local/src/CPAN/build/autodie-2.20-8SFRSI/blib/arch:/usr/local/src/CPAN/build/autodie-2.20-8SFRSI/blib/lib:/usr/local/src/CPAN/build/String-Range-Expand-0.04-b7R8GI/blib/arch:/usr/local/src/CPAN/build/String-Range-Expand-0.04-b7R8GI/blib/lib:/usr/local/src/CPAN/build/Canella-0.04-Mo2tSu/blib/arch:/usr/local/src/CPAN/build/Canella-0.04-Mo2tSu/blib/lib
    PERL5OPT = 
    PERL5_CPANPLUS_IS_RUNNING = 73181
    PERL5_CPAN_IS_RUNNING = 73181
    PERL5_CPAN_IS_RUNNING_IN_RECURSION = 73152,73181
    PERL_BATCH = yes
    PERL_CPAN_REPORTER_CONFIG = /var/tmp/cpansmoker-1023/7PPZFKgvQi_config.ini
    PERL_EXTUTILS_AUTOINSTALL = --defaultdeps
    PERL_HTML_DISPLAY_CLASS = HTML::Display::Mozilla
    SHELL = /usr/local/bin/zsh
    TERM = screen
    TMPDIR = /var/tmp/cpansmoker-1023

Perl special variables (and OS-specific diagnostics, for MSWin32):

    $^X = /usr/perl5.8.9/bin/perl5.8.9
    $UID/$EUID = 1023 / 1023
    $GID = 1023 1023
    $EGID = 1023 1023

Perl module toolchain versions installed:

    Module              Have    
    ------------------- --------
    CPAN                2.00    
    CPAN::Meta          2.112621
    Cwd                 3.40    
    ExtUtils::CBuilder  0.280205
    ExtUtils::Command   1.16    
    ExtUtils::Install   1.54    
    ExtUtils::MakeMaker 6.66    
    ExtUtils::Manifest  1.60    
    ExtUtils::ParseXS   3.18    
    File::Spec          3.40    
    JSON                2.53    
    JSON::PP            2.27200 
    Module::Build       0.4005  
    Module::Signature   0.73    
    Parse::CPAN::Meta   1.4404  
    Test::Harness       3.28    
    Test::More          0.98    
    YAML                0.84    
    YAML::Syck          1.27    
    version             0.9901  


--

Summary of my perl5 (revision 5 version 8 subversion 9) configuration:
  Platform:
    osname=freebsd, osvers=8.0-release, archname=i386-freebsd
    uname='freebsd biokovo.herceg.de 8.0-release freebsd 8.0-release #0: sat nov 21 15:48:17 utc 2009 root@almeida.cse.buffalo.edu:usrobjusrsrcsysgeneric i386 '
    config_args='-Dprefix=/usr/perl5.8.9 -Dusemymalloc=n -D cc=ccache cc -Dgccansipedantic -Duse64bit -de -D hintfile=myfreebsd'
    hint=recommended, useposix=true, d_sigaction=define
    usethreads=undef use5005threads=undef useithreads=undef usemultiplicity=undef
    useperlio=define d_sfio=undef uselargefiles=define usesocks=undef
    use64bitint=undef use64bitall=undef uselongdouble=undef
    usemymalloc=n, bincompat5005=undef
  Compiler:
    cc='ccache cc', ccflags ='-DHAS_FPSETMASK -DHAS_FLOATINGPOINT_H -fno-strict-aliasing -pipe -I/usr/local/include',
    optimize='-O2 -mtune=athlon64 -pipe',
    cppflags='-DHAS_FPSETMASK -DHAS_FLOATINGPOINT_H -fno-strict-aliasing -pipe -I/usr/local/include'
    ccversion='', gccversion='4.2.1 20070719  [FreeBSD]', gccosandvers=''
    intsize=4, longsize=4, ptrsize=4, doublesize=8, byteorder=1234
    d_longlong=define, longlongsize=8, d_longdbl=define, longdblsize=12
    ivtype='long', ivsize=4, nvtype='double', nvsize=8, Off_t='off_t', lseeksize=8
    alignbytes=4, prototype=define
  Linker and Libraries:
    ld='ccache cc', ldflags ='-Wl,-E  -L/usr/local/lib'
    libpth=/usr/lib /usr/local/lib
    libs=-lgdbm -lm -lcrypt -lutil -lc
    perllibs=-lm -lcrypt -lutil -lc
    libc=, so=so, useshrplib=false, libperl=libperl.a
    gnulibc_version=''
  Dynamic Linking:
    dlsrc=dl_dlopen.xs, dlext=so, d_dlsymun=undef, ccdlflags=' '
    cccdlflags='-DPIC -fPIC', lddlflags='-shared  -L/usr/local/lib'


Characteristics of this binary (from libperl): 
  Compile-time options: PERL_MALLOC_WRAP USE_FAST_STDIO USE_LARGE_FILES
                        USE_PERLIO
  Built under freebsd
  Compiled at Jan 28 2011 08:40:05
  %ENV:
    PERL5LIB="/usr/local/src/CPAN/build/Bio_AssemblyImprovement-1.131890-GivzN0/blib/arch:/usr/local/src/CPAN/build/Bio_AssemblyImprovement-1.131890-GivzN0/blib/lib:/usr/local/src/CPAN/build/Business-PayPal-0.11-LHOomR/blib/arch:/usr/local/src/CPAN/build/Business-PayPal-0.11-LHOomR/blib/lib:/usr/local/src/CPAN/build/Net-DNS-AutoDNS-0.1-6S2AXV/blib/arch:/usr/local/src/CPAN/build/Net-DNS-AutoDNS-0.1-6S2AXV/blib/lib:/usr/local/src/CPAN/build/Ormlette-0.005-HRrl7B/blib/arch:/usr/local/src/CPAN/build/Ormlette-0.005-HRrl7B/blib/lib:/usr/local/src/CPAN/build/Acme-CPANAuthors-0.23-a4lCiK/blib/arch:/usr/local/src/CPAN/build/Acme-CPANAuthors-0.23-a4lCiK/blib/lib:/usr/local/src/CPAN/build/Dist-Surveyor-0.011-kIw64m/blib/arch:/usr/local/src/CPAN/build/Dist-Surveyor-0.011-kIw64m/blib/lib:/usr/local/src/CPAN/build/Devel-PatchPerl-0.96-6uCLKc/blib/arch:/usr/local/src/CPAN/build/Devel-PatchPerl-0.96-6uCLKc/blib/lib:/usr/local/src/CPAN/build/Parse-RecDescent-1.967_010-2uZcQA/blib/arch:/usr/local/src/CPAN/build/Parse-RecDescent-1.967_010-2uZcQA/blib/lib:/usr/local/src/CPAN/build/App-dropboxapi-1.13-XcDgMW/blib/arch:/usr/local/src/CPAN/build/App-dropboxapi-1.13-XcDgMW/blib/lib:/usr/local/src/CPAN/build/WebService-Dropbox-1.17-CzF8Sq/blib/arch:/usr/local/src/CPAN/build/WebService-Dropbox-1.17-CzF8Sq/blib/lib:/usr/local/src/CPAN/build/Mail-Toaster-5.42-6XlW3j/blib/arch:/usr/local/src/CPAN/build/Mail-Toaster-5.42-6XlW3j/blib/lib:/usr/local/src/CPAN/build/Template-Reverse-0.141-x97j1o/blib/arch:/usr/local/src/CPAN/build/Template-Reverse-0.141-x97j1o/blib/lib:/usr/local/src/CPAN/build/Path-Tiny-0.024-gmEZDr/blib/arch:/usr/local/src/CPAN/build/Path-Tiny-0.024-gmEZDr/blib/lib:/usr/local/src/CPAN/build/autodie-2.20-8SFRSI/blib/arch:/usr/local/src/CPAN/build/autodie-2.20-8SFRSI/blib/lib:/usr/local/src/CPAN/build/String-Range-Expand-0.04-b7R8GI/blib/arch:/usr/local/src/CPAN/build/String-Range-Expand-0.04-b7R8GI/blib/lib:/usr/local/src/CPAN/build/Canella-0.04-Mo2tSu/blib/arch:/usr/local/src/CPAN/build/Canella-0.04-Mo2tSu/blib/lib"
    PERL5OPT=""
    PERL5_CPANPLUS_IS_RUNNING="73181"
    PERL5_CPAN_IS_RUNNING="73181"
    PERL5_CPAN_IS_RUNNING_IN_RECURSION="73152,73181"
    PERL_BATCH="yes"
    PERL_CPAN_REPORTER_CONFIG="/var/tmp/cpansmoker-1023/7PPZFKgvQi_config.ini"
    PERL_EXTUTILS_AUTOINSTALL="--defaultdeps"
    PERL_HTML_DISPLAY_CLASS="HTML::Display::Mozilla"
  @INC:
    /usr/local/src/CPAN/build/Bio_AssemblyImprovement-1.131890-GivzN0/blib/arch
    /usr/local/src/CPAN/build/Bio_AssemblyImprovement-1.131890-GivzN0/blib/lib
    /usr/local/src/CPAN/build/Business-PayPal-0.11-LHOomR/blib/arch
    /usr/local/src/CPAN/build/Business-PayPal-0.11-LHOomR/blib/lib
    /usr/local/src/CPAN/build/Net-DNS-AutoDNS-0.1-6S2AXV/blib/arch
    /usr/local/src/CPAN/build/Net-DNS-AutoDNS-0.1-6S2AXV/blib/lib
    /usr/local/src/CPAN/build/Ormlette-0.005-HRrl7B/blib/arch
    /usr/local/src/CPAN/build/Ormlette-0.005-HRrl7B/blib/lib
    /usr/local/src/CPAN/build/Acme-CPANAuthors-0.23-a4lCiK/blib/arch
    /usr/local/src/CPAN/build/Acme-CPANAuthors-0.23-a4lCiK/blib/lib
    /usr/local/src/CPAN/build/Dist-Surveyor-0.011-kIw64m/blib/arch
    /usr/local/src/CPAN/build/Dist-Surveyor-0.011-kIw64m/blib/lib
    /usr/local/src/CPAN/build/Devel-PatchPerl-0.96-6uCLKc/blib/arch
    /usr/local/src/CPAN/build/Devel-PatchPerl-0.96-6uCLKc/blib/lib
    /usr/local/src/CPAN/build/Parse-RecDescent-1.967_010-2uZcQA/blib/arch
    /usr/local/src/CPAN/build/Parse-RecDescent-1.967_010-2uZcQA/blib/lib
    /usr/local/src/CPAN/build/App-dropboxapi-1.13-XcDgMW/blib/arch
    /usr/local/src/CPAN/build/App-dropboxapi-1.13-XcDgMW/blib/lib
    /usr/local/src/CPAN/build/WebService-Dropbox-1.17-CzF8Sq/blib/arch
    /usr/local/src/CPAN/build/WebService-Dropbox-1.17-CzF8Sq/blib/lib
    /usr/local/src/CPAN/build/Mail-Toaster-5.42-6XlW3j/blib/arch
    /usr/local/src/CPAN/build/Mail-Toaster-5.42-6XlW3j/blib/lib
    /usr/local/src/CPAN/build/Template-Reverse-0.141-x97j1o/blib/arch
    /usr/local/src/CPAN/build/Template-Reverse-0.141-x97j1o/blib/lib
    /usr/local/src/CPAN/build/Path-Tiny-0.024-gmEZDr/blib/arch
    /usr/local/src/CPAN/build/Path-Tiny-0.024-gmEZDr/blib/lib
    /usr/local/src/CPAN/build/autodie-2.20-8SFRSI/blib/arch
    /usr/local/src/CPAN/build/autodie-2.20-8SFRSI/blib/lib
    /usr/local/src/CPAN/build/String-Range-Expand-0.04-b7R8GI/blib/arch
    /usr/local/src/CPAN/build/String-Range-Expand-0.04-b7R8GI/blib/lib
    /usr/local/src/CPAN/build/Canella-0.04-Mo2tSu/blib/arch
    /usr/local/src/CPAN/build/Canella-0.04-Mo2tSu/blib/lib
    /usr/perl5.8.9/lib/5.8.9/i386-freebsd
    /usr/perl5.8.9/lib/5.8.9
    /usr/perl5.8.9/lib/site_perl/5.8.9/i386-freebsd
    /usr/perl5.8.9/lib/site_perl/5.8.9
    .