Crypt-OpenSSL-PKCS10 v0.26 Perl 5 v5.12.3 x86_64-linux

Status
Pass
From
Chris Williams (BINGOS)
Dist
Crypt-OpenSSL-PKCS10 v0.26
Platform
Perl 5 v5.12.3 x86_64-linux
Date
2024-09-12 21:17:02
ID
5a7712f4-714c-11ef-98b0-b3c3213a625c
This distribution has been tested as part of the CPAN Testers
project, supporting the Perl programming language.  See
http://wiki.cpantesters.org/ for more information or email
questions to cpan-testers-discuss@perl.org


--

Dear Timothy Legge,

This is a computer-generated error report created automatically by
CPANPLUS, version 0.9914. Testers personal comments may appear
at the end of this report.


Thank you for uploading your work to CPAN.  Congratulations!
All tests were successful.

TEST RESULTS:

Below is the error stack from stage 'make test':

"/home/cpan/pit/bare/perl-5.12.3/bin/perl" -MExtUtils::Command::MM -e 'cp_nonempty' -- PKCS10.bs blib/arch/auto/Crypt/OpenSSL/PKCS10/PKCS10.bs 644
PERL_DL_NONLAZY=1 "/home/cpan/pit/bare/perl-5.12.3/bin/perl" "-MExtUtils::Command::MM" "-MTest::Harness" "-e" "undef *Test::Harness::Switches; test_harness(0, 'blib/lib', 'blib/arch')" t/*.t
t/author-pod-spell.t ... skipped: these tests are for testing by the author
t/author-pod-syntax.t .. skipped: these tests are for testing by the author
-----BEGIN CERTIFICATE REQUEST-----
MIIBPzCBqQIBADAAMIGfMA0GCSqGSIb3DQEBAQUAA4GNADCBiQKBgQDVNt5hcUAx
ctODXKoBfwyu48WFsFj11KEgzcH/JrUP/aVRLpOEjUgc6u8ofdBn5UBcjhonHci6
yEqgdCCNAUSngr+aK/vMIns/Po3SLM3d1nVmRbh6t+dimvUgVAsa7aRNp9dBLYAn
ZrMZ3m3VV3ruxgH3rie6cbsc9DQOUI83TQIDAQABoAAwDQYJKoZIhvcNAQELBQAD
gYEAaIb2QyepYF7ylsOEr6M25qaPtkANMY/B/MUjx5Fi1LvniblI4lZJKpvQHMx+
AW7aKv2xCjyHziAyYrW1BDX4LVtQJKuBNBJgofpZsTMTqXn9H4nPAg6FLYvFIDcz
4Or7FuvJGHHZjcrpoc9v6xRSIADpGKKtWGcgLQTSNKAdJs4=
-----END CERTIFICATE REQUEST-----

Public-Key: (1024 bit)
Modulus:
    00:d5:36:de:61:71:40:31:72:d3:83:5c:aa:01:7f:
    0c:ae:e3:c5:85:b0:58:f5:d4:a1:20:cd:c1:ff:26:
    b5:0f:fd:a5:51:2e:93:84:8d:48:1c:ea:ef:28:7d:
    d0:67:e5:40:5c:8e:1a:27:1d:c8:ba:c8:4a:a0:74:
    20:8d:01:44:a7:82:bf:9a:2b:fb:cc:22:7b:3f:3e:
    8d:d2:2c:cd:dd:d6:75:66:45:b8:7a:b7:e7:62:9a:
    f5:20:54:0b:1a:ed:a4:4d:a7:d7:41:2d:80:27:66:
    b3:19:de:6d:d5:57:7a:ee:c6:01:f7:ae:27:ba:71:
    bb:1c:f4:34:0e:50:8f:37:4d
Exponent: 65537 (0x10001)

-----BEGIN CERTIFICATE REQUEST-----
MIIBPzCBqQIBADAAMIGfMA0GCSqGSIb3DQEBAQUAA4GNADCBiQKBgQC0GlgbZTyA
xh0O/G7P6K0asP9ScuKRJp2pH2MaRkof9Qte+AxC0NGdI6hTIAInc3nrMtoFMUb3
nGdE9YZHvMZLUunaAET4WR2ld5bLEbzWmUzVVHSNc7CHnt1xZLohXwHiAlUGsdOI
qoyD+MT7UF6GbO0St0qkXt5ony4gajTNrQIDAQABoAAwDQYJKoZIhvcNAQELBQAD
gYEAMIXliPtDqFekKNU2utaUHucn3r3FiBHwPSl1OGdsrs2dhj79fT3AETyMRsHo
RV32VWscEzsts/VpXHK//23i2txq06LCx2cPwigx+zMqr7x9r54BdmLKBB6w4uGy
7bwWzTsHXZ8F7ud1PLz7eePYj43Gx4G2LwolV0eIpLSmMPA=
-----END CERTIFICATE REQUEST-----

Public-Key: (1024 bit)
Modulus:
    00:b4:1a:58:1b:65:3c:80:c6:1d:0e:fc:6e:cf:e8:
    ad:1a:b0:ff:52:72:e2:91:26:9d:a9:1f:63:1a:46:
    4a:1f:f5:0b:5e:f8:0c:42:d0:d1:9d:23:a8:53:20:
    02:27:73:79:eb:32:da:05:31:46:f7:9c:67:44:f5:
    86:47:bc:c6:4b:52:e9:da:00:44:f8:59:1d:a5:77:
    96:cb:11:bc:d6:99:4c:d5:54:74:8d:73:b0:87:9e:
    dd:71:64:ba:21:5f:01:e2:02:55:06:b1:d3:88:aa:
    8c:83:f8:c4:fb:50:5e:86:6c:ed:12:b7:4a:a4:5e:
    de:68:9f:2e:20:6a:34:cd:ad
Exponent: 65537 (0x10001)

rsa
-----BEGIN PUBLIC KEY-----
MIGfMA0GCSqGSIb3DQEBAQUAA4GNADCBiQKBgQC0GlgbZTyAxh0O/G7P6K0asP9S
cuKRJp2pH2MaRkof9Qte+AxC0NGdI6hTIAInc3nrMtoFMUb3nGdE9YZHvMZLUuna
AET4WR2ld5bLEbzWmUzVVHSNc7CHnt1xZLohXwHiAlUGsdOIqoyD+MT7UF6GbO0S
t0qkXt5ony4gajTNrQIDAQAB
-----END PUBLIC KEY-----

-----BEGIN CERTIFICATE REQUEST-----
MIICJzCCAZACAQAwKTELMAkGA1UEBhMCUk8xDDAKBgNVBAoMA1VUSTEMMAoGA1UE
CwwDc3NpMIGfMA0GCSqGSIb3DQEBAQUAA4GNADCBiQKBgQDxqvJsxGaegr1Q2wTX
fRlnGwKLUg+dX1NimUQp4A9rxFddgj9lxTGMY0Xkqm6Paj31J0NEGlfJ4HL+y0eh
pboHftL4Vat4TGWScf6Z4xG7PjTX9H9Q8KQ9KNXKr8bnJ6DiVZ3VZ1hFCzjiq5LC
MA8jghvixvwTZhkgBQa0I1C9hQIDAQABoIG9MIG6BgkqhkiG9w0BCQ4xgawwgakw
DgYDVR0PAQH/BAQDAgWgMC4GA1UdJQQnMCUGCCsGAQUFBwMBBglghkgBhvhCBAEG
CisGAQQBgjcKAwMGAisEMBwGA1UdEQQVMBOBEXN0ZXZlQG9wZW5zc2wub3JnMB0G
A1UdDgQWBBSN+EMw/E8krnNZfeIZaaSVVacb+zAZBgMqAwMEEhYQTXkgbmV3IGV4
dGVuc2lvbjAPBgMqAwQECB4GAGEAYgBjMA0GCSqGSIb3DQEBCwUAA4GBAFRcbKqA
5fFNPy+RBzaQZGdYXNKCbGvvqgqH/EPgLJ3+bz8TH5S7J1odAjl4fjxZhaq+1UY2
DIXSfwnLuJX7XRExA9Lp1Bt1NQsoa6u1W/pYrJSwr0DLUJDu/pEmgP2Z1j2HNiix
cu1ovwz12C9KEfK8jr0Uuo7I/zKp1W0rRFnL
-----END CERTIFICATE REQUEST-----
C=RO, O=UTI, OU=ssi
Public-Key: (1024 bit)
Modulus:
    00:f1:aa:f2:6c:c4:66:9e:82:bd:50:db:04:d7:7d:
    19:67:1b:02:8b:52:0f:9d:5f:53:62:99:44:29:e0:
    0f:6b:c4:57:5d:82:3f:65:c5:31:8c:63:45:e4:aa:
    6e:8f:6a:3d:f5:27:43:44:1a:57:c9:e0:72:fe:cb:
    47:a1:a5:ba:07:7e:d2:f8:55:ab:78:4c:65:92:71:
    fe:99:e3:11:bb:3e:34:d7:f4:7f:50:f0:a4:3d:28:
    d5:ca:af:c6:e7:27:a0:e2:55:9d:d5:67:58:45:0b:
    38:e2:ab:92:c2:30:0f:23:82:1b:e2:c6:fc:13:66:
    19:20:05:06:b4:23:50:bd:85
Exponent: 65537 (0x10001)

rsa
-----BEGIN PUBLIC KEY-----
MIGfMA0GCSqGSIb3DQEBAQUAA4GNADCBiQKBgQDxqvJsxGaegr1Q2wTXfRlnGwKL
Ug+dX1NimUQp4A9rxFddgj9lxTGMY0Xkqm6Paj31J0NEGlfJ4HL+y0ehpboHftL4
Vat4TGWScf6Z4xG7PjTX9H9Q8KQ9KNXKr8bnJ6DiVZ3VZ1hFCzjiq5LCMA8jghvi
xvwTZhkgBQa0I1C9hQIDAQAB
-----END PUBLIC KEY-----

C=DE, ST=NRW, L=Foo, O=Internet Widgits Pty Ltd, CN=foo.der.bar.com
Public-Key: (2048 bit)
Modulus:
    00:c0:f3:18:17:17:28:00:e7:26:3f:b3:e3:40:13:
    30:96:36:a3:5d:97:7a:ad:9c:e5:10:d5:93:a0:4f:
    02:60:0d:0c:d9:36:f3:4c:e0:42:1a:68:71:5d:f3:
    36:c7:fc:01:77:c3:7e:a1:e9:b1:09:73:5a:a4:ad:
    75:9e:e5:d4:30:3d:0e:98:92:b2:e5:c2:0f:78:7b:
    49:af:21:4d:99:a1:99:25:63:59:5b:b0:2f:96:b8:
    95:b4:a8:a0:18:41:6d:4f:d1:bb:3e:a4:b0:da:1f:
    08:20:3d:85:50:fc:29:40:ae:12:31:71:55:04:9c:
    45:cb:40:47:b0:60:58:46:3e:68:46:26:16:fb:c0:
    e5:76:1d:a1:b1:c1:f0:47:f1:5f:ff:62:c1:81:b7:
    13:92:d8:f3:df:bf:f5:24:0a:13:43:3d:93:05:42:
    10:aa:0f:16:53:e3:32:ba:dc:1e:f8:04:b2:34:98:
    5f:2c:c1:5d:16:7a:e6:88:de:99:f4:ed:8a:f4:bd:
    33:c5:e7:88:bd:3e:54:e1:c2:c1:88:d3:38:84:fb:
    41:76:68:3d:76:23:90:94:47:74:33:b9:0b:1a:8f:
    c7:7f:d5:d2:82:32:1b:4c:fd:e2:fc:17:75:46:97:
    73:a5:19:03:20:68:c2:58:ee:be:7d:a4:1e:08:0f:
    11:eb
Exponent: 65537 (0x10001)

rsa
-----BEGIN PUBLIC KEY-----
MIIBIjANBgkqhkiG9w0BAQEFAAOCAQ8AMIIBCgKCAQEAwPMYFxcoAOcmP7PjQBMw
ljajXZd6rZzlENWToE8CYA0M2TbzTOBCGmhxXfM2x/wBd8N+oemxCXNapK11nuXU
MD0OmJKy5cIPeHtJryFNmaGZJWNZW7AvlriVtKigGEFtT9G7PqSw2h8IID2FUPwp
QK4SMXFVBJxFy0BHsGBYRj5oRiYW+8Dldh2hscHwR/Ff/2LBgbcTktjz37/1JAoT
Qz2TBUIQqg8WU+Myutwe+ASyNJhfLMFdFnrmiN6Z9O2K9L0zxeeIvT5U4cLBiNM4
hPtBdmg9diOQlEd0M7kLGo/Hf9XSgjIbTP3i/Bd1RpdzpRkDIGjCWO6+faQeCA8R
6wIDAQAB
-----END PUBLIC KEY-----

t/Mytest.t ............. ok
t/release-kwalitee.t ... skipped: these tests are for release candidate testing
t/release-meta-json.t .. skipped: these tests are for release candidate testing
All tests successful.
Files=5, Tests=7,  1 wallclock secs ( 0.02 usr  0.00 sys +  0.06 cusr  0.01 csys =  0.09 CPU)
Result: PASS


PREREQUISITES:

Here is a list of prerequisites you specified and versions we
managed to load:

	  Module Name                        Have     Want
	  Crypt::OpenSSL::Guess              0.15     0.11
	  Crypt::OpenSSL::RSA                0.33        0
	  Exporter                        5.64_01        0
	  Test::More                     1.302199        0
	  XSLoader                           0.10        0

Perl module toolchain versions installed:
	Module Name                        Have
	CPANPLUS                         0.9914
	CPANPLUS::Dist::Build              0.90
	Cwd                                3.75
	ExtUtils::CBuilder             0.280236
	ExtUtils::Command                  7.70
	ExtUtils::Install                  2.22
	ExtUtils::MakeMaker                7.70
	ExtUtils::Manifest                 1.75
	ExtUtils::ParseXS                  3.51
	File::Spec                         3.75
	Module::Build                    0.4234
	Pod::Parser                        1.37
	Pod::Simple                        3.14
	Test2                          1.302199
	Test::Harness                      3.48
	Test::More                     1.302199
	version                          0.9932

******************************** NOTE ********************************
The comments above are created mechanically, possibly without manual
checking by the sender.  As there are many people performing automatic
tests on each upload to CPAN, it is likely that you will receive
identical messages about the same problem.

If you believe that the message is mistaken, please reply to the first
one with correction and/or additional informations, and do not take
it personally.  We appreciate your patience. :)
**********************************************************************

Additional comments:


This report was machine-generated by CPANPLUS::Dist::YACSmoke 1.08.
Powered by minismokebox version 0.68

CPANPLUS is prefering Build.PL

------------------------------
ENVIRONMENT AND OTHER CONTEXT
------------------------------

Environment variables:

    AUTOMATED_TESTING = 1
    LANG = en_GB.UTF-8
    LANGUAGE = en_GB:en
    NONINTERACTIVE_TESTING = 1
    PATH = /usr/local/sbin:/usr/local/bin:/usr/sbin:/usr/bin:/sbin:/bin:/usr/games:/usr/local/games:/snap/bin
    PERL5LIB = /home/cpan/pit/jail/CgUSv7_dUn/lib/perl5:/home/cpan/pit/bare/conf/perl-5.12.3/.cpanplus/5.12.3/build/wvVhnL2Pns/Crypt-OpenSSL-PKCS10-0.26/blib/lib:/home/cpan/pit/bare/conf/perl-5.12.3/.cpanplus/5.12.3/build/wvVhnL2Pns/Crypt-OpenSSL-PKCS10-0.26/blib/arch
    PERL5_CPANPLUS_IS_RUNNING = 3658687
    PERL5_CPANPLUS_IS_VERSION = 0.9914
    PERL5_MINISMOKEBOX = 0.68
    PERL5_YACSMOKE_BASE = /home/cpan/pit/bare/conf/perl-5.12.3
    PERL_EXTUTILS_AUTOINSTALL = --defaultdeps
    PERL_LOCAL_LIB_ROOT = /home/cpan/pit/jail/CgUSv7_dUn
    PERL_MB_OPT = --install_base "/home/cpan/pit/jail/CgUSv7_dUn"
    PERL_MM_OPT = INSTALL_BASE=/home/cpan/pit/jail/CgUSv7_dUn
    PERL_MM_USE_DEFAULT = 1
    PERL_USE_UNSAFE_INC = 1
    SHELL = /bin/bash
    TERM = screen.xterm-256color

Perl special variables (and OS-specific diagnostics, for MSWin32):

    Perl: $^X = /home/cpan/pit/bare/perl-5.12.3/bin/perl
    UID:  $<  = 1001
    EUID: $>  = 1001
    GID:  $(  = 1001 1001
    EGID: $)  = 1001 1001


-------------------------------


--

Summary of my perl5 (revision 5 version 12 subversion 3) configuration:
   
  Platform:
    osname=linux, osvers=5.4.0-26-generic, archname=x86_64-linux
    uname='linux uchder 5.4.0-26-generic #30-ubuntu smp mon apr 20 16:58:30 utc 2020 x86_64 x86_64 x86_64 gnulinux '
    config_args='-des -Dprefix=/home/cpan/pit/bare/perl-5.12.3'
    hint=recommended, useposix=true, d_sigaction=define
    useithreads=undef, usemultiplicity=undef
    useperlio=define, d_sfio=undef, uselargefiles=define, usesocks=undef
    use64bitint=define, use64bitall=define, uselongdouble=undef
    usemymalloc=n, bincompat5005=undef
  Compiler:
    cc='cc', ccflags ='-fwrapv -fno-strict-aliasing -pipe -fstack-protector -I/usr/local/include -D_LARGEFILE_SOURCE -D_FILE_OFFSET_BITS=64',
    optimize='-O2',
    cppflags='-fwrapv -fno-strict-aliasing -pipe -fstack-protector -I/usr/local/include'
    ccversion='', gccversion='9.3.0', gccosandvers=''
    intsize=4, longsize=8, ptrsize=8, doublesize=8, byteorder=12345678
    d_longlong=define, longlongsize=8, d_longdbl=define, longdblsize=16
    ivtype='long', ivsize=8, nvtype='double', nvsize=8, Off_t='off_t', lseeksize=8
    alignbytes=8, prototype=define
  Linker and Libraries:
    ld='cc', ldflags =' -fstack-protector -L/usr/local/lib'
    libpth=/usr/local/lib /lib/x86_64-linux-gnu /lib/../lib /usr/lib/x86_64-linux-gnu /usr/lib/../lib /lib /usr/lib
    libs=-lnsl -lgdbm -ldl -lm -lcrypt -lutil -lc
    perllibs=-lnsl -ldl -lm -lcrypt -lutil -lc
    libc=libc-2.31.so, so=so, useshrplib=false, libperl=libperl.a
    gnulibc_version='2.31'
  Dynamic Linking:
    dlsrc=dl_dlopen.xs, dlext=so, d_dlsymun=undef, ccdlflags='-Wl,-E'
    cccdlflags='-fPIC', lddlflags='-shared -O2 -L/usr/local/lib -fstack-protector'


Characteristics of this binary (from libperl): 
  Compile-time options: PERL_DONT_CREATE_GVSV PERL_MALLOC_WRAP USE_64_BIT_ALL
                        USE_64_BIT_INT USE_LARGE_FILES USE_PERLIO
                        USE_PERL_ATOF
  Locally applied patches:
	Devel::PatchPerl 1.90
  Built under linux
  Compiled at Apr 26 2020 13:32:14
  %ENV:
    PERL5LIB="/home/cpan/pit/jail/CgUSv7_dUn/lib/perl5:/home/cpan/pit/bare/conf/perl-5.12.3/.cpanplus/5.12.3/build/wvVhnL2Pns/Crypt-OpenSSL-PKCS10-0.26/blib/lib:/home/cpan/pit/bare/conf/perl-5.12.3/.cpanplus/5.12.3/build/wvVhnL2Pns/Crypt-OpenSSL-PKCS10-0.26/blib/arch"
    PERL5_CPANPLUS_IS_RUNNING="3658687"
    PERL5_CPANPLUS_IS_VERSION="0.9914"
    PERL5_MINISMOKEBOX="0.68"
    PERL5_YACSMOKE_BASE="/home/cpan/pit/bare/conf/perl-5.12.3"
    PERL_EXTUTILS_AUTOINSTALL="--defaultdeps"
    PERL_LOCAL_LIB_ROOT="/home/cpan/pit/jail/CgUSv7_dUn"
    PERL_MB_OPT="--install_base "/home/cpan/pit/jail/CgUSv7_dUn""
    PERL_MM_OPT="INSTALL_BASE=/home/cpan/pit/jail/CgUSv7_dUn"
    PERL_MM_USE_DEFAULT="1"
    PERL_USE_UNSAFE_INC="1"
  @INC:
    /home/cpan/pit/jail/CgUSv7_dUn/lib/perl5/5.12.3/x86_64-linux
    /home/cpan/pit/jail/CgUSv7_dUn/lib/perl5/5.12.3
    /home/cpan/pit/jail/CgUSv7_dUn/lib/perl5/x86_64-linux
    /home/cpan/pit/jail/CgUSv7_dUn/lib/perl5
    /home/cpan/pit/bare/conf/perl-5.12.3/.cpanplus/5.12.3/build/wvVhnL2Pns/Crypt-OpenSSL-PKCS10-0.26/blib/lib
    /home/cpan/pit/bare/conf/perl-5.12.3/.cpanplus/5.12.3/build/wvVhnL2Pns/Crypt-OpenSSL-PKCS10-0.26/blib/arch
    /home/cpan/pit/bare/perl-5.12.3/lib/site_perl/5.12.3/x86_64-linux
    /home/cpan/pit/bare/perl-5.12.3/lib/site_perl/5.12.3
    /home/cpan/pit/bare/perl-5.12.3/lib/5.12.3/x86_64-linux
    /home/cpan/pit/bare/perl-5.12.3/lib/5.12.3
    .