Test-Proto v0.027 Perl 5 v5.31.3 x86_64-linux-thread-multi-ld
- Status
- Pass
- From
- Andreas J. König (ANDK)
- Dist
-
Test-Proto v0.027
- Platform
- Perl 5 v5.31.3 x86_64-linux-thread-multi-ld
- Date
- 2019-08-22 05:26:11
- ID
- 5a6c3746-c49d-11e9-918c-f5e38db2b76f
This distribution has been tested as part of the CPAN Testers
project, supporting the Perl programming language. See
http://wiki.cpantesters.org/ for more information or email
questions to cpan-testers-discuss@perl.org
--
Dear Daniel Perrett,
This is a computer-generated report for Test-Proto-0.027
on perl 5.31.3, created by CPAN-Reporter-1.2018.
Thank you for uploading your work to CPAN. Congratulations!
All tests were successful.
Sections of this report:
* Tester comments
* Program output
* Prerequisites
* Environment and other context
------------------------------
TESTER COMMENTS
------------------------------
Additional comments from tester:
this report is from an automated smoke testing program
and was not reviewed by a human for accuracy
------------------------------
PROGRAM OUTPUT
------------------------------
Output from '/usr/bin/make test':
PERL_DL_NONLAZY=1 "/tmp/basesmoker-reloperl-GWPD/bin/perl" "-MExtUtils::Command::MM" "-MTest::Harness" "-e" "undef *Test::Harness::Switches; test_harness(0, 'blib/lib', 'blib/arch')" t/*.t
# Testing Test::Proto 0.027, Perl 5.031003, /tmp/basesmoker-reloperl-GWPD/bin/perl
t/00-load.t ........................... ok
t/Extras-DPath.t ...................... ok
t/kwalitee.t .......................... skipped: these tests are for release candidate testing
t/manifest.t .......................... skipped: Author tests not required for installation
t/pod-coverage.t ...................... skipped: Author tests not required for installation
t/pod.t ............................... skipped: Author tests not required for installation
t/Test-Proto-ArrayRef.t ............... ok
Use of uninitialized value in string ne at (eval 204) line 1.
Use of uninitialized value in string eq at (eval 206) line 1.
Use of uninitialized value in string ne at (eval 216) line 1.
t/Test-Proto-Base.t ................... ok
t/Test-Proto-CodeRef.t ................ ok
t/Test-Proto-Common.t ................. ok
t/Test-Proto-Compare.t ................ ok
t/Test-Proto-Formatter-TestBuilder.t .. ok
t/Test-Proto-Formatter.t .............. ok
Use of uninitialized value in string eq at (eval 174) line 1.
Use of uninitialized value in string eq at (eval 280) line 1.
t/Test-Proto-HashRef.t ................ ok
t/Test-Proto-Object.t ................. ok
t/Test-Proto-Role-Tagged.t ............ ok
t/Test-Proto-TestCase.t ............... ok
# Warnings follow, deliberately:
Tried to add an event to a TestRunner which is already complete at /tmp/loop_over_bdir-3749-SI4vBF/Test-Proto-0.027-0/blib/lib/Test/Proto/TestRunner.pm line 213.
Tried to complete something that was already complete (a PASS). (Tried with value=> 0, message=>[undefined]) at /tmp/loop_over_bdir-3749-SI4vBF/Test-Proto-0.027-0/blib/lib/Test/Proto/TestRunner.pm line 172.
Tried to add an event to a TestRunner which is already complete at /tmp/loop_over_bdir-3749-SI4vBF/Test-Proto-0.027-0/blib/lib/Test/Proto/TestRunner.pm line 213.
t/Test-Proto-TestRunner.t ............. ok
Use of uninitialized value in string ne at (eval 216) line 1.
Use of uninitialized value in string ne at (eval 218) line 1.
t/Test-Proto.t ........................ ok
t/version.t ........................... ok
All tests successful.
Test Summary Report
-------------------
t/Test-Proto-Base.t (Wstat: 0 Tests: 250 Failed: 0)
TODO passed: 152-156, 158-159
Files=20, Tests=843, 4 wallclock secs ( 0.13 usr 0.08 sys + 3.05 cusr 0.54 csys = 3.80 CPU)
Result: PASS
------------------------------
PREREQUISITES
------------------------------
Prerequisite modules loaded:
requires:
Module Need Have
------------------- ------ --------
Data::Dumper 0 2.174
Moo 0 2.003004
Object::ID v0.0.5 v0.1.2
Scalar::Util 1.14 1.50
Test::Deep::NoTest 0 0
Test::More 0 1.302166
build_requires:
Module Need Have
------------------- ------ --------
ExtUtils::MakeMaker 0 7.36
configure_requires:
Module Need Have
------------------- ------ --------
ExtUtils::MakeMaker 0 7.36
------------------------------
ENVIRONMENT AND OTHER CONTEXT
------------------------------
Environment variables:
AUTOMATED_TESTING = 1
LANG = en_US.UTF-8
PATH = /home/sand/bin:/usr/local/bin:/usr/local/sbin:/usr/sbin:/usr/bin:/sbin:/bin:/usr/games:/usr/local/games:/usr/local/perl/bin:/usr/X11/bin
PERL5LIB =
PERL5OPT =
PERL5_CPANPLUS_IS_RUNNING = 3757
PERL5_CPAN_IS_RUNNING = 3757
PERL_CANARY_STABILITY_NOPROMPT = 1
PERL_MM_USE_DEFAULT = 1
PERL_USE_UNSAFE_INC = 1
SHELL = /usr/bin/zsh
TERM = screen
Perl special variables (and OS-specific diagnostics, for MSWin32):
$^X = /tmp/basesmoker-reloperl-GWPD/bin/perl
$UID/$EUID = 1005 / 1005
$GID = 1005 1005
$EGID = 1005 1005
Perl module toolchain versions installed:
Module Have
------------------- --------
CPAN 2.27
CPAN::Meta 2.150010
Cwd 3.78
ExtUtils::CBuilder 0.280232
ExtUtils::Command 7.36
ExtUtils::Install 2.14
ExtUtils::MakeMaker 7.36
ExtUtils::Manifest 1.72
ExtUtils::ParseXS 3.40
File::Spec 3.78
JSON 4.02
JSON::PP 4.04
Module::Build 0.4229
Module::Signature 0.83
Parse::CPAN::Meta 2.150010
Test::Harness 3.42
Test::More 1.302166
YAML 1.29
YAML::Syck 1.31
version 0.9924
--
Summary of my perl5 (revision 5 version 31 subversion 3) configuration:
Commit id: 1f6c9461cb3775550f70cd0c579d874dc80c5038
Platform:
osname=linux
osvers=4.15.0-55-generic
archname=x86_64-linux-thread-multi-ld
uname='linux k93bionic 4.15.0-55-generic #60-ubuntu smp tue jul 2 18:22:20 utc 2019 x86_64 x86_64 x86_64 gnulinux '
config_args='-Dprefix=/home/sand/src/perl/repoperls/installed-perls/host/k93bionic/v5.31.3/ebf1 -Dmyhostname=k93bionic -Dinstallusrbinperl=n -Uversiononly -Dusedevel -des -Ui_db -Dlibswanted=cl pthread socket inet nsl gdbm dbm malloc dl ld sun m crypt sec util c cposix posix ucb BSD gdbm_compat -Duseithreads -Duselongdouble -DEBUGGING=-g'
hint=recommended
useposix=true
d_sigaction=define
useithreads=define
usemultiplicity=define
use64bitint=define
use64bitall=define
uselongdouble=define
usemymalloc=n
default_inc_excludes_dot=define
bincompat5005=undef
Compiler:
cc='cc'
ccflags ='-D_REENTRANT -D_GNU_SOURCE -fwrapv -fno-strict-aliasing -pipe -fstack-protector-strong -I/usr/local/include -D_LARGEFILE_SOURCE -D_FILE_OFFSET_BITS=64'
optimize='-O2 -g'
cppflags='-D_REENTRANT -D_GNU_SOURCE -fwrapv -fno-strict-aliasing -pipe -fstack-protector-strong -I/usr/local/include'
ccversion=''
gccversion='7.4.0'
gccosandvers=''
intsize=4
longsize=8
ptrsize=8
doublesize=8
byteorder=12345678
doublekind=3
d_longlong=define
longlongsize=8
d_longdbl=define
longdblsize=16
longdblkind=3
ivtype='long'
ivsize=8
nvtype='long double'
nvsize=16
Off_t='off_t'
lseeksize=8
alignbytes=16
prototype=define
Linker and Libraries:
ld='cc'
ldflags =' -fstack-protector-strong -L/usr/local/lib'
libpth=/usr/local/lib /usr/lib/gcc/x86_64-linux-gnu/7/include-fixed /usr/include/x86_64-linux-gnu /usr/lib /lib/x86_64-linux-gnu /lib/../lib /usr/lib/x86_64-linux-gnu /usr/lib/../lib /lib
libs=-lpthread -lnsl -ldl -lm -lcrypt -lutil -lc
perllibs=-lpthread -lnsl -ldl -lm -lcrypt -lutil -lc
libc=libc-2.27.so
so=so
useshrplib=false
libperl=libperl.a
gnulibc_version='2.27'
Dynamic Linking:
dlsrc=dl_dlopen.xs
dlext=so
d_dlsymun=undef
ccdlflags='-Wl,-E'
cccdlflags='-fPIC'
lddlflags='-shared -O2 -g -L/usr/local/lib -fstack-protector-strong'
Characteristics of this binary (from libperl):
Compile-time options:
HAS_TIMES
MULTIPLICITY
PERLIO_LAYERS
PERL_COPY_ON_WRITE
PERL_DONT_CREATE_GVSV
PERL_IMPLICIT_CONTEXT
PERL_MALLOC_WRAP
PERL_OP_PARENT
PERL_PRESERVE_IVUV
PERL_USE_DEVEL
USE_64_BIT_ALL
USE_64_BIT_INT
USE_ITHREADS
USE_LARGE_FILES
USE_LOCALE
USE_LOCALE_COLLATE
USE_LOCALE_CTYPE
USE_LOCALE_NUMERIC
USE_LOCALE_TIME
USE_LONG_DOUBLE
USE_PERLIO
USE_PERL_ATOF
USE_REENTRANT_API
USE_THREAD_SAFE_LOCALE
Built under linux
Compiled at Aug 20 2019 17:22:17
%ENV:
PERL5LIB=""
PERL5OPT=""
PERL5_CPANPLUS_IS_RUNNING="3757"
PERL5_CPAN_IS_RUNNING="3757"
PERL_CANARY_STABILITY_NOPROMPT="1"
PERL_MM_USE_DEFAULT="1"
PERL_USE_UNSAFE_INC="1"
@INC:
/home/sand/src/perl/repoperls/installed-perls/host/k93bionic/v5.31.3/ebf1/lib/site_perl/5.31.3/x86_64-linux-thread-multi-ld
/home/sand/src/perl/repoperls/installed-perls/host/k93bionic/v5.31.3/ebf1/lib/site_perl/5.31.3
/home/sand/src/perl/repoperls/installed-perls/host/k93bionic/v5.31.3/ebf1/lib/5.31.3/x86_64-linux-thread-multi-ld
/home/sand/src/perl/repoperls/installed-perls/host/k93bionic/v5.31.3/ebf1/lib/5.31.3
.