MozRepl-RemoteObject v0.40 Perl 5 v5.24.4 x86_64-linux-thread-multi

Status
Pass
From
Slaven Rezić (SREZIC)
Dist
MozRepl-RemoteObject v0.40
Platform
Perl 5 v5.24.4 x86_64-linux-thread-multi
Date
2018-10-28 11:26:45
ID
5a462968-daa4-11e8-a38e-88474714647b
This distribution has been tested as part of the CPAN Testers
project, supporting the Perl programming language.  See
http://wiki.cpantesters.org/ for more information or email
questions to cpan-testers-discuss@perl.org


--
Dear Max Maischein,

This is a computer-generated report for MozRepl-RemoteObject-0.40
on perl 5.24.4, created by CPAN-Reporter-1.2018.

Thank you for uploading your work to CPAN.  Congratulations!
All tests were successful.

Sections of this report:

    * Tester comments
    * Program output
    * Prerequisites
    * Environment and other context

------------------------------
TESTER COMMENTS
------------------------------

Additional comments from tester:

none provided

------------------------------
PROGRAM OUTPUT
------------------------------

Output from '/usr/bin/make test':

PERL_DL_NONLAZY=1 "/opt/perl-5.24.4t/bin/perl" "-MExtUtils::Command::MM" "-MTest::Harness" "-e" "undef *Test::Harness::Switches; test_harness(0, 'blib/lib', 'blib/arch')" t/*.t
# Testing MozRepl::RemoteObject 0.40, Perl 5.024004
# AutoLoader 5.74
# Carp 1.50
# Config 5.024004
# DynaLoader 1.38
# Encode 2.98
# Encode::Alias 2.24
# Encode::Config 2.05
# Encode::Encoding 2.08
# Encode::MIME::Name 1.03
# Exporter 5.72
# Exporter::Heavy 5.72
# Fcntl 1.13
# JSON 2.97001
# JSON::XS 3.04
# List::Util 1.5
# Log::Agent 1.003
# Log::Agent::Formatting <unknown>
# Log::Agent::Message <unknown>
# Log::Agent::Priorities <unknown>
# MozRepl::RemoteObject 0.40
# MozRepl::RemoteObject::Methods 0.40
# POSIX 1.65_01
# PerlIO 1.09
# Scalar::Util 1.5
# Storable 3.09
# Storable::Limit <unknown>
# Test::Builder 1.302140
# Test::Builder::Formatter 1.302140
# Test::Builder::Module 1.302140
# Test::Builder::TodoDiag 1.302140
# Test::More 1.302140
# Test2::API 1.302140
# Test2::API::Context 1.302140
# Test2::API::Instance 1.302140
# Test2::API::Stack 1.302140
# Test2::Event 1.302140
# Test2::Event::Bail 1.302140
# Test2::Event::Diag 1.302140
# Test2::Event::Exception 1.302140
# Test2::Event::Fail 1.302140
# Test2::Event::Note 1.302140
# Test2::Event::Ok 1.302140
# Test2::Event::Pass 1.302140
# Test2::Event::Plan 1.302140
# Test2::Event::Skip 1.302140
# Test2::Event::Subtest 1.302140
# Test2::Event::V2 1.302140
# Test2::Event::Waiting 1.302140
# Test2::EventFacet 1.302140
# Test2::EventFacet::About 1.302140
# Test2::EventFacet::Amnesty 1.302140
# Test2::EventFacet::Assert 1.302140
# Test2::EventFacet::Control 1.302140
# Test2::EventFacet::Error 1.302140
# Test2::EventFacet::Hub 1.302140
# Test2::EventFacet::Info 1.302140
# Test2::EventFacet::Meta 1.302140
# Test2::EventFacet::Parent 1.302140
# Test2::EventFacet::Plan 1.302140
# Test2::EventFacet::Trace 1.302140
# Test2::Formatter 1.302140
# Test2::Formatter::TAP 1.302140
# Test2::Hub 1.302140
# Test2::Hub::Interceptor 1.302140
# Test2::Hub::Interceptor::Terminator 1.302140
# Test2::Hub::Subtest 1.302140
# Test2::Util 1.302140
# Test2::Util::ExternalMeta 1.302140
# Test2::Util::Facets2Legacy 1.302140
# Test2::Util::HashBase 1.302140
# Test2::Util::Trace 1.302140
# Tie::Hash 1.05
# Types::Serialiser 1.0
# XSLoader 0.22
# attributes 0.27
# base 2.2301
# bytes 1.05
# common::sense 3.74
# constant 1.33
# mro 1.18
# overload 1.26
# overloading 0.02
# parent 0.237
# strict 1.11
# vars 1.03
# warnings 1.36
# warnings::register 1.04
t/00-load.t .................... ok
t/01-appversion.t .............. skipped: Couldn't connect to MozRepl: Failed to connect to , problem connecting to "localhost", port 4242: Connection refused at /home/cpansand/.cpan/build/2018102811/MozRepl-0.06-2/blib/lib/MozRepl/Client.pm line 144
# --- Loading object functionality into repl
t/01-array.t ................... skipped: Couldn't connect to MozRepl: Failed to connect to , problem connecting to "localhost", port 4242: Connection refused at /home/cpansand/.cpan/build/2018102811/MozRepl-0.06-2/blib/lib/MozRepl/Client.pm line 144
[error] Connection refused
t/01-backend-anyevent-timer.t .. skipped: Couldn't connect to Firefox: Failed to connect to , Connection refused at /home/cpansand/.cpan/build/2018102811/MozRepl-RemoteObject-0.40-2/blib/lib/MozRepl/AnyEvent.pm line 188.
t/01-backend-anyevent.t ........ skipped: Couldn't connect to Firefox: Connection refused at /home/cpansand/.cpan/build/2018102811/MozRepl-RemoteObject-0.40-2/blib/lib/MozRepl/AnyEvent.pm line 188.
t/01-callback-overhead.t ....... skipped: Couldn't connect to MozRepl: Failed to connect to , problem connecting to "localhost", port 4242: Connection refused at /home/cpansand/.cpan/build/2018102811/MozRepl-0.06-2/blib/lib/MozRepl/Client.pm line 144
t/01-callback.t ................ skipped: Couldn't connect to MozRepl: Failed to connect to , problem connecting to "localhost", port 4242: Connection refused at /home/cpansand/.cpan/build/2018102811/MozRepl-0.06-2/blib/lib/MozRepl/Client.pm line 144
t/01-constant.t ................ skipped: Couldn't connect to MozRepl: Failed to connect to , problem connecting to "localhost", port 4242: Connection refused at /home/cpansand/.cpan/build/2018102811/MozRepl-0.06-2/blib/lib/MozRepl/Client.pm line 144
t/01-dive.t .................... skipped: Couldn't connect to MozRepl: Failed to connect to , problem connecting to "localhost", port 4242: Connection refused at /home/cpansand/.cpan/build/2018102811/MozRepl-0.06-2/blib/lib/MozRepl/Client.pm line 144
[error] Connection refused
t/01-expr-anyevent.t ........... skipped: Couldn't connect to Firefix: Failed to connect to , Connection refused at /home/cpansand/.cpan/build/2018102811/MozRepl-RemoteObject-0.40-2/blib/lib/MozRepl/AnyEvent.pm line 188.
t/01-expr.t .................... skipped: Couldn't connect to MozRepl: Failed to connect to , problem connecting to "localhost", port 4242: Connection refused at /home/cpansand/.cpan/build/2018102811/MozRepl-0.06-2/blib/lib/MozRepl/Client.pm line 144
t/01-hash.t .................... skipped: Couldn't connect to MozRepl: Failed to connect to , problem connecting to "localhost", port 4242: Connection refused at /home/cpansand/.cpan/build/2018102811/MozRepl-0.06-2/blib/lib/MozRepl/Client.pm line 144
t/01-invoke.t .................. skipped: Couldn't connect to MozRepl: Failed to connect to , problem connecting to "localhost", port 4242: Connection refused at /home/cpansand/.cpan/build/2018102811/MozRepl-0.06-2/blib/lib/MozRepl/Client.pm line 144
# --- Loading object functionality into repl
t/01-multiline-string.t ........ skipped: Couldn't connect to MozRepl: Failed to connect to , problem connecting to "localhost", port 4242: Connection refused at /home/cpansand/.cpan/build/2018102811/MozRepl-0.06-2/blib/lib/MozRepl/Client.pm line 144
# --- Loading object functionality into repl
t/01-object.t .................. skipped: Couldn't connect to MozRepl: Failed to connect to , problem connecting to "localhost", port 4242: Connection refused at /home/cpansand/.cpan/build/2018102811/MozRepl-0.06-2/blib/lib/MozRepl/Client.pm line 144
# --- Loading object functionality into repl
t/01-queue.t ................... skipped: Couldn't connect to MozRepl: Failed to connect to , problem connecting to "localhost", port 4242: Connection refused at /home/cpansand/.cpan/build/2018102811/MozRepl-0.06-2/blib/lib/MozRepl/Client.pm line 144
t/01-release-action.t .......... skipped: Couldn't connect to MozRepl: Failed to connect to , problem connecting to "localhost", port 4242: Connection refused at /home/cpansand/.cpan/build/2018102811/MozRepl-0.06-2/blib/lib/MozRepl/Client.pm line 144
t/02-multiple-instances.t ...... skipped: Couldn't connect to MozRepl: Failed to connect to , problem connecting to "localhost", port 4242: Connection refused at /home/cpansand/.cpan/build/2018102811/MozRepl-0.06-2/blib/lib/MozRepl/Client.pm line 144
t/02-repl.t .................... skipped: Couldn't connect to MozRepl: Failed to connect to , problem connecting to "localhost", port 4242: Connection refused at /home/cpansand/.cpan/build/2018102811/MozRepl-0.06-2/blib/lib/MozRepl/Client.pm line 144
t/02-synopsis.t ................ skipped: Couldn't connect to MozRepl: Failed to connect to , problem connecting to "localhost", port 4242: Connection refused at /home/cpansand/.cpan/build/2018102811/MozRepl-0.06-2/blib/lib/MozRepl/Client.pm line 144
t/03-unicode.t ................. skipped: Couldn't connect to MozRepl: Failed to connect to , problem connecting to "localhost", port 4242: Connection refused at /home/cpansand/.cpan/build/2018102811/MozRepl-0.06-2/blib/lib/MozRepl/Client.pm line 144
t/04-looong-input.t ............ skipped: Couldn't connect to MozRepl: Failed to connect to , problem connecting to "localhost", port 4242: Connection refused at /home/cpansand/.cpan/build/2018102811/MozRepl-0.06-2/blib/lib/MozRepl/Client.pm line 144
t/05-callback-parameter.t ...... skipped: Couldn't connect to MozRepl: Failed to connect to , problem connecting to "localhost", port 4242: Connection refused at /home/cpansand/.cpan/build/2018102811/MozRepl-0.06-2/blib/lib/MozRepl/Client.pm line 144
t/10-xul-hud.t ................. skipped: Couldn't connect to MozRepl: Failed to connect to , problem connecting to "localhost", port 4242: Connection refused at /home/cpansand/.cpan/build/2018102811/MozRepl-0.06-2/blib/lib/MozRepl/Client.pm line 144
t/11-memleak-callback.t ........ skipped: Couldn't connect to MozRepl: Failed to connect to , problem connecting to "localhost", port 4242: Connection refused at /home/cpansand/.cpan/build/2018102811/MozRepl-0.06-2/blib/lib/MozRepl/Client.pm line 144
t/11-memleak-constant.t ........ skipped: Couldn't connect to MozRepl: Failed to connect to , problem connecting to "localhost", port 4242: Connection refused at /home/cpansand/.cpan/build/2018102811/MozRepl-0.06-2/blib/lib/MozRepl/Client.pm line 144
t/11-memleak-declare.t ......... skipped: Couldn't connect to MozRepl: Failed to connect to , problem connecting to "localhost", port 4242: Connection refused at /home/cpansand/.cpan/build/2018102811/MozRepl-0.06-2/blib/lib/MozRepl/Client.pm line 144
t/11-memleak.t ................. skipped: Couldn't connect to MozRepl: Failed to connect to , problem connecting to "localhost", port 4242: Connection refused at /home/cpansand/.cpan/build/2018102811/MozRepl-0.06-2/blib/lib/MozRepl/Client.pm line 144
All tests successful.
Files=28, Tests=1,  4 wallclock secs ( 0.03 usr  0.15 sys +  2.69 cusr  0.61 csys =  3.48 CPU)
Result: PASS

------------------------------
PREREQUISITES
------------------------------

Prerequisite modules loaded:

requires:

    Module         Need  Have      
    -------------- ----- ----------
    Encode         0     2.98      
    Exporter       0     5.72      
    File::Basename 0     2.85      
    IPC::Run       0     20180523.0
    JSON           2     2.97001   
    MozRepl        0.06  0.06      
    parent         0     0.237     
    perl           5.006 5.024004  
    Scalar::Util   0     1.50      

build_requires:

    Module         Need  Have      
    -------------- ----- ----------
    Task::Weaken   0     1.05      


------------------------------
ENVIRONMENT AND OTHER CONTEXT
------------------------------

Environment variables:

    LANG = C
    PATH = /usr/local/bin:/usr/bin:/bin:/usr/local/sbin:/usr/sbin:/sbin:/home/cpansand/bin/linux-gnu:/home/cpansand/bin/sh:/home/cpansand/bin:/usr/games:/home/cpansand/devel:/home/eserte/src/srezic-misc/scripts
    PERL5LIB = /home/cpansand/.cpan/build/2018102811/MozRepl-0.06-2/blib/arch:/home/cpansand/.cpan/build/2018102811/MozRepl-0.06-2/blib/lib:/home/cpansand/.cpan/build/2018102811/Template-Provider-FromDATA-0.13-2/blib/arch:/home/cpansand/.cpan/build/2018102811/Template-Provider-FromDATA-0.13-2/blib/lib:/home/cpansand/.cpan/build/2018102811/Module-Pluggable-Fast-0.19-2/blib/arch:/home/cpansand/.cpan/build/2018102811/Module-Pluggable-Fast-0.19-2/blib/lib
    PERL5OPT = 
    PERL5_CPANPLUS_IS_RUNNING = 14803
    PERL5_CPAN_IS_RUNNING = 14803
    PERL5_CPAN_IS_RUNNING_IN_RECURSION = 9303,14803
    PERLDOC = -MPod::Perldoc::ToTextOverstrike
    PERL_BATCH = yes
    PERL_CANARY_STABILITY_NOPROMPT = 1
    PERL_CPAN_REPORTER_CONFIG = /var/tmp/cpansmoker-1023/2018102811/cpanreporter_000_config.ini
    PERL_EXTUTILS_AUTOINSTALL = --defaultdeps
    PERL_USE_UNSAFE_INC = 1
    SHELL = /usr/bin/zsh
    TERM = screen
    TMPDIR = /var/tmp/cpansmoker-1023/2018102811

Perl special variables (and OS-specific diagnostics, for MSWin32):

    $^X = /opt/perl-5.24.4t/bin/perl
    $UID/$EUID = 1023 / 1023
    $GID = 1023 1023
    $EGID = 1023 1023

Perl module toolchain versions installed:

    Module              Have    
    ------------------- --------
    CPAN                2.16    
    CPAN::Meta          2.150010
    Cwd                 3.75    
    ExtUtils::CBuilder  0.280230
    ExtUtils::Command   7.34    
    ExtUtils::Install   2.14    
    ExtUtils::MakeMaker 7.34    
    ExtUtils::Manifest  1.71    
    ExtUtils::ParseXS   3.31    
    File::Spec          3.75    
    JSON                2.97001 
    JSON::PP            2.97001 
    Module::Build       0.4224  
    Module::Signature   0.83    
    Parse::CPAN::Meta   2.150010
    Test::Harness       3.42    
    Test::More          1.302140
    YAML                1.26    
    YAML::Syck          1.31    
    version             0.9923  


--

Summary of my perl5 (revision 5 version 24 subversion 4) configuration:
   
  Platform:
    osname=linux, osvers=3.16.0-5-amd64, archname=x86_64-linux-thread-multi
    uname='linux debian8 3.16.0-5-amd64 #1 smp debian 3.16.51-3+deb8u1 (2018-01-08) x86_64 gnulinux '
    config_args='-ds -e -Dprefix=/opt/perl-5.24.4t -Dusethreads -Dcf_email=srezic@cpan.org'
    hint=recommended, useposix=true, d_sigaction=define
    useithreads=define, usemultiplicity=define
    use64bitint=define, use64bitall=define, uselongdouble=undef
    usemymalloc=n, bincompat5005=undef
  Compiler:
    cc='cc', ccflags ='-D_REENTRANT -D_GNU_SOURCE -fwrapv -fno-strict-aliasing -pipe -fstack-protector-strong -I/usr/local/include -D_LARGEFILE_SOURCE -D_FILE_OFFSET_BITS=64 -D_FORTIFY_SOURCE=2',
    optimize='-O2',
    cppflags='-D_REENTRANT -D_GNU_SOURCE -fwrapv -fno-strict-aliasing -pipe -fstack-protector-strong -I/usr/local/include'
    ccversion='', gccversion='4.9.2', gccosandvers=''
    intsize=4, longsize=8, ptrsize=8, doublesize=8, byteorder=12345678, doublekind=3
    d_longlong=define, longlongsize=8, d_longdbl=define, longdblsize=16, longdblkind=3
    ivtype='long', ivsize=8, nvtype='double', nvsize=8, Off_t='off_t', lseeksize=8
    alignbytes=8, prototype=define
  Linker and Libraries:
    ld='cc', ldflags =' -fstack-protector-strong -L/usr/local/lib'
    libpth=/usr/local/lib /usr/lib/gcc/x86_64-linux-gnu/4.9/include-fixed /usr/include/x86_64-linux-gnu /usr/lib /lib/x86_64-linux-gnu /lib/../lib /usr/lib/x86_64-linux-gnu /usr/lib/../lib /lib
    libs=-lpthread -lnsl -lgdbm -ldb -ldl -lm -lcrypt -lutil -lc -lgdbm_compat
    perllibs=-lpthread -lnsl -ldl -lm -lcrypt -lutil -lc
    libc=libc-2.19.so, so=so, useshrplib=false, libperl=libperl.a
    gnulibc_version='2.19'
  Dynamic Linking:
    dlsrc=dl_dlopen.xs, dlext=so, d_dlsymun=undef, ccdlflags='-Wl,-E'
    cccdlflags='-fPIC', lddlflags='-shared -O2 -L/usr/local/lib -fstack-protector-strong'


Characteristics of this binary (from libperl): 
  Compile-time options: HAS_TIMES MULTIPLICITY PERLIO_LAYERS
                        PERL_COPY_ON_WRITE PERL_DONT_CREATE_GVSV
                        PERL_HASH_FUNC_ONE_AT_A_TIME_HARD
                        PERL_IMPLICIT_CONTEXT PERL_MALLOC_WRAP
                        PERL_PRESERVE_IVUV USE_64_BIT_ALL USE_64_BIT_INT
                        USE_ITHREADS USE_LARGE_FILES USE_LOCALE
                        USE_LOCALE_COLLATE USE_LOCALE_CTYPE
                        USE_LOCALE_NUMERIC USE_LOCALE_TIME USE_PERLIO
                        USE_PERL_ATOF USE_REENTRANT_API
  Built under linux
  Compiled at Apr 17 2018 04:57:43
  %ENV:
    PERL5LIB="/home/cpansand/.cpan/build/2018102811/MozRepl-0.06-2/blib/arch:/home/cpansand/.cpan/build/2018102811/MozRepl-0.06-2/blib/lib:/home/cpansand/.cpan/build/2018102811/Template-Provider-FromDATA-0.13-2/blib/arch:/home/cpansand/.cpan/build/2018102811/Template-Provider-FromDATA-0.13-2/blib/lib:/home/cpansand/.cpan/build/2018102811/Module-Pluggable-Fast-0.19-2/blib/arch:/home/cpansand/.cpan/build/2018102811/Module-Pluggable-Fast-0.19-2/blib/lib"
    PERL5OPT=""
    PERL5_CPANPLUS_IS_RUNNING="14803"
    PERL5_CPAN_IS_RUNNING="14803"
    PERL5_CPAN_IS_RUNNING_IN_RECURSION="9303,14803"
    PERLDOC="-MPod::Perldoc::ToTextOverstrike"
    PERL_BATCH="yes"
    PERL_CANARY_STABILITY_NOPROMPT="1"
    PERL_CPAN_REPORTER_CONFIG="/var/tmp/cpansmoker-1023/2018102811/cpanreporter_000_config.ini"
    PERL_EXTUTILS_AUTOINSTALL="--defaultdeps"
    PERL_USE_UNSAFE_INC="1"
  @INC:
    /home/cpansand/.cpan/build/2018102811/MozRepl-0.06-2/blib/arch
    /home/cpansand/.cpan/build/2018102811/MozRepl-0.06-2/blib/lib
    /home/cpansand/.cpan/build/2018102811/Template-Provider-FromDATA-0.13-2/blib/arch
    /home/cpansand/.cpan/build/2018102811/Template-Provider-FromDATA-0.13-2/blib/lib
    /home/cpansand/.cpan/build/2018102811/Module-Pluggable-Fast-0.19-2/blib/arch
    /home/cpansand/.cpan/build/2018102811/Module-Pluggable-Fast-0.19-2/blib/lib
    /opt/perl-5.24.4t/lib/site_perl/5.24.4/x86_64-linux-thread-multi
    /opt/perl-5.24.4t/lib/site_perl/5.24.4
    /opt/perl-5.24.4t/lib/5.24.4/x86_64-linux-thread-multi
    /opt/perl-5.24.4t/lib/5.24.4
    .