WWW-Mechanize-Firefox v0.80 Perl 5 v5.22.1 amd64-freebsd

Status
Pass
From
Slaven Rezić (SREZIC)
Dist
WWW-Mechanize-Firefox v0.80
Platform
Perl 5 v5.22.1 amd64-freebsd
Date
2018-10-28 11:48:14
ID
5a3c0cc8-daa7-11e8-a866-f3067ec576ac
This distribution has been tested as part of the CPAN Testers
project, supporting the Perl programming language.  See
http://wiki.cpantesters.org/ for more information or email
questions to cpan-testers-discuss@perl.org


--
Dear Max Maischein,

This is a computer-generated report for WWW-Mechanize-Firefox-0.80
on perl 5.22.1, created by CPAN-Reporter-1.2018.

Thank you for uploading your work to CPAN.  Congratulations!
All tests were successful.

Sections of this report:

    * Tester comments
    * Program output
    * Prerequisites
    * Environment and other context

------------------------------
TESTER COMMENTS
------------------------------

Additional comments from tester:

none provided

------------------------------
PROGRAM OUTPUT
------------------------------

Output from '/usr/bin/make test':

PERL_DL_NONLAZY=1 "/usr/perl5.22.1p/bin/perl5.22.1" "-MExtUtils::Command::MM" "-MTest::Harness" "-e" "undef *Test::Harness::Switches; test_harness(0, 'blib/lib', 'blib/arch')" t/00-load.t t/01-mech-destroy.t t/47-mech-memleak2.t t/47-mech-ref-memleak.t t/47-mech-simplest.t t/48-mech-launch.t t/49-mech-get-file.t t/49-mech-nav.t t/49-mech-reuse.t t/50-allow-js.t t/50-app-new.t t/50-app-profile.t t/50-click-coordinates-js.t t/50-click-coordinates.t t/50-click.t t/50-follow-link.t t/50-form-with-fields.t t/50-form2.t t/50-load-and-load.t t/50-mech-activateTab.t t/50-mech-bufsize.t t/50-mech-closeTab.t t/50-mech-content.t t/50-mech-ct.t t/50-mech-encoding.t t/50-mech-error.t t/50-mech-event.t t/50-mech-forms.t t/50-mech-get-nocache.t t/50-mech-get.t t/50-mech-multi-event.t t/50-mech-new-dsl.t t/50-mech-new-with-tab.t t/50-mech-new.t t/50-mech-post.t t/50-mech-save-dialog.t t/50-mech-set-fields-875912.t t/50-mech-status.t t/50-popup.t t/50-rt65615.t t/50-tick.t t/51-click_button.t t/51-click_js.t t/51-form-number-blakew.t t/51-mech-field.t t/51-mech-form-with-fields.t t/51-mech-links.t t/51-mech-navigation.t t/51-mech-sandbox.t t/51-mech-set-content.t t/51-mech-submit.t t/52-frame-document.t t/52-frame-event.t t/52-mech-api-find_link-frames.t t/52-mech-api-find_link.t t/52-mech-xpath.t t/52-selector-frames.t t/52-selector-noframes.t t/52-selector-relative.t t/53-mech-capture-js-error.t t/55-basic-auth.t t/60-mech-cookies.t t/60-mech-custom-headers.t t/65-is_visible.t t/65-mech-meta.t t/65-set_visible.t t/70-download-url.t t/70-mech-png.t t/70-real-status.t t/70-rt70106-reload.t t/70-rt71216.t t/70-tag-team.t t/70-two-instances.t t/70-urlbar.t t/75-save_url-cookies.t t/rt65615.t t/rt78706.t t/rt84418.t t/rt88100-continuation.t t/select.t t/mechanize/autocheck.t t/mechanize/content.t
# Testing WWW::Mechanize::Firefox 0.80, Perl 5.022001
# AutoLoader 5.74
# Carp 1.50
# Config 5.022001
# DynaLoader 1.32
# Encode 2.98
# Encode::Alias 2.24
# Encode::Config 2.05
# Encode::Encoding 2.08
# Encode::MIME::Name 1.03
# Exporter 5.72
# Exporter::Heavy 5.72
# Fcntl 1.13
# File::Basename 2.85
# Firefox::Application 0.80
# HTML::Selector::XPath 0.23
# HTTP::Cookies 6.04
# HTTP::Cookies::MozRepl 0.80
# HTTP::Cookies::Netscape 6.04
# HTTP::Date 6.02
# HTTP::Headers 6.16
# HTTP::Headers::Util 6.16
# HTTP::Message 6.16
# HTTP::Request 6.16
# HTTP::Request::Common 6.16
# HTTP::Response 6.16
# HTTP::Status 6.16
# JSON 2.97001
# JSON::XS 3.04
# List::Util 1.5
# Log::Agent 1.002
# Log::Agent::Formatting <unknown>
# Log::Agent::Message <unknown>
# Log::Agent::Priorities <unknown>
# MIME::Base64 3.15
# MozRepl::RemoteObject 0.40
# MozRepl::RemoteObject::Methods 0.40
# POSIX 1.53_01
# PerlIO 1.09
# Scalar::Util 1.5
# Storable 2.53_01
# Test::Builder 1.302140
# Test::Builder::Formatter 1.302140
# Test::Builder::Module 1.302140
# Test::Builder::TodoDiag 1.302140
# Test::More 1.302140
# Test2::API 1.302140
# Test2::API::Context 1.302140
# Test2::API::Instance 1.302140
# Test2::API::Stack 1.302140
# Test2::Event 1.302140
# Test2::Event::Bail 1.302140
# Test2::Event::Diag 1.302140
# Test2::Event::Exception 1.302140
# Test2::Event::Fail 1.302140
# Test2::Event::Note 1.302140
# Test2::Event::Ok 1.302140
# Test2::Event::Pass 1.302140
# Test2::Event::Plan 1.302140
# Test2::Event::Skip 1.302140
# Test2::Event::Subtest 1.302140
# Test2::Event::V2 1.302140
# Test2::Event::Waiting 1.302140
# Test2::EventFacet 1.302140
# Test2::EventFacet::About 1.302140
# Test2::EventFacet::Amnesty 1.302140
# Test2::EventFacet::Assert 1.302140
# Test2::EventFacet::Control 1.302140
# Test2::EventFacet::Error 1.302140
# Test2::EventFacet::Hub 1.302140
# Test2::EventFacet::Info 1.302140
# Test2::EventFacet::Meta 1.302140
# Test2::EventFacet::Parent 1.302140
# Test2::EventFacet::Plan 1.302140
# Test2::EventFacet::Trace 1.302140
# Test2::Formatter 1.302140
# Test2::Formatter::TAP 1.302140
# Test2::Hub 1.302140
# Test2::Hub::Interceptor 1.302140
# Test2::Hub::Interceptor::Terminator 1.302140
# Test2::Hub::Subtest 1.302140
# Test2::Util 1.302140
# Test2::Util::ExternalMeta 1.302140
# Test2::Util::Facets2Legacy 1.302140
# Test2::Util::HashBase 1.302140
# Test2::Util::Trace 1.302140
# Tie::Hash 1.05
# Time::HiRes 1.9758
# Time::Local 1.28
# Types::Serialiser 1.0
# URI 1.74
# URI::Escape 3.31
# WWW::Mechanize::Firefox 0.80
# WWW::Mechanize::Link 1.87
# XSLoader 0.24
# attributes 0.27
# base 2.22
# bytes 1.04
# common::sense 3.74
# constant 1.33
# mro 1.17
# overload 1.26
# overloading 0.02
# parent 0.236
# re 0.32
# strict 1.09
# vars 1.03
# warnings 1.34
# warnings::register 1.04
t/00-load.t ....................... ok
t/01-mech-destroy.t ............... skipped: Couldn't connect to MozRepl: Failed to connect to , problem connecting to "localhost", port 4242: Connection refused at /home/cpansand/.cpan/build/2018102812/MozRepl-0.06-7/blib/lib/MozRepl/Client.pm line 144
t/47-mech-memleak2.t .............. skipped: Couldn't connect to MozRepl: Failed to connect to , problem connecting to "localhost", port 4242: Connection refused at /home/cpansand/.cpan/build/2018102812/MozRepl-0.06-7/blib/lib/MozRepl/Client.pm line 144
t/47-mech-ref-memleak.t ........... skipped: Couldn't connect to MozRepl: Failed to connect to , problem connecting to "localhost", port 4242: Connection refused at /home/cpansand/.cpan/build/2018102812/MozRepl-0.06-7/blib/lib/MozRepl/Client.pm line 144
t/47-mech-simplest.t .............. skipped: Couldn't connect to MozRepl: Failed to connect to , problem connecting to "localhost", port 4242: Connection refused at /home/cpansand/.cpan/build/2018102812/MozRepl-0.06-7/blib/lib/MozRepl/Client.pm line 144
t/48-mech-launch.t ................ skipped: Couldn't connect to MozRepl: file not found: C:/Programme/Mozilla Firefox/firefox at /home/cpansand/.cpan/build/2018102812/MozRepl-RemoteObject-0.40-7/blib/lib/MozRepl/RemoteObject.pm line 463.
t/49-mech-get-file.t .............. skipped: Couldn't connect to MozRepl: Failed to connect to , problem connecting to "localhost", port 4242: Connection refused at /home/cpansand/.cpan/build/2018102812/MozRepl-0.06-7/blib/lib/MozRepl/Client.pm line 144
t/49-mech-nav.t ................... skipped: Couldn't connect to MozRepl: Failed to connect to , problem connecting to "localhost", port 4242: Connection refused at /home/cpansand/.cpan/build/2018102812/MozRepl-0.06-7/blib/lib/MozRepl/Client.pm line 144
t/49-mech-reuse.t ................. skipped: Couldn't connect to MozRepl: Failed to connect to , problem connecting to "localhost", port 4242: Connection refused at /home/cpansand/.cpan/build/2018102812/MozRepl-0.06-7/blib/lib/MozRepl/Client.pm line 144
t/50-allow-js.t ................... skipped: Couldn't connect to MozRepl: Failed to connect to , problem connecting to "localhost", port 4242: Connection refused at /home/cpansand/.cpan/build/2018102812/MozRepl-0.06-7/blib/lib/MozRepl/Client.pm line 144
t/50-app-new.t .................... skipped: Couldn't connect to MozRepl: Failed to connect to , problem connecting to "localhost", port 4242: Connection refused at /home/cpansand/.cpan/build/2018102812/MozRepl-0.06-7/blib/lib/MozRepl/Client.pm line 144
t/50-app-profile.t ................ skipped: Couldn't connect to MozRepl: Failed to connect to , problem connecting to "localhost", port 4242: Connection refused at /home/cpansand/.cpan/build/2018102812/MozRepl-0.06-7/blib/lib/MozRepl/Client.pm line 144
"my" variable $type masks earlier declaration in same scope at t/50-click-coordinates-js.t line 45.
t/50-click-coordinates-js.t ....... skipped: Couldn't connect to MozRepl: Failed to connect to , problem connecting to "localhost", port 4242: Connection refused at /home/cpansand/.cpan/build/2018102812/MozRepl-0.06-7/blib/lib/MozRepl/Client.pm line 144
t/50-click-coordinates.t .......... skipped: ISMAP seems unsupported from Javascript. Need to investigate further.
t/50-click.t ...................... skipped: Couldn't connect to MozRepl: Failed to connect to , problem connecting to "localhost", port 4242: Connection refused at /home/cpansand/.cpan/build/2018102812/MozRepl-0.06-7/blib/lib/MozRepl/Client.pm line 144
t/50-follow-link.t ................ skipped: Couldn't connect to MozRepl: Failed to connect to , problem connecting to "localhost", port 4242: Connection refused at /home/cpansand/.cpan/build/2018102812/MozRepl-0.06-7/blib/lib/MozRepl/Client.pm line 144
t/50-form-with-fields.t ........... skipped: Couldn't connect to MozRepl: Failed to connect to , problem connecting to "localhost", port 4242: Connection refused at /home/cpansand/.cpan/build/2018102812/MozRepl-0.06-7/blib/lib/MozRepl/Client.pm line 144
t/50-form2.t ...................... skipped: Couldn't connect to MozRepl: Failed to connect to , problem connecting to "localhost", port 4242: Connection refused at /home/cpansand/.cpan/build/2018102812/MozRepl-0.06-7/blib/lib/MozRepl/Client.pm line 144
t/50-load-and-load.t .............. skipped: Couldn't connect to MozRepl: Failed to connect to , problem connecting to "localhost", port 4242: Connection refused at /home/cpansand/.cpan/build/2018102812/MozRepl-0.06-7/blib/lib/MozRepl/Client.pm line 144
t/50-mech-activateTab.t ........... skipped: Couldn't connect to MozRepl: Failed to connect to , problem connecting to "localhost", port 4242: Connection refused at /home/cpansand/.cpan/build/2018102812/MozRepl-0.06-7/blib/lib/MozRepl/Client.pm line 144
t/50-mech-bufsize.t ............... skipped: Couldn't connect to MozRepl: Failed to connect to , problem connecting to "localhost", port 4242: Connection refused at /home/cpansand/.cpan/build/2018102812/MozRepl-0.06-7/blib/lib/MozRepl/Client.pm line 144
t/50-mech-closeTab.t .............. skipped: Couldn't connect to MozRepl: Failed to connect to , problem connecting to "localhost", port 4242: Connection refused at /home/cpansand/.cpan/build/2018102812/MozRepl-0.06-7/blib/lib/MozRepl/Client.pm line 144
t/50-mech-content.t ............... skipped: Couldn't connect to MozRepl: Failed to connect to , problem connecting to "localhost", port 4242: Connection refused at /home/cpansand/.cpan/build/2018102812/MozRepl-0.06-7/blib/lib/MozRepl/Client.pm line 144
t/50-mech-ct.t .................... skipped: Couldn't connect to MozRepl: Failed to connect to , problem connecting to "localhost", port 4242: Connection refused at /home/cpansand/.cpan/build/2018102812/MozRepl-0.06-7/blib/lib/MozRepl/Client.pm line 144
t/50-mech-encoding.t .............. skipped: Couldn't connect to MozRepl: Failed to connect to , problem connecting to "localhost", port 4242: Connection refused at /home/cpansand/.cpan/build/2018102812/MozRepl-0.06-7/blib/lib/MozRepl/Client.pm line 144
t/50-mech-error.t ................. skipped: Couldn't connect to MozRepl: Failed to connect to , problem connecting to "localhost", port 4242: Connection refused at /home/cpansand/.cpan/build/2018102812/MozRepl-0.06-7/blib/lib/MozRepl/Client.pm line 144
t/50-mech-event.t ................. skipped: Couldn't connect to MozRepl: Failed to connect to , problem connecting to "localhost", port 4242: Connection refused at /home/cpansand/.cpan/build/2018102812/MozRepl-0.06-7/blib/lib/MozRepl/Client.pm line 144
t/50-mech-forms.t ................. skipped: Couldn't connect to MozRepl: Failed to connect to , problem connecting to "localhost", port 4242: Connection refused at /home/cpansand/.cpan/build/2018102812/MozRepl-0.06-7/blib/lib/MozRepl/Client.pm line 144
t/50-mech-get-nocache.t ........... skipped: Couldn't connect to MozRepl: Failed to connect to , problem connecting to "localhost", port 4242: Connection refused at /home/cpansand/.cpan/build/2018102812/MozRepl-0.06-7/blib/lib/MozRepl/Client.pm line 144
t/50-mech-get.t ................... skipped: Couldn't connect to MozRepl: Failed to connect to , problem connecting to "localhost", port 4242: Connection refused at /home/cpansand/.cpan/build/2018102812/MozRepl-0.06-7/blib/lib/MozRepl/Client.pm line 144
t/50-mech-multi-event.t ........... skipped: Couldn't connect to MozRepl: Failed to connect to , problem connecting to "localhost", port 4242: Connection refused at /home/cpansand/.cpan/build/2018102812/MozRepl-0.06-7/blib/lib/MozRepl/Client.pm line 144
t/50-mech-new-dsl.t ............... skipped: Couldn't connect to MozRepl: Failed to connect to , problem connecting to "localhost", port 4242: Connection refused at /home/cpansand/.cpan/build/2018102812/MozRepl-0.06-7/blib/lib/MozRepl/Client.pm line 144
t/50-mech-new-with-tab.t .......... skipped: Couldn't connect to MozRepl: Failed to connect to , problem connecting to "localhost", port 4242: Connection refused at /home/cpansand/.cpan/build/2018102812/MozRepl-0.06-7/blib/lib/MozRepl/Client.pm line 144
t/50-mech-new.t ................... skipped: Couldn't connect to MozRepl: Failed to connect to , problem connecting to "localhost", port 4242: Connection refused at /home/cpansand/.cpan/build/2018102812/MozRepl-0.06-7/blib/lib/MozRepl/Client.pm line 144
t/50-mech-post.t .................. skipped: Couldn't connect to MozRepl: Failed to connect to , problem connecting to "localhost", port 4242: Connection refused at /home/cpansand/.cpan/build/2018102812/MozRepl-0.06-7/blib/lib/MozRepl/Client.pm line 144
t/50-mech-save-dialog.t ........... skipped: Couldn't connect to MozRepl: Failed to connect to , problem connecting to "localhost", port 4242: Connection refused at /home/cpansand/.cpan/build/2018102812/MozRepl-0.06-7/blib/lib/MozRepl/Client.pm line 144
t/50-mech-set-fields-875912.t ..... skipped: Couldn't connect to MozRepl: Failed to connect to , problem connecting to "localhost", port 4242: Connection refused at /home/cpansand/.cpan/build/2018102812/MozRepl-0.06-7/blib/lib/MozRepl/Client.pm line 144
t/50-mech-status.t ................ skipped: Couldn't connect to MozRepl: Failed to connect to , problem connecting to "localhost", port 4242: Connection refused at /home/cpansand/.cpan/build/2018102812/MozRepl-0.06-7/blib/lib/MozRepl/Client.pm line 144
t/50-popup.t ...................... skipped: Opening windows are not yet tracked
t/50-rt65615.t .................... skipped: Couldn't connect to MozRepl: Failed to connect to , problem connecting to "localhost", port 4242: Connection refused at /home/cpansand/.cpan/build/2018102812/MozRepl-0.06-7/blib/lib/MozRepl/Client.pm line 144
t/50-tick.t ....................... skipped: Couldn't connect to MozRepl: Failed to connect to , problem connecting to "localhost", port 4242: Connection refused at /home/cpansand/.cpan/build/2018102812/MozRepl-0.06-7/blib/lib/MozRepl/Client.pm line 144
t/51-click_button.t ............... skipped: Couldn't connect to MozRepl: Failed to connect to , problem connecting to "localhost", port 4242: Connection refused at /home/cpansand/.cpan/build/2018102812/MozRepl-0.06-7/blib/lib/MozRepl/Client.pm line 144
t/51-click_js.t ................... skipped: Couldn't connect to MozRepl: Failed to connect to , problem connecting to "localhost", port 4242: Connection refused at /home/cpansand/.cpan/build/2018102812/MozRepl-0.06-7/blib/lib/MozRepl/Client.pm line 144
t/51-form-number-blakew.t ......... skipped: Couldn't connect to MozRepl: Failed to connect to , problem connecting to "localhost", port 4242: Connection refused at /home/cpansand/.cpan/build/2018102812/MozRepl-0.06-7/blib/lib/MozRepl/Client.pm line 144
t/51-mech-field.t ................. skipped: Couldn't connect to MozRepl: Failed to connect to , problem connecting to "localhost", port 4242: Connection refused at /home/cpansand/.cpan/build/2018102812/MozRepl-0.06-7/blib/lib/MozRepl/Client.pm line 144
t/51-mech-form-with-fields.t ...... skipped: Couldn't connect to MozRepl: Failed to connect to , problem connecting to "localhost", port 4242: Connection refused at /home/cpansand/.cpan/build/2018102812/MozRepl-0.06-7/blib/lib/MozRepl/Client.pm line 144
t/51-mech-links.t ................. skipped: Couldn't connect to MozRepl: Failed to connect to , problem connecting to "localhost", port 4242: Connection refused at /home/cpansand/.cpan/build/2018102812/MozRepl-0.06-7/blib/lib/MozRepl/Client.pm line 144
t/51-mech-navigation.t ............ skipped: Couldn't connect to MozRepl: Failed to connect to , problem connecting to "localhost", port 4242: Connection refused at /home/cpansand/.cpan/build/2018102812/MozRepl-0.06-7/blib/lib/MozRepl/Client.pm line 144
t/51-mech-sandbox.t ............... skipped: Couldn't connect to MozRepl: Failed to connect to , problem connecting to "localhost", port 4242: Connection refused at /home/cpansand/.cpan/build/2018102812/MozRepl-0.06-7/blib/lib/MozRepl/Client.pm line 144
t/51-mech-set-content.t ........... skipped: Couldn't connect to MozRepl: Failed to connect to , problem connecting to "localhost", port 4242: Connection refused at /home/cpansand/.cpan/build/2018102812/MozRepl-0.06-7/blib/lib/MozRepl/Client.pm line 144
t/51-mech-submit.t ................ skipped: Couldn't connect to MozRepl: Failed to connect to , problem connecting to "localhost", port 4242: Connection refused at /home/cpansand/.cpan/build/2018102812/MozRepl-0.06-7/blib/lib/MozRepl/Client.pm line 144
t/52-frame-document.t ............. skipped: Couldn't connect to MozRepl: Failed to connect to , problem connecting to "localhost", port 4242: Connection refused at /home/cpansand/.cpan/build/2018102812/MozRepl-0.06-7/blib/lib/MozRepl/Client.pm line 144
t/52-frame-event.t ................ skipped: Couldn't connect to MozRepl: Failed to connect to , problem connecting to "localhost", port 4242: Connection refused at /home/cpansand/.cpan/build/2018102812/MozRepl-0.06-7/blib/lib/MozRepl/Client.pm line 144
t/52-mech-api-find_link-frames.t .. skipped: Couldn't connect to MozRepl: Failed to connect to , problem connecting to "localhost", port 4242: Connection refused at /home/cpansand/.cpan/build/2018102812/MozRepl-0.06-7/blib/lib/MozRepl/Client.pm line 144
t/52-mech-api-find_link.t ......... skipped: Couldn't connect to MozRepl: Failed to connect to , problem connecting to "localhost", port 4242: Connection refused at /home/cpansand/.cpan/build/2018102812/MozRepl-0.06-7/blib/lib/MozRepl/Client.pm line 144
t/52-mech-xpath.t ................. skipped: Couldn't connect to MozRepl: Failed to connect to , problem connecting to "localhost", port 4242: Connection refused at /home/cpansand/.cpan/build/2018102812/MozRepl-0.06-7/blib/lib/MozRepl/Client.pm line 144
t/52-selector-frames.t ............ skipped: Couldn't connect to MozRepl: Failed to connect to , problem connecting to "localhost", port 4242: Connection refused at /home/cpansand/.cpan/build/2018102812/MozRepl-0.06-7/blib/lib/MozRepl/Client.pm line 144
t/52-selector-noframes.t .......... skipped: Couldn't connect to MozRepl: Failed to connect to , problem connecting to "localhost", port 4242: Connection refused at /home/cpansand/.cpan/build/2018102812/MozRepl-0.06-7/blib/lib/MozRepl/Client.pm line 144
t/52-selector-relative.t .......... skipped: Couldn't connect to MozRepl: Failed to connect to , problem connecting to "localhost", port 4242: Connection refused at /home/cpansand/.cpan/build/2018102812/MozRepl-0.06-7/blib/lib/MozRepl/Client.pm line 144
t/53-mech-capture-js-error.t ...... skipped: Couldn't connect to MozRepl: Failed to connect to , problem connecting to "localhost", port 4242: Connection refused at /home/cpansand/.cpan/build/2018102812/MozRepl-0.06-7/blib/lib/MozRepl/Client.pm line 144
t/55-basic-auth.t ................. skipped: presetting auth does not work yet
t/60-mech-cookies.t ............... skipped: Couldn't connect to MozRepl: Failed to connect to , problem connecting to "localhost", port 4242: Connection refused at /home/cpansand/.cpan/build/2018102812/MozRepl-0.06-7/blib/lib/MozRepl/Client.pm line 144
t/60-mech-custom-headers.t ........ skipped: Couldn't connect to MozRepl: Failed to connect to , problem connecting to "localhost", port 4242: Connection refused at /home/cpansand/.cpan/build/2018102812/MozRepl-0.06-7/blib/lib/MozRepl/Client.pm line 144
t/65-is_visible.t ................. skipped: Couldn't connect to MozRepl: Failed to connect to , problem connecting to "localhost", port 4242: Connection refused at /home/cpansand/.cpan/build/2018102812/MozRepl-0.06-7/blib/lib/MozRepl/Client.pm line 144
t/65-mech-meta.t .................. skipped: Couldn't connect to MozRepl: Failed to connect to , problem connecting to "localhost", port 4242: Connection refused at /home/cpansand/.cpan/build/2018102812/MozRepl-0.06-7/blib/lib/MozRepl/Client.pm line 144
t/65-set_visible.t ................ skipped: Couldn't connect to MozRepl: Failed to connect to , problem connecting to "localhost", port 4242: Connection refused at /home/cpansand/.cpan/build/2018102812/MozRepl-0.06-7/blib/lib/MozRepl/Client.pm line 144
t/70-download-url.t ............... skipped: Couldn't connect to MozRepl: Failed to connect to , problem connecting to "localhost", port 4242: Connection refused at /home/cpansand/.cpan/build/2018102812/MozRepl-0.06-7/blib/lib/MozRepl/Client.pm line 144
t/70-mech-png.t ................... skipped: Couldn't connect to MozRepl: Failed to connect to , problem connecting to "localhost", port 4242: Connection refused at /home/cpansand/.cpan/build/2018102812/MozRepl-0.06-7/blib/lib/MozRepl/Client.pm line 144
t/70-real-status.t ................ skipped: Couldn't connect to MozRepl: Failed to connect to , problem connecting to "localhost", port 4242: Connection refused at /home/cpansand/.cpan/build/2018102812/MozRepl-0.06-7/blib/lib/MozRepl/Client.pm line 144
t/70-rt70106-reload.t ............. skipped: Couldn't connect to MozRepl: Failed to connect to , problem connecting to "localhost", port 4242: Connection refused at /home/cpansand/.cpan/build/2018102812/MozRepl-0.06-7/blib/lib/MozRepl/Client.pm line 144
t/70-rt71216.t .................... skipped: Couldn't connect to MozRepl: Failed to connect to , problem connecting to "localhost", port 4242: Connection refused at /home/cpansand/.cpan/build/2018102812/MozRepl-0.06-7/blib/lib/MozRepl/Client.pm line 144
t/70-tag-team.t ................... skipped: Couldn't connect to MozRepl: Failed to connect to , problem connecting to "localhost", port 4242: Connection refused at /home/cpansand/.cpan/build/2018102812/MozRepl-0.06-7/blib/lib/MozRepl/Client.pm line 144
t/70-two-instances.t .............. skipped: Couldn't connect to MozRepl: Failed to connect to , problem connecting to "localhost", port 4242: Connection refused at /home/cpansand/.cpan/build/2018102812/MozRepl-0.06-7/blib/lib/MozRepl/Client.pm line 144
t/70-urlbar.t ..................... skipped: Couldn't connect to MozRepl: Failed to connect to , problem connecting to "localhost", port 4242: Connection refused at /home/cpansand/.cpan/build/2018102812/MozRepl-0.06-7/blib/lib/MozRepl/Client.pm line 144
t/75-save_url-cookies.t ........... skipped: Couldn't connect to MozRepl: Failed to connect to , problem connecting to "localhost", port 4242: Connection refused at /home/cpansand/.cpan/build/2018102812/MozRepl-0.06-7/blib/lib/MozRepl/Client.pm line 144
t/mechanize/autocheck.t ........... skipped: Couldn't connect to MozRepl: Failed to connect to , problem connecting to "localhost", port 4242: Connection refused at /home/cpansand/.cpan/build/2018102812/MozRepl-0.06-7/blib/lib/MozRepl/Client.pm line 144
t/mechanize/content.t ............. skipped: Couldn't connect to MozRepl: Failed to connect to , problem connecting to "localhost", port 4242: Connection refused at /home/cpansand/.cpan/build/2018102812/MozRepl-0.06-7/blib/lib/MozRepl/Client.pm line 144
t/rt65615.t ....................... skipped: Couldn't connect to MozRepl: Failed to connect to , problem connecting to "localhost", port 4242: Connection refused at /home/cpansand/.cpan/build/2018102812/MozRepl-0.06-7/blib/lib/MozRepl/Client.pm line 144
t/rt78706.t ....................... skipped: Couldn't connect to MozRepl: Failed to connect to , problem connecting to "localhost", port 4242: Connection refused at /home/cpansand/.cpan/build/2018102812/MozRepl-0.06-7/blib/lib/MozRepl/Client.pm line 144
t/rt84418.t ....................... skipped: Couldn't connect to MozRepl: Failed to connect to , problem connecting to "localhost", port 4242: Connection refused at /home/cpansand/.cpan/build/2018102812/MozRepl-0.06-7/blib/lib/MozRepl/Client.pm line 144
t/rt88100-continuation.t .......... skipped: Couldn't connect to MozRepl: Failed to connect to , problem connecting to "localhost", port 4242: Connection refused at /home/cpansand/.cpan/build/2018102812/MozRepl-0.06-7/blib/lib/MozRepl/Client.pm line 144
t/select.t ........................ skipped: Couldn't connect to MozRepl: Failed to connect to , problem connecting to "localhost", port 4242: Connection refused at /home/cpansand/.cpan/build/2018102812/MozRepl-0.06-7/blib/lib/MozRepl/Client.pm line 144
All tests successful.
Files=82, Tests=1, 14 wallclock secs ( 0.01 usr  0.18 sys +  1.49 cusr 11.59 csys = 13.27 CPU)
Result: PASS

------------------------------
PREREQUISITES
------------------------------

Prerequisite modules loaded:

requires:

    Module                  Need  Have    
    ----------------------- ----- --------
    Cwd                     0     3.75    
    File::Basename          0     2.85    
    HTML::Selector::XPath   0     0.23    
    HTTP::Cookies           0     6.04    
    HTTP::Date              0     6.02    
    HTTP::Request::Common   0     6.16    
    HTTP::Response          0     6.16    
    MIME::Base64            0     3.15    
    MozRepl::RemoteObject   0.39  0.40    
    Object::Import          0     1.004   
    parent                  0     0.236   
    perl                    5.006 5.022001
    Scalar::Util            1.14  1.50    
    Shell::Command          0     0.06    
    URI                     0     1.74    
    URI::data               0     1.74    
    WWW::Mechanize          0     1.87    
    WWW::Mechanize::Link    0     1.87    

build_requires:

    Module                  Need  Have    
    ----------------------- ----- --------
    Data::Dumper            0     2.172   
    ExtUtils::MakeMaker     0     7.34    
    Image::Info             0     1.41    
    Test::Deep              0     1.128   
    Test::HTTP::LocalServer 0.61  0.64    
    Test::More              0     1.302140
    URI                     0     1.74    
    URI::file               0     4.21    

configure_requires:

    Module                  Need  Have    
    ----------------------- ----- --------
    ExtUtils::MakeMaker     0     7.34    


------------------------------
ENVIRONMENT AND OTHER CONTEXT
------------------------------

Environment variables:

    LC_ALL = de_DE.ISO8859-1
    PATH = /usr/local/bin:/usr/bin:/bin:/usr/local/sbin:/usr/sbin:/sbin:/home/cpansand/bin/freebsd10.3:/home/cpansand/bin/sh:/home/cpansand/bin:/usr/games:/home/cpansand/devel:/home/eserte/src/srezic-misc/scripts
    PERL5LIB = /home/cpansand/.cpan/build/2018102812/Shell-Command-0.06-7/blib/arch:/home/cpansand/.cpan/build/2018102812/Shell-Command-0.06-7/blib/lib:/home/cpansand/.cpan/build/2018102812/MozRepl-RemoteObject-0.40-7/blib/arch:/home/cpansand/.cpan/build/2018102812/MozRepl-RemoteObject-0.40-7/blib/lib:/home/cpansand/.cpan/build/2018102812/MozRepl-0.06-7/blib/arch:/home/cpansand/.cpan/build/2018102812/MozRepl-0.06-7/blib/lib:/home/cpansand/.cpan/build/2018102812/Template-Provider-FromDATA-0.13-7/blib/arch:/home/cpansand/.cpan/build/2018102812/Template-Provider-FromDATA-0.13-7/blib/lib:/home/cpansand/.cpan/build/2018102812/Data-JavaScript-Anon-1.03-7/blib/arch:/home/cpansand/.cpan/build/2018102812/Data-JavaScript-Anon-1.03-7/blib/lib:/home/cpansand/.cpan/build/2018102812/Class-Default-1.51-7/blib/arch:/home/cpansand/.cpan/build/2018102812/Class-Default-1.51-7/blib/lib:/home/cpansand/.cpan/build/2018102812/MojoX-CloudFlare-Simple-0.04-10/blib/arch:/home/cpansand/.cpan/build/2018102812/MojoX-CloudFlare-Simple-0.04-10/blib/lib:/home/cpansand/.cpan/build/2018102812/Error-0.17027-10/blib/arch:/home/cpansand/.cpan/build/2018102812/Error-0.17027-10/blib/lib
    PERL5OPT = 
    PERL5_CPANPLUS_IS_RUNNING = 20740
    PERL5_CPAN_IS_RUNNING = 20740
    PERL5_CPAN_IS_RUNNING_IN_RECURSION = 10839,20740
    PERLDOC = -MPod::Perldoc::ToTextOverstrike
    PERL_BATCH = yes
    PERL_CANARY_STABILITY_NOPROMPT = 1
    PERL_CPAN_REPORTER_CONFIG = /var/tmp/cpansmoker-1023/2018102812/cpanreporter_000_config.ini
    PERL_EXTUTILS_AUTOINSTALL = --defaultdeps
    SHELL = /usr/local/bin/zsh
    TERM = screen
    TMPDIR = /var/tmp/cpansmoker-1023/2018102812

Perl special variables (and OS-specific diagnostics, for MSWin32):

    $^X = /usr/perl5.22.1p/bin/perl5.22.1
    $UID/$EUID = 1023 / 1023
    $GID = 1023 1023
    $EGID = 1023 1023

Perl module toolchain versions installed:

    Module              Have    
    ------------------- --------
    CPAN                2.16    
    CPAN::Meta          2.150010
    Cwd                 3.75    
    ExtUtils::CBuilder  0.280230
    ExtUtils::Command   7.34    
    ExtUtils::Install   2.14    
    ExtUtils::MakeMaker 7.34    
    ExtUtils::Manifest  1.70    
    ExtUtils::ParseXS   3.30    
    File::Spec          3.75    
    JSON                2.97001 
    JSON::PP            2.97001 
    Module::Build       0.4224  
    Module::Signature   0.83    
    Parse::CPAN::Meta   2.150010
    Test::Harness       3.42    
    Test::More          1.302140
    YAML                1.26    
    YAML::Syck          1.30    
    version             0.9922  


--

Summary of my perl5 (revision 5 version 22 subversion 1) configuration:
   
  Platform:
    osname=freebsd, osvers=10.1-release, archname=amd64-freebsd
    uname='freebsd cvrsnica-freebsd-101.herceg.de 10.1-release freebsd 10.1-release #0 r274401: tue nov 11 21:02:49 utc 2014 root@releng1.nyi.freebsd.org:usrobjusrsrcsysgeneric amd64 '
    config_args='-ds -e -Dprefix=/usr/perl5.22.1p -Dcf_email=srezic@cpan.org'
    hint=recommended, useposix=true, d_sigaction=define
    useithreads=undef, usemultiplicity=undef
    use64bitint=define, use64bitall=define, uselongdouble=undef
    usemymalloc=n, bincompat5005=undef
  Compiler:
    cc='cc', ccflags ='-DHAS_FPSETMASK -DHAS_FLOATINGPOINT_H -fno-strict-aliasing -pipe -fstack-protector -I/usr/local/include -D_FORTIFY_SOURCE=2',
    optimize='-O',
    cppflags='-DHAS_FPSETMASK -DHAS_FLOATINGPOINT_H -fno-strict-aliasing -pipe -fstack-protector -I/usr/local/include'
    ccversion='', gccversion='4.2.1 Compatible FreeBSD Clang 3.4.1 (tags/RELEASE_34/dot1-final 208032)', gccosandvers=''
    intsize=4, longsize=8, ptrsize=8, doublesize=8, byteorder=12345678, doublekind=3
    d_longlong=define, longlongsize=8, d_longdbl=define, longdblsize=16, longdblkind=3
    ivtype='long', ivsize=8, nvtype='double', nvsize=8, Off_t='off_t', lseeksize=8
    alignbytes=8, prototype=define
  Linker and Libraries:
    ld='cc', ldflags ='-pthread -Wl,-E  -fstack-protector -L/usr/local/lib'
    libpth=/usr/lib /usr/local/lib /usr/include/clang/3.4.1 /usr/lib
    libs=-lpthread -lgdbm -lm -lcrypt -lutil -lc
    perllibs=-lpthread -lm -lcrypt -lutil -lc
    libc=, so=so, useshrplib=false, libperl=libperl.a
    gnulibc_version=''
  Dynamic Linking:
    dlsrc=dl_dlopen.xs, dlext=so, d_dlsymun=undef, ccdlflags=' '
    cccdlflags='-DPIC -fPIC', lddlflags='-shared  -L/usr/local/lib -fstack-protector'


Characteristics of this binary (from libperl): 
  Compile-time options: HAS_TIMES PERLIO_LAYERS PERL_DONT_CREATE_GVSV
                        PERL_HASH_FUNC_ONE_AT_A_TIME_HARD PERL_MALLOC_WRAP
                        PERL_NEW_COPY_ON_WRITE PERL_PRESERVE_IVUV
                        USE_64_BIT_ALL USE_64_BIT_INT USE_LARGE_FILES
                        USE_LOCALE USE_LOCALE_COLLATE USE_LOCALE_CTYPE
                        USE_LOCALE_NUMERIC USE_LOCALE_TIME USE_PERLIO
                        USE_PERL_ATOF
  Built under freebsd
  Compiled at Dec 15 2015 07:47:22
  %ENV:
    PERL5LIB="/home/cpansand/.cpan/build/2018102812/Shell-Command-0.06-7/blib/arch:/home/cpansand/.cpan/build/2018102812/Shell-Command-0.06-7/blib/lib:/home/cpansand/.cpan/build/2018102812/MozRepl-RemoteObject-0.40-7/blib/arch:/home/cpansand/.cpan/build/2018102812/MozRepl-RemoteObject-0.40-7/blib/lib:/home/cpansand/.cpan/build/2018102812/MozRepl-0.06-7/blib/arch:/home/cpansand/.cpan/build/2018102812/MozRepl-0.06-7/blib/lib:/home/cpansand/.cpan/build/2018102812/Template-Provider-FromDATA-0.13-7/blib/arch:/home/cpansand/.cpan/build/2018102812/Template-Provider-FromDATA-0.13-7/blib/lib:/home/cpansand/.cpan/build/2018102812/Data-JavaScript-Anon-1.03-7/blib/arch:/home/cpansand/.cpan/build/2018102812/Data-JavaScript-Anon-1.03-7/blib/lib:/home/cpansand/.cpan/build/2018102812/Class-Default-1.51-7/blib/arch:/home/cpansand/.cpan/build/2018102812/Class-Default-1.51-7/blib/lib:/home/cpansand/.cpan/build/2018102812/MojoX-CloudFlare-Simple-0.04-10/blib/arch:/home/cpansand/.cpan/build/2018102812/MojoX-CloudFlare-Simple-0.04-10/blib/lib:/home/cpansand/.cpan/build/2018102812/Error-0.17027-10/blib/arch:/home/cpansand/.cpan/build/2018102812/Error-0.17027-10/blib/lib"
    PERL5OPT=""
    PERL5_CPANPLUS_IS_RUNNING="20740"
    PERL5_CPAN_IS_RUNNING="20740"
    PERL5_CPAN_IS_RUNNING_IN_RECURSION="10839,20740"
    PERLDOC="-MPod::Perldoc::ToTextOverstrike"
    PERL_BATCH="yes"
    PERL_CANARY_STABILITY_NOPROMPT="1"
    PERL_CPAN_REPORTER_CONFIG="/var/tmp/cpansmoker-1023/2018102812/cpanreporter_000_config.ini"
    PERL_EXTUTILS_AUTOINSTALL="--defaultdeps"
  @INC:
    /home/cpansand/.cpan/build/2018102812/Shell-Command-0.06-7/blib/arch
    /home/cpansand/.cpan/build/2018102812/Shell-Command-0.06-7/blib/lib
    /home/cpansand/.cpan/build/2018102812/MozRepl-RemoteObject-0.40-7/blib/arch
    /home/cpansand/.cpan/build/2018102812/MozRepl-RemoteObject-0.40-7/blib/lib
    /home/cpansand/.cpan/build/2018102812/MozRepl-0.06-7/blib/arch
    /home/cpansand/.cpan/build/2018102812/MozRepl-0.06-7/blib/lib
    /home/cpansand/.cpan/build/2018102812/Template-Provider-FromDATA-0.13-7/blib/arch
    /home/cpansand/.cpan/build/2018102812/Template-Provider-FromDATA-0.13-7/blib/lib
    /home/cpansand/.cpan/build/2018102812/Data-JavaScript-Anon-1.03-7/blib/arch
    /home/cpansand/.cpan/build/2018102812/Data-JavaScript-Anon-1.03-7/blib/lib
    /home/cpansand/.cpan/build/2018102812/Class-Default-1.51-7/blib/arch
    /home/cpansand/.cpan/build/2018102812/Class-Default-1.51-7/blib/lib
    /home/cpansand/.cpan/build/2018102812/MojoX-CloudFlare-Simple-0.04-10/blib/arch
    /home/cpansand/.cpan/build/2018102812/MojoX-CloudFlare-Simple-0.04-10/blib/lib
    /home/cpansand/.cpan/build/2018102812/Error-0.17027-10/blib/arch
    /home/cpansand/.cpan/build/2018102812/Error-0.17027-10/blib/lib
    /usr/perl5.22.1p/lib/site_perl/5.22.1/amd64-freebsd
    /usr/perl5.22.1p/lib/site_perl/5.22.1
    /usr/perl5.22.1p/lib/5.22.1/amd64-freebsd
    /usr/perl5.22.1p/lib/5.22.1
    .