Back
From: metabase:user:314402c4-2aae-11df-837a-5e0a49663a4f
Subject: PASS Net-Statsd-Server-0.17 v5.14.4 GNU/Linux
Date: 2014-06-13T12:22:14Z
This distribution has been tested as part of the CPAN Testers
project, supporting the Perl programming language. See
http://wiki.cpantesters.org/ for more information or email
questions to cpan-testers-discuss@perl.org
--
Dear Cosimo Streppone,
This is a computer-generated report for Net-Statsd-Server-0.17
on perl 5.14.4, created by CPAN-Reporter-1.2011.
Thank you for uploading your work to CPAN. Congratulations!
All tests were successful.
Sections of this report:
* Tester comments
* Program output
* Prerequisites
* Environment and other context
------------------------------
TESTER COMMENTS
------------------------------
Additional comments from tester:
none provided
------------------------------
PROGRAM OUTPUT
------------------------------
Output from '/usr/bin/make test':
PERL_DL_NONLAZY=1 /bbbike/perl-5.14.4/bin/perl5.14.4 "-MExtUtils::Command::MM" "-MTest::Harness" "-e" "undef *Test::Harness::Switches; test_harness(0, 'blib/lib', 'blib/arch')" t/*.t t/integration-tests/*.t
t/000-sanity.t ............................. ok
t/config.t ................................. ok
t/graphite.t ............................... ok
2014-06-13 12:21:07.000000 +0000 note Net::Statsd::Server: Initializing Net::Statsd::Server::Backend::Console backend
2014-06-13 12:21:07.000000 +0000 note Net::Statsd::Server: Initializing Net::Statsd::Server::Backend::Graphite backend
2014-06-13 12:21:07.000000 +0000 info AnyEvent: Autoloaded model 'AnyEvent::Impl::EV', using it.
2014-06-13 12:21:07.698203 +0000 note Net::Statsd::Server: statsd server started on 0.0.0.0:40001 (v0.17)
2014-06-13 12:21:07.698240 +0000 note Net::Statsd::Server: manager interface started on 0.0.0.0:40002
2014-06-13 12:21:07.698276 +0000 note Net::Statsd::Server: metrics flush will happen every 1s
2014-06-13 12:21:08.117743 +0000 warn Net::Statsd::Server: Bad line: 1 in msg "a_bad_test_value|z"
2014-06-13 12:21:08.699031 +0000 note Net::Statsd::Server: flushing metrics
Flushing stats at Fri Jun 13 12:21:08 2014
{"pctThreshold":[90],"sets":null,"counter_rates":{"statsd.bad_lines_seen":1,"statsd.packets_received":1},"timer_data":{},"gauges":{},"timers":{},"counters":{"statsd.bad_lines_seen":1,"statsd.packets_received":1}}
t/integration-tests/bad-message.t .......... ok
2014-06-13 12:21:08.000000 +0000 note Net::Statsd::Server: Initializing Net::Statsd::Server::Backend::Console backend
2014-06-13 12:21:08.000000 +0000 note Net::Statsd::Server: Initializing Net::Statsd::Server::Backend::Graphite backend
2014-06-13 12:21:08.000000 +0000 info AnyEvent: Autoloaded model 'AnyEvent::Impl::EV', using it.
2014-06-13 12:21:08.848774 +0000 note Net::Statsd::Server: statsd server started on 0.0.0.0:40001 (v0.17)
2014-06-13 12:21:08.848814 +0000 note Net::Statsd::Server: manager interface started on 0.0.0.0:40002
2014-06-13 12:21:08.848850 +0000 note Net::Statsd::Server: metrics flush will happen every 1s
2014-06-13 12:21:09.847889 +0000 note Net::Statsd::Server: flushing metrics
Flushing stats at Fri Jun 13 12:21:09 2014
{"pctThreshold":[90],"sets":null,"counter_rates":{"a_test_value":100,"statsd.bad_lines_seen":0,"statsd.packets_received":1},"timer_data":{},"gauges":{},"timers":{},"counters":{"a_test_value":100,"statsd.bad_lines_seen":0,"statsd.packets_received":1}}
# stats.counters.a_test_value.rate 100.000000 1402662069
# stats.counters.a_test_value.count 100 1402662069
# stats.counters.statsd.bad_lines_seen.rate 0.000000 1402662069
# stats.counters.statsd.bad_lines_seen.count 0 1402662069
# stats.counters.statsd.packets_received.rate 1.000000 1402662069
# stats.counters.statsd.packets_received.count 1 1402662069
# stats.statsd.numStats 3 1402662069
# stats.statsd.graphiteStats.calculationtime 0.066000 1402662069
# stats.statsd.processing_time 0.019 1402662069
# stats.statsd.graphiteStats.last_exception 12832872 1402662069
# stats.statsd.graphiteStats.last_flush 12832872 1402662069
t/integration-tests/counts-are-valid.t ..... ok
2014-06-13 12:21:09.000000 +0000 note Net::Statsd::Server: Initializing Net::Statsd::Server::Backend::Graphite backend
2014-06-13 12:21:09.000000 +0000 info AnyEvent: Autoloaded model 'AnyEvent::Impl::EV', using it.
2014-06-13 12:21:10.000933 +0000 note Net::Statsd::Server: statsd server started on 0.0.0.0:40001 (v0.17)
2014-06-13 12:21:10.000991 +0000 note Net::Statsd::Server: manager interface started on 0.0.0.0:40002
2014-06-13 12:21:10.001028 +0000 note Net::Statsd::Server: metrics flush will happen every 1s
2014-06-13 12:21:11.001302 +0000 note Net::Statsd::Server: flushing metrics
# First flush. Test gauge should be there.
2014-06-13 12:21:12.000514 +0000 note Net::Statsd::Server: flushing metrics
# Second flush. deleteGauges=false should keep the test gauge.
t/integration-tests/delete-gauges-false.t .. ok
2014-06-13 12:21:12.000000 +0000 note Net::Statsd::Server: Initializing Net::Statsd::Server::Backend::Graphite backend
2014-06-13 12:21:12.000000 +0000 info AnyEvent: Autoloaded model 'AnyEvent::Impl::EV', using it.
2014-06-13 12:21:12.152338 +0000 note Net::Statsd::Server: statsd server started on 0.0.0.0:40001 (v0.17)
2014-06-13 12:21:12.152375 +0000 note Net::Statsd::Server: manager interface started on 0.0.0.0:40002
2014-06-13 12:21:12.152412 +0000 note Net::Statsd::Server: metrics flush will happen every 1s
2014-06-13 12:21:13.151256 +0000 note Net::Statsd::Server: flushing metrics
# First flush. Test gauge should be there.
2014-06-13 12:21:14.155379 +0000 note Net::Statsd::Server: flushing metrics
# Second flush. deleteIdleStats should have cleared the test gauge.
t/integration-tests/delete-idle-stats.t .... ok
2014-06-13 12:21:14.000000 +0000 note Net::Statsd::Server: Initializing Net::Statsd::Server::Backend::Graphite backend
2014-06-13 12:21:14.000000 +0000 info AnyEvent: Autoloaded model 'AnyEvent::Impl::EV', using it.
2014-06-13 12:21:14.303755 +0000 note Net::Statsd::Server: statsd server started on 0.0.0.0:40001 (v0.17)
2014-06-13 12:21:14.303793 +0000 note Net::Statsd::Server: manager interface started on 0.0.0.0:40002
2014-06-13 12:21:14.303829 +0000 note Net::Statsd::Server: metrics flush will happen every 1s
# Expected mean value is 1988.64
2014-06-13 12:21:15.304779 +0000 note Net::Statsd::Server: flushing metrics
# stats.counters.statsd.bad_lines_seen.rate 0.000000 1402662075
# stats.counters.statsd.bad_lines_seen.count 0 1402662075
# stats.counters.statsd.packets_received.rate 100.000000 1402662075
# stats.counters.statsd.packets_received.count 100 1402662075
# stats.timers.read_latency.sum_98 192925.000000 1402662075
# stats.timers.read_latency.upper_95 2828.000000 1402662075
# stats.timers.read_latency.mean_95 1940.126316 1402662075
# stats.timers.read_latency.sum_95 184312.000000 1402662075
# stats.timers.read_latency.upper_98 2936.000000 1402662075
# stats.timers.read_latency.median 2013.000000 1402662075
# stats.timers.read_latency.count_95 95.000000 1402662075
# stats.timers.read_latency.upper_99 2957.000000 1402662075
# stats.timers.read_latency.sum_squares_95 384239298.000000 1402662075
# stats.timers.read_latency.sum 198864.000000 1402662075
# stats.timers.read_latency.mean_99 1978.606061 1402662075
# stats.timers.read_latency.count 100.000000 1402662075
# stats.timers.read_latency.upper 2982.000000 1402662075
# stats.timers.read_latency.mean_98 1968.622449 1402662075
# stats.timers.read_latency.sum_squares_98 408973599.000000 1402662075
# stats.timers.read_latency.count_99 99.000000 1402662075
# stats.timers.read_latency.std 558.040026 1402662075
# stats.timers.read_latency.mean 1988.640000 1402662075
# stats.timers.read_latency.count_98 98.000000 1402662075
# stats.timers.read_latency.count_ps 100.000000 1402662075
# stats.timers.read_latency.lower 1018.000000 1402662075
# stats.timers.read_latency.sum_squares 426609772.000000 1402662075
# stats.timers.read_latency.sum_squares_99 417717448.000000 1402662075
# stats.timers.read_latency.sum_99 195882.000000 1402662075
# stats.statsd.numStats 3 1402662075
# stats.statsd.graphiteStats.calculationtime 0.097000 1402662075
# stats.statsd.processing_time 0.22 1402662075
# stats.statsd.graphiteStats.last_exception 29122664 1402662075
# stats.statsd.graphiteStats.last_flush 29122664 1402662075
t/integration-tests/percent-threshold.t .... ok
2014-06-13 12:21:15.000000 +0000 note Net::Statsd::Server: Initializing Net::Statsd::Server::Backend::Console backend
2014-06-13 12:21:15.000000 +0000 note Net::Statsd::Server: Initializing Net::Statsd::Server::Backend::Graphite backend
2014-06-13 12:21:15.000000 +0000 info AnyEvent: Autoloaded model 'AnyEvent::Impl::EV', using it.
2014-06-13 12:21:15.455013 +0000 note Net::Statsd::Server: statsd server started on 0.0.0.0:40001 (v0.17)
2014-06-13 12:21:15.455050 +0000 note Net::Statsd::Server: manager interface started on 0.0.0.0:40002
2014-06-13 12:21:15.455087 +0000 note Net::Statsd::Server: metrics flush will happen every 1s
2014-06-13 12:21:16.456639 +0000 note Net::Statsd::Server: flushing metrics
Flushing stats at Fri Jun 13 12:21:16 2014
{"pctThreshold":["90"],"sets":null,"counter_rates":{"statsd.bad_lines_seen":0,"statsd.packets_received":1},"timer_data":{"a_test_value":{"count":1,"upper":"100","std":0,"count_90":1,"median":"100","mean":100,"sum_squares_90":10000,"mean_90":"100","count_ps":1,"upper_90":"100","sum_90":"100","lower":"100","sum_squares":10000,"sum":"100"}},"gauges":{},"timers":{"a_test_value":["100"]},"counters":{"statsd.bad_lines_seen":0,"statsd.packets_received":1}}
# stats.counters.statsd.bad_lines_seen.rate 0.000000 1402662076
# stats.counters.statsd.bad_lines_seen.count 0 1402662076
# stats.counters.statsd.packets_received.rate 1.000000 1402662076
# stats.counters.statsd.packets_received.count 1 1402662076
# stats.timers.a_test_value.count 1.000000 1402662076
# stats.timers.a_test_value.upper 100.000000 1402662076
# stats.timers.a_test_value.std 0.000000 1402662076
# stats.timers.a_test_value.count_90 1.000000 1402662076
# stats.timers.a_test_value.median 100.000000 1402662076
# stats.timers.a_test_value.mean 100.000000 1402662076
# stats.timers.a_test_value.sum_squares_90 10000.000000 1402662076
# stats.timers.a_test_value.mean_90 100.000000 1402662076
# stats.timers.a_test_value.count_ps 1.000000 1402662076
# stats.timers.a_test_value.upper_90 100.000000 1402662076
# stats.timers.a_test_value.sum_90 100.000000 1402662076
# stats.timers.a_test_value.lower 100.000000 1402662076
# stats.timers.a_test_value.sum_squares 10000.000000 1402662076
# stats.timers.a_test_value.sum 100.000000 1402662076
# stats.statsd.numStats 3 1402662076
# stats.statsd.graphiteStats.calculationtime 0.088000 1402662076
# stats.statsd.processing_time 0.074 1402662076
# stats.statsd.graphiteStats.last_exception 18579560 1402662076
# stats.statsd.graphiteStats.last_flush 18579560 1402662076
t/integration-tests/timers-are-valid.t ..... ok
t/process-metrics.t ........................ ok
t/trim.t ................................... ok
All tests successful.
Files=11, Tests=90, 9 wallclock secs ( 0.03 usr 0.06 sys + 0.50 cusr 0.20 csys = 0.79 CPU)
Result: PASS
------------------------------
PREREQUISITES
------------------------------
Prerequisite modules loaded:
requires:
Module Need Have
--------------------- ---- --------
AnyEvent::Handle::UDP 0 0.043
IO::Socket::INET 0 1.31
JSON::XS 0 3.01
build_requires:
Module Need Have
--------------------- ---- --------
Test::More 0 1.001003
configure_requires:
Module Need Have
--------------------- ---- --------
ExtUtils::MakeMaker 6.30 6.98
------------------------------
ENVIRONMENT AND OTHER CONTEXT
------------------------------
Environment variables:
DBIC_NO_WARN_BAD_PERL = 1
LANG = C
LC_ALL = de_DE.UTF-8
PATH = /usr/local/bin:/usr/bin:/bin:/usr/local/sbin:/usr/sbin:/sbin:/home/eserte/bin/linux-gnu:/home/eserte/bin/sh:/home/eserte/bin:/usr/games:/home/eserte/devel:/home/eserte/src/srezic-misc/scripts
PERL5LIB = /home/eserte/.cpan/build/PkgConfig-0.07920-QwHRW9/blib/arch:/home/eserte/.cpan/build/PkgConfig-0.07920-QwHRW9/blib/lib:/home/eserte/.cpan/build/Search-Elasticsearch-Cxn-NetCurl-1.13-shrfq3/blib/arch:/home/eserte/.cpan/build/Search-Elasticsearch-Cxn-NetCurl-1.13-shrfq3/blib/lib:/home/eserte/.cpan/build/Search-Elasticsearch-Async-1.13-x5cjKH/blib/arch:/home/eserte/.cpan/build/Search-Elasticsearch-Async-1.13-x5cjKH/blib/lib
PERL5OPT =
PERL5_CPANPLUS_IS_RUNNING = 24566
PERL5_CPAN_IS_RUNNING = 24566
PERL5_CPAN_IS_RUNNING_IN_RECURSION = 24488,24566
PERLDOC = -MPod::Perldoc::ToTextOverstrike
PERL_BATCH = yes
PERL_CPAN_REPORTER_CONFIG = /var/tmp/cpansmoker-1001/4JFTxk9tMz_config.ini
PERL_EXTUTILS_AUTOINSTALL = --defaultdeps
PERL_HTML_DISPLAY_CLASS = HTML::Display::Mozilla
PERL_PARALLEL_SMOKER = yes
SHELL = /bin/zsh
TERM = screen
TMPDIR = /var/tmp/cpansmoker-1001
Perl special variables (and OS-specific diagnostics, for MSWin32):
$^X = /bbbike/perl-5.14.4/bin/perl5.14.4
$UID/$EUID = 1001 / 1001
$GID = 1001 109 1001
$EGID = 1001 109 1001
Perl module toolchain versions installed:
Module Have
------------------- ---------
CPAN 1.9600_01
CPAN::Meta 2.141520
Cwd 3.47
ExtUtils::CBuilder 0.280216
ExtUtils::Command 1.17
ExtUtils::Install 1.68
ExtUtils::MakeMaker 6.98
ExtUtils::Manifest 1.60
ExtUtils::ParseXS 3.24
File::Spec 3.47
JSON 2.90
JSON::PP 2.27203
Module::Build 0.4205
Module::Signature 0.73
Parse::CPAN::Meta 1.4414
Test::Harness 3.32
Test::More 1.001003
YAML 0.92
YAML::Syck 1.27
version 0.9908
--
Summary of my perl5 (revision 5 version 14 subversion 4) configuration:
Platform:
osname=linux, osvers=3.2.0-4-amd64, archname=x86_64-linux
uname='linux eserte 3.2.0-4-amd64 #1 smp debian 3.2.57-3 x86_64 gnulinux '
config_args='-ds -e -Dprefix=/opt/perl-5.14.4'
hint=recommended, useposix=true, d_sigaction=define
useithreads=undef, usemultiplicity=undef
useperlio=define, d_sfio=undef, uselargefiles=define, usesocks=undef
use64bitint=define, use64bitall=define, uselongdouble=undef
usemymalloc=n, bincompat5005=undef
Compiler:
cc='cc', ccflags ='-fno-strict-aliasing -pipe -fstack-protector -I/usr/local/include -D_LARGEFILE_SOURCE -D_FILE_OFFSET_BITS=64',
optimize='-O2',
cppflags='-fno-strict-aliasing -pipe -fstack-protector -I/usr/local/include'
ccversion='', gccversion='4.7.2', gccosandvers=''
intsize=4, longsize=8, ptrsize=8, doublesize=8, byteorder=12345678
d_longlong=define, longlongsize=8, d_longdbl=define, longdblsize=16
ivtype='long', ivsize=8, nvtype='double', nvsize=8, Off_t='off_t', lseeksize=8
alignbytes=8, prototype=define
Linker and Libraries:
ld='cc', ldflags =' -fstack-protector -L/usr/local/lib'
libpth=/usr/local/lib /lib/x86_64-linux-gnu /lib/../lib /usr/lib/x86_64-linux-gnu /usr/lib/../lib /lib /usr/lib
libs=-lnsl -ldb -ldl -lm -lcrypt -lutil -lc
perllibs=-lnsl -ldl -lm -lcrypt -lutil -lc
libc=, so=so, useshrplib=false, libperl=libperl.a
gnulibc_version='2.13'
Dynamic Linking:
dlsrc=dl_dlopen.xs, dlext=so, d_dlsymun=undef, ccdlflags='-Wl,-E'
cccdlflags='-fPIC', lddlflags='-shared -O2 -L/usr/local/lib -fstack-protector'
Characteristics of this binary (from libperl):
Compile-time options: PERL_DONT_CREATE_GVSV PERL_MALLOC_WRAP
PERL_PRESERVE_IVUV USE_64_BIT_ALL USE_64_BIT_INT
USE_LARGE_FILES USE_PERLIO USE_PERL_ATOF
Built under linux
Compiled at May 15 2014 16:40:06
%ENV:
PERL5LIB="/home/eserte/.cpan/build/PkgConfig-0.07920-QwHRW9/blib/arch:/home/eserte/.cpan/build/PkgConfig-0.07920-QwHRW9/blib/lib:/home/eserte/.cpan/build/Search-Elasticsearch-Cxn-NetCurl-1.13-shrfq3/blib/arch:/home/eserte/.cpan/build/Search-Elasticsearch-Cxn-NetCurl-1.13-shrfq3/blib/lib:/home/eserte/.cpan/build/Search-Elasticsearch-Async-1.13-x5cjKH/blib/arch:/home/eserte/.cpan/build/Search-Elasticsearch-Async-1.13-x5cjKH/blib/lib"
PERL5OPT=""
PERL5_CPANPLUS_IS_RUNNING="24566"
PERL5_CPAN_IS_RUNNING="24566"
PERL5_CPAN_IS_RUNNING_IN_RECURSION="24488,24566"
PERLDOC="-MPod::Perldoc::ToTextOverstrike"
PERL_BATCH="yes"
PERL_CPAN_REPORTER_CONFIG="/var/tmp/cpansmoker-1001/4JFTxk9tMz_config.ini"
PERL_EXTUTILS_AUTOINSTALL="--defaultdeps"
PERL_HTML_DISPLAY_CLASS="HTML::Display::Mozilla"
PERL_PARALLEL_SMOKER="yes"
@INC:
/home/eserte/.cpan/build/PkgConfig-0.07920-QwHRW9/blib/arch
/home/eserte/.cpan/build/PkgConfig-0.07920-QwHRW9/blib/lib
/home/eserte/.cpan/build/Search-Elasticsearch-Cxn-NetCurl-1.13-shrfq3/blib/arch
/home/eserte/.cpan/build/Search-Elasticsearch-Cxn-NetCurl-1.13-shrfq3/blib/lib
/home/eserte/.cpan/build/Search-Elasticsearch-Async-1.13-x5cjKH/blib/arch
/home/eserte/.cpan/build/Search-Elasticsearch-Async-1.13-x5cjKH/blib/lib
/opt/perl-5.14.4/lib/site_perl/5.14.4/x86_64-linux
/opt/perl-5.14.4/lib/site_perl/5.14.4
/opt/perl-5.14.4/lib/5.14.4/x86_64-linux
/opt/perl-5.14.4/lib/5.14.4
.