Back
From: metabase:user:838e5b0a-2bb6-1016-a696-43a2537fa0c6
Subject: PASS IO-Iron-0.09 v5.18.1
Date: 2014-04-19T19:27:22Z
This distribution has been tested as part of the CPAN Testers
project, supporting the Perl programming language. See
http://wiki.cpantesters.org/ for more information or email
questions to cpan-testers-discuss@perl.org
--
Dear Mikko Koivunalho,
This is a computer-generated report for IO-Iron-0.09
on perl 5.18.1, created by CPAN-Reporter-1.2010.
Thank you for uploading your work to CPAN. Congratulations!
All tests were successful.
Sections of this report:
* Tester comments
* Program output
* Prerequisites
* Environment and other context
------------------------------
TESTER COMMENTS
------------------------------
Additional comments from tester:
this report is from an automated smoke testing program
and was not reviewed by a human for accuracy
------------------------------
PROGRAM OUTPUT
------------------------------
Output from 'C:\strawberry\c\bin\dmake.exe test':
C:\strawberry\perl\bin\perl.exe "-MExtUtils::Command::MM" "-MTest::Harness" "-e" "undef *Test::Harness::Switches; test_harness(0, 'blib\lib', 'blib\arch')" t/*.t t/Iron/*.t t/IronCache/*.t t/IronMQ/*.t t/IronWorker/*.t
t/boilerplate.t ............. ok
# Testing IO::Iron::IronMQ 0.09, Perl 5.018001, C:\strawberry\perl\bin\perl.exe
# test ReadIronMQConfig
# Current dir config filename: iron.json
# Extra config filename: t\.IronMQTestConfig.json
t/Iron/client_readconfig.t .. ok
# Testing IO::Iron 0.09, Perl 5.018001, C:\strawberry\perl\bin\perl.exe
t/Iron/load.t ............... ok
# Testing IO::Iron::IronCache 0.09, Perl 5.018001, C:\strawberry\perl\bin\perl.exe
t/IronCache/load.t .......... ok
# Testing IO::Iron::IronMQ 0.09, Perl 5.018001, C:\strawberry\perl\bin\perl.exe
t/IronMQ/load.t ............. ok
# Testing IO::Iron::IronWorker 0.09, Perl 5.018001, C:\strawberry\perl\bin\perl.exe
t/IronWorker/load.t ......... ok
t/release-kwalitee.t ........ skipped: these tests are for release candidate testing
t/release-pod-coverage.t .... skipped: these tests are for release candidate testing
t/release-pod-syntax.t ...... skipped: these tests are for release candidate testing
All tests successful.
Test Summary Report
-------------------
t/boilerplate.t (Wstat: 0 Tests: 3 Failed: 0)
TODO passed: 1-3
Files=9, Tests=91, 8 wallclock secs ( 0.06 usr + 0.39 sys = 0.45 CPU)
Result: PASS
------------------------------
PREREQUISITES
------------------------------
Prerequisite modules loaded:
requires:
Module Need Have
------------------ ---- -------
Carp 0 1.32
Carp::Assert 0 0.20
Carp::Assert::More 0 1.14
constant 0 1.27
Data::Dumper 0 2.145
Data::UUID 0 1.219
English 0 1.06
Exception::Class 0 1.37
Exporter 0 5.68
File::HomeDir 0 1.00
File::Slurp 0 9999.19
File::Spec 0 3.40
Hash::Util 0.06 0.16
JSON 0 2.90
Log::Any 0 0.15
Params::Validate 0 1.08
parent 0 0.228
REST::Client 0 271
Scalar::Util 0 1.38
strict 0 1.07
Try::Tiny 0 0.18
URI::Escape 0 3.31
warnings 0 1.18
build_requires:
Module Need Have
------------------ ---- -------
File::Copy 0 2.26
File::Remove 0 1.52
Test::More 0 0.98
------------------------------
ENVIRONMENT AND OTHER CONTEXT
------------------------------
Environment variables:
AUTOMATED_TESTING = 1
COMSPEC = C:\Windows\system32\cmd.exe
LD_LIBRARY_PATH = /usr/lib/x86:/usr/X11R6/lib
NUMBER_OF_PROCESSORS = 4
PATH = C:\Windows\system32;C:\Windows;C:\Windows\System32\Wbem;C:\Windows\System32\WindowsPowerShell\v1.0\;C:\RV\BIN;C:\Program Files (x86)\GnuWin32\bin;C:\Windows\System32\Windows System Resource Manager\bin;C:\Windows\SUA\common\;C:\Windows\SUA\usr\lib\;C:\strawberry\c\bin;C:\strawberry\perl\site\bin;C:\strawberry\perl\bin
PERL5LIB = C:\strawberry\cpan\build\Exception-Class-1.37-EEFJs1/blib/arch;C:\strawberry\cpan\build\Exception-Class-1.37-EEFJs1/blib/lib;C:\strawberry\cpan\build\Class-Data-Inheritable-0.08-VtO9jU/blib/arch;C:\strawberry\cpan\build\Class-Data-Inheritable-0.08-VtO9jU/blib/lib;C:\strawberry\cpan\build\REST-Client-271-1uvd9H/blib/arch;C:\strawberry\cpan\build\REST-Client-271-1uvd9H/blib/lib;C:\strawberry\cpan\build\Log-Any-0.15-UfTwaq/blib/arch;C:\strawberry\cpan\build\Log-Any-0.15-UfTwaq/blib/lib;C:\strawberry\cpan\build\Carp-Assert-More-1.14-9bZ3aP/blib/arch;C:\strawberry\cpan\build\Carp-Assert-More-1.14-9bZ3aP/blib/lib;C:\strawberry\cpan\build\Carp-Assert-0.20-F4Y13Z/blib/arch;C:\strawberry\cpan\build\Carp-Assert-0.20-F4Y13Z/blib/lib
PERL5OPT =
PERL5_CPANPLUS_IS_RUNNING = 11256
PERL5_CPAN_IS_RUNNING = 11256
PERL5_CPAN_IS_RUNNING_IN_RECURSION = 9284,11256
PERL_CR_SMOKER_CURRENT = IO-Iron-0.09
PERL_EXTUTILS_AUTOINSTALL = --defaultdeps
PERL_JSON_BACKEND = JSON::XS
PERL_MM_USE_DEFAULT = 1
PERL_YAML_BACKEND = YAML
PROCESSOR_IDENTIFIER = Intel64 Family 6 Model 37 Stepping 1, GenuineIntel
TEMP = C:\Users\SOLIMA~1\AppData\Local\Temp
TERM = dumb
Perl special variables (and OS-specific diagnostics, for MSWin32):
$^X = C:\strawberry\perl\bin\perl.exe
$UID/$EUID = 0 / 0
$GID = 0
$EGID = 0
Win32::GetOSName = Win2008
Win32::GetOSVersion = Service Pack 1, 6, 1, 7601, 2, 1, 0, 272, 3
Win32::FsType = NTFS
Win32::IsAdminUser = 1
Perl module toolchain versions installed:
Module Have
------------------- --------
CPAN 2.00
CPAN::Meta 2.133380
Cwd 3.40
ExtUtils::CBuilder 0.280212
ExtUtils::Command 1.18
ExtUtils::Install 1.59
ExtUtils::MakeMaker 6.86
ExtUtils::Manifest 1.63
ExtUtils::ParseXS 3.22
File::Spec 3.40
JSON 2.90
JSON::PP 2.27203
Module::Build 0.4204
Module::Signature n/a
Parse::CPAN::Meta 1.4409
Test::Harness 3.30
Test::More 0.98
YAML 0.84
YAML::Syck n/a
version 0.9904
--
Summary of my perl5 (revision 5 version 18 subversion 1) configuration:
Platform:
osname=MSWin32, osvers=4.0, archname=MSWin32-x64-multi-thread
uname='Win32 strawberry-perl 5.18.1.1 #1 Tue Aug 13 17:18:28 2013 x64'
config_args='undef'
hint=recommended, useposix=true, d_sigaction=undef
useithreads=define, usemultiplicity=define
useperlio=define, d_sfio=undef, uselargefiles=define, usesocks=undef
use64bitint=define, use64bitall=undef, uselongdouble=undef
usemymalloc=n, bincompat5005=undef
Compiler:
cc='gcc', ccflags =' -s -O2 -DWIN32 -DWIN64 -DCONSERVATIVE -DPERL_TEXTMODE_SCRIPTS -DPERL_IMPLICIT_CONTEXT -DPERL_IMPLICIT_SYS -DUSE_PERLIO -fno-strict-aliasing -mms-bitfields',
optimize='-s -O2',
cppflags='-DWIN32'
ccversion='', gccversion='4.7.3', gccosandvers=''
intsize=4, longsize=4, ptrsize=8, doublesize=8, byteorder=12345678
d_longlong=define, longlongsize=8, d_longdbl=define, longdblsize=12
ivtype='long long', ivsize=8, nvtype='double', nvsize=8, Off_t='long long', lseeksize=8
alignbytes=8, prototype=define
Linker and Libraries:
ld='g++', ldflags ='-s -L"C:\strawberry\perl\lib\CORE" -L"C:\strawberry\c\lib"'
libpth=C:\strawberry\c\lib C:\strawberry\c\x86_64-w64-mingw32\lib
libs=-lmoldname -lkernel32 -luser32 -lgdi32 -lwinspool -lcomdlg32 -ladvapi32 -lshell32 -lole32 -loleaut32 -lnetapi32 -luuid -lws2_32 -lmpr -lwinmm -lversion -lodbc32 -lodbccp32 -lcomctl32
perllibs=-lmoldname -lkernel32 -luser32 -lgdi32 -lwinspool -lcomdlg32 -ladvapi32 -lshell32 -lole32 -loleaut32 -lnetapi32 -luuid -lws2_32 -lmpr -lwinmm -lversion -lodbc32 -lodbccp32 -lcomctl32
libc=, so=dll, useshrplib=true, libperl=libperl518.a
gnulibc_version=''
Dynamic Linking:
dlsrc=dl_win32.xs, dlext=dll, d_dlsymun=undef, ccdlflags=' '
cccdlflags=' ', lddlflags='-mdll -s -L"C:\strawberry\perl\lib\CORE" -L"C:\strawberry\c\lib"'
Characteristics of this binary (from libperl):
Compile-time options: HAS_TIMES HAVE_INTERP_INTERN MULTIPLICITY
PERLIO_LAYERS PERL_DONT_CREATE_GVSV
PERL_HASH_FUNC_ONE_AT_A_TIME_HARD
PERL_IMPLICIT_CONTEXT PERL_IMPLICIT_SYS
PERL_MALLOC_WRAP PERL_PRESERVE_IVUV PERL_SAWAMPERSAND
USE_64_BIT_INT USE_ITHREADS USE_LARGE_FILES
USE_LOCALE USE_LOCALE_COLLATE USE_LOCALE_CTYPE
USE_LOCALE_NUMERIC USE_PERLIO USE_PERL_ATOF
Built under MSWin32
Compiled at Aug 13 2013 17:23:34
%ENV:
PERL5LIB="C:\strawberry\cpan\build\Exception-Class-1.37-EEFJs1/blib/arch;C:\strawberry\cpan\build\Exception-Class-1.37-EEFJs1/blib/lib;C:\strawberry\cpan\build\Class-Data-Inheritable-0.08-VtO9jU/blib/arch;C:\strawberry\cpan\build\Class-Data-Inheritable-0.08-VtO9jU/blib/lib;C:\strawberry\cpan\build\REST-Client-271-1uvd9H/blib/arch;C:\strawberry\cpan\build\REST-Client-271-1uvd9H/blib/lib;C:\strawberry\cpan\build\Log-Any-0.15-UfTwaq/blib/arch;C:\strawberry\cpan\build\Log-Any-0.15-UfTwaq/blib/lib;C:\strawberry\cpan\build\Carp-Assert-More-1.14-9bZ3aP/blib/arch;C:\strawberry\cpan\build\Carp-Assert-More-1.14-9bZ3aP/blib/lib;C:\strawberry\cpan\build\Carp-Assert-0.20-F4Y13Z/blib/arch;C:\strawberry\cpan\build\Carp-Assert-0.20-F4Y13Z/blib/lib"
PERL5_CPANPLUS_IS_RUNNING="11256"
PERL5_CPAN_IS_RUNNING="11256"
PERL5_CPAN_IS_RUNNING_IN_RECURSION="9284,11256"
PERL_CR_SMOKER_CURRENT="IO-Iron-0.09"
PERL_EXTUTILS_AUTOINSTALL="--defaultdeps"
PERL_JSON_BACKEND="JSON::XS"
PERL_MM_USE_DEFAULT="1"
PERL_YAML_BACKEND="YAML"
@INC:
C:\strawberry\cpan\build\Exception-Class-1.37-EEFJs1/blib/arch
C:\strawberry\cpan\build\Exception-Class-1.37-EEFJs1/blib/lib
C:\strawberry\cpan\build\Class-Data-Inheritable-0.08-VtO9jU/blib/arch
C:\strawberry\cpan\build\Class-Data-Inheritable-0.08-VtO9jU/blib/lib
C:\strawberry\cpan\build\REST-Client-271-1uvd9H/blib/arch
C:\strawberry\cpan\build\REST-Client-271-1uvd9H/blib/lib
C:\strawberry\cpan\build\Log-Any-0.15-UfTwaq/blib/arch
C:\strawberry\cpan\build\Log-Any-0.15-UfTwaq/blib/lib
C:\strawberry\cpan\build\Carp-Assert-More-1.14-9bZ3aP/blib/arch
C:\strawberry\cpan\build\Carp-Assert-More-1.14-9bZ3aP/blib/lib
C:\strawberry\cpan\build\Carp-Assert-0.20-F4Y13Z/blib/arch
C:\strawberry\cpan\build\Carp-Assert-0.20-F4Y13Z/blib/lib
C:/strawberry/perl/site/lib
C:/strawberry/perl/vendor/lib
C:/strawberry/perl/lib
.