CGI-Cache v1.4214 Perl 5 v5.36.0 x86_64-linux-thread-multi

Status
Pass
From
Andreas J. König (ANDK)
Dist
CGI-Cache v1.4214
Platform
Perl 5 v5.36.0 x86_64-linux-thread-multi
Date
2022-06-15 17:05:26
ID
59e553d8-eccd-11ec-b5c9-8b84fe2a90c2
This distribution has been tested as part of the CPAN Testers
project, supporting the Perl programming language.  See
http://wiki.cpantesters.org/ for more information or email
questions to cpan-testers-discuss@perl.org


--
Dear David Coppit,

This is a computer-generated report for CGI-Cache-1.4214
on perl 5.36.0, created by CPAN-Reporter-1.2018.

Thank you for uploading your work to CPAN.  Congratulations!
All tests were successful.

Sections of this report:

    * Tester comments
    * Program output
    * Prerequisites
    * Environment and other context

------------------------------
TESTER COMMENTS
------------------------------

Additional comments from tester:

this report is from an automated smoke testing program
and was not reviewed by a human for accuracy

------------------------------
PROGRAM OUTPUT
------------------------------

Output from '/usr/bin/make test':

PERL_DL_NONLAZY=1 "/tmp/basesmoker-reloperl-h0gE/bin/perl" "-MExtUtils::Command::MM" "-MTest::Harness" "-e" "undef *Test::Harness::Switches; test_harness(1, 'blib/lib', 'blib/arch')" t/*.t
t/000_standard__compile.t ....... 
1..1
ok 1 - blib/lib/CGI/Cache.pm compiles
ok
t/000_standard__perl_critic.t ... skipped: Author test. Set $ENV{TEST_AUTHOR} to a true value to run.
t/000_standard__pod.t ........... 
1..1
ok 1 - POD test for blib/lib/CGI/Cache.pm
ok
t/000_standard__pod_coverage.t .. 
1..1
ok 1 - Pod coverage on CGI::Cache
ok
t/basic.t ....................... 
1..11
ok 1 - use CGI::Cache;
ok 2 - No errors initializing with default values
ok 3 - Return value after initializing with default values
ok 4 - No errors initializing with non-default values
ok 5 - Return value after initializing with non-default values
ok 6 - No errors setting a simple key
ok 7 - Return value after setting a simple key
ok 8 - No errors setting a complex key
ok 9 - Return value after setting a complex key
ok 10 - Empty cache directory until something cached
Cached output
ok 11 - Cache directory after something cached
ok
t/buffer.t ...................... 
1..6
ok 1 - read buffer(): Computing the right output
ok 2 - read buffer(): Computing the right errors
ok 3 - read buffer(): Correct cached data
ok 4 - write buffer(): Computing the right output
ok 5 - write buffer(): Computing the right errors
ok 6 - write buffer(): Correct cached data
ok
t/cgi_carp.t .................... 
1..7
ok 1 - CGI::Carp not caching with default attributes: Computing the right output
ok 2 - CGI::Carp not caching with default attributes: Computing the right errors
ok 3 - CGI::Carp not caching with default attributes: Undefined cached data
ok 4 - Empty cache directory until something cached
ok 5 - CGI::Carp caching with default attributes: Computing the right output
ok 6 - CGI::Carp caching with default attributes: Computing the right errors
ok 7 - CGI::Carp caching with default attributes: Correct cached data
ok
t/disabled_ouput.t .............. 
1..3
ok 1 - Disabled output: Computing the right output
ok 2 - Disabled output: Computing the right errors
ok 3 - Disabled output: Correct cached data
ok
t/invalidate_cache_entry.t ...... 
1..6
ok 1 - invalidate_cache_entry() setup: Computing the right output
ok 2 - invalidate_cache_entry() setup: Computing the right errors
ok 3 - invalidate_cache_entry() setup: Correct cached data
ok 4 - invalidate_cache_entry() operation: Computing the right output
ok 5 - invalidate_cache_entry() operation: Computing the right errors
ok 6 - invalidate_cache_entry() operation: Correct cached data
ok
t/non-caching.t ................. 
1..15
ok 1 - die() prevents caching: Computing the right output
ok 2 - die() prevents caching: Computing the right errors
ok 3 - die() prevents caching: Undefined cached data
ok 4 - Empty cache directory until something cached
ok 5 - Print to STDERR prevents caching: Computing the right output
ok 6 - Print to STDERR prevents caching: Computing the right errors
ok 7 - Print to STDERR prevents caching: Undefined cached data
ok 8 - Empty cache directory until something cached
ok 9 - redirected die() prevents caching: Computing the right output
ok 10 - redirected die() prevents caching: Computing the right errors
ok 11 - redirected die() prevents caching: Undefined cached data
ok 12 - Empty cache directory until something cached
ok 13 - die() (with filehandles) prevents caching: Computing the right output
ok 14 - die() (with filehandles) prevents caching: Computing the right errors
ok 15 - die() (with filehandles) prevents caching: Undefined cached data
ok
t/pause_continue.t .............. 
1..6
ok 1 - pause() and continue(): Computing the right output
ok 2 - pause() and continue(): Computing the right errors
ok 3 - pause() and continue(): Correct cached data
ok 4 - pause() and continue() with filehandles: Computing the right output
ok 5 - pause() and continue() with filehandles: Computing the right errors
ok 6 - pause() and continue() with filehandles: Correct cached data
ok
t/stop.t ........................ 
1..6
ok 1 - stop(): Computing the right output
ok 2 - stop(): Computing the right errors
ok 3 - stop(): Correct cached data
ok 4 - stop() with filehandles: Computing the right output
ok 5 - stop() with filehandles: Computing the right errors
ok 6 - stop() with filehandles: Correct cached data
ok
t/user_specified_filehandle.t ... 
1..6
ok 1 - Output to non-STDOUT filehandle: Computing the right output
ok 2 - Output to non-STDOUT filehandle: Computing the right errors
ok 3 - Output to non-STDOUT filehandle: Correct cached data
ok 4 - Monitor non-STDOUT filehandle: Computing the right output
ok 5 - Monitor non-STDOUT filehandle: Computing the right errors
ok 6 - Monitor non-STDOUT filehandle: Correct cached data
ok
All tests successful.
Files=13, Tests=69,  7 wallclock secs ( 0.04 usr  0.05 sys +  2.43 cusr  0.70 csys =  3.22 CPU)
Result: PASS

------------------------------
PREREQUISITES
------------------------------

Prerequisite modules loaded:

requires:

    Module              Need  Have    
    ------------------- ----- --------
    Cache::Cache        0     1.08    
    File::Path          0     2.18    
    File::Spec          0     3.84    
    perl                5.005 5.036000
    Storable            0     3.26    
    Tie::Restore        0     0.11    

build_requires:

    Module              Need  Have    
    ------------------- ----- --------
    Error               0     0.17029 
    ExtUtils::MakeMaker 6.36  7.64    
    File::Slurper       0     0.013   
    Test::Compile       0     v3.1.0  
    Test::More          0     1.302190
    UNIVERSAL::require  0     0.19    
    URI::Escape         0     5.10    

configure_requires:

    Module              Need  Have    
    ------------------- ----- --------
    ExtUtils::MakeMaker 6.36  7.64    
    URI::Escape         0     5.10    


------------------------------
ENVIRONMENT AND OTHER CONTEXT
------------------------------

Environment variables:

    AUTOMATED_TESTING = 1
    LANG = en_US.UTF-8
    LC_ADDRESS = de_DE.UTF-8
    LC_IDENTIFICATION = de_DE.UTF-8
    LC_MEASUREMENT = de_DE.UTF-8
    LC_MONETARY = de_DE.UTF-8
    LC_NAME = de_DE.UTF-8
    LC_NUMERIC = de_DE.UTF-8
    LC_PAPER = de_DE.UTF-8
    LC_TELEPHONE = de_DE.UTF-8
    LC_TIME = de_DE.UTF-8
    PATH = /home/sand/bin:/usr/local/bin:/usr/local/sbin:/usr/sbin:/usr/bin:/sbin:/bin:/usr/games:/usr/local/games:/snap/bin:/usr/local/perl/bin:/usr/X11/bin
    PERL = /tmp/basesmoker-reloperl-h0gE/bin/perl
    PERL5LIB = /tmp/loop_over_bdir-33648-E2Rab8/DBIx-Migration-Directories-0.12-0/blib/arch:/tmp/loop_over_bdir-33648-E2Rab8/DBIx-Migration-Directories-0.12-0/blib/lib:/tmp/loop_over_bdir-33648-E2Rab8/AllKnowingDNS-1.7-0/blib/arch:/tmp/loop_over_bdir-33648-E2Rab8/AllKnowingDNS-1.7-0/blib/lib:/tmp/loop_over_bdir-33648-E2Rab8/Lingua-BioYaTeA-0.11-0/blib/arch:/tmp/loop_over_bdir-33648-E2Rab8/Lingua-BioYaTeA-0.11-0/blib/lib:/tmp/loop_over_bdir-33648-E2Rab8/Lingua-YaTeA-0.626-0/blib/arch:/tmp/loop_over_bdir-33648-E2Rab8/Lingua-YaTeA-0.626-0/blib/lib:/tmp/loop_over_bdir-33648-E2Rab8/App-rmcd-0.280-0/blib/arch:/tmp/loop_over_bdir-33648-E2Rab8/App-rmcd-0.280-0/blib/lib:/tmp/loop_over_bdir-33648-E2Rab8/CGI-Application-NetNewsIface-0.0204-0/blib/arch:/tmp/loop_over_bdir-33648-E2Rab8/CGI-Application-NetNewsIface-0.0204-0/blib/lib:/tmp/loop_over_bdir-33648-E2Rab8/Devel-Required-0.16-0/blib/arch:/tmp/loop_over_bdir-33648-E2Rab8/Devel-Required-0.16-0/blib/lib:/tmp/loop_over_bdir-33648-E2Rab8/Dpkg-1.21.8-0/blib/arch:/tmp/loop_over_bdir-33648-E2Rab8/Dpkg-1.21.8-0/blib/lib:/tmp/loop_over_bdir-33648-E2Rab8/Linux-InitFS-0.2-0/blib/arch:/tmp/loop_over_bdir-33648-E2Rab8/Linux-InitFS-0.2-0/blib/lib:/tmp/loop_over_bdir-33648-E2Rab8/CORBA-Python-2.66-0/blib/arch:/tmp/loop_over_bdir-33648-E2Rab8/CORBA-Python-2.66-0/blib/lib:/tmp/loop_over_bdir-33648-E2Rab8/Net-ISP-Balance-1.31-0/blib/arch:/tmp/loop_over_bdir-33648-E2Rab8/Net-ISP-Balance-1.31-0/blib/lib
    PERL5OPT = 
    PERL5_CPANPLUS_IS_RUNNING = 33656
    PERL5_CPAN_IS_RUNNING = 33656
    PERL_CANARY_STABILITY_NOPROMPT = 1
    PERL_MM_USE_DEFAULT = 1
    PERL_USE_UNSAFE_INC = 1
    SHELL = /usr/bin/zsh
    TERM = screen

Perl special variables (and OS-specific diagnostics, for MSWin32):

    $^X = /tmp/basesmoker-reloperl-h0gE/bin/perl
    $UID/$EUID = 1005 / 1005
    $GID = 1005 1005
    $EGID = 1005 1005

Perl module toolchain versions installed:

    Module              Have    
    ------------------- --------
    CPAN                2.34    
    CPAN::Meta          2.150010
    Cwd                 3.84    
    ExtUtils::CBuilder  0.280236
    ExtUtils::Command   7.64    
    ExtUtils::Install   2.20    
    ExtUtils::MakeMaker 7.64    
    ExtUtils::Manifest  1.73    
    ExtUtils::ParseXS   3.45    
    File::Spec          3.84    
    JSON                4.06    
    JSON::PP            4.09    
    Module::Build       0.4231  
    Module::Signature   0.88    
    Parse::CPAN::Meta   2.150010
    Test::Harness       3.44    
    Test::More          1.302190
    YAML                1.30    
    YAML::Syck          1.34    
    version             0.9929  


--

Summary of my perl5 (revision 5 version 36 subversion 0) configuration:
  Commit id: b3c502b607191da0e743a4fa34501a05442305b3
  Platform:
    osname=linux
    osvers=5.15.0-35-generic
    archname=x86_64-linux-thread-multi
    uname='linux k93jammy 5.15.0-35-generic #36-ubuntu smp sat may 21 02:24:07 utc 2022 x86_64 x86_64 x86_64 gnulinux '
    config_args='-Dprefix=/home/sand/src/perl/repoperls/installed-perls/host/k93jammy/v5.36.0/b4f3 -Dmyhostname=k93jammy -Dinstallusrbinperl=n -Uversiononly -Dusedevel -des -Ui_db -Dlibswanted=cl pthread socket inet nsl gdbm dbm malloc dl ld sun m crypt sec util c cposix posix ucb BSD gdbm_compat -Duseithreads -Uuselongdouble -DEBUGGING=-g'
    hint=recommended
    useposix=true
    d_sigaction=define
    useithreads=define
    usemultiplicity=define
    use64bitint=define
    use64bitall=define
    uselongdouble=undef
    usemymalloc=n
    default_inc_excludes_dot=define
  Compiler:
    cc='cc'
    ccflags ='-D_REENTRANT -D_GNU_SOURCE -fwrapv -fno-strict-aliasing -pipe -fstack-protector-strong -I/usr/local/include -D_LARGEFILE_SOURCE -D_FILE_OFFSET_BITS=64'
    optimize='-O2 -g'
    cppflags='-D_REENTRANT -D_GNU_SOURCE -fwrapv -fno-strict-aliasing -pipe -fstack-protector-strong -I/usr/local/include'
    ccversion=''
    gccversion='11.2.0'
    gccosandvers=''
    intsize=4
    longsize=8
    ptrsize=8
    doublesize=8
    byteorder=12345678
    doublekind=3
    d_longlong=define
    longlongsize=8
    d_longdbl=define
    longdblsize=16
    longdblkind=3
    ivtype='long'
    ivsize=8
    nvtype='double'
    nvsize=8
    Off_t='off_t'
    lseeksize=8
    alignbytes=8
    prototype=define
  Linker and Libraries:
    ld='cc'
    ldflags =' -fstack-protector-strong -L/usr/local/lib'
    libpth=/usr/local/lib /usr/lib/x86_64-linux-gnu /usr/lib /usr/lib64
    libs=-lpthread -lnsl -ldl -lm -lcrypt -lutil -lc
    perllibs=-lpthread -lnsl -ldl -lm -lcrypt -lutil -lc
    libc=/lib/x86_64-linux-gnu/libc.so.6
    so=so
    useshrplib=false
    libperl=libperl.a
    gnulibc_version='2.35'
  Dynamic Linking:
    dlsrc=dl_dlopen.xs
    dlext=so
    d_dlsymun=undef
    ccdlflags='-Wl,-E'
    cccdlflags='-fPIC'
    lddlflags='-shared -O2 -g -L/usr/local/lib -fstack-protector-strong'


Characteristics of this binary (from libperl): 
  Compile-time options:
    HAS_TIMES
    MULTIPLICITY
    PERLIO_LAYERS
    PERL_COPY_ON_WRITE
    PERL_DONT_CREATE_GVSV
    PERL_MALLOC_WRAP
    PERL_OP_PARENT
    PERL_PRESERVE_IVUV
    PERL_USE_DEVEL
    USE_64_BIT_ALL
    USE_64_BIT_INT
    USE_ITHREADS
    USE_LARGE_FILES
    USE_LOCALE
    USE_LOCALE_COLLATE
    USE_LOCALE_CTYPE
    USE_LOCALE_NUMERIC
    USE_LOCALE_TIME
    USE_PERLIO
    USE_PERL_ATOF
    USE_REENTRANT_API
    USE_THREAD_SAFE_LOCALE
  Built under linux
  Compiled at Jun  8 2022 05:53:36
  %ENV:
    PERL="/tmp/basesmoker-reloperl-h0gE/bin/perl"
    PERL5LIB="/tmp/loop_over_bdir-33648-E2Rab8/DBIx-Migration-Directories-0.12-0/blib/arch:/tmp/loop_over_bdir-33648-E2Rab8/DBIx-Migration-Directories-0.12-0/blib/lib:/tmp/loop_over_bdir-33648-E2Rab8/AllKnowingDNS-1.7-0/blib/arch:/tmp/loop_over_bdir-33648-E2Rab8/AllKnowingDNS-1.7-0/blib/lib:/tmp/loop_over_bdir-33648-E2Rab8/Lingua-BioYaTeA-0.11-0/blib/arch:/tmp/loop_over_bdir-33648-E2Rab8/Lingua-BioYaTeA-0.11-0/blib/lib:/tmp/loop_over_bdir-33648-E2Rab8/Lingua-YaTeA-0.626-0/blib/arch:/tmp/loop_over_bdir-33648-E2Rab8/Lingua-YaTeA-0.626-0/blib/lib:/tmp/loop_over_bdir-33648-E2Rab8/App-rmcd-0.280-0/blib/arch:/tmp/loop_over_bdir-33648-E2Rab8/App-rmcd-0.280-0/blib/lib:/tmp/loop_over_bdir-33648-E2Rab8/CGI-Application-NetNewsIface-0.0204-0/blib/arch:/tmp/loop_over_bdir-33648-E2Rab8/CGI-Application-NetNewsIface-0.0204-0/blib/lib:/tmp/loop_over_bdir-33648-E2Rab8/Devel-Required-0.16-0/blib/arch:/tmp/loop_over_bdir-33648-E2Rab8/Devel-Required-0.16-0/blib/lib:/tmp/loop_over_bdir-33648-E2Rab8/Dpkg-1.21.8-0/blib/arch:/tmp/loop_over_bdir-33648-E2Rab8/Dpkg-1.21.8-0/blib/lib:/tmp/loop_over_bdir-33648-E2Rab8/Linux-InitFS-0.2-0/blib/arch:/tmp/loop_over_bdir-33648-E2Rab8/Linux-InitFS-0.2-0/blib/lib:/tmp/loop_over_bdir-33648-E2Rab8/CORBA-Python-2.66-0/blib/arch:/tmp/loop_over_bdir-33648-E2Rab8/CORBA-Python-2.66-0/blib/lib:/tmp/loop_over_bdir-33648-E2Rab8/Net-ISP-Balance-1.31-0/blib/arch:/tmp/loop_over_bdir-33648-E2Rab8/Net-ISP-Balance-1.31-0/blib/lib"
    PERL5OPT=""
    PERL5_CPANPLUS_IS_RUNNING="33656"
    PERL5_CPAN_IS_RUNNING="33656"
    PERL_CANARY_STABILITY_NOPROMPT="1"
    PERL_MM_USE_DEFAULT="1"
    PERL_USE_UNSAFE_INC="1"
  @INC:
    /tmp/loop_over_bdir-33648-E2Rab8/DBIx-Migration-Directories-0.12-0/blib/arch
    /tmp/loop_over_bdir-33648-E2Rab8/DBIx-Migration-Directories-0.12-0/blib/lib
    /tmp/loop_over_bdir-33648-E2Rab8/AllKnowingDNS-1.7-0/blib/arch
    /tmp/loop_over_bdir-33648-E2Rab8/AllKnowingDNS-1.7-0/blib/lib
    /tmp/loop_over_bdir-33648-E2Rab8/Lingua-BioYaTeA-0.11-0/blib/arch
    /tmp/loop_over_bdir-33648-E2Rab8/Lingua-BioYaTeA-0.11-0/blib/lib
    /tmp/loop_over_bdir-33648-E2Rab8/Lingua-YaTeA-0.626-0/blib/arch
    /tmp/loop_over_bdir-33648-E2Rab8/Lingua-YaTeA-0.626-0/blib/lib
    /tmp/loop_over_bdir-33648-E2Rab8/App-rmcd-0.280-0/blib/arch
    /tmp/loop_over_bdir-33648-E2Rab8/App-rmcd-0.280-0/blib/lib
    /tmp/loop_over_bdir-33648-E2Rab8/CGI-Application-NetNewsIface-0.0204-0/blib/arch
    /tmp/loop_over_bdir-33648-E2Rab8/CGI-Application-NetNewsIface-0.0204-0/blib/lib
    /tmp/loop_over_bdir-33648-E2Rab8/Devel-Required-0.16-0/blib/arch
    /tmp/loop_over_bdir-33648-E2Rab8/Devel-Required-0.16-0/blib/lib
    /tmp/loop_over_bdir-33648-E2Rab8/Dpkg-1.21.8-0/blib/arch
    /tmp/loop_over_bdir-33648-E2Rab8/Dpkg-1.21.8-0/blib/lib
    /tmp/loop_over_bdir-33648-E2Rab8/Linux-InitFS-0.2-0/blib/arch
    /tmp/loop_over_bdir-33648-E2Rab8/Linux-InitFS-0.2-0/blib/lib
    /tmp/loop_over_bdir-33648-E2Rab8/CORBA-Python-2.66-0/blib/arch
    /tmp/loop_over_bdir-33648-E2Rab8/CORBA-Python-2.66-0/blib/lib
    /tmp/loop_over_bdir-33648-E2Rab8/Net-ISP-Balance-1.31-0/blib/arch
    /tmp/loop_over_bdir-33648-E2Rab8/Net-ISP-Balance-1.31-0/blib/lib
    /home/sand/src/perl/repoperls/installed-perls/host/k93jammy/v5.36.0/b4f3/lib/site_perl/5.36.0/x86_64-linux-thread-multi
    /home/sand/src/perl/repoperls/installed-perls/host/k93jammy/v5.36.0/b4f3/lib/site_perl/5.36.0
    /home/sand/src/perl/repoperls/installed-perls/host/k93jammy/v5.36.0/b4f3/lib/5.36.0/x86_64-linux-thread-multi
    /home/sand/src/perl/repoperls/installed-perls/host/k93jammy/v5.36.0/b4f3/lib/5.36.0
    .